{"text_format":"1","workbook":"xlsx","n_sheets":9,"sheets":["Saisies","Recap","Ne pas modifier (calculs)","Jours fériés","TP","PE","CCTP","ECM 30.05.16","ECM 01.06.16"],"not_rendered":{"charts":0,"images":2,"macros":1,"external_links":1,"defined_names":63,"comments":2,"pivot_tables":0},"unopened":[],"bounds":{"document_bytes":16777216,"sheet_cells":100000,"rows_first":2000,"rows_last":500,"rows_between":2000,"halvings":0,"cell_chars":16384,"cell_head_chars":4096},"cells_cut":0,"cells_raw":0,"read":"whole","date_system":"1900"}

{"sheet":"Saisies","index":0,"n_rows":78,"n_cols":12,"rows_kept":78,"cut":false,"hidden":false,"merged":[[0,0,0,6],[22,1,22,6],[4,10,4,11],[6,3,6,6]]}
["PAGE DE SAISIE \n(Saisir uniquement dans les cases jaunes)"]
[]
[null,"Intitulé du titre \n(remplissage automatique à partir de la colonne sigle du TP)","Centre","Bassin ou territoire\n(remplissage automatique à partir du n° de lot)","Nombre d'heures","Département de réalisation \n(Saisir impérativement ; les jours fériés du droit local seront ou non pris en compte)","Sigle du titre",null,null,"N° de lot"]
[null,"Employé commercial en magasin","Saint-Avold",{"$f":"'Ne pas modifier (calculs)'!DK8","v":"Bassin Houiller"},490,null,"ECM",null,null,162]
[null,null,null,null,null,null,null,null,null,null,"Outils de simulation \n(remplis automatiquement)"]
[null,"date de début","date de fin",null,null,null,null,null,null,null,"Ecart entre heures totales du calendrier et nombre d'heures saisi",{"$f":"'Ne pas modifier (calculs)'!CJ94-E4","v":0}]
[null,"2016-06-01",{"$f":"L9","v":"2016-09-09"},"  Calcul automatique de la date de fin \n(cliquer sur le bouton du tableau brun)",null,null,null,null,null,null,"Heures centre",{"$f":"'Ne pas modifier (calculs)'!AN94","v":357}]
[null,null,null,null,null,null,null,null,null,null,"Heures entreprise",{"$f":"'Ne pas modifier (calculs)'!BN94","v":133}]
[null,"date de début PE 1","date de fin PE 1","date de début PE 2","date de fin PE 2","date de début PE 3","date de fin PE 3",null,null,null,null,"2016-09-09"]
[null,"2016-07-04","2016-07-18","2016-08-05","2016-08-20"]
[]
[]
[]
[null,null,"Centre","Entreprise"]
[null,"Lundi",7,7]
[null,"Mardi",8,7]
[null,"Mercredi",8,7,null,null,null,null,1]
[null,"Jeudi",8,7]
[null,"Vendredi",4,7]
[null,"Samedi"]
[null,"Dimanche"]
[]
[null,"Les interruptions ne sont ni les jours fériés, ni les ponts accordés par la DR, ni la fermeture de fin d'année, mais uniquement d'éventuelles interruptions particulières au centre ou à l'action. Ne pas utiliser."]
[null,"date de début Interruption 1","date de fin Interruption 1","date de début  Interruption 2","date de fin  Interruption 2","date de début  Interruption 3","date de fin  Interruption 3"]
[]
[null,"Nombre d'heures travaillées le 24 décembre",4]
[]
[1,"FERMETURES \n(hors jours fériés)\njours classés chronologiquement (calculés selon le lieu)"]
[null,"00:00:00",null,null,null,null,null,{"$f":"B29","v":"00:00:00"},{"$f":"(IF(B29<42370,IF(B29>41638,0,1),1))*(IF(B29<42370,IF(B29>41638,0,1),1))","v":1}]
[null,{"$f":"IF(A$28=1,'Jours fériés'!D4,'Jours fériés'!B4)","v":"2015-01-02"},null,null,null,null,null,{"$f":"B30","v":"2015-01-02"},0]
[null,{"$f":"IF(A$28=1,'Jours fériés'!D5,'Jours fériés'!B5)","v":"2015-04-03"},null,null,null,null,null,"2015-04-03",0]
[null,{"$f":"IF(A$28=1,'Jours fériés'!D6,'Jours fériés'!B6)","v":"2015-04-06"},null,null,null,null,null,"2015-04-06",0]
[null,{"$f":"IF(A$28=1,'Jours fériés'!D7,'Jours fériés'!B7)","v":"2015-05-14"},null,null,null,null,null,"2015-05-14",0]
[null,{"$f":"IF(A$28=1,'Jours fériés'!D8,'Jours fériés'!B8)","v":"2015-05-15"},null,null,null,null,null,"2015-05-15",0]
[null,{"$f":"IF(A$28=1,'Jours fériés'!D9,'Jours fériés'!B9)","v":"2015-05-25"},null,null,null,null,null,"2015-05-25",0]
[null,{"$f":"IF(A$28=1,'Jours fériés'!D10,'Jours fériés'!B10)","v":"2015-07-13"},null,null,null,null,null,"2015-07-13",0]
[null,{"$f":"IF(A$28=1,'Jours fériés'!D11,'Jours fériés'!B11)","v":"2015-12-26"},null,null,null,null,null,"2015-12-26",0]
[null,{"$f":"IF(A$28=1,'Jours fériés'!D12,'Jours fériés'!B12)","v":"2015-12-27"},null,null,null,null,null,"2015-12-27",0]
[null,{"$f":"IF(A$28=1,'Jours fériés'!D13,'Jours fériés'!B13)","v":"2015-12-28"},null,null,null,null,null,"2015-12-28",0]
[null,{"$f":"IF(A$28=1,'Jours fériés'!D14,'Jours fériés'!B14)","v":"2015-12-29"},null,null,null,null,null,"2015-12-29",0]
[null,{"$f":"IF(A$28=1,'Jours fériés'!D15,'Jours fériés'!B15)","v":"2015-12-30"},null,null,null,null,null,"2015-12-30",0]
[null,{"$f":"IF(A$28=1,'Jours fériés'!D16,'Jours fériés'!B16)","v":"2015-12-31"},null,null,null,null,null,"2015-12-31",0]
[null,{"$f":"IF(A$28=1,'Jours fériés'!D17,'Jours fériés'!B17)","v":"2016-03-25"},null,null,null,null,null,"2016-03-25",1]
[null,{"$f":"IF(A$28=1,'Jours fériés'!D18,'Jours fériés'!B18)","v":"2016-03-28"},null,null,null,null,null,"2016-03-28",1]
[null,{"$f":"IF(A$28=1,'Jours fériés'!D19,'Jours fériés'!B19)","v":"2016-05-05"},null,null,null,null,null,"2016-05-05",1]
[null,{"$f":"IF(A$28=1,'Jours fériés'!D20,'Jours fériés'!B20)","v":"2016-05-06"},null,null,null,null,null,"2016-05-06",1]
[null,{"$f":"IF(A$28=1,'Jours fériés'!D21,'Jours fériés'!B21)","v":"2016-05-16"},null,null,null,null,null,"2016-05-16",1]
[null,{"$f":"IF(A$28=1,'Jours fériés'!D22,'Jours fériés'!B22)","v":"2016-07-15"},null,null,null,null,null,"2016-07-15",1]
[null,{"$f":"IF(A$28=1,'Jours fériés'!D23,'Jours fériés'!B23)","v":"2016-10-31"},null,null,null,null,null,"2016-10-31",1]
[null,{"$f":"IF(A$28=1,'Jours fériés'!D24,'Jours fériés'!B24)","v":"2016-12-26"},null,null,null,null,null,"2016-12-26",1]
[null,{"$f":"IF(A$28=1,'Jours fériés'!D25,'Jours fériés'!B25)","v":"2016-12-27"},null,null,null,null,null,"2016-12-27",1]
[null,{"$f":"IF(A$28=1,'Jours fériés'!D26,'Jours fériés'!B26)","v":"2016-12-28"},null,null,null,null,null,"2016-12-28",1]
[null,{"$f":"IF(A$28=1,'Jours fériés'!D27,'Jours fériés'!B27)","v":"2016-12-29"},null,null,null,null,null,"2016-12-29",1]
[null,{"$f":"IF(A$28=1,'Jours fériés'!D28,'Jours fériés'!B28)","v":"2016-12-30"},null,null,null,null,null,"2016-12-30",1]
[null,{"$f":"IF(A$28=1,'Jours fériés'!D29,'Jours fériés'!B29)","v":"2016-12-31"},null,null,null,null,null,"2016-12-31",1]
[null,{"$f":"IF(A$28=1,'Jours fériés'!D30,'Jours fériés'!B30)","v":"2017-04-14"},null,null,null,null,null,"2017-04-14",1]
[null,{"$f":"IF(A$28=1,'Jours fériés'!D31,'Jours fériés'!B31)","v":"2017-04-17"},null,null,null,null,null,"2017-04-17",1]
[null,{"$f":"IF(A$28=1,'Jours fériés'!D32,'Jours fériés'!B32)","v":"2017-05-25"},null,null,null,null,null,"2017-05-25",1]
[null,{"$f":"IF(A$28=1,'Jours fériés'!D33,'Jours fériés'!B33)","v":"2017-05-26"},null,null,null,null,null,"2017-05-26",1]
[null,{"$f":"IF(A$28=1,'Jours fériés'!D34,'Jours fériés'!B34)","v":"2017-06-04"},null,null,null,null,null,"2017-06-04",1]
[null,{"$f":"IF(A$28=1,'Jours fériés'!D35,'Jours fériés'!B35)","v":"2017-12-26"},null,null,null,null,null,"2017-12-26",{"$f":"(IF(B61<42370,IF(B61>41638,0,1),1))*(IF(B61<42370,IF(B61>41638,0,1),1))","v":1}]
[null,{"$f":"IF(A$28=1,'Jours fériés'!D36,'Jours fériés'!B36)","v":"2017-12-27"},null,null,null,null,null,"2017-12-27",1]
[null,{"$f":"IF(A$28=1,'Jours fériés'!D37,'Jours fériés'!B37)","v":"2017-12-28"},null,null,null,null,null,"2017-12-28",1]
[null,{"$f":"IF(A$28=1,'Jours fériés'!D38,'Jours fériés'!B38)","v":"2017-12-29"},null,null,null,null,null,"2017-12-29",1]
[null,{"$f":"IF(A$28=1,'Jours fériés'!D39,'Jours fériés'!B39)","v":"2017-12-30"},null,null,null,null,null,"2017-12-30",1]
[null,{"$f":"IF(A$28=1,'Jours fériés'!D40,'Jours fériés'!B40)","v":"2017-12-31"},null,null,null,null,null,"2017-12-31",1]
[null,{"$f":"IF(A$28=1,'Jours fériés'!D41,'Jours fériés'!B41)","v":"2018-03-30"},null,null,null,null,null,"2018-03-30",1]
[null,{"$f":"IF(A$28=1,'Jours fériés'!D42,'Jours fériés'!B42)","v":"2018-04-02"},null,null,null,null,null,"2018-04-02",1]
[null,{"$f":"IF(A$28=1,'Jours fériés'!D43,'Jours fériés'!B43)","v":"2018-05-10"},null,null,null,null,null,"2018-05-10",1]
[null,{"$f":"IF(A$28=1,'Jours fériés'!D44,'Jours fériés'!B44)","v":"2018-05-20"},null,null,null,null,null,"2018-05-20",1]
[null,{"$f":"IF(A$28=1,'Jours fériés'!D45,'Jours fériés'!B45)","v":"2018-12-26"},null,null,null,null,null,"2018-12-26",1]
[null,{"$f":"IF(A$28=1,'Jours fériés'!D46,'Jours fériés'!B46)","v":"2018-12-27"},null,null,null,null,null,"2018-12-27",1]
[null,{"$f":"IF(A$28=1,'Jours fériés'!D47,'Jours fériés'!B47)","v":"2018-12-28"},null,null,null,null,null,"2018-12-28",1]
[null,{"$f":"IF(A$28=1,'Jours fériés'!D48,'Jours fériés'!B48)","v":"2018-12-29"},null,null,null,null,null,"2018-12-29",1]
[null,{"$f":"IF(A$28=1,'Jours fériés'!D49,'Jours fériés'!B49)","v":"2018-12-30"},null,null,null,null,null,"2018-12-30",1]
[null,{"$f":"IF(A$28=1,'Jours fériés'!D50,'Jours fériés'!B50)","v":"2018-12-31"},null,null,null,null,null,"2018-12-31",1]
[null,{"$f":"IF(A$28=1,'Jours fériés'!D51,'Jours fériés'!B51)","v":"2045-12-31"},null,null,null,null,null,"2045-12-31",1]
[null,{"$f":"IF(A$28=1,'Jours fériés'!D52,'Jours fériés'!B52)","v":"2045-12-31"},null,null,null,null,null,"2045-12-31",1]

{"sheet":"Recap","index":1,"n_rows":22,"n_cols":26,"rows_kept":22,"cut":false,"hidden":false,"merged":[[0,20,0,21],[0,22,0,23],[0,24,0,25],[0,0,0,3],[0,5,0,7],[0,8,0,11],[0,14,0,15],[0,16,0,17],[0,18,0,19]]}
[{"$f":"'Ne pas modifier (calculs)'!B10","v":2016},null,null,null,null,"Durées",null,null,"Volumes",null,null,null,null,null,"PAE1",null,"PAE2",null,"PAE3",null,"Interruption 1",null,"Interruption 2",null,"Interruption 3"]
["Lieu","Action",null,"Bassin d'Emploi","Niv","Durée Centre","Durée\nPAE","Durée\nTotale","Volume\ncentre","Volume\nPAE","Volume\ntotal ","Effectif ","date\ndébut","date\nfin","DD","DF","DD","DDF","DD","DF","DD","DF","DD","DF","DD","DF"]
["Saint-Avold","Technicien(ne) en installation et maintenance en robinetterie nucléaire",0,"Bassin Houiller",null,623,175,798,null,null,null,null,"2016-09-01","2017-02-17","2016-11-21","2016-12-02","2016-12-12","2017-01-06","00:00:00","00:00:00","00:00:00","00:00:00","00:00:00","00:00:00","00:00:00","00:00:00"]
["Saint-Avold","Technicien(ne) en installation et maintenance en robinetterie nucléaire",0,"Bassin Houiller",null,588,210,798,null,null,null,null,"2016-09-01","2017-02-17","2016-11-14","2016-12-02","2016-12-12","2017-01-06","00:00:00","00:00:00","00:00:00","00:00:00","00:00:00","00:00:00","00:00:00","00:00:00"]
["Saint-Avold","Technicien(ne) en installation et maintenance en robinetterie nucléaire",0,"Bassin Houiller",null,798,0,798,null,null,null,null,"2016-03-21","2016-09-05","00:00:00","00:00:00","00:00:00","00:00:00","00:00:00","00:00:00","00:00:00","00:00:00","00:00:00","00:00:00","00:00:00","00:00:00"]
["Saint-Avold","Technicien(ne) en installation et maintenance en robinetterie nucléaire",0,"Bassin Houiller",null,798,0,798,null,null,null,null,"2016-03-29","2016-09-12","00:00:00","00:00:00","00:00:00","00:00:00","00:00:00","00:00:00","00:00:00","00:00:00","00:00:00","00:00:00","00:00:00","00:00:00"]
["Saint-Avold","Technicien(ne) en installation et maintenance en robinetterie nucléaire",0,"Bassin Houiller",null,798,0,798,null,null,null,null,"2016-02-15","2016-07-31","00:00:00","00:00:00","00:00:00","00:00:00","00:00:00","00:00:00","00:00:00","00:00:00","00:00:00","00:00:00","00:00:00","00:00:00"]
["Saint-Avold","Technicien(ne) en installation et maintenance en robinetterie nucléaire",0,"Bassin Houiller",null,588,210,798,null,null,null,null,"2016-11-28","2017-05-17","2017-02-20","2017-03-10","2017-03-20","2017-04-07","00:00:00","00:00:00","00:00:00","00:00:00","00:00:00","00:00:00","00:00:00","00:00:00"]
["Saint-Avold","Technicien(ne) en installation et maintenance en robinetterie nucléaire",0,"Bassin Houiller",null,588,210,798,null,null,null,null,"2016-11-07","2017-04-25","2017-02-20","2017-03-10","2017-03-20","2017-04-07","00:00:00","00:00:00","00:00:00","00:00:00","00:00:00","00:00:00","00:00:00","00:00:00"]
["Saint-Avold","Technicien(ne) en installation et maintenance en robinetterie nucléaire",0,"Bassin Houiller",null,588,210,798,null,null,null,null,"2016-11-14","2017-05-02","2017-02-20","2017-03-10","2017-03-20","2017-04-07","00:00:00","00:00:00","00:00:00","00:00:00","00:00:00","00:00:00","00:00:00","00:00:00"]
["Saint-Avold","Technicien(ne) en installation et maintenance en robinetterie nucléaire",0,"Bassin Houiller",null,588,210,798,null,null,null,null,"2016-11-10","2017-04-27","2017-02-20","2017-03-10","2017-03-20","2017-04-07","00:00:00","00:00:00","00:00:00","00:00:00","00:00:00","00:00:00","00:00:00","00:00:00"]
["Saint-Avold","Technicien(ne) en installation et maintenance en robinetterie nucléaire",0,"Bassin Houiller",null,588,210,798,null,null,null,null,"2016-11-28","2017-05-17","2017-02-20","2017-03-03","2017-03-13","2017-04-07","00:00:00","00:00:00","00:00:00","00:00:00","00:00:00","00:00:00","00:00:00","00:00:00"]
["Saint-Avold","Technicien(ne) en installation et maintenance en robinetterie nucléaire",0,"Bassin Houiller",null,588,210,798,null,null,null,null,"2016-12-05","2017-05-24","2017-02-20","2017-03-03","2017-03-13","2017-04-07","00:00:00","00:00:00","00:00:00","00:00:00","00:00:00","00:00:00","00:00:00","00:00:00"]
["Saint-Avold","Technicien(ne) en installation et maintenance en robinetterie nucléaire",0,"Bassin Houiller",null,588,210,798,null,null,null,null,"2016-11-30","2017-05-19","2017-02-20","2017-03-03","2017-03-13","2017-04-07","00:00:00","00:00:00","00:00:00","00:00:00","00:00:00","00:00:00","00:00:00","00:00:00"]
["Saint-Avold","Technicien(ne) en installation et maintenance en robinetterie nucléaire",0,"Bassin Houiller",null,532,266,798,null,null,null,null,"2016-11-30","2017-05-19","2017-02-08","2017-03-03","2017-03-13","2017-04-07","00:00:00","00:00:00","00:00:00","00:00:00","00:00:00","00:00:00","00:00:00","00:00:00"]
["Saint-Avold","Technicien(ne) en installation et maintenance en robinetterie nucléaire",0,"Bassin Houiller",null,504,294,798,null,null,null,null,"2016-11-30","2017-05-18","2017-02-02","2017-03-03","2017-03-13","2017-04-07","00:00:00","00:00:00","00:00:00","00:00:00","00:00:00","00:00:00","00:00:00","00:00:00"]
["Saint-Avold","Technicien(ne) en installation et maintenance en robinetterie nucléaire",0,"Bassin Houiller",null,595,203,798,null,null,null,null,"2016-07-11","2016-12-23","2016-09-26","2016-10-14","2016-10-24","2016-11-15","00:00:00","00:00:00","00:00:00","00:00:00","00:00:00","00:00:00","00:00:00","00:00:00"]
["Saint-Avold","Technicien(ne) en installation et maintenance en robinetterie nucléaire",0,"Bassin Houiller",null,588,210,798,null,null,null,null,"2016-07-11","2016-12-23","2016-09-26","2016-10-14","2016-10-24","2016-11-16","00:00:00","00:00:00","00:00:00","00:00:00","00:00:00","00:00:00","00:00:00","00:00:00"]
["Saint-Avold","Employé commercial en magasin",0,"Bassin Houiller",null,490,0,490,null,null,null,null,"2016-05-30","2016-09-07","00:00:00","00:00:00","00:00:00","00:00:00","00:00:00","00:00:00","00:00:00","00:00:00","00:00:00","00:00:00","00:00:00","00:00:00"]
["Saint-Avold","Employé commercial en magasin",0,"Bassin Houiller",null,350,140,490,null,null,null,null,"2016-05-30","2016-09-07","2016-06-27","2016-07-08","2016-08-01","2016-08-12","00:00:00","00:00:00","00:00:00","00:00:00","00:00:00","00:00:00","00:00:00","00:00:00"]
["Saint-Avold","Employé commercial en magasin",0,"Bassin Houiller",null,364,126,490,null,null,null,null,"2016-06-01","2016-09-12","2016-07-04","2016-07-18","2016-08-08","2016-08-20","00:00:00","00:00:00","00:00:00","00:00:00","00:00:00","00:00:00","00:00:00","00:00:00"]
["Saint-Avold","Employé commercial en magasin",0,"Bassin Houiller",null,357,133,490,null,null,null,null,"2016-06-01","2016-09-09","2016-07-04","2016-07-18","2016-08-05","2016-08-20","00:00:00","00:00:00","00:00:00","00:00:00","00:00:00","00:00:00","00:00:00","00:00:00"]

{"sheet":"Ne pas modifier (calculs)","index":2,"n_rows":101,"n_cols":206,"rows_kept":101,"cut":false,"hidden":false,"merged":[[3,97,3,113],[4,97,4,113],[93,1,93,34],[93,65,93,82],[92,87,92,105],[49,1,49,9],[84,17,84,18],[84,33,84,34],[84,49,84,50],[84,65,84,66],[93,87,93,105],[49,113,49,121],[6,114,6,185],[45,129,45,130],[45,81,45,82],[91,87,91,105],[45,161,45,162],[84,161,84,162],[84,177,84,178],[49,17,49,25],[95,65,95,82],[92,1,92,34],[90,1,90,34],[91,1,91,34],[92,65,92,82],[93,39,93,57],[91,39,91,57],[92,39,92,57],[91,65,91,82],[49,33,49,41],[49,49,49,57],[49,161,49,169],[10,177,10,185],[7,114,7,185],[10,17,10,25],[10,33,10,41],[10,49,10,57],[10,65,10,73],[10,81,10,89],[10,145,10,153],[10,113,10,121],[10,129,10,137],[49,177,49,185],[49,97,49,105],[49,129,49,137],[84,145,84,146],[84,113,84,114],[84,129,84,130],[45,65,45,66],[45,97,45,98],[45,113,45,114],[84,81,84,82],[84,97,84,98],[1,7,1,81],[48,1,48,185],[49,145,49,153],[3,114,3,185],[4,114,4,185],[45,177,45,178],[10,161,10,169],[45,145,45,146],[5,114,5,185],[9,1,9,185],[10,1,10,9],[45,1,45,2],[45,17,45,18],[45,33,45,34],[45,49,45,50],[10,97,10,105],[5,18,5,89],[6,18,6,89],[94,1,94,34],[95,1,95,34],[94,39,94,57],[95,39,95,57],[94,65,94,82],[94,87,94,105],[95,87,95,105],[89,39,90,57],[89,1,89,34],[49,65,49,73],[49,81,49,89],[84,1,84,2],[89,65,90,82],[89,87,90,105]]}
[]
[null,null,null,null,null,null,null,{"$f":"CONCATENATE(\"Calendrier prévisionnel \",B10,\" / \",B10+1,\" pour l'action \",Saisies!B4,(IF(Saisies!C4=\"\",\"\",CONCATENATE(\" sur le site de \",Saisies!C4))))","v":"Calendrier prévisionnel 2016 / 2017 pour l'action Employé commercial en magasin sur le site de Saint-Avold"}]
[null,null,null,null,null,null,null,null,null,null,null,null,null,null,null,null,null,null,null,null,null,null,null,null,null,null,null,null,null,null,null,null,null,null,null,null,null,null,null,null,null,null,null,null,null,null,null,null,null,null,null,null,null,null,null,null,null,null,null,null,null,null,null,null,null,null,null,null,null,null,null,null,null,null,null,null,null,null,null,null,null,null,null,null,null,null,null,null,null,null,null,null,null,null,null,null,null,null,null,null,null,null,null,null,null,null,null,null,null,null,null,null,null,null,null,null,null,null,null,null,null,null,null,null,null,null,null,null,null,null,null,null,null,null,null,null,null,null,null,null,null,null,null,null,null,null,null,null,null,null,null,null,null,null,null,null,null,null,null,null,null,null,null,null,null,null,null,null,null,null,null,null,null,null,null,null,null,null,null,null,null,null,null,null,null,null,null,null,null,null,null,null,null,null,{"$f":"Saisies!B7","v":"2016-06-01"}]
[null,"Organisme * :",null,null,null,null,null,null,null,null,null,null,null,null,null,null,null,null,{"$f":"CONCATENATE(\"Centre AFPA de \",Saisies!C4)","v":"Centre AFPA de Saint-Avold"},null,null,null,null,null,null,null,null,null,null,null,null,null,null,null,null,null,null,null,null,null,null,null,null,null,null,null,null,null,null,null,null,null,null,null,null,null,null,null,null,null,null,null,null,null,null,null,null,null,null,null,null,null,null,null,null,null,null,null,null,null,null,null,null,null,null,null,null,null,null,null,null,null,null,null,null,null,null,"Affaire n° :",null,null,null,null,null,null,null,null,null,null,null,null,null,null,null,"*","15S0893",null,null,null,null,null,null,null,null,null,null,null,null,null,null,null,null,null,null,null,null,null,null,null,null,null,null,null,null,null,null,null,null,null,null,null,null,null,null,null,null,null,null,null,null,null,null,null,null,null,null,null,null,null,null,null,null,null,null,null,null,null,null,null,null,null,null,null,null,null,null,null,null,null,null,null,null,null,null,null,null,null,null,null,null,null,null,null,null,null,"HC","Nbre"]
[null,"Dates de l'action :",null,null,null,null,null,null,null,null,null,null,null,null,null,null,null,null,{"$f":"CONCATENATE(\"Du \",TEXT(Saisies!B7,\"jj mmmm aaaa\"),\" au \",TEXT(Saisies!C7,\"jj mmmm aaaa\"))","v":"Du 01 juin 2016 au 09 septembre 2016"},null,null,null,null,null,null,null,null,null,null,null,null,null,null,null,null,null,null,null,null,null,null,null,null,null,null,null,null,null,null,null,null,null,null,null,null,null,null,null,null,null,null,null,null,null,null,null,null,null,null,null,null,null,null,null,null,null,null,null,null,null,null,null,null,null,null,null,null,null,null,null,null,null,null,null,null,null,null,"Lot n° :",null,null,null,null,null,null,null,null,null,null,null,null,null,null,null,"*",{"$f":"Saisies!J4","v":162},null,null,null,null,null,null,null,null,null,null,null,null,null,null,null,null,null,null,null,null,null,null,null,null,null,null,null,null,null,null,null,null,null,null,null,null,null,null,null,null,null,null,null,null,null,null,null,null,null,null,null,null,null,null,null,null,null,null,null,null,null,null,null,null,null,null,null,null,null,null,null,null,null,null,null,null,null,null,null,{"$f":"B10","v":2016},null,null,null,null,null,null,null,null,null,"DI",{"$f":"Saisies!C21","v":0}]
[null,{"$f":"IF(Saisies!B10=\"\",\"Période en centre :\",\"Périodes en centre :\")","v":"Périodes en centre :"},null,null,null,null,null,null,null,null,null,null,null,null,null,null,null,null,{"$f":"CONCATENATE(PE!B21,PE!D21,PE!F21,PE!H21)","v":"Du 01 juin 2016 au 01 juillet 2016, puis du 19 juillet 2016 au 04 août 2016, et du 22 août 2016 au 09 septembre 2016"},null,null,null,null,null,null,null,null,null,null,null,null,null,null,null,null,null,null,null,null,null,null,null,null,null,null,null,null,null,null,null,null,null,null,null,null,null,null,null,null,null,null,null,null,null,null,null,null,null,null,null,null,null,null,null,null,null,null,null,null,null,null,null,null,null,null,null,null,null,null,null,null,null,null,null,null,null,null,"N° marché :",null,null,null,null,null,null,null,null,null,null,null,null,null,null,null,null,null,null,null,null,null,null,null,null,null,null,null,null,null,null,null,null,null,null,null,null,null,null,null,null,null,null,null,null,null,null,null,null,null,null,null,null,null,null,null,null,null,null,null,null,null,null,null,null,null,null,null,null,null,null,null,null,null,null,null,null,null,null,null,null,null,null,null,null,null,null,null,null,null,null,null,null,null,null,null,null,{"$f":"B49","v":2017},null,null,null,null,null,null,null,null,null,"JE",{"$f":"Saisies!C18","v":8}]
[null,{"$f":"IF(Saisies!D10=\"\",(IF(Saisies!B10=\"\",\"\",\"Période en entreprise :\")),\"Périodes en entreprise :\")","v":"Périodes en entreprise :"},null,null,null,null,null,null,null,null,null,null,null,null,null,null,null,null,{"$f":"CONCATENATE(PE!B26,PE!D26,PE!F26)","v":"Du 04 juillet 2016 au 18 juillet 2016, puis du 05 août 2016 au 20 août 2016"},null,null,null,null,null,null,null,null,null,null,null,null,null,null,null,null,null,null,null,null,null,null,null,null,null,null,null,null,null,null,null,null,null,null,null,null,null,null,null,null,null,null,null,null,null,null,null,null,null,null,null,null,null,null,null,null,null,null,null,null,null,null,null,null,null,null,null,null,null,null,null,null,null,null,null,null,null,null,"Intitulé du lot :",null,null,null,null,null,null,null,null,null,null,null,null,null,null,null,null,{"$f":"LOOKUP($DK$5,CCTP!B2:C207)","v":"Technicien(ne) en installation et maintenance en robinetterie nucléaire"},null,null,null,null,null,null,null,null,null,null,null,null,null,null,null,null,null,null,null,null,null,null,null,null,null,null,null,null,null,null,null,null,null,null,null,null,null,null,null,null,null,null,null,null,null,null,null,null,null,null,null,null,null,null,null,null,null,null,null,null,null,null,null,null,null,null,null,null,null,null,null,null,null,null,null,null,null,null,null,null,null,null,null,null,null,null,null,null,null,"LU",{"$f":"Saisies!C15","v":7}]
[null,null,null,null,null,null,null,null,null,null,null,null,null,null,null,null,null,null,null,null,null,null,null,null,null,null,null,null,null,null,null,null,null,null,null,null,null,null,null,null,null,null,null,null,null,null,null,null,null,null,null,null,null,null,null,null,null,null,null,null,null,null,null,null,null,null,null,null,null,null,null,null,null,null,null,null,null,null,null,null,null,null,null,null,null,null,null,null,null,null,null,null,null,null,null,null,null,"Bassin ou territoire",null,null,null,null,null,null,null,null,null,null,null,null,null,null,null,null,{"$f":"LOOKUP($DK$5,CCTP!D2:E207)","v":"Bassin Houiller"},null,null,null,null,null,null,null,null,null,null,null,null,null,null,null,null,null,null,null,null,null,null,null,null,null,null,null,null,null,null,null,null,null,null,null,null,null,null,null,null,null,null,null,null,null,null,null,null,null,null,null,null,null,null,null,null,null,null,null,null,null,null,null,null,null,null,null,null,null,null,null,null,null,null,null,null,null,null,null,null,null,null,null,null,null,null,null,null,null,"MA",{"$f":"Saisies!C16","v":8}]
[null,null,null,null,null,null,null,null,null,null,null,null,null,null,null,null,null,null,null,null,null,null,null,null,null,null,null,null,null,null,null,null,null,null,null,null,null,null,null,null,null,null,null,null,null,null,null,null,null,null,null,null,null,null,null,null,null,null,null,null,null,null,null,null,null,null,null,null,null,null,null,null,null,null,null,null,null,null,null,null,null,null,null,null,null,null,null,null,null,null,null,null,null,null,null,null,null,null,null,null,null,null,null,null,null,null,null,null,null,null,null,null,null,null,null,null,null,null,null,null,null,null,null,null,null,null,null,null,null,null,null,null,null,null,null,null,null,null,null,null,null,null,null,null,null,null,null,null,null,null,null,null,null,null,"Range(\"d:g,i:i,k:q,t:w,y:y,aa:ag,aj:am,ao:ao,aq:aw,az:bc,be:be,bg:bm,bp:bs,bu:bu,bw:cc,cf:ci,ck:ck,cm:cs,cv:cy,da:da,dc:di,dl:do,dq:dq,ds:dy,eb:ee,eg:eg,ei:eo,er:eu,ew:ew,ey:fe,fh:fk,fm:fm,fo:fu,fx:ga,gc:gc,ge:gk\").Delete",null,null,null,null,null,null,null,null,null,null,null,null,null,null,null,null,null,null,null,null,null,null,null,null,null,null,null,null,null,null,null,null,null,null,null,null,null,null,null,null,null,null,null,null,null,null,null,null,null,"ME",{"$f":"Saisies!C17","v":8}]
[null,{"$f":"YEAR(B13)","v":2016},null,null,null,null,null,null,null,null,null,null,null,null,null,null,null,null,null,null,null,null,null,null,null,null,null,null,null,null,null,null,null,null,null,null,null,null,null,null,null,null,null,null,null,null,null,null,null,null,null,null,null,null,null,null,null,null,null,null,null,null,null,null,null,null,null,null,null,null,null,null,null,null,null,null,null,null,null,null,null,null,null,null,null,null,null,null,null,null,null,null,null,null,null,null,null,null,null,null,null,null,null,null,null,null,null,null,null,null,null,null,null,null,null,null,null,null,null,null,null,null,null,null,null,null,null,null,null,null,null,null,null,null,null,null,null,null,null,null,null,null,null,null,null,null,null,null,null,null,null,null,null,null,null,null,null,null,null,null,null,null,null,null,null,null,null,null,null,null,null,null,null,null,null,null,null,null,null,null,null,null,null,null,null,null,null,null,null,null,null,null,null,null,null,null,null,null,null,null,null,null,null,null,"SA",{"$f":"Saisies!C20","v":0}]
[null,"Janvier",null,null,null,null,null,null,null,null,null,null,null,null,null,null,null,"Février",null,null,null,null,null,null,null,null,null,null,null,null,null,null,null,"Mars",null,null,null,null,null,null,null,null,null,null,null,null,null,null,null,"Avril",null,null,null,null,null,null,null,null,null,null,null,null,null,null,null,"Mai",null,null,null,null,null,null,null,null,null,null,null,null,null,null,null,"Juin",null,null,null,null,null,null,null,null,null,null,null,null,null,null,null,"Juillet",null,null,null,null,null,null,null,null,null,null,null,null,null,null,null,"Août",null,null,null,null,null,null,null,null,null,null,null,null,null,null,null,"Septembre",null,null,null,null,null,null,null,null,null,null,null,null,null,null,null,"Octobre",null,null,null,null,null,null,null,null,null,null,null,null,null,null,null,"Novembre",null,null,null,null,null,null,null,null,null,null,null,null,null,null,null,"Décembre",null,null,null,null,null,null,null,null,null,null,null,null,null,null,null,null,null,null,null,null,null,null,null,null,null,null,"VE",{"$f":"Saisies!C19","v":4}]
[null,null,null,"Centre","Ese",null,null,"HC",null,"HE","JF","INT1","INT2","INT3","HE1","HE2","HE3",null,null,null,null,null,null,"HC",null,"HE","JF","INT1","INT2","INT3","HE1","HE2","HE3",null,null,null,null,null,null,"HC",null,"HE","JF","INT1","INT2","INT3","HE1","HE2","HE3",null,null,null,null,null,null,"HC",null,"HE","JF","INT1","INT2","INT3","HE1","HE2","HE3",null,null,null,null,null,null,"HC",null,"HE","JF","INT1","INT2","INT3","HE1","HE2","HE3",null,null,null,null,null,null,"HC",null,"HE","JF","INT1","INT2","INT3","HE1","HE2","HE3",null,null,null,null,null,null,"HC",null,"HE","JF","INT1","INT2","INT3","HE1","HE2","HE3",null,null,null,null,null,null,"HC",null,"HE","JF","INT1","INT2","INT3","HE1","HE2","HE3",null,null,null,null,null,null,"HC",null,"HE","JF","INT1","INT2","INT3","HE1","HE2","HE3",null,null,null,null,null,null,"HC",null,"HE","JF","INT1","INT2","INT3","HE1","HE2","HE3",null,null,null,null,null,null,"HC",null,"HE","JF","INT1","INT2","INT3","HE1","HE2","HE3",null,null,null,null,null,null,"HC",null,"HE","JF","INT1","INT2","INT3","HE1","HE2","HE3"]
[null,{"$f":"DATE(YEAR(Saisies!B7),1,1)","v":"2016-01-01"},{"$f":"UPPER(LEFT(TEXT(B13,\"jjjj\"),1))","v":"V"},{"$f":"LOOKUP(UPPER(LEFT(TEXT(B13,\"jjjj\"),2)),$GW$5:$GX$11)","v":4},{"$f":"LOOKUP(UPPER(LEFT(TEXT(B13,\"jjjj\"),2)),$GW$14:$GX$20)","v":7},{"$f":"IF(ISNUMBER(I13),I13,0)+IF(ISNUMBER(J13),J13,0)","v":0},{"$f":"IF(F13>Saisies!$E$4,B13,0)","v":0},{"$f":"IF(B13=Saisies!$C$7,MIN((ABS(Saisies!$E$4-F12)),I13),I13)","v":""},{"$f":"IF(ISERROR((IF(B13>Saisies!$C$7,\"\",IF(ISERROR(IF(B13<Saisies!$B$7,\"\",D13)*J13),IF(B13<Saisies!$B$7,\"\",D13),\"\")))*K13*L13*M13*N13),\"\",(IF(B13>Saisies!$C$7,\"\",IF(ISERROR(IF(B13<Saisies!$B$7,\"\",D13)*J13),IF(B13<Saisies!$B$7,\"\",D13),\"\")))*K13*L13*M13*N13)","v":""},{"$f":"IF((SUM(O13:Q13)*K13*L13*M13*N13)=0,\"\",SUM(O13:Q13))","v":""},0,{"$f":"IF(B13>Saisies!$C$25,1,(IF(B13<Saisies!$B$25,1,IF(Saisies!$B$25=0,1,0))))","v":1},{"$f":"IF(B13>Saisies!$E$25,1,(IF(B13<Saisies!$D$25,1,IF(Saisies!$D$25=0,1,0))))","v":1},{"$f":"IF(B13>Saisies!$G$25,1,(IF(B13<Saisies!$F$25,1,IF(Saisies!$F$25<10,1,0))))","v":1},{"$f":"IF(B13>Saisies!$C$10,\"\",(IF(B13<Saisies!$B$10,\"\",E13)))","v":""},{"$f":"IF(B13>Saisies!$E$10,\"\",(IF(B13<Saisies!$D$10,\"\",E13)))","v":""},{"$f":"IF(B13>Saisies!$G$10,\"\",(IF(B13<Saisies!$F$10,\"\",E13)))","v":""},{"$f":"EDATE(B13,1)","v":"2016-02-01"},{"$f":"UPPER(LEFT(TEXT(R13,\"jjj\"),1))","v":"L"},{"$f":"LOOKUP(UPPER(LEFT(TEXT(R13,\"jjjj\"),2)),$GW$5:$GX$11)","v":7},{"$f":"LOOKUP(UPPER(LEFT(TEXT(R13,\"jjjj\"),2)),$GW$14:$GX$20)","v":7},{"$f":"IF(ISNUMBER(Y13),Y13,0)+IF(ISNUMBER(Z13),Z13,0)+F43","v":0},{"$f":"IF(MAX(V13,(F43+T13))>=Saisies!$E$4,(IF(G43<=Saisies!$E$4,R13,G43)),0)","v":0},{"$f":"IF(R13=Saisies!$C$7,MIN((ABS(Saisies!$E$4-V12)),Y13),Y13)","v":""},{"$f":"IF(ISERROR((IF(R13>Saisies!$C$7,\"\",IF(ISERROR(IF(R13<Saisies!$B$7,\"\",T13)*Z13),IF(R13<Saisies!$B$7,\"\",T13),\"\")))*(IF(ISERROR(AA13+1),0,AA13))*AB13*AC13*AD13),\"\",(IF(R13>Saisies!$C$7,\"\",IF(ISERROR(IF(R13<Saisies!$B$7,\"\",T13)*Z13),IF(R13<Saisies!$B$7,\"\",T13),\"\")))*(IF(ISERROR(AA13+1),0,AA13))*AB13*AC13*AD13)","v":""},{"$f":"IF((SUM(AE13:AG13)*(IF(ISERROR(AA13+1),0,AA13))*AB13*AC13*AD13)=0,\"\",SUM(AE13:AG13))","v":""},{"$f":"IF(ISERROR(IF(IF(ISERROR(VLOOKUP(R13,Champs,2,FALSE)),1,0)=0,LOOKUP(R13,general),1)),0,(IF(IF(ISERROR(VLOOKUP(R13,Champs,2,FALSE)),1,0)=0,LOOKUP(R13,general),1)))","v":1},{"$f":"IF(R13>Saisies!$C$25,1,(IF(R13<Saisies!$B$25,1,IF(Saisies!$B$25=0,1,0))))","v":1},{"$f":"IF(R13>Saisies!$E$25,1,(IF(R13<Saisies!$D$25,1,IF(Saisies!$D$25=0,1,0))))","v":1},{"$f":"IF(R13>Saisies!$G$25,1,(IF(R13<Saisies!$F$25,1,IF(Saisies!$F$25<10,1,0))))","v":1},{"$f":"IF(R13>Saisies!$C$10,\"\",(IF(R13<Saisies!$B$10,\"\",U13)))","v":""},{"$f":"IF(R13>Saisies!$E$10,\"\",(IF(R13<Saisies!$D$10,\"\",U13)))","v":""},{"$f":"IF(R13>Saisies!$G$10,\"\",(IF(R13<Saisies!$F$10,\"\",U13)))","v":""},{"$f":"EDATE(R13,1)","v":"2016-03-01"},{"$f":"UPPER(LEFT(TEXT(AH13,\"jjj\"),1))","v":"M"},{"$f":"LOOKUP(UPPER(LEFT(TEXT(AH13,\"jjjj\"),2)),$GW$5:$GX$11)","v":8},{"$f":"LOOKUP(UPPER(LEFT(TEXT(AH13,\"jjjj\"),2)),$GW$14:$GX$20)","v":7},{"$f":"IF(ISNUMBER(AO13),AO13,0)+IF(ISNUMBER(AP13),AP13,0)+V43","v":0},{"$f":"IF(MAX(AL13,(V43+AJ13))>=Saisies!$E$4,(IF(W43<=Saisies!$E$4,AH13,W43)),0)","v":0},{"$f":"IF(AH13=Saisies!$C$7,MIN((ABS(Saisies!$E$4-AL12)),AO13),AO13)","v":""},{"$f":"IF(ISERROR((IF(AH13>Saisies!$C$7,\"\",IF(ISERROR(IF(AH13<Saisies!$B$7,\"\",AJ13)*AP13),IF(AH13<Saisies!$B$7,\"\",AJ13),\"\")))*(IF(ISERROR(AQ13+1),0,AQ13))*AR13*AS13*AT13),\"\",(IF(AH13>Saisies!$C$7,\"\",IF(ISERROR(IF(AH13<Saisies!$B$7,\"\",AJ13)*AP13),IF(AH13<Saisies!$B$7,\"\",AJ13),\"\")))*(IF(ISERROR(AQ13+1),0,AQ13))*AR13*AS13*AT13)","v":""},{"$f":"IF((SUM(AU13:AW13)*(IF(ISERROR(AQ13+1),0,AQ13))*AR13*AS13*AT13)=0,\"\",SUM(AU13:AW13))","v":""},{"$f":"IF(ISERROR(IF(IF(ISERROR(VLOOKUP(AH13,Champs,2,FALSE)),1,0)=0,LOOKUP(AH13,general),1)),0,(IF(IF(ISERROR(VLOOKUP(AH13,Champs,2,FALSE)),1,0)=0,LOOKUP(AH13,general),1)))","v":1},{"$f":"IF(AH13>Saisies!$C$25,1,(IF(AH13<Saisies!$B$25,1,IF(Saisies!$B$25=0,1,0))))","v":1},{"$f":"IF(AH13>Saisies!$E$25,1,(IF(AH13<Saisies!$D$25,1,IF(Saisies!$D$25=0,1,0))))","v":1},{"$f":"IF(AH13>Saisies!$G$25,1,(IF(AH13<Saisies!$F$25,1,IF(Saisies!$F$25<10,1,0))))","v":1},{"$f":"IF(AH13>Saisies!$C$10,\"\",(IF(AH13<Saisies!$B$10,\"\",AK13)))","v":""},{"$f":"IF(AH13>Saisies!$E$10,\"\",(IF(AH13<Saisies!$D$10,\"\",AK13)))","v":""},{"$f":"IF(AH13>Saisies!$G$10,\"\",(IF(AH13<Saisies!$F$10,\"\",AK13)))","v":""},{"$f":"EDATE(AH13,1)","v":"2016-04-01"},{"$f":"UPPER(LEFT(TEXT(AX13,\"jjj\"),1))","v":"V"},{"$f":"LOOKUP(UPPER(LEFT(TEXT(AX13,\"jjjj\"),2)),$GW$5:$GX$11)","v":4},{"$f":"LOOKUP(UPPER(LEFT(TEXT(AX13,\"jjjj\"),2)),$GW$14:$GX$20)","v":7},{"$f":"IF(ISNUMBER(BE13),BE13,0)+IF(ISNUMBER(BF13),BF13,0)+AL43","v":0},{"$f":"IF(MAX(BB13,(AL43+AZ13))>=Saisies!$E$4,(IF(AM43<=Saisies!$E$4,AX13,AM43)),0)","v":0},{"$f":"IF(AX13=Saisies!$C$7,MIN((ABS(Saisies!$E$4-BB12)),BE13),BE13)","v":""},{"$f":"IF(ISERROR((IF(AX13>Saisies!$C$7,\"\",IF(ISERROR(IF(AX13<Saisies!$B$7,\"\",AZ13)*BF13),IF(AX13<Saisies!$B$7,\"\",AZ13),\"\")))*(IF(ISERROR(BG13+1),0,BG13))*BH13*BI13*BJ13),\"\",(IF(AX13>Saisies!$C$7,\"\",IF(ISERROR(IF(AX13<Saisies!$B$7,\"\",AZ13)*BF13),IF(AX13<Saisies!$B$7,\"\",AZ13),\"\")))*(IF(ISERROR(BG13+1),0,BG13))*BH13*BI13*BJ13)","v":""},{"$f":"IF((SUM(BK13:BM13)*(IF(ISERROR(BG13+1),0,BG13))*BH13*BI13*BJ13)=0,\"\",SUM(BK13:BM13))","v":""},{"$f":"IF(ISERROR(IF(IF(ISERROR(VLOOKUP(AX13,Champs,2,FALSE)),1,0)=0,LOOKUP(AX13,general),1)),0,(IF(IF(ISERROR(VLOOKUP(AX13,Champs,2,FALSE)),1,0)=0,LOOKUP(AX13,general),1)))","v":1},{"$f":"IF(AX13>Saisies!$C$25,1,(IF(AX13<Saisies!$B$25,1,IF(Saisies!$B$25=0,1,0))))","v":1},{"$f":"IF(AX13>Saisies!$E$25,1,(IF(AX13<Saisies!$D$25,1,IF(Saisies!$D$25=0,1,0))))","v":1},{"$f":"IF(AX13>Saisies!$G$25,1,(IF(AX13<Saisies!$F$25,1,IF(Saisies!$F$25<10,1,0))))","v":1},{"$f":"IF(AX13>Saisies!$C$10,\"\",(IF(AX13<Saisies!$B$10,\"\",BA13)))","v":""},{"$f":"IF(AX13>Saisies!$E$10,\"\",(IF(AX13<Saisies!$D$10,\"\",BA13)))","v":""},{"$f":"IF(AX13>Saisies!$G$10,\"\",(IF(AX13<Saisies!$F$10,\"\",BA13)))","v":""},{"$f":"EDATE(AX13,1)","v":"2016-05-01"},{"$f":"UPPER(LEFT(TEXT(BN13,\"jjj\"),1))","v":"D"},{"$f":"LOOKUP(UPPER(LEFT(TEXT(BN13,\"jjjj\"),2)),$GW$5:$GX$11)","v":0},{"$f":"LOOKUP(UPPER(LEFT(TEXT(BN13,\"jjjj\"),2)),$GW$14:$GX$20)","v":0},{"$f":"IF(ISNUMBER(BU13),BU13,0)+IF(ISNUMBER(BV13),BV13,0)+BB43","v":0},{"$f":"IF(MAX(BR13,(BB43+BP13))>=Saisies!$E$4,(IF(BC43<=Saisies!$E$4,BN13,BC43)),0)","v":0},{"$f":"IF(BN13=Saisies!$C$7,MIN((ABS(Saisies!$E$4-BR12)),BU13),BU13)","v":""},{"$f":"IF(ISERROR((IF(BN13>Saisies!$C$7,\"\",IF(ISERROR(IF(BN13<Saisies!$B$7,\"\",BP13)*BV13),IF(BN13<Saisies!$B$7,\"\",BP13),\"\")))*BW13*BX13*BY13*BZ13),\"\",(IF(BN13>Saisies!$C$7,\"\",IF(ISERROR(IF(BN13<Saisies!$B$7,\"\",BP13)*BV13),IF(BN13<Saisies!$B$7,\"\",BP13),\"\")))*BW13*BX13*BY13*BZ13)","v":""},{"$f":"IF((SUM(CA13:CC13)*BW13*BX13*BY13*BZ13)=0,\"\",SUM(CA13:CC13))","v":""},0,{"$f":"IF(BN13>Saisies!$C$25,1,(IF(BN13<Saisies!$B$25,1,IF(Saisies!$B$25=0,1,0))))","v":1},{"$f":"IF(BN13>Saisies!$E$25,1,(IF(BN13<Saisies!$D$25,1,IF(Saisies!$D$25=0,1,0))))","v":1},{"$f":"IF(BN13>Saisies!$G$25,1,(IF(BN13<Saisies!$F$25,1,IF(Saisies!$F$25<10,1,0))))","v":1},{"$f":"IF(BN13>Saisies!$C$10,\"\",(IF(BN13<Saisies!$B$10,\"\",BQ13)))","v":""},{"$f":"IF(BN13>Saisies!$E$10,\"\",(IF(BN13<Saisies!$D$10,\"\",BQ13)))","v":""},{"$f":"IF(BN13>Saisies!$G$10,\"\",(IF(BN13<Saisies!$F$10,\"\",BQ13)))","v":""},{"$f":"EDATE(BN13,1)","v":"2016-06-01"},{"$f":"UPPER(LEFT(TEXT(CD13,\"jjj\"),1))","v":"M"},{"$f":"LOOKUP(UPPER(LEFT(TEXT(CD13,\"jjjj\"),2)),$GW$5:$GX$11)","v":8},{"$f":"LOOKUP(UPPER(LEFT(TEXT(CD13,\"jjjj\"),2)),$GW$14:$GX$20)","v":7},{"$f":"IF(ISNUMBER(CK13),CK13,0)+IF(ISNUMBER(CL13),CL13,0)+BR43","v":8},{"$f":"IF(MAX(CH13,(BR43+CF13))>=Saisies!$E$4,(IF(BS43<=Saisies!$E$4,CD13,BS43)),0)","v":0},{"$f":"IF(CD13=Saisies!$C$7,MIN((ABS(Saisies!$E$4-CH12)),CK13),CK13)","v":8},{"$f":"IF(ISERROR((IF(CD13>Saisies!$C$7,\"\",IF(ISERROR(IF(CD13<Saisies!$B$7,\"\",CF13)*CL13),IF(CD13<Saisies!$B$7,\"\",CF13),\"\")))*(IF(ISERROR(CM13+1),0,CM13))*CN13*CO13*CP13),\"\",(IF(CD13>Saisies!$C$7,\"\",IF(ISERROR(IF(CD13<Saisies!$B$7,\"\",CF13)*CL13),IF(CD13<Saisies!$B$7,\"\",CF13),\"\")))*(IF(ISERROR(CM13+1),0,CM13))*CN13*CO13*CP13)","v":8},{"$f":"IF((SUM(CQ13:CS13)*(IF(ISERROR(CM13+1),0,CM13))*CN13*CO13*CP13)=0,\"\",SUM(CQ13:CS13))","v":""},{"$f":"IF(ISERROR(IF(IF(ISERROR(VLOOKUP(CD13,Champs,2,FALSE)),1,0)=0,LOOKUP(CD13,general),1)),0,(IF(IF(ISERROR(VLOOKUP(CD13,Champs,2,FALSE)),1,0)=0,LOOKUP(CD13,general),1)))","v":1},{"$f":"IF(CD13>Saisies!$C$25,1,(IF(CD13<Saisies!$B$25,1,IF(Saisies!$B$25=0,1,0))))","v":1},{"$f":"IF(CD13>Saisies!$E$25,1,(IF(CD13<Saisies!$D$25,1,IF(Saisies!$D$25=0,1,0))))","v":1},{"$f":"IF(CD13>Saisies!$G$25,1,(IF(CD13<Saisies!$F$25,1,IF(Saisies!$F$25<10,1,0))))","v":1},{"$f":"IF(CD13>Saisies!$C$10,\"\",(IF(CD13<Saisies!$B$10,\"\",CG13)))","v":""},{"$f":"IF(CD13>Saisies!$E$10,\"\",(IF(CD13<Saisies!$D$10,\"\",CG13)))","v":""},{"$f":"IF(CD13>Saisies!$G$10,\"\",(IF(CD13<Saisies!$F$10,\"\",CG13)))","v":""},{"$f":"EDATE(CD13,1)","v":"2016-07-01"},{"$f":"UPPER(LEFT(TEXT(CT13,\"jjj\"),1))","v":"V"},{"$f":"LOOKUP(UPPER(LEFT(TEXT(CT13,\"jjjj\"),2)),$GW$5:$GX$11)","v":4},{"$f":"LOOKUP(UPPER(LEFT(TEXT(CT13,\"jjjj\"),2)),$GW$14:$GX$20)","v":7},{"$f":"IF(ISNUMBER(DA13),DA13,0)+IF(ISNUMBER(DB13),DB13,0)+CH43","v":160},{"$f":"IF(MAX(CX13,(CH43+CV13))>=Saisies!$E$4,(IF(CI43<=Saisies!$E$4,CT13,CI43)),0)","v":0},{"$f":"IF(CT13=Saisies!$C$7,MIN((ABS(Saisies!$E$4-CX12)),DA13),DA13)","v":4},{"$f":"IF(ISERROR((IF(CT13>Saisies!$C$7,\"\",IF(ISERROR(IF(CT13<Saisies!$B$7,\"\",CV13)*DB13),IF(CT13<Saisies!$B$7,\"\",CV13),\"\")))*(IF(ISERROR(DC13+1),0,DC13))*DD13*DE13*DF13),\"\",(IF(CT13>Saisies!$C$7,\"\",IF(ISERROR(IF(CT13<Saisies!$B$7,\"\",CV13)*DB13),IF(CT13<Saisies!$B$7,\"\",CV13),\"\")))*(IF(ISERROR(DC13+1),0,DC13))*DD13*DE13*DF13)","v":4},{"$f":"IF((SUM(DG13:DI13)*(IF(ISERROR(DC13+1),0,DC13))*DD13*DE13*DF13)=0,\"\",SUM(DG13:DI13))","v":""},{"$f":"IF(ISERROR(IF(IF(ISERROR(VLOOKUP(CT13,Champs,2,FALSE)),1,0)=0,LOOKUP(CT13,general),1)),0,(IF(IF(ISERROR(VLOOKUP(CT13,Champs,2,FALSE)),1,0)=0,LOOKUP(CT13,general),1)))","v":1},{"$f":"IF(CT13>Saisies!$C$25,1,(IF(CT13<Saisies!$B$25,1,IF(Saisies!$B$25=0,1,0))))","v":1},{"$f":"IF(CT13>Saisies!$E$25,1,(IF(CT13<Saisies!$D$25,1,IF(Saisies!$D$25=0,1,0))))","v":1},{"$f":"IF(CT13>Saisies!$G$25,1,(IF(CT13<Saisies!$F$25,1,IF(Saisies!$F$25<10,1,0))))","v":1},{"$f":"IF(CT13>Saisies!$C$10,\"\",(IF(CT13<Saisies!$B$10,\"\",CW13)))","v":""},{"$f":"IF(CT13>Saisies!$E$10,\"\",(IF(CT13<Saisies!$D$10,\"\",CW13)))","v":""},{"$f":"IF(CT13>Saisies!$G$10,\"\",(IF(CT13<Saisies!$F$10,\"\",CW13)))","v":""},{"$f":"EDATE(CT13,1)","v":"2016-08-01"},{"$f":"UPPER(LEFT(TEXT(DJ13,\"jjj\"),1))","v":"L"},{"$f":"LOOKUP(UPPER(LEFT(TEXT(DJ13,\"jjjj\"),2)),$GW$5:$GX$11)","v":7},{"$f":"LOOKUP(UPPER(LEFT(TEXT(DJ13,\"jjjj\"),2)),$GW$14:$GX$20)","v":7},{"$f":"IF(ISNUMBER(DQ13),DQ13,0)+IF(ISNUMBER(DR13),DR13,0)+CX43","v":293},{"$f":"IF(DN13>=Saisies!$E$4,(IF(CY43<=Saisies!$E$4,DJ13,CY43)),0)","v":0},{"$f":"IF(DJ13=Saisies!$C$7,MIN((ABS(Saisies!$E$4-DN12)),DQ13),DQ13)","v":7},{"$f":"IF(ISERROR((IF(DJ13>Saisies!$C$7,\"\",IF(ISERROR(IF(DJ13<Saisies!$B$7,\"\",DL13)*DR13),IF(DJ13<Saisies!$B$7,\"\",DL13),\"\")))*(IF(ISERROR(DS13+1),0,DS13))*DT13*DU13*DV13),\"\",(IF(DJ13>Saisies!$C$7,\"\",IF(ISERROR(IF(DJ13<Saisies!$B$7,\"\",DL13)*DR13),IF(DJ13<Saisies!$B$7,\"\",DL13),\"\")))*(IF(ISERROR(DS13+1),0,DS13))*DT13*DU13*DV13)","v":7},{"$f":"IF((SUM(DW13:DY13)*(IF(ISERROR(DS13+1),0,DS13))*DT13*DU13*DV13)=0,\"\",SUM(DW13:DY13))","v":""},{"$f":"IF(ISERROR(IF(IF(ISERROR(VLOOKUP(DJ13,Champs,2,FALSE)),1,0)=0,LOOKUP(DJ13,general),1)),0,(IF(IF(ISERROR(VLOOKUP(DJ13,Champs,2,FALSE)),1,0)=0,LOOKUP(DJ13,general),1)))","v":1},{"$f":"IF(DJ13>Saisies!$C$25,1,(IF(DJ13<Saisies!$B$25,1,IF(Saisies!$B$25=0,1,0))))","v":1},{"$f":"IF(DJ13>Saisies!$E$25,1,(IF(DJ13<Saisies!$D$25,1,IF(Saisies!$D$25=0,1,0))))","v":1},{"$f":"IF(DJ13>Saisies!$G$25,1,(IF(DJ13<Saisies!$F$25,1,IF(Saisies!$F$25<10,1,0))))","v":1},{"$f":"IF(DJ13>Saisies!$C$10,\"\",(IF(DJ13<Saisies!$B$10,\"\",DM13)))","v":""},{"$f":"IF(DJ13>Saisies!$E$10,\"\",(IF(DJ13<Saisies!$D$10,\"\",DM13)))","v":""},{"$f":"IF(DJ13>Saisies!$G$10,\"\",(IF(DJ13<Saisies!$F$10,\"\",DM13)))","v":""},{"$f":"EDATE(DJ13,1)","v":"2016-09-01"},{"$f":"UPPER(LEFT(TEXT(DZ13,\"jjj\"),1))","v":"J"},{"$f":"LOOKUP(UPPER(LEFT(TEXT(DZ13,\"jjjj\"),2)),$GW$5:$GX$11)","v":8},{"$f":"LOOKUP(UPPER(LEFT(TEXT(DZ13,\"jjjj\"),2)),$GW$14:$GX$20)","v":7},{"$f":"IF(ISNUMBER(EG13),EG13,0)+IF(ISNUMBER(EH13),EH13,0)+DN43","v":453},{"$f":"IF(ED13>=Saisies!$E$4,(IF(DO43<=Saisies!$E$4,DZ13,DO43)),0)","v":0},{"$f":"IF(DZ13=Saisies!$C$7,MIN((ABS(Saisies!$E$4-ED12)),EG13),EG13)","v":8},{"$f":"IF(ISERROR((IF(DZ13>Saisies!$C$7,\"\",IF(ISERROR(IF(DZ13<Saisies!$B$7,\"\",EB13)*EH13),IF(DZ13<Saisies!$B$7,\"\",EB13),\"\")))*(IF(ISERROR(EI13+1),0,EI13))*EJ13*EK13*EL13),\"\",(IF(DZ13>Saisies!$C$7,\"\",IF(ISERROR(IF(DZ13<Saisies!$B$7,\"\",EB13)*EH13),IF(DZ13<Saisies!$B$7,\"\",EB13),\"\")))*(IF(ISERROR(EI13+1),0,EI13))*EJ13*EK13*EL13)","v":8},{"$f":"IF((SUM(EM13:EO13)*(IF(ISERROR(EI13+1),0,EI13))*EJ13*EK13*EL13)=0,\"\",SUM(EM13:EO13))","v":""},{"$f":"IF(ISERROR(IF(IF(ISERROR(VLOOKUP(DZ13,Champs,2,FALSE)),1,0)=0,LOOKUP(DZ13,general),1)),0,(IF(IF(ISERROR(VLOOKUP(DZ13,Champs,2,FALSE)),1,0)=0,LOOKUP(DZ13,general),1)))","v":1},{"$f":"IF(DZ13>Saisies!$C$25,1,(IF(DZ13<Saisies!$B$25,1,IF(Saisies!$B$25=0,1,0))))","v":1},{"$f":"IF(DZ13>Saisies!$E$25,1,(IF(DZ13<Saisies!$D$25,1,IF(Saisies!$D$25=0,1,0))))","v":1},{"$f":"IF(DZ13>Saisies!$G$25,1,(IF(DZ13<Saisies!$F$25,1,IF(Saisies!$F$25<10,1,0))))","v":1},{"$f":"IF(DZ13>Saisies!$C$10,\"\",(IF(DZ13<Saisies!$B$10,\"\",EC13)))","v":""},{"$f":"IF(DZ13>Saisies!$E$10,\"\",(IF(DZ13<Saisies!$D$10,\"\",EC13)))","v":""},{"$f":"IF(DZ13>Saisies!$G$10,\"\",(IF(DZ13<Saisies!$F$10,\"\",EC13)))","v":""},{"$f":"EDATE(DZ13,1)","v":"2016-10-01"},{"$f":"UPPER(LEFT(TEXT(EP13,\"jjj\"),1))","v":"S"},{"$f":"LOOKUP(UPPER(LEFT(TEXT(EP13,\"jjjj\"),2)),$GW$5:$GX$11)","v":0},{"$f":"LOOKUP(UPPER(LEFT(TEXT(EP13,\"jjjj\"),2)),$GW$14:$GX$20)","v":0},{"$f":"IF(ISNUMBER(EW13),EW13,0)+IF(ISNUMBER(EX13),EX13,0)+ED43","v":492},{"$f":"IF(ET13>=Saisies!$E$4,(IF(EE43<=Saisies!$E$4,EP13,EE43)),0)","v":42622},{"$f":"IF(EP13=Saisies!$C$7,MIN((ABS(Saisies!$E$4-ET12)),EW13),EW13)","v":""},{"$f":"IF(ISERROR((IF(EP13>Saisies!$C$7,\"\",IF(ISERROR(IF(EP13<Saisies!$B$7,\"\",ER13)*EX13),IF(EP13<Saisies!$B$7,\"\",ER13),\"\")))*(IF(ISERROR(EY13+1),0,EY13))*EZ13*FA13*FB13),\"\",(IF(EP13>Saisies!$C$7,\"\",IF(ISERROR(IF(EP13<Saisies!$B$7,\"\",ER13)*EX13),IF(EP13<Saisies!$B$7,\"\",ER13),\"\")))*(IF(ISERROR(EY13+1),0,EY13))*EZ13*FA13*FB13)","v":""},{"$f":"IF((SUM(FC13:FE13)*(IF(ISERROR(EY13+1),0,EY13))*EZ13*FA13*FB13)=0,\"\",SUM(FC13:FE13))","v":""},{"$f":"IF(ISERROR(IF(IF(ISERROR(VLOOKUP(EP13,Champs,2,FALSE)),1,0)=0,LOOKUP(EP13,general),1)),0,(IF(IF(ISERROR(VLOOKUP(EP13,Champs,2,FALSE)),1,0)=0,LOOKUP(EP13,general),1)))","v":1},{"$f":"IF(EP13>Saisies!$C$25,1,(IF(EP13<Saisies!$B$25,1,IF(Saisies!$B$25=0,1,0))))","v":1},{"$f":"IF(EP13>Saisies!$E$25,1,(IF(EP13<Saisies!$D$25,1,IF(Saisies!$D$25=0,1,0))))","v":1},{"$f":"IF(EP13>Saisies!$G$25,1,(IF(EP13<Saisies!$F$25,1,IF(Saisies!$F$25<10,1,0))))","v":1},{"$f":"IF(EP13>Saisies!$C$10,\"\",(IF(EP13<Saisies!$B$10,\"\",ES13)))","v":""},{"$f":"IF(EP13>Saisies!$E$10,\"\",(IF(EP13<Saisies!$D$10,\"\",ES13)))","v":""},{"$f":"IF(EP13>Saisies!$G$10,\"\",(IF(EP13<Saisies!$F$10,\"\",ES13)))","v":""},{"$f":"EDATE(EP13,1)","v":"2016-11-01"},{"$f":"UPPER(LEFT(TEXT(FF13,\"jjj\"),1))","v":"M"},{"$f":"LOOKUP(UPPER(LEFT(TEXT(FF13,\"jjjj\"),2)),$GW$5:$GX$11)","v":8},{"$f":"LOOKUP(UPPER(LEFT(TEXT(FF13,\"jjjj\"),2)),$GW$14:$GX$20)","v":7},{"$f":"IF(ISNUMBER(FM13),FM13,0)+IF(ISNUMBER(FN13),FN13,0)+ET43","v":492},{"$f":"IF(FJ13>=Saisies!$E$4,(IF(EU43<=Saisies!$E$4,FF13,EU43)),0)","v":42622},{"$f":"IF(FF13=Saisies!$C$7,MIN((ABS(Saisies!$E$4-FJ12)),FM13),FM13)","v":""},{"$f":"IF(ISERROR((IF(FF13>Saisies!$C$7,\"\",IF(ISERROR(IF(FF13<Saisies!$B$7,\"\",FH13)*FN13),IF(FF13<Saisies!$B$7,\"\",FH13),\"\")))*FO13*FP13*FQ13*FR13),\"\",(IF(FF13>Saisies!$C$7,\"\",IF(ISERROR(IF(FF13<Saisies!$B$7,\"\",FH13)*FN13),IF(FF13<Saisies!$B$7,\"\",FH13),\"\")))*FO13*FP13*FQ13*FR13)","v":""},{"$f":"IF((SUM(FS13:FU13)*FO13*FP13*FQ13*FR13)=0,\"\",SUM(FS13:FU13))","v":""},0,{"$f":"IF(FF13>Saisies!$C$25,1,(IF(FF13<Saisies!$B$25,1,IF(Saisies!$B$25=0,1,0))))","v":1},{"$f":"IF(FF13>Saisies!$E$25,1,(IF(FF13<Saisies!$D$25,1,IF(Saisies!$D$25=0,1,0))))","v":1},{"$f":"IF(FF13>Saisies!$G$25,1,(IF(FF13<Saisies!$F$25,1,IF(Saisies!$F$25<10,1,0))))","v":1},{"$f":"IF(FF13>Saisies!$C$10,\"\",(IF(FF13<Saisies!$B$10,\"\",FI13)))","v":""},{"$f":"IF(FF13>Saisies!$E$10,\"\",(IF(FF13<Saisies!$D$10,\"\",FI13)))","v":""},{"$f":"IF(FF13>Saisies!$G$10,\"\",(IF(FF13<Saisies!$F$10,\"\",FI13)))","v":""},{"$f":"EDATE(FF13,1)","v":"2016-12-01"},{"$f":"UPPER(LEFT(TEXT(FV13,\"jjj\"),1))","v":"J"},{"$f":"LOOKUP(UPPER(LEFT(TEXT(FV13,\"jjjj\"),2)),$GW$5:$GX$11)","v":8},{"$f":"LOOKUP(UPPER(LEFT(TEXT(FV13,\"jjjj\"),2)),$GW$14:$GX$20)","v":7},{"$f":"IF(ISNUMBER(GC13),GC13,0)+IF(ISNUMBER(GD13),GD13,0)+FJ43","v":492},{"$f":"IF(FZ13>=Saisies!$E$4,(IF(FK43<=Saisies!$E$4,FV13,FK43)),0)","v":42622},{"$f":"IF(FV13=Saisies!$C$7,MIN((ABS(Saisies!$E$4-FZ12)),GC13),GC13)","v":""},{"$f":"IF(ISERROR((IF(FV13>Saisies!$C$7,\"\",IF(ISERROR(IF(FV13<Saisies!$B$7,\"\",FX13)*GD13),IF(FV13<Saisies!$B$7,\"\",FX13),\"\")))*(IF(ISERROR(GE13+1),0,GE13))*GF13*GG13*GH13),\"\",(IF(FV13>Saisies!$C$7,\"\",IF(ISERROR(IF(FV13<Saisies!$B$7,\"\",FX13)*GD13),IF(FV13<Saisies!$B$7,\"\",FX13),\"\")))*(IF(ISERROR(GE13+1),0,GE13))*GF13*GG13*GH13)","v":""},{"$f":"IF((SUM(GI13:GK13)*(IF(ISERROR(GE13+1),0,GE13))*GF13*GG13*GH13)=0,\"\",SUM(GI13:GK13))","v":""},{"$f":"IF(ISERROR(IF(IF(ISERROR(VLOOKUP(FV13,Champs,2,FALSE)),1,0)=0,LOOKUP(FV13,general),1)),0,(IF(IF(ISERROR(VLOOKUP(FV13,Champs,2,FALSE)),1,0)=0,LOOKUP(FV13,general),1)))","v":1},{"$f":"IF(FV13>Saisies!$C$25,1,(IF(FV13<Saisies!$B$25,1,IF(Saisies!$B$25=0,1,0))))","v":1},{"$f":"IF(FV13>Saisies!$E$25,1,(IF(FV13<Saisies!$D$25,1,IF(Saisies!$D$25=0,1,0))))","v":1},{"$f":"IF(FV13>Saisies!$G$25,1,(IF(FV13<Saisies!$F$25,1,IF(Saisies!$F$25<10,1,0))))","v":1},{"$f":"IF(FV13>Saisies!$C$10,\"\",(IF(FV13<Saisies!$B$10,\"\",FY13)))","v":""},{"$f":"IF(FV13>Saisies!$E$10,\"\",(IF(FV13<Saisies!$D$10,\"\",FY13)))","v":""},{"$f":"IF(FV13>Saisies!$G$10,\"\",(IF(FV13<Saisies!$F$10,\"\",FY13)))","v":""},null,null,null,null,null,null,null,null,null,null,null,"HE"]
[null,{"$f":"B13+1","v":"2016-01-02"},{"$f":"UPPER(LEFT(TEXT(B14,\"jjj\"),1))","v":"S"},0,0,{"$f":"IF(ISNUMBER(I14),I14,0)+IF(ISNUMBER(J14),J14,0)+F13","v":0},{"$f":"IF(MAX(F14,(F13+D14))>=Saisies!$E$4,(IF(F13<=Saisies!$E$4,B14,G13)),0)","v":0},{"$f":"IF(B14=Saisies!$C$7,MIN((ABS(Saisies!$E$4-F13)),I14),I14)","v":""},{"$f":"IF(ISERROR((IF(B14>Saisies!$C$7,\"\",IF(ISERROR(IF(B14<Saisies!$B$7,\"\",D14)*J14),IF(B14<Saisies!$B$7,\"\",D14),\"\")))*(IF(ISERROR(K14+1),0,K14))*L14*M14*N14),\"\",(IF(B14>Saisies!$C$7,\"\",IF(ISERROR(IF(B14<Saisies!$B$7,\"\",D14)*J14),IF(B14<Saisies!$B$7,\"\",D14),\"\")))*(IF(ISERROR(K14+1),0,K14))*L14*M14*N14)","v":""},{"$f":"IF((SUM(O14:Q14)*(IF(ISERROR(K14+1),0,K14))*L14*M14*N14)=0,\"\",SUM(O14:Q14))","v":""},{"$f":"IF(ISERROR(IF(IF(ISERROR(VLOOKUP(B14,Champs,2,FALSE)),1,0)=0,LOOKUP(B14,general),1)),0,(IF(IF(ISERROR(VLOOKUP(B14,Champs,2,FALSE)),1,0)=0,LOOKUP(B14,general),1)))","v":1},{"$f":"IF(B14>Saisies!$C$25,1,(IF(B14<Saisies!$B$25,1,IF(Saisies!$B$25=0,1,0))))","v":1},{"$f":"IF(B14>Saisies!$E$25,1,(IF(B14<Saisies!$D$25,1,IF(Saisies!$D$25=0,1,0))))","v":1},{"$f":"IF(B14>Saisies!$G$25,1,(IF(B14<Saisies!$F$25,1,IF(Saisies!$F$25<10,1,0))))","v":1},{"$f":"IF(B14>Saisies!$C$10,\"\",(IF(B14<Saisies!$B$10,\"\",E14)))","v":""},{"$f":"IF(B14>Saisies!$E$10,\"\",(IF(B14<Saisies!$D$10,\"\",E14)))","v":""},{"$f":"IF(B14>Saisies!$G$10,\"\",(IF(B14<Saisies!$F$10,\"\",E14)))","v":""},{"$f":"R13+1","v":"2016-02-02"},{"$f":"UPPER(LEFT(TEXT(R14,\"jjj\"),1))","v":"M"},8,7,{"$f":"IF(ISNUMBER(Y14),Y14,0)+IF(ISNUMBER(Z14),Z14,0)+V13","v":0},{"$f":"IF(MAX(V14,(V13+T14))>=Saisies!$E$4,(IF(V13<=Saisies!$E$4,R14,W13)),0)","v":0},{"$f":"IF(R14=Saisies!$C$7,MIN((ABS(Saisies!$E$4-V13)),Y14),Y14)","v":""},{"$f":"IF(ISERROR((IF(R14>Saisies!$C$7,\"\",IF(ISERROR(IF(R14<Saisies!$B$7,\"\",T14)*Z14),IF(R14<Saisies!$B$7,\"\",T14),\"\")))*(IF(ISERROR(AA14+1),0,AA14))*AB14*AC14*AD14),\"\",(IF(R14>Saisies!$C$7,\"\",IF(ISERROR(IF(R14<Saisies!$B$7,\"\",T14)*Z14),IF(R14<Saisies!$B$7,\"\",T14),\"\")))*(IF(ISERROR(AA14+1),0,AA14))*AB14*AC14*AD14)","v":""},"",1,{"$f":"IF(R14>Saisies!$C$25,1,(IF(R14<Saisies!$B$25,1,IF(Saisies!$B$25=0,1,0))))","v":1},{"$f":"IF(R14>Saisies!$E$25,1,(IF(R14<Saisies!$D$25,1,IF(Saisies!$D$25=0,1,0))))","v":1},{"$f":"IF(R14>Saisies!$G$25,1,(IF(R14<Saisies!$F$25,1,IF(Saisies!$F$25<10,1,0))))","v":1},{"$f":"IF(R14>Saisies!$C$10,\"\",(IF(R14<Saisies!$B$10,\"\",U14)))","v":""},{"$f":"IF(R14>Saisies!$E$10,\"\",(IF(R14<Saisies!$D$10,\"\",U14)))","v":""},{"$f":"IF(R14>Saisies!$G$10,\"\",(IF(R14<Saisies!$F$10,\"\",U14)))","v":""},{"$f":"AH13+1","v":"2016-03-02"},{"$f":"UPPER(LEFT(TEXT(AH14,\"jjj\"),1))","v":"M"},8,7,{"$f":"IF(ISNUMBER(AO14),AO14,0)+IF(ISNUMBER(AP14),AP14,0)+AL13","v":0},{"$f":"IF(MAX(AL14,(AL13+AJ14))>=Saisies!$E$4,(IF(AL13<=Saisies!$E$4,AH14,AM13)),0)","v":0},{"$f":"IF(AH14=Saisies!$C$7,MIN((ABS(Saisies!$E$4-AL13)),AO14),AO14)","v":""},{"$f":"IF(ISERROR((IF(AH14>Saisies!$C$7,\"\",IF(ISERROR(IF(AH14<Saisies!$B$7,\"\",AJ14)*AP14),IF(AH14<Saisies!$B$7,\"\",AJ14),\"\")))*(IF(ISERROR(AQ14+1),0,AQ14))*AR14*AS14*AT14),\"\",(IF(AH14>Saisies!$C$7,\"\",IF(ISERROR(IF(AH14<Saisies!$B$7,\"\",AJ14)*AP14),IF(AH14<Saisies!$B$7,\"\",AJ14),\"\")))*(IF(ISERROR(AQ14+1),0,AQ14))*AR14*AS14*AT14)","v":""},"",1,{"$f":"IF(AH14>Saisies!$C$25,1,(IF(AH14<Saisies!$B$25,1,IF(Saisies!$B$25=0,1,0))))","v":1},{"$f":"IF(AH14>Saisies!$E$25,1,(IF(AH14<Saisies!$D$25,1,IF(Saisies!$D$25=0,1,0))))","v":1},{"$f":"IF(AH14>Saisies!$G$25,1,(IF(AH14<Saisies!$F$25,1,IF(Saisies!$F$25<10,1,0))))","v":1},{"$f":"IF(AH14>Saisies!$C$10,\"\",(IF(AH14<Saisies!$B$10,\"\",AK14)))","v":""},{"$f":"IF(AH14>Saisies!$E$10,\"\",(IF(AH14<Saisies!$D$10,\"\",AK14)))","v":""},{"$f":"IF(AH14>Saisies!$G$10,\"\",(IF(AH14<Saisies!$F$10,\"\",AK14)))","v":""},{"$f":"AX13+1","v":"2016-04-02"},"S",0,0,{"$f":"IF(ISNUMBER(BE14),BE14,0)+IF(ISNUMBER(BF14),BF14,0)+BB13","v":0},{"$f":"IF(BB14>=Saisies!$E$4,(IF(BC13<=Saisies!$E$4,AX14,BC13)),0)","v":0},{"$f":"IF(AX14=Saisies!$C$7,MIN((ABS(Saisies!$E$4-BB13)),BE14),BE14)","v":""},{"$f":"IF(ISERROR((IF(AX14>Saisies!$C$7,\"\",IF(ISERROR(IF(AX14<Saisies!$B$7,\"\",AZ14)*BF14),IF(AX14<Saisies!$B$7,\"\",AZ14),\"\")))*(IF(ISERROR(BG14+1),0,BG14))*BH14*BI14*BJ14),\"\",(IF(AX14>Saisies!$C$7,\"\",IF(ISERROR(IF(AX14<Saisies!$B$7,\"\",AZ14)*BF14),IF(AX14<Saisies!$B$7,\"\",AZ14),\"\")))*(IF(ISERROR(BG14+1),0,BG14))*BH14*BI14*BJ14)","v":""},"",1,{"$f":"IF(AX14>Saisies!$C$25,1,(IF(AX14<Saisies!$B$25,1,IF(Saisies!$B$25=0,1,0))))","v":1},{"$f":"IF(AX14>Saisies!$E$25,1,(IF(AX14<Saisies!$D$25,1,IF(Saisies!$D$25=0,1,0))))","v":1},{"$f":"IF(AX14>Saisies!$G$25,1,(IF(AX14<Saisies!$F$25,1,IF(Saisies!$F$25<10,1,0))))","v":1},{"$f":"IF(AX14>Saisies!$C$10,\"\",(IF(AX14<Saisies!$B$10,\"\",BA14)))","v":""},{"$f":"IF(AX14>Saisies!$E$10,\"\",(IF(AX14<Saisies!$D$10,\"\",BA14)))","v":""},{"$f":"IF(AX14>Saisies!$G$10,\"\",(IF(AX14<Saisies!$F$10,\"\",BA14)))","v":""},{"$f":"BN13+1","v":"2016-05-02"},"L",7,7,{"$f":"IF(ISNUMBER(BU14),BU14,0)+IF(ISNUMBER(BV14),BV14,0)+BR13","v":0},{"$f":"IF(MAX(BR14,(BR13+BP14))>=Saisies!$E$4,(IF(BR13<=Saisies!$E$4,BN14,BS13)),0)","v":0},{"$f":"IF(BN14=Saisies!$C$7,MIN((ABS(Saisies!$E$4-BR13)),BU14),BU14)","v":""},{"$f":"IF(ISERROR((IF(BN14>Saisies!$C$7,\"\",IF(ISERROR(IF(BN14<Saisies!$B$7,\"\",BP14)*BV14),IF(BN14<Saisies!$B$7,\"\",BP14),\"\")))*(IF(ISERROR(BW14+1),0,BW14))*BX14*BY14*BZ14),\"\",(IF(BN14>Saisies!$C$7,\"\",IF(ISERROR(IF(BN14<Saisies!$B$7,\"\",BP14)*BV14),IF(BN14<Saisies!$B$7,\"\",BP14),\"\")))*(IF(ISERROR(BW14+1),0,BW14))*BX14*BY14*BZ14)","v":""},{"$f":"IF((SUM(CA14:CC14)*(IF(ISERROR(BW14+1),0,BW14))*BX14*BY14*BZ14)=0,\"\",SUM(CA14:CC14))","v":""},{"$f":"IF(ISERROR(IF(IF(ISERROR(VLOOKUP(BN14,Champs,2,FALSE)),1,0)=0,LOOKUP(BN14,general),1)),0,(IF(IF(ISERROR(VLOOKUP(BN14,Champs,2,FALSE)),1,0)=0,LOOKUP(BN14,general),1)))","v":1},{"$f":"IF(BN14>Saisies!$C$25,1,(IF(BN14<Saisies!$B$25,1,IF(Saisies!$B$25=0,1,0))))","v":1},{"$f":"IF(BN14>Saisies!$E$25,1,(IF(BN14<Saisies!$D$25,1,IF(Saisies!$D$25=0,1,0))))","v":1},{"$f":"IF(BN14>Saisies!$G$25,1,(IF(BN14<Saisies!$F$25,1,IF(Saisies!$F$25<10,1,0))))","v":1},{"$f":"IF(BN14>Saisies!$C$10,\"\",(IF(BN14<Saisies!$B$10,\"\",BQ14)))","v":""},{"$f":"IF(BN14>Saisies!$E$10,\"\",(IF(BN14<Saisies!$D$10,\"\",BQ14)))","v":""},{"$f":"IF(BN14>Saisies!$G$10,\"\",(IF(BN14<Saisies!$F$10,\"\",BQ14)))","v":""},{"$f":"CD13+1","v":"2016-06-02"},"J",8,7,{"$f":"IF(ISNUMBER(CK14),CK14,0)+IF(ISNUMBER(CL14),CL14,0)+CH13","v":16},{"$f":"IF(MAX(CH14,(CH13+CF14))>=Saisies!$E$4,(IF(CH13<=Saisies!$E$4,CD14,CI13)),0)","v":0},{"$f":"IF(CD14=Saisies!$C$7,MIN((ABS(Saisies!$E$4-CH13)),CK14),CK14)","v":8},{"$f":"IF(ISERROR((IF(CD14>Saisies!$C$7,\"\",IF(ISERROR(IF(CD14<Saisies!$B$7,\"\",CF14)*CL14),IF(CD14<Saisies!$B$7,\"\",CF14),\"\")))*(IF(ISERROR(CM14+1),0,CM14))*CN14*CO14*CP14),\"\",(IF(CD14>Saisies!$C$7,\"\",IF(ISERROR(IF(CD14<Saisies!$B$7,\"\",CF14)*CL14),IF(CD14<Saisies!$B$7,\"\",CF14),\"\")))*(IF(ISERROR(CM14+1),0,CM14))*CN14*CO14*CP14)","v":8},"",1,{"$f":"IF(CD14>Saisies!$C$25,1,(IF(CD14<Saisies!$B$25,1,IF(Saisies!$B$25=0,1,0))))","v":1},{"$f":"IF(CD14>Saisies!$E$25,1,(IF(CD14<Saisies!$D$25,1,IF(Saisies!$D$25=0,1,0))))","v":1},{"$f":"IF(CD14>Saisies!$G$25,1,(IF(CD14<Saisies!$F$25,1,IF(Saisies!$F$25<10,1,0))))","v":1},{"$f":"IF(CD14>Saisies!$C$10,\"\",(IF(CD14<Saisies!$B$10,\"\",CG14)))","v":""},{"$f":"IF(CD14>Saisies!$E$10,\"\",(IF(CD14<Saisies!$D$10,\"\",CG14)))","v":""},{"$f":"IF(CD14>Saisies!$G$10,\"\",(IF(CD14<Saisies!$F$10,\"\",CG14)))","v":""},{"$f":"CT13+1","v":"2016-07-02"},"S",0,0,{"$f":"IF(ISNUMBER(DA14),DA14,0)+IF(ISNUMBER(DB14),DB14,0)+CX13","v":160},{"$f":"IF(MAX(CX14,(CX13+CV14))>=Saisies!$E$4,(IF(CX13<=Saisies!$E$4,CT14,CY13)),0)","v":0},{"$f":"IF(CT14=Saisies!$C$7,MIN((ABS(Saisies!$E$4-CX13)),DA14),DA14)","v":0},{"$f":"IF(ISERROR((IF(CT14>Saisies!$C$7,\"\",IF(ISERROR(IF(CT14<Saisies!$B$7,\"\",CV14)*DB14),IF(CT14<Saisies!$B$7,\"\",CV14),\"\")))*(IF(ISERROR(DC14+1),0,DC14))*DD14*DE14*DF14),\"\",(IF(CT14>Saisies!$C$7,\"\",IF(ISERROR(IF(CT14<Saisies!$B$7,\"\",CV14)*DB14),IF(CT14<Saisies!$B$7,\"\",CV14),\"\")))*(IF(ISERROR(DC14+1),0,DC14))*DD14*DE14*DF14)","v":0},"",1,{"$f":"IF(CT14>Saisies!$C$25,1,(IF(CT14<Saisies!$B$25,1,IF(Saisies!$B$25=0,1,0))))","v":1},{"$f":"IF(CT14>Saisies!$E$25,1,(IF(CT14<Saisies!$D$25,1,IF(Saisies!$D$25=0,1,0))))","v":1},{"$f":"IF(CT14>Saisies!$G$25,1,(IF(CT14<Saisies!$F$25,1,IF(Saisies!$F$25<10,1,0))))","v":1},{"$f":"IF(CT14>Saisies!$C$10,\"\",(IF(CT14<Saisies!$B$10,\"\",CW14)))","v":""},{"$f":"IF(CT14>Saisies!$E$10,\"\",(IF(CT14<Saisies!$D$10,\"\",CW14)))","v":""},{"$f":"IF(CT14>Saisies!$G$10,\"\",(IF(CT14<Saisies!$F$10,\"\",CW14)))","v":""},{"$f":"DJ13+1","v":"2016-08-02"},"M",8,7,{"$f":"IF(ISNUMBER(DQ14),DQ14,0)+IF(ISNUMBER(DR14),DR14,0)+DN13","v":301},{"$f":"IF(DN14>=Saisies!$E$4,(IF(DO13<=Saisies!$E$4,DJ14,DO13)),0)","v":0},{"$f":"IF(DJ14=Saisies!$C$7,MIN((ABS(Saisies!$E$4-DN13)),DQ14),DQ14)","v":8},{"$f":"IF(ISERROR((IF(DJ14>Saisies!$C$7,\"\",IF(ISERROR(IF(DJ14<Saisies!$B$7,\"\",DL14)*DR14),IF(DJ14<Saisies!$B$7,\"\",DL14),\"\")))*(IF(ISERROR(DS14+1),0,DS14))*DT14*DU14*DV14),\"\",(IF(DJ14>Saisies!$C$7,\"\",IF(ISERROR(IF(DJ14<Saisies!$B$7,\"\",DL14)*DR14),IF(DJ14<Saisies!$B$7,\"\",DL14),\"\")))*(IF(ISERROR(DS14+1),0,DS14))*DT14*DU14*DV14)","v":8},"",1,{"$f":"IF(DJ14>Saisies!$C$25,1,(IF(DJ14<Saisies!$B$25,1,IF(Saisies!$B$25=0,1,0))))","v":1},{"$f":"IF(DJ14>Saisies!$E$25,1,(IF(DJ14<Saisies!$D$25,1,IF(Saisies!$D$25=0,1,0))))","v":1},{"$f":"IF(DJ14>Saisies!$G$25,1,(IF(DJ14<Saisies!$F$25,1,IF(Saisies!$F$25<10,1,0))))","v":1},{"$f":"IF(DJ14>Saisies!$C$10,\"\",(IF(DJ14<Saisies!$B$10,\"\",DM14)))","v":""},{"$f":"IF(DJ14>Saisies!$E$10,\"\",(IF(DJ14<Saisies!$D$10,\"\",DM14)))","v":""},{"$f":"IF(DJ14>Saisies!$G$10,\"\",(IF(DJ14<Saisies!$F$10,\"\",DM14)))","v":""},{"$f":"DZ13+1","v":"2016-09-02"},"V",4,7,{"$f":"IF(ISNUMBER(EG14),EG14,0)+IF(ISNUMBER(EH14),EH14,0)+ED13","v":457},{"$f":"IF(ED14>=Saisies!$E$4,(IF(EE13<=Saisies!$E$4,DZ14,EE13)),0)","v":0},{"$f":"IF(DZ14=Saisies!$C$7,MIN((ABS(Saisies!$E$4-ED13)),EG14),EG14)","v":4},{"$f":"IF(ISERROR((IF(DZ14>Saisies!$C$7,\"\",IF(ISERROR(IF(DZ14<Saisies!$B$7,\"\",EB14)*EH14),IF(DZ14<Saisies!$B$7,\"\",EB14),\"\")))*(IF(ISERROR(EI14+1),0,EI14))*EJ14*EK14*EL14),\"\",(IF(DZ14>Saisies!$C$7,\"\",IF(ISERROR(IF(DZ14<Saisies!$B$7,\"\",EB14)*EH14),IF(DZ14<Saisies!$B$7,\"\",EB14),\"\")))*(IF(ISERROR(EI14+1),0,EI14))*EJ14*EK14*EL14)","v":4},"",1,{"$f":"IF(DZ14>Saisies!$C$25,1,(IF(DZ14<Saisies!$B$25,1,IF(Saisies!$B$25=0,1,0))))","v":1},{"$f":"IF(DZ14>Saisies!$E$25,1,(IF(DZ14<Saisies!$D$25,1,IF(Saisies!$D$25=0,1,0))))","v":1},{"$f":"IF(DZ14>Saisies!$G$25,1,(IF(DZ14<Saisies!$F$25,1,IF(Saisies!$F$25<10,1,0))))","v":1},{"$f":"IF(DZ14>Saisies!$C$10,\"\",(IF(DZ14<Saisies!$B$10,\"\",EC14)))","v":""},{"$f":"IF(DZ14>Saisies!$E$10,\"\",(IF(DZ14<Saisies!$D$10,\"\",EC14)))","v":""},{"$f":"IF(DZ14>Saisies!$G$10,\"\",(IF(DZ14<Saisies!$F$10,\"\",EC14)))","v":""},{"$f":"EP13+1","v":"2016-10-02"},"D",0,0,{"$f":"IF(ISNUMBER(EW14),EW14,0)+IF(ISNUMBER(EX14),EX14,0)+ET13","v":492},{"$f":"IF(ET14>=Saisies!$E$4,(IF(EU13<=Saisies!$E$4,EP14,EU13)),0)","v":42622},{"$f":"IF(EP14=Saisies!$C$7,MIN((ABS(Saisies!$E$4-ET13)),EW14),EW14)","v":""},{"$f":"IF(ISERROR((IF(EP14>Saisies!$C$7,\"\",IF(ISERROR(IF(EP14<Saisies!$B$7,\"\",ER14)*EX14),IF(EP14<Saisies!$B$7,\"\",ER14),\"\")))*(IF(ISERROR(EY14+1),0,EY14))*EZ14*FA14*FB14),\"\",(IF(EP14>Saisies!$C$7,\"\",IF(ISERROR(IF(EP14<Saisies!$B$7,\"\",ER14)*EX14),IF(EP14<Saisies!$B$7,\"\",ER14),\"\")))*(IF(ISERROR(EY14+1),0,EY14))*EZ14*FA14*FB14)","v":""},"",1,{"$f":"IF(EP14>Saisies!$C$25,1,(IF(EP14<Saisies!$B$25,1,IF(Saisies!$B$25=0,1,0))))","v":1},{"$f":"IF(EP14>Saisies!$E$25,1,(IF(EP14<Saisies!$D$25,1,IF(Saisies!$D$25=0,1,0))))","v":1},{"$f":"IF(EP14>Saisies!$G$25,1,(IF(EP14<Saisies!$F$25,1,IF(Saisies!$F$25<10,1,0))))","v":1},{"$f":"IF(EP14>Saisies!$C$10,\"\",(IF(EP14<Saisies!$B$10,\"\",ES14)))","v":""},{"$f":"IF(EP14>Saisies!$E$10,\"\",(IF(EP14<Saisies!$D$10,\"\",ES14)))","v":""},{"$f":"IF(EP14>Saisies!$G$10,\"\",(IF(EP14<Saisies!$F$10,\"\",ES14)))","v":""},{"$f":"FF13+1","v":"2016-11-02"},"M",8,7,{"$f":"IF(ISNUMBER(FM14),FM14,0)+IF(ISNUMBER(FN14),FN14,0)+FJ13","v":492},{"$f":"IF(FJ14>=Saisies!$E$4,(IF(FK13<=Saisies!$E$4,FF14,FK13)),0)","v":42622},{"$f":"IF(FF14=Saisies!$C$7,MIN((ABS(Saisies!$E$4-FJ13)),FM14),FM14)","v":""},{"$f":"IF(ISERROR((IF(FF14>Saisies!$C$7,\"\",IF(ISERROR(IF(FF14<Saisies!$B$7,\"\",FH14)*FN14),IF(FF14<Saisies!$B$7,\"\",FH14),\"\")))*(IF(ISERROR(FO14+1),0,FO14))*FP14*FQ14*FR14),\"\",(IF(FF14>Saisies!$C$7,\"\",IF(ISERROR(IF(FF14<Saisies!$B$7,\"\",FH14)*FN14),IF(FF14<Saisies!$B$7,\"\",FH14),\"\")))*(IF(ISERROR(FO14+1),0,FO14))*FP14*FQ14*FR14)","v":""},{"$f":"IF((SUM(FS14:FU14)*(IF(ISERROR(FO14+1),0,FO14))*FP14*FQ14*FR14)=0,\"\",SUM(FS14:FU14))","v":""},{"$f":"IF(ISERROR(IF(IF(ISERROR(VLOOKUP(FF14,Champs,2,FALSE)),1,0)=0,LOOKUP(FF14,general),1)),0,(IF(IF(ISERROR(VLOOKUP(FF14,Champs,2,FALSE)),1,0)=0,LOOKUP(FF14,general),1)))","v":1},{"$f":"IF(FF14>Saisies!$C$25,1,(IF(FF14<Saisies!$B$25,1,IF(Saisies!$B$25=0,1,0))))","v":1},{"$f":"IF(FF14>Saisies!$E$25,1,(IF(FF14<Saisies!$D$25,1,IF(Saisies!$D$25=0,1,0))))","v":1},{"$f":"IF(FF14>Saisies!$G$25,1,(IF(FF14<Saisies!$F$25,1,IF(Saisies!$F$25<10,1,0))))","v":1},{"$f":"IF(FF14>Saisies!$C$10,\"\",(IF(FF14<Saisies!$B$10,\"\",FI14)))","v":""},{"$f":"IF(FF14>Saisies!$E$10,\"\",(IF(FF14<Saisies!$D$10,\"\",FI14)))","v":""},{"$f":"IF(FF14>Saisies!$G$10,\"\",(IF(FF14<Saisies!$F$10,\"\",FI14)))","v":""},{"$f":"FV13+1","v":"2016-12-02"},"V",4,7,{"$f":"IF(ISNUMBER(GC14),GC14,0)+IF(ISNUMBER(GD14),GD14,0)+FZ13","v":492},{"$f":"IF(FZ14>=Saisies!$E$4,(IF(GA13<=Saisies!$E$4,FV14,GA13)),0)","v":42622},{"$f":"IF(FV14=Saisies!$C$7,MIN((ABS(Saisies!$E$4-FZ13)),GC14),GC14)","v":""},{"$f":"IF(ISERROR((IF(FV14>Saisies!$C$7,\"\",IF(ISERROR(IF(FV14<Saisies!$B$7,\"\",FX14)*GD14),IF(FV14<Saisies!$B$7,\"\",FX14),\"\")))*(IF(ISERROR(GE14+1),0,GE14))*GF14*GG14*GH14),\"\",(IF(FV14>Saisies!$C$7,\"\",IF(ISERROR(IF(FV14<Saisies!$B$7,\"\",FX14)*GD14),IF(FV14<Saisies!$B$7,\"\",FX14),\"\")))*(IF(ISERROR(GE14+1),0,GE14))*GF14*GG14*GH14)","v":""},{"$f":"IF((SUM(GI14:GK14)*(IF(ISERROR(GE14+1),0,GE14))*GF14*GG14*GH14)=0,\"\",SUM(GI14:GK14))","v":""},1,{"$f":"IF(FV14>Saisies!$C$25,1,(IF(FV14<Saisies!$B$25,1,IF(Saisies!$B$25=0,1,0))))","v":1},{"$f":"IF(FV14>Saisies!$E$25,1,(IF(FV14<Saisies!$D$25,1,IF(Saisies!$D$25=0,1,0))))","v":1},{"$f":"IF(FV14>Saisies!$G$25,1,(IF(FV14<Saisies!$F$25,1,IF(Saisies!$F$25<10,1,0))))","v":1},{"$f":"IF(FV14>Saisies!$C$10,\"\",(IF(FV14<Saisies!$B$10,\"\",FY14)))","v":""},{"$f":"IF(FV14>Saisies!$E$10,\"\",(IF(FV14<Saisies!$D$10,\"\",FY14)))","v":""},{"$f":"IF(FV14>Saisies!$G$10,\"\",(IF(FV14<Saisies!$F$10,\"\",FY14)))","v":""},null,null,null,null,null,null,null,null,null,null,null,"DI",{"$f":"Saisies!D21","v":0}]
[null,{"$f":"B14+1","v":"2016-01-03"},"D",0,0,{"$f":"IF(ISNUMBER(I15),I15,0)+IF(ISNUMBER(J15),J15,0)+F14","v":0},{"$f":"IF(MAX(F15,(F14+D15))>=Saisies!$E$4,(IF(F14<=Saisies!$E$4,B15,G14)),0)","v":0},{"$f":"IF(B15=Saisies!$C$7,MIN((ABS(Saisies!$E$4-F14)),I15),I15)","v":""},{"$f":"IF(ISERROR((IF(B15>Saisies!$C$7,\"\",IF(ISERROR(IF(B15<Saisies!$B$7,\"\",D15)*J15),IF(B15<Saisies!$B$7,\"\",D15),\"\")))*(IF(ISERROR(K15+1),0,K15))*L15*M15*N15),\"\",(IF(B15>Saisies!$C$7,\"\",IF(ISERROR(IF(B15<Saisies!$B$7,\"\",D15)*J15),IF(B15<Saisies!$B$7,\"\",D15),\"\")))*(IF(ISERROR(K15+1),0,K15))*L15*M15*N15)","v":""},"",1,{"$f":"IF(B15>Saisies!$C$25,1,(IF(B15<Saisies!$B$25,1,IF(Saisies!$B$25=0,1,0))))","v":1},{"$f":"IF(B15>Saisies!$E$25,1,(IF(B15<Saisies!$D$25,1,IF(Saisies!$D$25=0,1,0))))","v":1},{"$f":"IF(B15>Saisies!$G$25,1,(IF(B15<Saisies!$F$25,1,IF(Saisies!$F$25<10,1,0))))","v":1},{"$f":"IF(B15>Saisies!$C$10,\"\",(IF(B15<Saisies!$B$10,\"\",E15)))","v":""},{"$f":"IF(B15>Saisies!$E$10,\"\",(IF(B15<Saisies!$D$10,\"\",E15)))","v":""},{"$f":"IF(B15>Saisies!$G$10,\"\",(IF(B15<Saisies!$F$10,\"\",E15)))","v":""},"2016-02-03","M",8,7,{"$f":"IF(ISNUMBER(Y15),Y15,0)+IF(ISNUMBER(Z15),Z15,0)+V14","v":0},{"$f":"IF(MAX(V15,(V14+T15))>=Saisies!$E$4,(IF(V14<=Saisies!$E$4,R15,W14)),0)","v":0},{"$f":"IF(R15=Saisies!$C$7,MIN((ABS(Saisies!$E$4-V14)),Y15),Y15)","v":""},{"$f":"IF(ISERROR((IF(R15>Saisies!$C$7,\"\",IF(ISERROR(IF(R15<Saisies!$B$7,\"\",T15)*Z15),IF(R15<Saisies!$B$7,\"\",T15),\"\")))*(IF(ISERROR(AA15+1),0,AA15))*AB15*AC15*AD15),\"\",(IF(R15>Saisies!$C$7,\"\",IF(ISERROR(IF(R15<Saisies!$B$7,\"\",T15)*Z15),IF(R15<Saisies!$B$7,\"\",T15),\"\")))*(IF(ISERROR(AA15+1),0,AA15))*AB15*AC15*AD15)","v":""},"",1,{"$f":"IF(R15>Saisies!$C$25,1,(IF(R15<Saisies!$B$25,1,IF(Saisies!$B$25=0,1,0))))","v":1},{"$f":"IF(R15>Saisies!$E$25,1,(IF(R15<Saisies!$D$25,1,IF(Saisies!$D$25=0,1,0))))","v":1},{"$f":"IF(R15>Saisies!$G$25,1,(IF(R15<Saisies!$F$25,1,IF(Saisies!$F$25<10,1,0))))","v":1},{"$f":"IF(R15>Saisies!$C$10,\"\",(IF(R15<Saisies!$B$10,\"\",U15)))","v":""},{"$f":"IF(R15>Saisies!$E$10,\"\",(IF(R15<Saisies!$D$10,\"\",U15)))","v":""},{"$f":"IF(R15>Saisies!$G$10,\"\",(IF(R15<Saisies!$F$10,\"\",U15)))","v":""},"2016-03-03","J",8,7,{"$f":"IF(ISNUMBER(AO15),AO15,0)+IF(ISNUMBER(AP15),AP15,0)+AL14","v":0},{"$f":"IF(MAX(AL15,(AL14+AJ15))>=Saisies!$E$4,(IF(AL14<=Saisies!$E$4,AH15,AM14)),0)","v":0},{"$f":"IF(AH15=Saisies!$C$7,MIN((ABS(Saisies!$E$4-AL14)),AO15),AO15)","v":""},{"$f":"IF(ISERROR((IF(AH15>Saisies!$C$7,\"\",IF(ISERROR(IF(AH15<Saisies!$B$7,\"\",AJ15)*AP15),IF(AH15<Saisies!$B$7,\"\",AJ15),\"\")))*(IF(ISERROR(AQ15+1),0,AQ15))*AR15*AS15*AT15),\"\",(IF(AH15>Saisies!$C$7,\"\",IF(ISERROR(IF(AH15<Saisies!$B$7,\"\",AJ15)*AP15),IF(AH15<Saisies!$B$7,\"\",AJ15),\"\")))*(IF(ISERROR(AQ15+1),0,AQ15))*AR15*AS15*AT15)","v":""},"",1,{"$f":"IF(AH15>Saisies!$C$25,1,(IF(AH15<Saisies!$B$25,1,IF(Saisies!$B$25=0,1,0))))","v":1},{"$f":"IF(AH15>Saisies!$E$25,1,(IF(AH15<Saisies!$D$25,1,IF(Saisies!$D$25=0,1,0))))","v":1},{"$f":"IF(AH15>Saisies!$G$25,1,(IF(AH15<Saisies!$F$25,1,IF(Saisies!$F$25<10,1,0))))","v":1},{"$f":"IF(AH15>Saisies!$C$10,\"\",(IF(AH15<Saisies!$B$10,\"\",AK15)))","v":""},{"$f":"IF(AH15>Saisies!$E$10,\"\",(IF(AH15<Saisies!$D$10,\"\",AK15)))","v":""},{"$f":"IF(AH15>Saisies!$G$10,\"\",(IF(AH15<Saisies!$F$10,\"\",AK15)))","v":""},"2016-04-03","D",0,0,{"$f":"IF(ISNUMBER(BE15),BE15,0)+IF(ISNUMBER(BF15),BF15,0)+BB14","v":0},{"$f":"IF(BB15>=Saisies!$E$4,(IF(BC14<=Saisies!$E$4,AX15,BC14)),0)","v":0},{"$f":"IF(AX15=Saisies!$C$7,MIN((ABS(Saisies!$E$4-BB14)),BE15),BE15)","v":""},{"$f":"IF(ISERROR((IF(AX15>Saisies!$C$7,\"\",IF(ISERROR(IF(AX15<Saisies!$B$7,\"\",AZ15)*BF15),IF(AX15<Saisies!$B$7,\"\",AZ15),\"\")))*(IF(ISERROR(BG15+1),0,BG15))*BH15*BI15*BJ15),\"\",(IF(AX15>Saisies!$C$7,\"\",IF(ISERROR(IF(AX15<Saisies!$B$7,\"\",AZ15)*BF15),IF(AX15<Saisies!$B$7,\"\",AZ15),\"\")))*(IF(ISERROR(BG15+1),0,BG15))*BH15*BI15*BJ15)","v":""},"",1,{"$f":"IF(AX15>Saisies!$C$25,1,(IF(AX15<Saisies!$B$25,1,IF(Saisies!$B$25=0,1,0))))","v":1},{"$f":"IF(AX15>Saisies!$E$25,1,(IF(AX15<Saisies!$D$25,1,IF(Saisies!$D$25=0,1,0))))","v":1},{"$f":"IF(AX15>Saisies!$G$25,1,(IF(AX15<Saisies!$F$25,1,IF(Saisies!$F$25<10,1,0))))","v":1},{"$f":"IF(AX15>Saisies!$C$10,\"\",(IF(AX15<Saisies!$B$10,\"\",BA15)))","v":""},{"$f":"IF(AX15>Saisies!$E$10,\"\",(IF(AX15<Saisies!$D$10,\"\",BA15)))","v":""},{"$f":"IF(AX15>Saisies!$G$10,\"\",(IF(AX15<Saisies!$F$10,\"\",BA15)))","v":""},"2016-05-03","M",8,7,{"$f":"IF(ISNUMBER(BU15),BU15,0)+IF(ISNUMBER(BV15),BV15,0)+BR14","v":0},{"$f":"IF(MAX(BR15,(BR14+BP15))>=Saisies!$E$4,(IF(BR14<=Saisies!$E$4,BN15,BS14)),0)","v":0},{"$f":"IF(BN15=Saisies!$C$7,MIN((ABS(Saisies!$E$4-BR14)),BU15),BU15)","v":""},{"$f":"IF(ISERROR((IF(BN15>Saisies!$C$7,\"\",IF(ISERROR(IF(BN15<Saisies!$B$7,\"\",BP15)*BV15),IF(BN15<Saisies!$B$7,\"\",BP15),\"\")))*(IF(ISERROR(BW15+1),0,BW15))*BX15*BY15*BZ15),\"\",(IF(BN15>Saisies!$C$7,\"\",IF(ISERROR(IF(BN15<Saisies!$B$7,\"\",BP15)*BV15),IF(BN15<Saisies!$B$7,\"\",BP15),\"\")))*(IF(ISERROR(BW15+1),0,BW15))*BX15*BY15*BZ15)","v":""},"",1,{"$f":"IF(BN15>Saisies!$C$25,1,(IF(BN15<Saisies!$B$25,1,IF(Saisies!$B$25=0,1,0))))","v":1},{"$f":"IF(BN15>Saisies!$E$25,1,(IF(BN15<Saisies!$D$25,1,IF(Saisies!$D$25=0,1,0))))","v":1},{"$f":"IF(BN15>Saisies!$G$25,1,(IF(BN15<Saisies!$F$25,1,IF(Saisies!$F$25<10,1,0))))","v":1},{"$f":"IF(BN15>Saisies!$C$10,\"\",(IF(BN15<Saisies!$B$10,\"\",BQ15)))","v":""},{"$f":"IF(BN15>Saisies!$E$10,\"\",(IF(BN15<Saisies!$D$10,\"\",BQ15)))","v":""},{"$f":"IF(BN15>Saisies!$G$10,\"\",(IF(BN15<Saisies!$F$10,\"\",BQ15)))","v":""},"2016-06-03","V",4,7,{"$f":"IF(ISNUMBER(CK15),CK15,0)+IF(ISNUMBER(CL15),CL15,0)+CH14","v":20},{"$f":"IF(MAX(CH15,(CH14+CF15))>=Saisies!$E$4,(IF(CH14<=Saisies!$E$4,CD15,CI14)),0)","v":0},{"$f":"IF(CD15=Saisies!$C$7,MIN((ABS(Saisies!$E$4-CH14)),CK15),CK15)","v":4},{"$f":"IF(ISERROR((IF(CD15>Saisies!$C$7,\"\",IF(ISERROR(IF(CD15<Saisies!$B$7,\"\",CF15)*CL15),IF(CD15<Saisies!$B$7,\"\",CF15),\"\")))*(IF(ISERROR(CM15+1),0,CM15))*CN15*CO15*CP15),\"\",(IF(CD15>Saisies!$C$7,\"\",IF(ISERROR(IF(CD15<Saisies!$B$7,\"\",CF15)*CL15),IF(CD15<Saisies!$B$7,\"\",CF15),\"\")))*(IF(ISERROR(CM15+1),0,CM15))*CN15*CO15*CP15)","v":4},"",1,{"$f":"IF(CD15>Saisies!$C$25,1,(IF(CD15<Saisies!$B$25,1,IF(Saisies!$B$25=0,1,0))))","v":1},{"$f":"IF(CD15>Saisies!$E$25,1,(IF(CD15<Saisies!$D$25,1,IF(Saisies!$D$25=0,1,0))))","v":1},{"$f":"IF(CD15>Saisies!$G$25,1,(IF(CD15<Saisies!$F$25,1,IF(Saisies!$F$25<10,1,0))))","v":1},{"$f":"IF(CD15>Saisies!$C$10,\"\",(IF(CD15<Saisies!$B$10,\"\",CG15)))","v":""},{"$f":"IF(CD15>Saisies!$E$10,\"\",(IF(CD15<Saisies!$D$10,\"\",CG15)))","v":""},{"$f":"IF(CD15>Saisies!$G$10,\"\",(IF(CD15<Saisies!$F$10,\"\",CG15)))","v":""},"2016-07-03","D",0,0,{"$f":"IF(ISNUMBER(DA15),DA15,0)+IF(ISNUMBER(DB15),DB15,0)+CX14","v":160},{"$f":"IF(MAX(CX15,(CX14+CV15))>=Saisies!$E$4,(IF(CX14<=Saisies!$E$4,CT15,CY14)),0)","v":0},{"$f":"IF(CT15=Saisies!$C$7,MIN((ABS(Saisies!$E$4-CX14)),DA15),DA15)","v":0},{"$f":"IF(ISERROR((IF(CT15>Saisies!$C$7,\"\",IF(ISERROR(IF(CT15<Saisies!$B$7,\"\",CV15)*DB15),IF(CT15<Saisies!$B$7,\"\",CV15),\"\")))*(IF(ISERROR(DC15+1),0,DC15))*DD15*DE15*DF15),\"\",(IF(CT15>Saisies!$C$7,\"\",IF(ISERROR(IF(CT15<Saisies!$B$7,\"\",CV15)*DB15),IF(CT15<Saisies!$B$7,\"\",CV15),\"\")))*(IF(ISERROR(DC15+1),0,DC15))*DD15*DE15*DF15)","v":0},"",1,{"$f":"IF(CT15>Saisies!$C$25,1,(IF(CT15<Saisies!$B$25,1,IF(Saisies!$B$25=0,1,0))))","v":1},{"$f":"IF(CT15>Saisies!$E$25,1,(IF(CT15<Saisies!$D$25,1,IF(Saisies!$D$25=0,1,0))))","v":1},{"$f":"IF(CT15>Saisies!$G$25,1,(IF(CT15<Saisies!$F$25,1,IF(Saisies!$F$25<10,1,0))))","v":1},{"$f":"IF(CT15>Saisies!$C$10,\"\",(IF(CT15<Saisies!$B$10,\"\",CW15)))","v":""},{"$f":"IF(CT15>Saisies!$E$10,\"\",(IF(CT15<Saisies!$D$10,\"\",CW15)))","v":""},{"$f":"IF(CT15>Saisies!$G$10,\"\",(IF(CT15<Saisies!$F$10,\"\",CW15)))","v":""},"2016-08-03","M",8,7,{"$f":"IF(ISNUMBER(DQ15),DQ15,0)+IF(ISNUMBER(DR15),DR15,0)+DN14","v":309},{"$f":"IF(DN15>=Saisies!$E$4,(IF(DO14<=Saisies!$E$4,DJ15,DO14)),0)","v":0},{"$f":"IF(DJ15=Saisies!$C$7,MIN((ABS(Saisies!$E$4-DN14)),DQ15),DQ15)","v":8},{"$f":"IF(ISERROR((IF(DJ15>Saisies!$C$7,\"\",IF(ISERROR(IF(DJ15<Saisies!$B$7,\"\",DL15)*DR15),IF(DJ15<Saisies!$B$7,\"\",DL15),\"\")))*(IF(ISERROR(DS15+1),0,DS15))*DT15*DU15*DV15),\"\",(IF(DJ15>Saisies!$C$7,\"\",IF(ISERROR(IF(DJ15<Saisies!$B$7,\"\",DL15)*DR15),IF(DJ15<Saisies!$B$7,\"\",DL15),\"\")))*(IF(ISERROR(DS15+1),0,DS15))*DT15*DU15*DV15)","v":8},"",1,{"$f":"IF(DJ15>Saisies!$C$25,1,(IF(DJ15<Saisies!$B$25,1,IF(Saisies!$B$25=0,1,0))))","v":1},{"$f":"IF(DJ15>Saisies!$E$25,1,(IF(DJ15<Saisies!$D$25,1,IF(Saisies!$D$25=0,1,0))))","v":1},{"$f":"IF(DJ15>Saisies!$G$25,1,(IF(DJ15<Saisies!$F$25,1,IF(Saisies!$F$25<10,1,0))))","v":1},{"$f":"IF(DJ15>Saisies!$C$10,\"\",(IF(DJ15<Saisies!$B$10,\"\",DM15)))","v":""},{"$f":"IF(DJ15>Saisies!$E$10,\"\",(IF(DJ15<Saisies!$D$10,\"\",DM15)))","v":""},{"$f":"IF(DJ15>Saisies!$G$10,\"\",(IF(DJ15<Saisies!$F$10,\"\",DM15)))","v":""},"2016-09-03","S",0,0,{"$f":"IF(ISNUMBER(EG15),EG15,0)+IF(ISNUMBER(EH15),EH15,0)+ED14","v":457},{"$f":"IF(ED15>=Saisies!$E$4,(IF(EE14<=Saisies!$E$4,DZ15,EE14)),0)","v":0},{"$f":"IF(DZ15=Saisies!$C$7,MIN((ABS(Saisies!$E$4-ED14)),EG15),EG15)","v":0},{"$f":"IF(ISERROR((IF(DZ15>Saisies!$C$7,\"\",IF(ISERROR(IF(DZ15<Saisies!$B$7,\"\",EB15)*EH15),IF(DZ15<Saisies!$B$7,\"\",EB15),\"\")))*(IF(ISERROR(EI15+1),0,EI15))*EJ15*EK15*EL15),\"\",(IF(DZ15>Saisies!$C$7,\"\",IF(ISERROR(IF(DZ15<Saisies!$B$7,\"\",EB15)*EH15),IF(DZ15<Saisies!$B$7,\"\",EB15),\"\")))*(IF(ISERROR(EI15+1),0,EI15))*EJ15*EK15*EL15)","v":0},"",1,{"$f":"IF(DZ15>Saisies!$C$25,1,(IF(DZ15<Saisies!$B$25,1,IF(Saisies!$B$25=0,1,0))))","v":1},{"$f":"IF(DZ15>Saisies!$E$25,1,(IF(DZ15<Saisies!$D$25,1,IF(Saisies!$D$25=0,1,0))))","v":1},{"$f":"IF(DZ15>Saisies!$G$25,1,(IF(DZ15<Saisies!$F$25,1,IF(Saisies!$F$25<10,1,0))))","v":1},{"$f":"IF(DZ15>Saisies!$C$10,\"\",(IF(DZ15<Saisies!$B$10,\"\",EC15)))","v":""},{"$f":"IF(DZ15>Saisies!$E$10,\"\",(IF(DZ15<Saisies!$D$10,\"\",EC15)))","v":""},{"$f":"IF(DZ15>Saisies!$G$10,\"\",(IF(DZ15<Saisies!$F$10,\"\",EC15)))","v":""},"2016-10-03","L",7,7,{"$f":"IF(ISNUMBER(EW15),EW15,0)+IF(ISNUMBER(EX15),EX15,0)+ET14","v":492},{"$f":"IF(ET15>=Saisies!$E$4,(IF(EU14<=Saisies!$E$4,EP15,EU14)),0)","v":42622},{"$f":"IF(EP15=Saisies!$C$7,MIN((ABS(Saisies!$E$4-ET14)),EW15),EW15)","v":""},{"$f":"IF(ISERROR((IF(EP15>Saisies!$C$7,\"\",IF(ISERROR(IF(EP15<Saisies!$B$7,\"\",ER15)*EX15),IF(EP15<Saisies!$B$7,\"\",ER15),\"\")))*(IF(ISERROR(EY15+1),0,EY15))*EZ15*FA15*FB15),\"\",(IF(EP15>Saisies!$C$7,\"\",IF(ISERROR(IF(EP15<Saisies!$B$7,\"\",ER15)*EX15),IF(EP15<Saisies!$B$7,\"\",ER15),\"\")))*(IF(ISERROR(EY15+1),0,EY15))*EZ15*FA15*FB15)","v":""},"",1,{"$f":"IF(EP15>Saisies!$C$25,1,(IF(EP15<Saisies!$B$25,1,IF(Saisies!$B$25=0,1,0))))","v":1},{"$f":"IF(EP15>Saisies!$E$25,1,(IF(EP15<Saisies!$D$25,1,IF(Saisies!$D$25=0,1,0))))","v":1},{"$f":"IF(EP15>Saisies!$G$25,1,(IF(EP15<Saisies!$F$25,1,IF(Saisies!$F$25<10,1,0))))","v":1},{"$f":"IF(EP15>Saisies!$C$10,\"\",(IF(EP15<Saisies!$B$10,\"\",ES15)))","v":""},{"$f":"IF(EP15>Saisies!$E$10,\"\",(IF(EP15<Saisies!$D$10,\"\",ES15)))","v":""},{"$f":"IF(EP15>Saisies!$G$10,\"\",(IF(EP15<Saisies!$F$10,\"\",ES15)))","v":""},"2016-11-03","J",8,7,{"$f":"IF(ISNUMBER(FM15),FM15,0)+IF(ISNUMBER(FN15),FN15,0)+FJ14","v":492},{"$f":"IF(FJ15>=Saisies!$E$4,(IF(FK14<=Saisies!$E$4,FF15,FK14)),0)","v":42622},{"$f":"IF(FF15=Saisies!$C$7,MIN((ABS(Saisies!$E$4-FJ14)),FM15),FM15)","v":""},{"$f":"IF(ISERROR((IF(FF15>Saisies!$C$7,\"\",IF(ISERROR(IF(FF15<Saisies!$B$7,\"\",FH15)*FN15),IF(FF15<Saisies!$B$7,\"\",FH15),\"\")))*(IF(ISERROR(FO15+1),0,FO15))*FP15*FQ15*FR15),\"\",(IF(FF15>Saisies!$C$7,\"\",IF(ISERROR(IF(FF15<Saisies!$B$7,\"\",FH15)*FN15),IF(FF15<Saisies!$B$7,\"\",FH15),\"\")))*(IF(ISERROR(FO15+1),0,FO15))*FP15*FQ15*FR15)","v":""},{"$f":"IF((SUM(FS15:FU15)*(IF(ISERROR(FO15+1),0,FO15))*FP15*FQ15*FR15)=0,\"\",SUM(FS15:FU15))","v":""},1,{"$f":"IF(FF15>Saisies!$C$25,1,(IF(FF15<Saisies!$B$25,1,IF(Saisies!$B$25=0,1,0))))","v":1},{"$f":"IF(FF15>Saisies!$E$25,1,(IF(FF15<Saisies!$D$25,1,IF(Saisies!$D$25=0,1,0))))","v":1},{"$f":"IF(FF15>Saisies!$G$25,1,(IF(FF15<Saisies!$F$25,1,IF(Saisies!$F$25<10,1,0))))","v":1},{"$f":"IF(FF15>Saisies!$C$10,\"\",(IF(FF15<Saisies!$B$10,\"\",FI15)))","v":""},{"$f":"IF(FF15>Saisies!$E$10,\"\",(IF(FF15<Saisies!$D$10,\"\",FI15)))","v":""},{"$f":"IF(FF15>Saisies!$G$10,\"\",(IF(FF15<Saisies!$F$10,\"\",FI15)))","v":""},"2016-12-03","S",0,0,{"$f":"IF(ISNUMBER(GC15),GC15,0)+IF(ISNUMBER(GD15),GD15,0)+FZ14","v":492},{"$f":"IF(FZ15>=Saisies!$E$4,(IF(GA14<=Saisies!$E$4,FV15,GA14)),0)","v":42622},{"$f":"IF(FV15=Saisies!$C$7,MIN((ABS(Saisies!$E$4-FZ14)),GC15),GC15)","v":""},{"$f":"IF(ISERROR((IF(FV15>Saisies!$C$7,\"\",IF(ISERROR(IF(FV15<Saisies!$B$7,\"\",FX15)*GD15),IF(FV15<Saisies!$B$7,\"\",FX15),\"\")))*(IF(ISERROR(GE15+1),0,GE15))*GF15*GG15*GH15),\"\",(IF(FV15>Saisies!$C$7,\"\",IF(ISERROR(IF(FV15<Saisies!$B$7,\"\",FX15)*GD15),IF(FV15<Saisies!$B$7,\"\",FX15),\"\")))*(IF(ISERROR(GE15+1),0,GE15))*GF15*GG15*GH15)","v":""},"",1,{"$f":"IF(FV15>Saisies!$C$25,1,(IF(FV15<Saisies!$B$25,1,IF(Saisies!$B$25=0,1,0))))","v":1},{"$f":"IF(FV15>Saisies!$E$25,1,(IF(FV15<Saisies!$D$25,1,IF(Saisies!$D$25=0,1,0))))","v":1},{"$f":"IF(FV15>Saisies!$G$25,1,(IF(FV15<Saisies!$F$25,1,IF(Saisies!$F$25<10,1,0))))","v":1},{"$f":"IF(FV15>Saisies!$C$10,\"\",(IF(FV15<Saisies!$B$10,\"\",FY15)))","v":""},{"$f":"IF(FV15>Saisies!$E$10,\"\",(IF(FV15<Saisies!$D$10,\"\",FY15)))","v":""},{"$f":"IF(FV15>Saisies!$G$10,\"\",(IF(FV15<Saisies!$F$10,\"\",FY15)))","v":""},null,null,null,null,null,null,null,null,null,null,null,"JE",{"$f":"Saisies!D18","v":7}]
[null,"2016-01-04","L",7,7,0,{"$f":"IF(MAX(F16,(F15+D16))>=Saisies!$E$4,(IF(F15<=Saisies!$E$4,B16,G15)),0)","v":0},{"$f":"IF(B16=Saisies!$C$7,MIN((ABS(Saisies!$E$4-F15)),I16),I16)","v":""},{"$f":"IF(ISERROR((IF(B16>Saisies!$C$7,\"\",IF(ISERROR(IF(B16<Saisies!$B$7,\"\",D16)*J16),IF(B16<Saisies!$B$7,\"\",D16),\"\")))*(IF(ISERROR(K16+1),0,K16))*L16*M16*N16),\"\",(IF(B16>Saisies!$C$7,\"\",IF(ISERROR(IF(B16<Saisies!$B$7,\"\",D16)*J16),IF(B16<Saisies!$B$7,\"\",D16),\"\")))*(IF(ISERROR(K16+1),0,K16))*L16*M16*N16)","v":""},"",1,{"$f":"IF(B16>Saisies!$C$25,1,(IF(B16<Saisies!$B$25,1,IF(Saisies!$B$25=0,1,0))))","v":1},{"$f":"IF(B16>Saisies!$E$25,1,(IF(B16<Saisies!$D$25,1,IF(Saisies!$D$25=0,1,0))))","v":1},{"$f":"IF(B16>Saisies!$G$25,1,(IF(B16<Saisies!$F$25,1,IF(Saisies!$F$25<10,1,0))))","v":1},{"$f":"IF(B16>Saisies!$C$10,\"\",(IF(B16<Saisies!$B$10,\"\",E16)))","v":""},{"$f":"IF(B16>Saisies!$E$10,\"\",(IF(B16<Saisies!$D$10,\"\",E16)))","v":""},{"$f":"IF(B16>Saisies!$G$10,\"\",(IF(B16<Saisies!$F$10,\"\",E16)))","v":""},"2016-02-04","J",8,7,0,{"$f":"IF(MAX(V16,(V15+T16))>=Saisies!$E$4,(IF(V15<=Saisies!$E$4,R16,W15)),0)","v":0},{"$f":"IF(R16=Saisies!$C$7,MIN((ABS(Saisies!$E$4-V15)),Y16),Y16)","v":""},{"$f":"IF(ISERROR((IF(R16>Saisies!$C$7,\"\",IF(ISERROR(IF(R16<Saisies!$B$7,\"\",T16)*Z16),IF(R16<Saisies!$B$7,\"\",T16),\"\")))*(IF(ISERROR(AA16+1),0,AA16))*AB16*AC16*AD16),\"\",(IF(R16>Saisies!$C$7,\"\",IF(ISERROR(IF(R16<Saisies!$B$7,\"\",T16)*Z16),IF(R16<Saisies!$B$7,\"\",T16),\"\")))*(IF(ISERROR(AA16+1),0,AA16))*AB16*AC16*AD16)","v":""},"",1,{"$f":"IF(R16>Saisies!$C$25,1,(IF(R16<Saisies!$B$25,1,IF(Saisies!$B$25=0,1,0))))","v":1},{"$f":"IF(R16>Saisies!$E$25,1,(IF(R16<Saisies!$D$25,1,IF(Saisies!$D$25=0,1,0))))","v":1},{"$f":"IF(R16>Saisies!$G$25,1,(IF(R16<Saisies!$F$25,1,IF(Saisies!$F$25<10,1,0))))","v":1},{"$f":"IF(R16>Saisies!$C$10,\"\",(IF(R16<Saisies!$B$10,\"\",U16)))","v":""},{"$f":"IF(R16>Saisies!$E$10,\"\",(IF(R16<Saisies!$D$10,\"\",U16)))","v":""},{"$f":"IF(R16>Saisies!$G$10,\"\",(IF(R16<Saisies!$F$10,\"\",U16)))","v":""},"2016-03-04","V",4,7,0,{"$f":"IF(MAX(AL16,(AL15+AJ16))>=Saisies!$E$4,(IF(AL15<=Saisies!$E$4,AH16,AM15)),0)","v":0},{"$f":"IF(AH16=Saisies!$C$7,MIN((ABS(Saisies!$E$4-AL15)),AO16),AO16)","v":""},{"$f":"IF(ISERROR((IF(AH16>Saisies!$C$7,\"\",IF(ISERROR(IF(AH16<Saisies!$B$7,\"\",AJ16)*AP16),IF(AH16<Saisies!$B$7,\"\",AJ16),\"\")))*(IF(ISERROR(AQ16+1),0,AQ16))*AR16*AS16*AT16),\"\",(IF(AH16>Saisies!$C$7,\"\",IF(ISERROR(IF(AH16<Saisies!$B$7,\"\",AJ16)*AP16),IF(AH16<Saisies!$B$7,\"\",AJ16),\"\")))*(IF(ISERROR(AQ16+1),0,AQ16))*AR16*AS16*AT16)","v":""},"",1,{"$f":"IF(AH16>Saisies!$C$25,1,(IF(AH16<Saisies!$B$25,1,IF(Saisies!$B$25=0,1,0))))","v":1},{"$f":"IF(AH16>Saisies!$E$25,1,(IF(AH16<Saisies!$D$25,1,IF(Saisies!$D$25=0,1,0))))","v":1},{"$f":"IF(AH16>Saisies!$G$25,1,(IF(AH16<Saisies!$F$25,1,IF(Saisies!$F$25<10,1,0))))","v":1},{"$f":"IF(AH16>Saisies!$C$10,\"\",(IF(AH16<Saisies!$B$10,\"\",AK16)))","v":""},{"$f":"IF(AH16>Saisies!$E$10,\"\",(IF(AH16<Saisies!$D$10,\"\",AK16)))","v":""},{"$f":"IF(AH16>Saisies!$G$10,\"\",(IF(AH16<Saisies!$F$10,\"\",AK16)))","v":""},"2016-04-04","L",7,7,0,{"$f":"IF(BB16>=Saisies!$E$4,(IF(BC15<=Saisies!$E$4,AX16,BC15)),0)","v":0},{"$f":"IF(AX16=Saisies!$C$7,MIN((ABS(Saisies!$E$4-BB15)),BE16),BE16)","v":""},{"$f":"IF(ISERROR((IF(AX16>Saisies!$C$7,\"\",IF(ISERROR(IF(AX16<Saisies!$B$7,\"\",AZ16)*BF16),IF(AX16<Saisies!$B$7,\"\",AZ16),\"\")))*(IF(ISERROR(BG16+1),0,BG16))*BH16*BI16*BJ16),\"\",(IF(AX16>Saisies!$C$7,\"\",IF(ISERROR(IF(AX16<Saisies!$B$7,\"\",AZ16)*BF16),IF(AX16<Saisies!$B$7,\"\",AZ16),\"\")))*(IF(ISERROR(BG16+1),0,BG16))*BH16*BI16*BJ16)","v":""},"",1,{"$f":"IF(AX16>Saisies!$C$25,1,(IF(AX16<Saisies!$B$25,1,IF(Saisies!$B$25=0,1,0))))","v":1},{"$f":"IF(AX16>Saisies!$E$25,1,(IF(AX16<Saisies!$D$25,1,IF(Saisies!$D$25=0,1,0))))","v":1},{"$f":"IF(AX16>Saisies!$G$25,1,(IF(AX16<Saisies!$F$25,1,IF(Saisies!$F$25<10,1,0))))","v":1},{"$f":"IF(AX16>Saisies!$C$10,\"\",(IF(AX16<Saisies!$B$10,\"\",BA16)))","v":""},{"$f":"IF(AX16>Saisies!$E$10,\"\",(IF(AX16<Saisies!$D$10,\"\",BA16)))","v":""},{"$f":"IF(AX16>Saisies!$G$10,\"\",(IF(AX16<Saisies!$F$10,\"\",BA16)))","v":""},"2016-05-04","M",8,7,0,{"$f":"IF(MAX(BR16,(BR15+BP16))>=Saisies!$E$4,(IF(BR15<=Saisies!$E$4,BN16,BS15)),0)","v":0},{"$f":"IF(BN16=Saisies!$C$7,MIN((ABS(Saisies!$E$4-BR15)),BU16),BU16)","v":""},{"$f":"IF(ISERROR((IF(BN16>Saisies!$C$7,\"\",IF(ISERROR(IF(BN16<Saisies!$B$7,\"\",BP16)*BV16),IF(BN16<Saisies!$B$7,\"\",BP16),\"\")))*(IF(ISERROR(BW16+1),0,BW16))*BX16*BY16*BZ16),\"\",(IF(BN16>Saisies!$C$7,\"\",IF(ISERROR(IF(BN16<Saisies!$B$7,\"\",BP16)*BV16),IF(BN16<Saisies!$B$7,\"\",BP16),\"\")))*(IF(ISERROR(BW16+1),0,BW16))*BX16*BY16*BZ16)","v":""},"",1,{"$f":"IF(BN16>Saisies!$C$25,1,(IF(BN16<Saisies!$B$25,1,IF(Saisies!$B$25=0,1,0))))","v":1},{"$f":"IF(BN16>Saisies!$E$25,1,(IF(BN16<Saisies!$D$25,1,IF(Saisies!$D$25=0,1,0))))","v":1},{"$f":"IF(BN16>Saisies!$G$25,1,(IF(BN16<Saisies!$F$25,1,IF(Saisies!$F$25<10,1,0))))","v":1},{"$f":"IF(BN16>Saisies!$C$10,\"\",(IF(BN16<Saisies!$B$10,\"\",BQ16)))","v":""},{"$f":"IF(BN16>Saisies!$E$10,\"\",(IF(BN16<Saisies!$D$10,\"\",BQ16)))","v":""},{"$f":"IF(BN16>Saisies!$G$10,\"\",(IF(BN16<Saisies!$F$10,\"\",BQ16)))","v":""},"2016-06-04","S",0,0,20,{"$f":"IF(MAX(CH16,(CH15+CF16))>=Saisies!$E$4,(IF(CH15<=Saisies!$E$4,CD16,CI15)),0)","v":0},{"$f":"IF(CD16=Saisies!$C$7,MIN((ABS(Saisies!$E$4-CH15)),CK16),CK16)","v":0},{"$f":"IF(ISERROR((IF(CD16>Saisies!$C$7,\"\",IF(ISERROR(IF(CD16<Saisies!$B$7,\"\",CF16)*CL16),IF(CD16<Saisies!$B$7,\"\",CF16),\"\")))*(IF(ISERROR(CM16+1),0,CM16))*CN16*CO16*CP16),\"\",(IF(CD16>Saisies!$C$7,\"\",IF(ISERROR(IF(CD16<Saisies!$B$7,\"\",CF16)*CL16),IF(CD16<Saisies!$B$7,\"\",CF16),\"\")))*(IF(ISERROR(CM16+1),0,CM16))*CN16*CO16*CP16)","v":0},"",1,{"$f":"IF(CD16>Saisies!$C$25,1,(IF(CD16<Saisies!$B$25,1,IF(Saisies!$B$25=0,1,0))))","v":1},{"$f":"IF(CD16>Saisies!$E$25,1,(IF(CD16<Saisies!$D$25,1,IF(Saisies!$D$25=0,1,0))))","v":1},{"$f":"IF(CD16>Saisies!$G$25,1,(IF(CD16<Saisies!$F$25,1,IF(Saisies!$F$25<10,1,0))))","v":1},{"$f":"IF(CD16>Saisies!$C$10,\"\",(IF(CD16<Saisies!$B$10,\"\",CG16)))","v":""},{"$f":"IF(CD16>Saisies!$E$10,\"\",(IF(CD16<Saisies!$D$10,\"\",CG16)))","v":""},{"$f":"IF(CD16>Saisies!$G$10,\"\",(IF(CD16<Saisies!$F$10,\"\",CG16)))","v":""},"2016-07-04","L",7,7,167,{"$f":"IF(MAX(CX16,(CX15+CV16))>=Saisies!$E$4,(IF(CX15<=Saisies!$E$4,CT16,CY15)),0)","v":0},{"$f":"IF(CT16=Saisies!$C$7,MIN((ABS(Saisies!$E$4-CX15)),DA16),DA16)","v":""},{"$f":"IF(ISERROR((IF(CT16>Saisies!$C$7,\"\",IF(ISERROR(IF(CT16<Saisies!$B$7,\"\",CV16)*DB16),IF(CT16<Saisies!$B$7,\"\",CV16),\"\")))*(IF(ISERROR(DC16+1),0,DC16))*DD16*DE16*DF16),\"\",(IF(CT16>Saisies!$C$7,\"\",IF(ISERROR(IF(CT16<Saisies!$B$7,\"\",CV16)*DB16),IF(CT16<Saisies!$B$7,\"\",CV16),\"\")))*(IF(ISERROR(DC16+1),0,DC16))*DD16*DE16*DF16)","v":""},7,1,{"$f":"IF(CT16>Saisies!$C$25,1,(IF(CT16<Saisies!$B$25,1,IF(Saisies!$B$25=0,1,0))))","v":1},{"$f":"IF(CT16>Saisies!$E$25,1,(IF(CT16<Saisies!$D$25,1,IF(Saisies!$D$25=0,1,0))))","v":1},{"$f":"IF(CT16>Saisies!$G$25,1,(IF(CT16<Saisies!$F$25,1,IF(Saisies!$F$25<10,1,0))))","v":1},{"$f":"IF(CT16>Saisies!$C$10,\"\",(IF(CT16<Saisies!$B$10,\"\",CW16)))","v":7},{"$f":"IF(CT16>Saisies!$E$10,\"\",(IF(CT16<Saisies!$D$10,\"\",CW16)))","v":""},{"$f":"IF(CT16>Saisies!$G$10,\"\",(IF(CT16<Saisies!$F$10,\"\",CW16)))","v":""},"2016-08-04","J",8,7,317,{"$f":"IF(DN16>=Saisies!$E$4,(IF(DO15<=Saisies!$E$4,DJ16,DO15)),0)","v":0},{"$f":"IF(DJ16=Saisies!$C$7,MIN((ABS(Saisies!$E$4-DN15)),DQ16),DQ16)","v":8},{"$f":"IF(ISERROR((IF(DJ16>Saisies!$C$7,\"\",IF(ISERROR(IF(DJ16<Saisies!$B$7,\"\",DL16)*DR16),IF(DJ16<Saisies!$B$7,\"\",DL16),\"\")))*(IF(ISERROR(DS16+1),0,DS16))*DT16*DU16*DV16),\"\",(IF(DJ16>Saisies!$C$7,\"\",IF(ISERROR(IF(DJ16<Saisies!$B$7,\"\",DL16)*DR16),IF(DJ16<Saisies!$B$7,\"\",DL16),\"\")))*(IF(ISERROR(DS16+1),0,DS16))*DT16*DU16*DV16)","v":8},"",1,{"$f":"IF(DJ16>Saisies!$C$25,1,(IF(DJ16<Saisies!$B$25,1,IF(Saisies!$B$25=0,1,0))))","v":1},{"$f":"IF(DJ16>Saisies!$E$25,1,(IF(DJ16<Saisies!$D$25,1,IF(Saisies!$D$25=0,1,0))))","v":1},{"$f":"IF(DJ16>Saisies!$G$25,1,(IF(DJ16<Saisies!$F$25,1,IF(Saisies!$F$25<10,1,0))))","v":1},{"$f":"IF(DJ16>Saisies!$C$10,\"\",(IF(DJ16<Saisies!$B$10,\"\",DM16)))","v":""},{"$f":"IF(DJ16>Saisies!$E$10,\"\",(IF(DJ16<Saisies!$D$10,\"\",DM16)))","v":""},{"$f":"IF(DJ16>Saisies!$G$10,\"\",(IF(DJ16<Saisies!$F$10,\"\",DM16)))","v":""},"2016-09-04","D",0,0,457,{"$f":"IF(ED16>=Saisies!$E$4,(IF(EE15<=Saisies!$E$4,DZ16,EE15)),0)","v":0},{"$f":"IF(DZ16=Saisies!$C$7,MIN((ABS(Saisies!$E$4-ED15)),EG16),EG16)","v":0},{"$f":"IF(ISERROR((IF(DZ16>Saisies!$C$7,\"\",IF(ISERROR(IF(DZ16<Saisies!$B$7,\"\",EB16)*EH16),IF(DZ16<Saisies!$B$7,\"\",EB16),\"\")))*(IF(ISERROR(EI16+1),0,EI16))*EJ16*EK16*EL16),\"\",(IF(DZ16>Saisies!$C$7,\"\",IF(ISERROR(IF(DZ16<Saisies!$B$7,\"\",EB16)*EH16),IF(DZ16<Saisies!$B$7,\"\",EB16),\"\")))*(IF(ISERROR(EI16+1),0,EI16))*EJ16*EK16*EL16)","v":0},"",1,{"$f":"IF(DZ16>Saisies!$C$25,1,(IF(DZ16<Saisies!$B$25,1,IF(Saisies!$B$25=0,1,0))))","v":1},{"$f":"IF(DZ16>Saisies!$E$25,1,(IF(DZ16<Saisies!$D$25,1,IF(Saisies!$D$25=0,1,0))))","v":1},{"$f":"IF(DZ16>Saisies!$G$25,1,(IF(DZ16<Saisies!$F$25,1,IF(Saisies!$F$25<10,1,0))))","v":1},{"$f":"IF(DZ16>Saisies!$C$10,\"\",(IF(DZ16<Saisies!$B$10,\"\",EC16)))","v":""},{"$f":"IF(DZ16>Saisies!$E$10,\"\",(IF(DZ16<Saisies!$D$10,\"\",EC16)))","v":""},{"$f":"IF(DZ16>Saisies!$G$10,\"\",(IF(DZ16<Saisies!$F$10,\"\",EC16)))","v":""},"2016-10-04","M",8,7,492,{"$f":"IF(ET16>=Saisies!$E$4,(IF(EU15<=Saisies!$E$4,EP16,EU15)),0)","v":42622},{"$f":"IF(EP16=Saisies!$C$7,MIN((ABS(Saisies!$E$4-ET15)),EW16),EW16)","v":""},{"$f":"IF(ISERROR((IF(EP16>Saisies!$C$7,\"\",IF(ISERROR(IF(EP16<Saisies!$B$7,\"\",ER16)*EX16),IF(EP16<Saisies!$B$7,\"\",ER16),\"\")))*(IF(ISERROR(EY16+1),0,EY16))*EZ16*FA16*FB16),\"\",(IF(EP16>Saisies!$C$7,\"\",IF(ISERROR(IF(EP16<Saisies!$B$7,\"\",ER16)*EX16),IF(EP16<Saisies!$B$7,\"\",ER16),\"\")))*(IF(ISERROR(EY16+1),0,EY16))*EZ16*FA16*FB16)","v":""},"",1,{"$f":"IF(EP16>Saisies!$C$25,1,(IF(EP16<Saisies!$B$25,1,IF(Saisies!$B$25=0,1,0))))","v":1},{"$f":"IF(EP16>Saisies!$E$25,1,(IF(EP16<Saisies!$D$25,1,IF(Saisies!$D$25=0,1,0))))","v":1},{"$f":"IF(EP16>Saisies!$G$25,1,(IF(EP16<Saisies!$F$25,1,IF(Saisies!$F$25<10,1,0))))","v":1},{"$f":"IF(EP16>Saisies!$C$10,\"\",(IF(EP16<Saisies!$B$10,\"\",ES16)))","v":""},{"$f":"IF(EP16>Saisies!$E$10,\"\",(IF(EP16<Saisies!$D$10,\"\",ES16)))","v":""},{"$f":"IF(EP16>Saisies!$G$10,\"\",(IF(EP16<Saisies!$F$10,\"\",ES16)))","v":""},"2016-11-04","V",4,7,492,{"$f":"IF(FJ16>=Saisies!$E$4,(IF(FK15<=Saisies!$E$4,FF16,FK15)),0)","v":42622},{"$f":"IF(FF16=Saisies!$C$7,MIN((ABS(Saisies!$E$4-FJ15)),FM16),FM16)","v":""},{"$f":"IF(ISERROR((IF(FF16>Saisies!$C$7,\"\",IF(ISERROR(IF(FF16<Saisies!$B$7,\"\",FH16)*FN16),IF(FF16<Saisies!$B$7,\"\",FH16),\"\")))*(IF(ISERROR(FO16+1),0,FO16))*FP16*FQ16*FR16),\"\",(IF(FF16>Saisies!$C$7,\"\",IF(ISERROR(IF(FF16<Saisies!$B$7,\"\",FH16)*FN16),IF(FF16<Saisies!$B$7,\"\",FH16),\"\")))*(IF(ISERROR(FO16+1),0,FO16))*FP16*FQ16*FR16)","v":""},"",1,{"$f":"IF(FF16>Saisies!$C$25,1,(IF(FF16<Saisies!$B$25,1,IF(Saisies!$B$25=0,1,0))))","v":1},{"$f":"IF(FF16>Saisies!$E$25,1,(IF(FF16<Saisies!$D$25,1,IF(Saisies!$D$25=0,1,0))))","v":1},{"$f":"IF(FF16>Saisies!$G$25,1,(IF(FF16<Saisies!$F$25,1,IF(Saisies!$F$25<10,1,0))))","v":1},{"$f":"IF(FF16>Saisies!$C$10,\"\",(IF(FF16<Saisies!$B$10,\"\",FI16)))","v":""},{"$f":"IF(FF16>Saisies!$E$10,\"\",(IF(FF16<Saisies!$D$10,\"\",FI16)))","v":""},{"$f":"IF(FF16>Saisies!$G$10,\"\",(IF(FF16<Saisies!$F$10,\"\",FI16)))","v":""},"2016-12-04","D",0,0,492,{"$f":"IF(FZ16>=Saisies!$E$4,(IF(GA15<=Saisies!$E$4,FV16,GA15)),0)","v":42622},{"$f":"IF(FV16=Saisies!$C$7,MIN((ABS(Saisies!$E$4-FZ15)),GC16),GC16)","v":""},{"$f":"IF(ISERROR((IF(FV16>Saisies!$C$7,\"\",IF(ISERROR(IF(FV16<Saisies!$B$7,\"\",FX16)*GD16),IF(FV16<Saisies!$B$7,\"\",FX16),\"\")))*(IF(ISERROR(GE16+1),0,GE16))*GF16*GG16*GH16),\"\",(IF(FV16>Saisies!$C$7,\"\",IF(ISERROR(IF(FV16<Saisies!$B$7,\"\",FX16)*GD16),IF(FV16<Saisies!$B$7,\"\",FX16),\"\")))*(IF(ISERROR(GE16+1),0,GE16))*GF16*GG16*GH16)","v":""},"",1,{"$f":"IF(FV16>Saisies!$C$25,1,(IF(FV16<Saisies!$B$25,1,IF(Saisies!$B$25=0,1,0))))","v":1},{"$f":"IF(FV16>Saisies!$E$25,1,(IF(FV16<Saisies!$D$25,1,IF(Saisies!$D$25=0,1,0))))","v":1},{"$f":"IF(FV16>Saisies!$G$25,1,(IF(FV16<Saisies!$F$25,1,IF(Saisies!$F$25<10,1,0))))","v":1},{"$f":"IF(FV16>Saisies!$C$10,\"\",(IF(FV16<Saisies!$B$10,\"\",FY16)))","v":""},{"$f":"IF(FV16>Saisies!$E$10,\"\",(IF(FV16<Saisies!$D$10,\"\",FY16)))","v":""},{"$f":"IF(FV16>Saisies!$G$10,\"\",(IF(FV16<Saisies!$F$10,\"\",FY16)))","v":""},null,null,null,null,null,null,null,null,null,null,null,"LU",{"$f":"Saisies!D15","v":7}]
[null,"2016-01-05","M",8,7,0,{"$f":"IF(MAX(F17,(F16+D17))>=Saisies!$E$4,(IF(F16<=Saisies!$E$4,B17,G16)),0)","v":0},{"$f":"IF(B17=Saisies!$C$7,MIN((ABS(Saisies!$E$4-F16)),I17),I17)","v":""},{"$f":"IF(ISERROR((IF(B17>Saisies!$C$7,\"\",IF(ISERROR(IF(B17<Saisies!$B$7,\"\",D17)*J17),IF(B17<Saisies!$B$7,\"\",D17),\"\")))*(IF(ISERROR(K17+1),0,K17))*L17*M17*N17),\"\",(IF(B17>Saisies!$C$7,\"\",IF(ISERROR(IF(B17<Saisies!$B$7,\"\",D17)*J17),IF(B17<Saisies!$B$7,\"\",D17),\"\")))*(IF(ISERROR(K17+1),0,K17))*L17*M17*N17)","v":""},"",1,{"$f":"IF(B17>Saisies!$C$25,1,(IF(B17<Saisies!$B$25,1,IF(Saisies!$B$25=0,1,0))))","v":1},{"$f":"IF(B17>Saisies!$E$25,1,(IF(B17<Saisies!$D$25,1,IF(Saisies!$D$25=0,1,0))))","v":1},{"$f":"IF(B17>Saisies!$G$25,1,(IF(B17<Saisies!$F$25,1,IF(Saisies!$F$25<10,1,0))))","v":1},{"$f":"IF(B17>Saisies!$C$10,\"\",(IF(B17<Saisies!$B$10,\"\",E17)))","v":""},{"$f":"IF(B17>Saisies!$E$10,\"\",(IF(B17<Saisies!$D$10,\"\",E17)))","v":""},{"$f":"IF(B17>Saisies!$G$10,\"\",(IF(B17<Saisies!$F$10,\"\",E17)))","v":""},"2016-02-05","V",4,7,0,{"$f":"IF(MAX(V17,(V16+T17))>=Saisies!$E$4,(IF(V16<=Saisies!$E$4,R17,W16)),0)","v":0},{"$f":"IF(R17=Saisies!$C$7,MIN((ABS(Saisies!$E$4-V16)),Y17),Y17)","v":""},{"$f":"IF(ISERROR((IF(R17>Saisies!$C$7,\"\",IF(ISERROR(IF(R17<Saisies!$B$7,\"\",T17)*Z17),IF(R17<Saisies!$B$7,\"\",T17),\"\")))*(IF(ISERROR(AA17+1),0,AA17))*AB17*AC17*AD17),\"\",(IF(R17>Saisies!$C$7,\"\",IF(ISERROR(IF(R17<Saisies!$B$7,\"\",T17)*Z17),IF(R17<Saisies!$B$7,\"\",T17),\"\")))*(IF(ISERROR(AA17+1),0,AA17))*AB17*AC17*AD17)","v":""},"",1,{"$f":"IF(R17>Saisies!$C$25,1,(IF(R17<Saisies!$B$25,1,IF(Saisies!$B$25=0,1,0))))","v":1},{"$f":"IF(R17>Saisies!$E$25,1,(IF(R17<Saisies!$D$25,1,IF(Saisies!$D$25=0,1,0))))","v":1},{"$f":"IF(R17>Saisies!$G$25,1,(IF(R17<Saisies!$F$25,1,IF(Saisies!$F$25<10,1,0))))","v":1},{"$f":"IF(R17>Saisies!$C$10,\"\",(IF(R17<Saisies!$B$10,\"\",U17)))","v":""},{"$f":"IF(R17>Saisies!$E$10,\"\",(IF(R17<Saisies!$D$10,\"\",U17)))","v":""},{"$f":"IF(R17>Saisies!$G$10,\"\",(IF(R17<Saisies!$F$10,\"\",U17)))","v":""},"2016-03-05","S",0,0,0,{"$f":"IF(MAX(AL17,(AL16+AJ17))>=Saisies!$E$4,(IF(AL16<=Saisies!$E$4,AH17,AM16)),0)","v":0},{"$f":"IF(AH17=Saisies!$C$7,MIN((ABS(Saisies!$E$4-AL16)),AO17),AO17)","v":""},{"$f":"IF(ISERROR((IF(AH17>Saisies!$C$7,\"\",IF(ISERROR(IF(AH17<Saisies!$B$7,\"\",AJ17)*AP17),IF(AH17<Saisies!$B$7,\"\",AJ17),\"\")))*(IF(ISERROR(AQ17+1),0,AQ17))*AR17*AS17*AT17),\"\",(IF(AH17>Saisies!$C$7,\"\",IF(ISERROR(IF(AH17<Saisies!$B$7,\"\",AJ17)*AP17),IF(AH17<Saisies!$B$7,\"\",AJ17),\"\")))*(IF(ISERROR(AQ17+1),0,AQ17))*AR17*AS17*AT17)","v":""},"",1,{"$f":"IF(AH17>Saisies!$C$25,1,(IF(AH17<Saisies!$B$25,1,IF(Saisies!$B$25=0,1,0))))","v":1},{"$f":"IF(AH17>Saisies!$E$25,1,(IF(AH17<Saisies!$D$25,1,IF(Saisies!$D$25=0,1,0))))","v":1},{"$f":"IF(AH17>Saisies!$G$25,1,(IF(AH17<Saisies!$F$25,1,IF(Saisies!$F$25<10,1,0))))","v":1},{"$f":"IF(AH17>Saisies!$C$10,\"\",(IF(AH17<Saisies!$B$10,\"\",AK17)))","v":""},{"$f":"IF(AH17>Saisies!$E$10,\"\",(IF(AH17<Saisies!$D$10,\"\",AK17)))","v":""},{"$f":"IF(AH17>Saisies!$G$10,\"\",(IF(AH17<Saisies!$F$10,\"\",AK17)))","v":""},"2016-04-05","M",8,7,0,{"$f":"IF(BB17>=Saisies!$E$4,(IF(BC16<=Saisies!$E$4,AX17,BC16)),0)","v":0},{"$f":"IF(AX17=Saisies!$C$7,MIN((ABS(Saisies!$E$4-BB16)),BE17),BE17)","v":""},{"$f":"IF(ISERROR((IF(AX17>Saisies!$C$7,\"\",IF(ISERROR(IF(AX17<Saisies!$B$7,\"\",AZ17)*BF17),IF(AX17<Saisies!$B$7,\"\",AZ17),\"\")))*(IF(ISERROR(BG17+1),0,BG17))*BH17*BI17*BJ17),\"\",(IF(AX17>Saisies!$C$7,\"\",IF(ISERROR(IF(AX17<Saisies!$B$7,\"\",AZ17)*BF17),IF(AX17<Saisies!$B$7,\"\",AZ17),\"\")))*(IF(ISERROR(BG17+1),0,BG17))*BH17*BI17*BJ17)","v":""},"",1,{"$f":"IF(AX17>Saisies!$C$25,1,(IF(AX17<Saisies!$B$25,1,IF(Saisies!$B$25=0,1,0))))","v":1},{"$f":"IF(AX17>Saisies!$E$25,1,(IF(AX17<Saisies!$D$25,1,IF(Saisies!$D$25=0,1,0))))","v":1},{"$f":"IF(AX17>Saisies!$G$25,1,(IF(AX17<Saisies!$F$25,1,IF(Saisies!$F$25<10,1,0))))","v":1},{"$f":"IF(AX17>Saisies!$C$10,\"\",(IF(AX17<Saisies!$B$10,\"\",BA17)))","v":""},{"$f":"IF(AX17>Saisies!$E$10,\"\",(IF(AX17<Saisies!$D$10,\"\",BA17)))","v":""},{"$f":"IF(AX17>Saisies!$G$10,\"\",(IF(AX17<Saisies!$F$10,\"\",BA17)))","v":""},"2016-05-05","J",8,7,0,{"$f":"IF(MAX(BR17,(BR16+BP17))>=Saisies!$E$4,(IF(BR16<=Saisies!$E$4,BN17,BS16)),0)","v":0},{"$f":"IF(BN17=Saisies!$C$7,MIN((ABS(Saisies!$E$4-BR16)),BU17),BU17)","v":""},{"$f":"IF(ISERROR((IF(BN17>Saisies!$C$7,\"\",IF(ISERROR(IF(BN17<Saisies!$B$7,\"\",BP17)*BV17),IF(BN17<Saisies!$B$7,\"\",BP17),\"\")))*(IF(ISERROR(BW17+1),0,BW17))*BX17*BY17*BZ17),\"\",(IF(BN17>Saisies!$C$7,\"\",IF(ISERROR(IF(BN17<Saisies!$B$7,\"\",BP17)*BV17),IF(BN17<Saisies!$B$7,\"\",BP17),\"\")))*(IF(ISERROR(BW17+1),0,BW17))*BX17*BY17*BZ17)","v":""},"","B",{"$f":"IF(BN17>Saisies!$C$25,1,(IF(BN17<Saisies!$B$25,1,IF(Saisies!$B$25=0,1,0))))","v":1},{"$f":"IF(BN17>Saisies!$E$25,1,(IF(BN17<Saisies!$D$25,1,IF(Saisies!$D$25=0,1,0))))","v":1},{"$f":"IF(BN17>Saisies!$G$25,1,(IF(BN17<Saisies!$F$25,1,IF(Saisies!$F$25<10,1,0))))","v":1},{"$f":"IF(BN17>Saisies!$C$10,\"\",(IF(BN17<Saisies!$B$10,\"\",BQ17)))","v":""},{"$f":"IF(BN17>Saisies!$E$10,\"\",(IF(BN17<Saisies!$D$10,\"\",BQ17)))","v":""},{"$f":"IF(BN17>Saisies!$G$10,\"\",(IF(BN17<Saisies!$F$10,\"\",BQ17)))","v":""},"2016-06-05","D",0,0,20,{"$f":"IF(MAX(CH17,(CH16+CF17))>=Saisies!$E$4,(IF(CH16<=Saisies!$E$4,CD17,CI16)),0)","v":0},{"$f":"IF(CD17=Saisies!$C$7,MIN((ABS(Saisies!$E$4-CH16)),CK17),CK17)","v":0},{"$f":"IF(ISERROR((IF(CD17>Saisies!$C$7,\"\",IF(ISERROR(IF(CD17<Saisies!$B$7,\"\",CF17)*CL17),IF(CD17<Saisies!$B$7,\"\",CF17),\"\")))*(IF(ISERROR(CM17+1),0,CM17))*CN17*CO17*CP17),\"\",(IF(CD17>Saisies!$C$7,\"\",IF(ISERROR(IF(CD17<Saisies!$B$7,\"\",CF17)*CL17),IF(CD17<Saisies!$B$7,\"\",CF17),\"\")))*(IF(ISERROR(CM17+1),0,CM17))*CN17*CO17*CP17)","v":0},"",1,{"$f":"IF(CD17>Saisies!$C$25,1,(IF(CD17<Saisies!$B$25,1,IF(Saisies!$B$25=0,1,0))))","v":1},{"$f":"IF(CD17>Saisies!$E$25,1,(IF(CD17<Saisies!$D$25,1,IF(Saisies!$D$25=0,1,0))))","v":1},{"$f":"IF(CD17>Saisies!$G$25,1,(IF(CD17<Saisies!$F$25,1,IF(Saisies!$F$25<10,1,0))))","v":1},{"$f":"IF(CD17>Saisies!$C$10,\"\",(IF(CD17<Saisies!$B$10,\"\",CG17)))","v":""},{"$f":"IF(CD17>Saisies!$E$10,\"\",(IF(CD17<Saisies!$D$10,\"\",CG17)))","v":""},{"$f":"IF(CD17>Saisies!$G$10,\"\",(IF(CD17<Saisies!$F$10,\"\",CG17)))","v":""},"2016-07-05","M",8,7,174,{"$f":"IF(MAX(CX17,(CX16+CV17))>=Saisies!$E$4,(IF(CX16<=Saisies!$E$4,CT17,CY16)),0)","v":0},{"$f":"IF(CT17=Saisies!$C$7,MIN((ABS(Saisies!$E$4-CX16)),DA17),DA17)","v":""},{"$f":"IF(ISERROR((IF(CT17>Saisies!$C$7,\"\",IF(ISERROR(IF(CT17<Saisies!$B$7,\"\",CV17)*DB17),IF(CT17<Saisies!$B$7,\"\",CV17),\"\")))*(IF(ISERROR(DC17+1),0,DC17))*DD17*DE17*DF17),\"\",(IF(CT17>Saisies!$C$7,\"\",IF(ISERROR(IF(CT17<Saisies!$B$7,\"\",CV17)*DB17),IF(CT17<Saisies!$B$7,\"\",CV17),\"\")))*(IF(ISERROR(DC17+1),0,DC17))*DD17*DE17*DF17)","v":""},7,1,{"$f":"IF(CT17>Saisies!$C$25,1,(IF(CT17<Saisies!$B$25,1,IF(Saisies!$B$25=0,1,0))))","v":1},{"$f":"IF(CT17>Saisies!$E$25,1,(IF(CT17<Saisies!$D$25,1,IF(Saisies!$D$25=0,1,0))))","v":1},{"$f":"IF(CT17>Saisies!$G$25,1,(IF(CT17<Saisies!$F$25,1,IF(Saisies!$F$25<10,1,0))))","v":1},{"$f":"IF(CT17>Saisies!$C$10,\"\",(IF(CT17<Saisies!$B$10,\"\",CW17)))","v":7},{"$f":"IF(CT17>Saisies!$E$10,\"\",(IF(CT17<Saisies!$D$10,\"\",CW17)))","v":""},{"$f":"IF(CT17>Saisies!$G$10,\"\",(IF(CT17<Saisies!$F$10,\"\",CW17)))","v":""},"2016-08-05","V",4,7,324,{"$f":"IF(DN17>=Saisies!$E$4,(IF(DO16<=Saisies!$E$4,DJ17,DO16)),0)","v":0},{"$f":"IF(DJ17=Saisies!$C$7,MIN((ABS(Saisies!$E$4-DN16)),DQ17),DQ17)","v":""},{"$f":"IF(ISERROR((IF(DJ17>Saisies!$C$7,\"\",IF(ISERROR(IF(DJ17<Saisies!$B$7,\"\",DL17)*DR17),IF(DJ17<Saisies!$B$7,\"\",DL17),\"\")))*(IF(ISERROR(DS17+1),0,DS17))*DT17*DU17*DV17),\"\",(IF(DJ17>Saisies!$C$7,\"\",IF(ISERROR(IF(DJ17<Saisies!$B$7,\"\",DL17)*DR17),IF(DJ17<Saisies!$B$7,\"\",DL17),\"\")))*(IF(ISERROR(DS17+1),0,DS17))*DT17*DU17*DV17)","v":""},7,1,{"$f":"IF(DJ17>Saisies!$C$25,1,(IF(DJ17<Saisies!$B$25,1,IF(Saisies!$B$25=0,1,0))))","v":1},{"$f":"IF(DJ17>Saisies!$E$25,1,(IF(DJ17<Saisies!$D$25,1,IF(Saisies!$D$25=0,1,0))))","v":1},{"$f":"IF(DJ17>Saisies!$G$25,1,(IF(DJ17<Saisies!$F$25,1,IF(Saisies!$F$25<10,1,0))))","v":1},{"$f":"IF(DJ17>Saisies!$C$10,\"\",(IF(DJ17<Saisies!$B$10,\"\",DM17)))","v":""},{"$f":"IF(DJ17>Saisies!$E$10,\"\",(IF(DJ17<Saisies!$D$10,\"\",DM17)))","v":7},{"$f":"IF(DJ17>Saisies!$G$10,\"\",(IF(DJ17<Saisies!$F$10,\"\",DM17)))","v":""},"2016-09-05","L",7,7,464,{"$f":"IF(ED17>=Saisies!$E$4,(IF(EE16<=Saisies!$E$4,DZ17,EE16)),0)","v":0},{"$f":"IF(DZ17=Saisies!$C$7,MIN((ABS(Saisies!$E$4-ED16)),EG17),EG17)","v":7},{"$f":"IF(ISERROR((IF(DZ17>Saisies!$C$7,\"\",IF(ISERROR(IF(DZ17<Saisies!$B$7,\"\",EB17)*EH17),IF(DZ17<Saisies!$B$7,\"\",EB17),\"\")))*(IF(ISERROR(EI17+1),0,EI17))*EJ17*EK17*EL17),\"\",(IF(DZ17>Saisies!$C$7,\"\",IF(ISERROR(IF(DZ17<Saisies!$B$7,\"\",EB17)*EH17),IF(DZ17<Saisies!$B$7,\"\",EB17),\"\")))*(IF(ISERROR(EI17+1),0,EI17))*EJ17*EK17*EL17)","v":7},"",1,{"$f":"IF(DZ17>Saisies!$C$25,1,(IF(DZ17<Saisies!$B$25,1,IF(Saisies!$B$25=0,1,0))))","v":1},{"$f":"IF(DZ17>Saisies!$E$25,1,(IF(DZ17<Saisies!$D$25,1,IF(Saisies!$D$25=0,1,0))))","v":1},{"$f":"IF(DZ17>Saisies!$G$25,1,(IF(DZ17<Saisies!$F$25,1,IF(Saisies!$F$25<10,1,0))))","v":1},{"$f":"IF(DZ17>Saisies!$C$10,\"\",(IF(DZ17<Saisies!$B$10,\"\",EC17)))","v":""},{"$f":"IF(DZ17>Saisies!$E$10,\"\",(IF(DZ17<Saisies!$D$10,\"\",EC17)))","v":""},{"$f":"IF(DZ17>Saisies!$G$10,\"\",(IF(DZ17<Saisies!$F$10,\"\",EC17)))","v":""},"2016-10-05","M",8,7,492,{"$f":"IF(ET17>=Saisies!$E$4,(IF(EU16<=Saisies!$E$4,EP17,EU16)),0)","v":42622},{"$f":"IF(EP17=Saisies!$C$7,MIN((ABS(Saisies!$E$4-ET16)),EW17),EW17)","v":""},{"$f":"IF(ISERROR((IF(EP17>Saisies!$C$7,\"\",IF(ISERROR(IF(EP17<Saisies!$B$7,\"\",ER17)*EX17),IF(EP17<Saisies!$B$7,\"\",ER17),\"\")))*(IF(ISERROR(EY17+1),0,EY17))*EZ17*FA17*FB17),\"\",(IF(EP17>Saisies!$C$7,\"\",IF(ISERROR(IF(EP17<Saisies!$B$7,\"\",ER17)*EX17),IF(EP17<Saisies!$B$7,\"\",ER17),\"\")))*(IF(ISERROR(EY17+1),0,EY17))*EZ17*FA17*FB17)","v":""},"",1,{"$f":"IF(EP17>Saisies!$C$25,1,(IF(EP17<Saisies!$B$25,1,IF(Saisies!$B$25=0,1,0))))","v":1},{"$f":"IF(EP17>Saisies!$E$25,1,(IF(EP17<Saisies!$D$25,1,IF(Saisies!$D$25=0,1,0))))","v":1},{"$f":"IF(EP17>Saisies!$G$25,1,(IF(EP17<Saisies!$F$25,1,IF(Saisies!$F$25<10,1,0))))","v":1},{"$f":"IF(EP17>Saisies!$C$10,\"\",(IF(EP17<Saisies!$B$10,\"\",ES17)))","v":""},{"$f":"IF(EP17>Saisies!$E$10,\"\",(IF(EP17<Saisies!$D$10,\"\",ES17)))","v":""},{"$f":"IF(EP17>Saisies!$G$10,\"\",(IF(EP17<Saisies!$F$10,\"\",ES17)))","v":""},"2016-11-05","S",0,0,492,{"$f":"IF(FJ17>=Saisies!$E$4,(IF(FK16<=Saisies!$E$4,FF17,FK16)),0)","v":42622},{"$f":"IF(FF17=Saisies!$C$7,MIN((ABS(Saisies!$E$4-FJ16)),FM17),FM17)","v":""},{"$f":"IF(ISERROR((IF(FF17>Saisies!$C$7,\"\",IF(ISERROR(IF(FF17<Saisies!$B$7,\"\",FH17)*FN17),IF(FF17<Saisies!$B$7,\"\",FH17),\"\")))*(IF(ISERROR(FO17+1),0,FO17))*FP17*FQ17*FR17),\"\",(IF(FF17>Saisies!$C$7,\"\",IF(ISERROR(IF(FF17<Saisies!$B$7,\"\",FH17)*FN17),IF(FF17<Saisies!$B$7,\"\",FH17),\"\")))*(IF(ISERROR(FO17+1),0,FO17))*FP17*FQ17*FR17)","v":""},"",1,{"$f":"IF(FF17>Saisies!$C$25,1,(IF(FF17<Saisies!$B$25,1,IF(Saisies!$B$25=0,1,0))))","v":1},{"$f":"IF(FF17>Saisies!$E$25,1,(IF(FF17<Saisies!$D$25,1,IF(Saisies!$D$25=0,1,0))))","v":1},{"$f":"IF(FF17>Saisies!$G$25,1,(IF(FF17<Saisies!$F$25,1,IF(Saisies!$F$25<10,1,0))))","v":1},{"$f":"IF(FF17>Saisies!$C$10,\"\",(IF(FF17<Saisies!$B$10,\"\",FI17)))","v":""},{"$f":"IF(FF17>Saisies!$E$10,\"\",(IF(FF17<Saisies!$D$10,\"\",FI17)))","v":""},{"$f":"IF(FF17>Saisies!$G$10,\"\",(IF(FF17<Saisies!$F$10,\"\",FI17)))","v":""},"2016-12-05","L",7,7,492,{"$f":"IF(FZ17>=Saisies!$E$4,(IF(GA16<=Saisies!$E$4,FV17,GA16)),0)","v":42622},{"$f":"IF(FV17=Saisies!$C$7,MIN((ABS(Saisies!$E$4-FZ16)),GC17),GC17)","v":""},{"$f":"IF(ISERROR((IF(FV17>Saisies!$C$7,\"\",IF(ISERROR(IF(FV17<Saisies!$B$7,\"\",FX17)*GD17),IF(FV17<Saisies!$B$7,\"\",FX17),\"\")))*(IF(ISERROR(GE17+1),0,GE17))*GF17*GG17*GH17),\"\",(IF(FV17>Saisies!$C$7,\"\",IF(ISERROR(IF(FV17<Saisies!$B$7,\"\",FX17)*GD17),IF(FV17<Saisies!$B$7,\"\",FX17),\"\")))*(IF(ISERROR(GE17+1),0,GE17))*GF17*GG17*GH17)","v":""},"",1,{"$f":"IF(FV17>Saisies!$C$25,1,(IF(FV17<Saisies!$B$25,1,IF(Saisies!$B$25=0,1,0))))","v":1},{"$f":"IF(FV17>Saisies!$E$25,1,(IF(FV17<Saisies!$D$25,1,IF(Saisies!$D$25=0,1,0))))","v":1},{"$f":"IF(FV17>Saisies!$G$25,1,(IF(FV17<Saisies!$F$25,1,IF(Saisies!$F$25<10,1,0))))","v":1},{"$f":"IF(FV17>Saisies!$C$10,\"\",(IF(FV17<Saisies!$B$10,\"\",FY17)))","v":""},{"$f":"IF(FV17>Saisies!$E$10,\"\",(IF(FV17<Saisies!$D$10,\"\",FY17)))","v":""},{"$f":"IF(FV17>Saisies!$G$10,\"\",(IF(FV17<Saisies!$F$10,\"\",FY17)))","v":""},null,null,null,null,null,null,null,null,null,null,null,"MA",{"$f":"Saisies!D16","v":7}]
[null,"2016-01-06","M",8,7,0,{"$f":"IF(MAX(F18,(F17+D18))>=Saisies!$E$4,(IF(F17<=Saisies!$E$4,B18,G17)),0)","v":0},{"$f":"IF(B18=Saisies!$C$7,MIN((ABS(Saisies!$E$4-F17)),I18),I18)","v":""},{"$f":"IF(ISERROR((IF(B18>Saisies!$C$7,\"\",IF(ISERROR(IF(B18<Saisies!$B$7,\"\",D18)*J18),IF(B18<Saisies!$B$7,\"\",D18),\"\")))*(IF(ISERROR(K18+1),0,K18))*L18*M18*N18),\"\",(IF(B18>Saisies!$C$7,\"\",IF(ISERROR(IF(B18<Saisies!$B$7,\"\",D18)*J18),IF(B18<Saisies!$B$7,\"\",D18),\"\")))*(IF(ISERROR(K18+1),0,K18))*L18*M18*N18)","v":""},"",1,{"$f":"IF(B18>Saisies!$C$25,1,(IF(B18<Saisies!$B$25,1,IF(Saisies!$B$25=0,1,0))))","v":1},{"$f":"IF(B18>Saisies!$E$25,1,(IF(B18<Saisies!$D$25,1,IF(Saisies!$D$25=0,1,0))))","v":1},{"$f":"IF(B18>Saisies!$G$25,1,(IF(B18<Saisies!$F$25,1,IF(Saisies!$F$25<10,1,0))))","v":1},{"$f":"IF(B18>Saisies!$C$10,\"\",(IF(B18<Saisies!$B$10,\"\",E18)))","v":""},{"$f":"IF(B18>Saisies!$E$10,\"\",(IF(B18<Saisies!$D$10,\"\",E18)))","v":""},{"$f":"IF(B18>Saisies!$G$10,\"\",(IF(B18<Saisies!$F$10,\"\",E18)))","v":""},"2016-02-06","S",0,0,0,{"$f":"IF(MAX(V18,(V17+T18))>=Saisies!$E$4,(IF(V17<=Saisies!$E$4,R18,W17)),0)","v":0},{"$f":"IF(R18=Saisies!$C$7,MIN((ABS(Saisies!$E$4-V17)),Y18),Y18)","v":""},{"$f":"IF(ISERROR((IF(R18>Saisies!$C$7,\"\",IF(ISERROR(IF(R18<Saisies!$B$7,\"\",T18)*Z18),IF(R18<Saisies!$B$7,\"\",T18),\"\")))*(IF(ISERROR(AA18+1),0,AA18))*AB18*AC18*AD18),\"\",(IF(R18>Saisies!$C$7,\"\",IF(ISERROR(IF(R18<Saisies!$B$7,\"\",T18)*Z18),IF(R18<Saisies!$B$7,\"\",T18),\"\")))*(IF(ISERROR(AA18+1),0,AA18))*AB18*AC18*AD18)","v":""},"",1,{"$f":"IF(R18>Saisies!$C$25,1,(IF(R18<Saisies!$B$25,1,IF(Saisies!$B$25=0,1,0))))","v":1},{"$f":"IF(R18>Saisies!$E$25,1,(IF(R18<Saisies!$D$25,1,IF(Saisies!$D$25=0,1,0))))","v":1},{"$f":"IF(R18>Saisies!$G$25,1,(IF(R18<Saisies!$F$25,1,IF(Saisies!$F$25<10,1,0))))","v":1},{"$f":"IF(R18>Saisies!$C$10,\"\",(IF(R18<Saisies!$B$10,\"\",U18)))","v":""},{"$f":"IF(R18>Saisies!$E$10,\"\",(IF(R18<Saisies!$D$10,\"\",U18)))","v":""},{"$f":"IF(R18>Saisies!$G$10,\"\",(IF(R18<Saisies!$F$10,\"\",U18)))","v":""},"2016-03-06","D",0,0,0,{"$f":"IF(MAX(AL18,(AL17+AJ18))>=Saisies!$E$4,(IF(AL17<=Saisies!$E$4,AH18,AM17)),0)","v":0},{"$f":"IF(AH18=Saisies!$C$7,MIN((ABS(Saisies!$E$4-AL17)),AO18),AO18)","v":""},{"$f":"IF(ISERROR((IF(AH18>Saisies!$C$7,\"\",IF(ISERROR(IF(AH18<Saisies!$B$7,\"\",AJ18)*AP18),IF(AH18<Saisies!$B$7,\"\",AJ18),\"\")))*(IF(ISERROR(AQ18+1),0,AQ18))*AR18*AS18*AT18),\"\",(IF(AH18>Saisies!$C$7,\"\",IF(ISERROR(IF(AH18<Saisies!$B$7,\"\",AJ18)*AP18),IF(AH18<Saisies!$B$7,\"\",AJ18),\"\")))*(IF(ISERROR(AQ18+1),0,AQ18))*AR18*AS18*AT18)","v":""},"",1,{"$f":"IF(AH18>Saisies!$C$25,1,(IF(AH18<Saisies!$B$25,1,IF(Saisies!$B$25=0,1,0))))","v":1},{"$f":"IF(AH18>Saisies!$E$25,1,(IF(AH18<Saisies!$D$25,1,IF(Saisies!$D$25=0,1,0))))","v":1},{"$f":"IF(AH18>Saisies!$G$25,1,(IF(AH18<Saisies!$F$25,1,IF(Saisies!$F$25<10,1,0))))","v":1},{"$f":"IF(AH18>Saisies!$C$10,\"\",(IF(AH18<Saisies!$B$10,\"\",AK18)))","v":""},{"$f":"IF(AH18>Saisies!$E$10,\"\",(IF(AH18<Saisies!$D$10,\"\",AK18)))","v":""},{"$f":"IF(AH18>Saisies!$G$10,\"\",(IF(AH18<Saisies!$F$10,\"\",AK18)))","v":""},"2016-04-06","M",8,7,0,{"$f":"IF(BB18>=Saisies!$E$4,(IF(BC17<=Saisies!$E$4,AX18,BC17)),0)","v":0},{"$f":"IF(AX18=Saisies!$C$7,MIN((ABS(Saisies!$E$4-BB17)),BE18),BE18)","v":""},{"$f":"IF(ISERROR((IF(AX18>Saisies!$C$7,\"\",IF(ISERROR(IF(AX18<Saisies!$B$7,\"\",AZ18)*BF18),IF(AX18<Saisies!$B$7,\"\",AZ18),\"\")))*(IF(ISERROR(BG18+1),0,BG18))*BH18*BI18*BJ18),\"\",(IF(AX18>Saisies!$C$7,\"\",IF(ISERROR(IF(AX18<Saisies!$B$7,\"\",AZ18)*BF18),IF(AX18<Saisies!$B$7,\"\",AZ18),\"\")))*(IF(ISERROR(BG18+1),0,BG18))*BH18*BI18*BJ18)","v":""},"",1,{"$f":"IF(AX18>Saisies!$C$25,1,(IF(AX18<Saisies!$B$25,1,IF(Saisies!$B$25=0,1,0))))","v":1},{"$f":"IF(AX18>Saisies!$E$25,1,(IF(AX18<Saisies!$D$25,1,IF(Saisies!$D$25=0,1,0))))","v":1},{"$f":"IF(AX18>Saisies!$G$25,1,(IF(AX18<Saisies!$F$25,1,IF(Saisies!$F$25<10,1,0))))","v":1},{"$f":"IF(AX18>Saisies!$C$10,\"\",(IF(AX18<Saisies!$B$10,\"\",BA18)))","v":""},{"$f":"IF(AX18>Saisies!$E$10,\"\",(IF(AX18<Saisies!$D$10,\"\",BA18)))","v":""},{"$f":"IF(AX18>Saisies!$G$10,\"\",(IF(AX18<Saisies!$F$10,\"\",BA18)))","v":""},"2016-05-06","V",4,7,0,{"$f":"IF(MAX(BR18,(BR17+BP18))>=Saisies!$E$4,(IF(BR17<=Saisies!$E$4,BN18,BS17)),0)","v":0},{"$f":"IF(BN18=Saisies!$C$7,MIN((ABS(Saisies!$E$4-BR17)),BU18),BU18)","v":""},{"$f":"IF(ISERROR((IF(BN18>Saisies!$C$7,\"\",IF(ISERROR(IF(BN18<Saisies!$B$7,\"\",BP18)*BV18),IF(BN18<Saisies!$B$7,\"\",BP18),\"\")))*(IF(ISERROR(BW18+1),0,BW18))*BX18*BY18*BZ18),\"\",(IF(BN18>Saisies!$C$7,\"\",IF(ISERROR(IF(BN18<Saisies!$B$7,\"\",BP18)*BV18),IF(BN18<Saisies!$B$7,\"\",BP18),\"\")))*(IF(ISERROR(BW18+1),0,BW18))*BX18*BY18*BZ18)","v":""},"","R",{"$f":"IF(BN18>Saisies!$C$25,1,(IF(BN18<Saisies!$B$25,1,IF(Saisies!$B$25=0,1,0))))","v":1},{"$f":"IF(BN18>Saisies!$E$25,1,(IF(BN18<Saisies!$D$25,1,IF(Saisies!$D$25=0,1,0))))","v":1},{"$f":"IF(BN18>Saisies!$G$25,1,(IF(BN18<Saisies!$F$25,1,IF(Saisies!$F$25<10,1,0))))","v":1},{"$f":"IF(BN18>Saisies!$C$10,\"\",(IF(BN18<Saisies!$B$10,\"\",BQ18)))","v":""},{"$f":"IF(BN18>Saisies!$E$10,\"\",(IF(BN18<Saisies!$D$10,\"\",BQ18)))","v":""},{"$f":"IF(BN18>Saisies!$G$10,\"\",(IF(BN18<Saisies!$F$10,\"\",BQ18)))","v":""},"2016-06-06","L",7,7,27,{"$f":"IF(MAX(CH18,(CH17+CF18))>=Saisies!$E$4,(IF(CH17<=Saisies!$E$4,CD18,CI17)),0)","v":0},{"$f":"IF(CD18=Saisies!$C$7,MIN((ABS(Saisies!$E$4-CH17)),CK18),CK18)","v":7},{"$f":"IF(ISERROR((IF(CD18>Saisies!$C$7,\"\",IF(ISERROR(IF(CD18<Saisies!$B$7,\"\",CF18)*CL18),IF(CD18<Saisies!$B$7,\"\",CF18),\"\")))*(IF(ISERROR(CM18+1),0,CM18))*CN18*CO18*CP18),\"\",(IF(CD18>Saisies!$C$7,\"\",IF(ISERROR(IF(CD18<Saisies!$B$7,\"\",CF18)*CL18),IF(CD18<Saisies!$B$7,\"\",CF18),\"\")))*(IF(ISERROR(CM18+1),0,CM18))*CN18*CO18*CP18)","v":7},"",1,{"$f":"IF(CD18>Saisies!$C$25,1,(IF(CD18<Saisies!$B$25,1,IF(Saisies!$B$25=0,1,0))))","v":1},{"$f":"IF(CD18>Saisies!$E$25,1,(IF(CD18<Saisies!$D$25,1,IF(Saisies!$D$25=0,1,0))))","v":1},{"$f":"IF(CD18>Saisies!$G$25,1,(IF(CD18<Saisies!$F$25,1,IF(Saisies!$F$25<10,1,0))))","v":1},{"$f":"IF(CD18>Saisies!$C$10,\"\",(IF(CD18<Saisies!$B$10,\"\",CG18)))","v":""},{"$f":"IF(CD18>Saisies!$E$10,\"\",(IF(CD18<Saisies!$D$10,\"\",CG18)))","v":""},{"$f":"IF(CD18>Saisies!$G$10,\"\",(IF(CD18<Saisies!$F$10,\"\",CG18)))","v":""},"2016-07-06","M",8,7,181,{"$f":"IF(MAX(CX18,(CX17+CV18))>=Saisies!$E$4,(IF(CX17<=Saisies!$E$4,CT18,CY17)),0)","v":0},{"$f":"IF(CT18=Saisies!$C$7,MIN((ABS(Saisies!$E$4-CX17)),DA18),DA18)","v":""},{"$f":"IF(ISERROR((IF(CT18>Saisies!$C$7,\"\",IF(ISERROR(IF(CT18<Saisies!$B$7,\"\",CV18)*DB18),IF(CT18<Saisies!$B$7,\"\",CV18),\"\")))*(IF(ISERROR(DC18+1),0,DC18))*DD18*DE18*DF18),\"\",(IF(CT18>Saisies!$C$7,\"\",IF(ISERROR(IF(CT18<Saisies!$B$7,\"\",CV18)*DB18),IF(CT18<Saisies!$B$7,\"\",CV18),\"\")))*(IF(ISERROR(DC18+1),0,DC18))*DD18*DE18*DF18)","v":""},7,1,{"$f":"IF(CT18>Saisies!$C$25,1,(IF(CT18<Saisies!$B$25,1,IF(Saisies!$B$25=0,1,0))))","v":1},{"$f":"IF(CT18>Saisies!$E$25,1,(IF(CT18<Saisies!$D$25,1,IF(Saisies!$D$25=0,1,0))))","v":1},{"$f":"IF(CT18>Saisies!$G$25,1,(IF(CT18<Saisies!$F$25,1,IF(Saisies!$F$25<10,1,0))))","v":1},{"$f":"IF(CT18>Saisies!$C$10,\"\",(IF(CT18<Saisies!$B$10,\"\",CW18)))","v":7},{"$f":"IF(CT18>Saisies!$E$10,\"\",(IF(CT18<Saisies!$D$10,\"\",CW18)))","v":""},{"$f":"IF(CT18>Saisies!$G$10,\"\",(IF(CT18<Saisies!$F$10,\"\",CW18)))","v":""},"2016-08-06","S",0,0,324,{"$f":"IF(DN18>=Saisies!$E$4,(IF(DO17<=Saisies!$E$4,DJ18,DO17)),0)","v":0},{"$f":"IF(DJ18=Saisies!$C$7,MIN((ABS(Saisies!$E$4-DN17)),DQ18),DQ18)","v":0},{"$f":"IF(ISERROR((IF(DJ18>Saisies!$C$7,\"\",IF(ISERROR(IF(DJ18<Saisies!$B$7,\"\",DL18)*DR18),IF(DJ18<Saisies!$B$7,\"\",DL18),\"\")))*(IF(ISERROR(DS18+1),0,DS18))*DT18*DU18*DV18),\"\",(IF(DJ18>Saisies!$C$7,\"\",IF(ISERROR(IF(DJ18<Saisies!$B$7,\"\",DL18)*DR18),IF(DJ18<Saisies!$B$7,\"\",DL18),\"\")))*(IF(ISERROR(DS18+1),0,DS18))*DT18*DU18*DV18)","v":0},"",1,{"$f":"IF(DJ18>Saisies!$C$25,1,(IF(DJ18<Saisies!$B$25,1,IF(Saisies!$B$25=0,1,0))))","v":1},{"$f":"IF(DJ18>Saisies!$E$25,1,(IF(DJ18<Saisies!$D$25,1,IF(Saisies!$D$25=0,1,0))))","v":1},{"$f":"IF(DJ18>Saisies!$G$25,1,(IF(DJ18<Saisies!$F$25,1,IF(Saisies!$F$25<10,1,0))))","v":1},{"$f":"IF(DJ18>Saisies!$C$10,\"\",(IF(DJ18<Saisies!$B$10,\"\",DM18)))","v":""},{"$f":"IF(DJ18>Saisies!$E$10,\"\",(IF(DJ18<Saisies!$D$10,\"\",DM18)))","v":0},{"$f":"IF(DJ18>Saisies!$G$10,\"\",(IF(DJ18<Saisies!$F$10,\"\",DM18)))","v":""},"2016-09-06","M",8,7,472,{"$f":"IF(ED18>=Saisies!$E$4,(IF(EE17<=Saisies!$E$4,DZ18,EE17)),0)","v":0},{"$f":"IF(DZ18=Saisies!$C$7,MIN((ABS(Saisies!$E$4-ED17)),EG18),EG18)","v":8},{"$f":"IF(ISERROR((IF(DZ18>Saisies!$C$7,\"\",IF(ISERROR(IF(DZ18<Saisies!$B$7,\"\",EB18)*EH18),IF(DZ18<Saisies!$B$7,\"\",EB18),\"\")))*(IF(ISERROR(EI18+1),0,EI18))*EJ18*EK18*EL18),\"\",(IF(DZ18>Saisies!$C$7,\"\",IF(ISERROR(IF(DZ18<Saisies!$B$7,\"\",EB18)*EH18),IF(DZ18<Saisies!$B$7,\"\",EB18),\"\")))*(IF(ISERROR(EI18+1),0,EI18))*EJ18*EK18*EL18)","v":8},"",1,{"$f":"IF(DZ18>Saisies!$C$25,1,(IF(DZ18<Saisies!$B$25,1,IF(Saisies!$B$25=0,1,0))))","v":1},{"$f":"IF(DZ18>Saisies!$E$25,1,(IF(DZ18<Saisies!$D$25,1,IF(Saisies!$D$25=0,1,0))))","v":1},{"$f":"IF(DZ18>Saisies!$G$25,1,(IF(DZ18<Saisies!$F$25,1,IF(Saisies!$F$25<10,1,0))))","v":1},{"$f":"IF(DZ18>Saisies!$C$10,\"\",(IF(DZ18<Saisies!$B$10,\"\",EC18)))","v":""},{"$f":"IF(DZ18>Saisies!$E$10,\"\",(IF(DZ18<Saisies!$D$10,\"\",EC18)))","v":""},{"$f":"IF(DZ18>Saisies!$G$10,\"\",(IF(DZ18<Saisies!$F$10,\"\",EC18)))","v":""},"2016-10-06","J",8,7,492,{"$f":"IF(ET18>=Saisies!$E$4,(IF(EU17<=Saisies!$E$4,EP18,EU17)),0)","v":42622},{"$f":"IF(EP18=Saisies!$C$7,MIN((ABS(Saisies!$E$4-ET17)),EW18),EW18)","v":""},{"$f":"IF(ISERROR((IF(EP18>Saisies!$C$7,\"\",IF(ISERROR(IF(EP18<Saisies!$B$7,\"\",ER18)*EX18),IF(EP18<Saisies!$B$7,\"\",ER18),\"\")))*(IF(ISERROR(EY18+1),0,EY18))*EZ18*FA18*FB18),\"\",(IF(EP18>Saisies!$C$7,\"\",IF(ISERROR(IF(EP18<Saisies!$B$7,\"\",ER18)*EX18),IF(EP18<Saisies!$B$7,\"\",ER18),\"\")))*(IF(ISERROR(EY18+1),0,EY18))*EZ18*FA18*FB18)","v":""},"",1,{"$f":"IF(EP18>Saisies!$C$25,1,(IF(EP18<Saisies!$B$25,1,IF(Saisies!$B$25=0,1,0))))","v":1},{"$f":"IF(EP18>Saisies!$E$25,1,(IF(EP18<Saisies!$D$25,1,IF(Saisies!$D$25=0,1,0))))","v":1},{"$f":"IF(EP18>Saisies!$G$25,1,(IF(EP18<Saisies!$F$25,1,IF(Saisies!$F$25<10,1,0))))","v":1},{"$f":"IF(EP18>Saisies!$C$10,\"\",(IF(EP18<Saisies!$B$10,\"\",ES18)))","v":""},{"$f":"IF(EP18>Saisies!$E$10,\"\",(IF(EP18<Saisies!$D$10,\"\",ES18)))","v":""},{"$f":"IF(EP18>Saisies!$G$10,\"\",(IF(EP18<Saisies!$F$10,\"\",ES18)))","v":""},"2016-11-06","D",0,0,492,{"$f":"IF(FJ18>=Saisies!$E$4,(IF(FK17<=Saisies!$E$4,FF18,FK17)),0)","v":42622},{"$f":"IF(FF18=Saisies!$C$7,MIN((ABS(Saisies!$E$4-FJ17)),FM18),FM18)","v":""},{"$f":"IF(ISERROR((IF(FF18>Saisies!$C$7,\"\",IF(ISERROR(IF(FF18<Saisies!$B$7,\"\",FH18)*FN18),IF(FF18<Saisies!$B$7,\"\",FH18),\"\")))*(IF(ISERROR(FO18+1),0,FO18))*FP18*FQ18*FR18),\"\",(IF(FF18>Saisies!$C$7,\"\",IF(ISERROR(IF(FF18<Saisies!$B$7,\"\",FH18)*FN18),IF(FF18<Saisies!$B$7,\"\",FH18),\"\")))*(IF(ISERROR(FO18+1),0,FO18))*FP18*FQ18*FR18)","v":""},"",1,{"$f":"IF(FF18>Saisies!$C$25,1,(IF(FF18<Saisies!$B$25,1,IF(Saisies!$B$25=0,1,0))))","v":1},{"$f":"IF(FF18>Saisies!$E$25,1,(IF(FF18<Saisies!$D$25,1,IF(Saisies!$D$25=0,1,0))))","v":1},{"$f":"IF(FF18>Saisies!$G$25,1,(IF(FF18<Saisies!$F$25,1,IF(Saisies!$F$25<10,1,0))))","v":1},{"$f":"IF(FF18>Saisies!$C$10,\"\",(IF(FF18<Saisies!$B$10,\"\",FI18)))","v":""},{"$f":"IF(FF18>Saisies!$E$10,\"\",(IF(FF18<Saisies!$D$10,\"\",FI18)))","v":""},{"$f":"IF(FF18>Saisies!$G$10,\"\",(IF(FF18<Saisies!$F$10,\"\",FI18)))","v":""},"2016-12-06","M",8,7,492,{"$f":"IF(FZ18>=Saisies!$E$4,(IF(GA17<=Saisies!$E$4,FV18,GA17)),0)","v":42622},{"$f":"IF(FV18=Saisies!$C$7,MIN((ABS(Saisies!$E$4-FZ17)),GC18),GC18)","v":""},{"$f":"IF(ISERROR((IF(FV18>Saisies!$C$7,\"\",IF(ISERROR(IF(FV18<Saisies!$B$7,\"\",FX18)*GD18),IF(FV18<Saisies!$B$7,\"\",FX18),\"\")))*(IF(ISERROR(GE18+1),0,GE18))*GF18*GG18*GH18),\"\",(IF(FV18>Saisies!$C$7,\"\",IF(ISERROR(IF(FV18<Saisies!$B$7,\"\",FX18)*GD18),IF(FV18<Saisies!$B$7,\"\",FX18),\"\")))*(IF(ISERROR(GE18+1),0,GE18))*GF18*GG18*GH18)","v":""},"",1,{"$f":"IF(FV18>Saisies!$C$25,1,(IF(FV18<Saisies!$B$25,1,IF(Saisies!$B$25=0,1,0))))","v":1},{"$f":"IF(FV18>Saisies!$E$25,1,(IF(FV18<Saisies!$D$25,1,IF(Saisies!$D$25=0,1,0))))","v":1},{"$f":"IF(FV18>Saisies!$G$25,1,(IF(FV18<Saisies!$F$25,1,IF(Saisies!$F$25<10,1,0))))","v":1},{"$f":"IF(FV18>Saisies!$C$10,\"\",(IF(FV18<Saisies!$B$10,\"\",FY18)))","v":""},{"$f":"IF(FV18>Saisies!$E$10,\"\",(IF(FV18<Saisies!$D$10,\"\",FY18)))","v":""},{"$f":"IF(FV18>Saisies!$G$10,\"\",(IF(FV18<Saisies!$F$10,\"\",FY18)))","v":""},null,null,null,null,null,null,null,null,null,null,null,"ME",{"$f":"Saisies!D17","v":7}]
[null,"2016-01-07","J",8,7,0,{"$f":"IF(MAX(F19,(F18+D19))>=Saisies!$E$4,(IF(F18<=Saisies!$E$4,B19,G18)),0)","v":0},{"$f":"IF(B19=Saisies!$C$7,MIN((ABS(Saisies!$E$4-F18)),I19),I19)","v":""},{"$f":"IF(ISERROR((IF(B19>Saisies!$C$7,\"\",IF(ISERROR(IF(B19<Saisies!$B$7,\"\",D19)*J19),IF(B19<Saisies!$B$7,\"\",D19),\"\")))*(IF(ISERROR(K19+1),0,K19))*L19*M19*N19),\"\",(IF(B19>Saisies!$C$7,\"\",IF(ISERROR(IF(B19<Saisies!$B$7,\"\",D19)*J19),IF(B19<Saisies!$B$7,\"\",D19),\"\")))*(IF(ISERROR(K19+1),0,K19))*L19*M19*N19)","v":""},"",1,{"$f":"IF(B19>Saisies!$C$25,1,(IF(B19<Saisies!$B$25,1,IF(Saisies!$B$25=0,1,0))))","v":1},{"$f":"IF(B19>Saisies!$E$25,1,(IF(B19<Saisies!$D$25,1,IF(Saisies!$D$25=0,1,0))))","v":1},{"$f":"IF(B19>Saisies!$G$25,1,(IF(B19<Saisies!$F$25,1,IF(Saisies!$F$25<10,1,0))))","v":1},{"$f":"IF(B19>Saisies!$C$10,\"\",(IF(B19<Saisies!$B$10,\"\",E19)))","v":""},{"$f":"IF(B19>Saisies!$E$10,\"\",(IF(B19<Saisies!$D$10,\"\",E19)))","v":""},{"$f":"IF(B19>Saisies!$G$10,\"\",(IF(B19<Saisies!$F$10,\"\",E19)))","v":""},"2016-02-07","D",0,0,0,{"$f":"IF(MAX(V19,(V18+T19))>=Saisies!$E$4,(IF(V18<=Saisies!$E$4,R19,W18)),0)","v":0},{"$f":"IF(R19=Saisies!$C$7,MIN((ABS(Saisies!$E$4-V18)),Y19),Y19)","v":""},{"$f":"IF(ISERROR((IF(R19>Saisies!$C$7,\"\",IF(ISERROR(IF(R19<Saisies!$B$7,\"\",T19)*Z19),IF(R19<Saisies!$B$7,\"\",T19),\"\")))*(IF(ISERROR(AA19+1),0,AA19))*AB19*AC19*AD19),\"\",(IF(R19>Saisies!$C$7,\"\",IF(ISERROR(IF(R19<Saisies!$B$7,\"\",T19)*Z19),IF(R19<Saisies!$B$7,\"\",T19),\"\")))*(IF(ISERROR(AA19+1),0,AA19))*AB19*AC19*AD19)","v":""},"",1,{"$f":"IF(R19>Saisies!$C$25,1,(IF(R19<Saisies!$B$25,1,IF(Saisies!$B$25=0,1,0))))","v":1},{"$f":"IF(R19>Saisies!$E$25,1,(IF(R19<Saisies!$D$25,1,IF(Saisies!$D$25=0,1,0))))","v":1},{"$f":"IF(R19>Saisies!$G$25,1,(IF(R19<Saisies!$F$25,1,IF(Saisies!$F$25<10,1,0))))","v":1},{"$f":"IF(R19>Saisies!$C$10,\"\",(IF(R19<Saisies!$B$10,\"\",U19)))","v":""},{"$f":"IF(R19>Saisies!$E$10,\"\",(IF(R19<Saisies!$D$10,\"\",U19)))","v":""},{"$f":"IF(R19>Saisies!$G$10,\"\",(IF(R19<Saisies!$F$10,\"\",U19)))","v":""},"2016-03-07","L",7,7,0,{"$f":"IF(MAX(AL19,(AL18+AJ19))>=Saisies!$E$4,(IF(AL18<=Saisies!$E$4,AH19,AM18)),0)","v":0},{"$f":"IF(AH19=Saisies!$C$7,MIN((ABS(Saisies!$E$4-AL18)),AO19),AO19)","v":""},{"$f":"IF(ISERROR((IF(AH19>Saisies!$C$7,\"\",IF(ISERROR(IF(AH19<Saisies!$B$7,\"\",AJ19)*AP19),IF(AH19<Saisies!$B$7,\"\",AJ19),\"\")))*(IF(ISERROR(AQ19+1),0,AQ19))*AR19*AS19*AT19),\"\",(IF(AH19>Saisies!$C$7,\"\",IF(ISERROR(IF(AH19<Saisies!$B$7,\"\",AJ19)*AP19),IF(AH19<Saisies!$B$7,\"\",AJ19),\"\")))*(IF(ISERROR(AQ19+1),0,AQ19))*AR19*AS19*AT19)","v":""},"",1,{"$f":"IF(AH19>Saisies!$C$25,1,(IF(AH19<Saisies!$B$25,1,IF(Saisies!$B$25=0,1,0))))","v":1},{"$f":"IF(AH19>Saisies!$E$25,1,(IF(AH19<Saisies!$D$25,1,IF(Saisies!$D$25=0,1,0))))","v":1},{"$f":"IF(AH19>Saisies!$G$25,1,(IF(AH19<Saisies!$F$25,1,IF(Saisies!$F$25<10,1,0))))","v":1},{"$f":"IF(AH19>Saisies!$C$10,\"\",(IF(AH19<Saisies!$B$10,\"\",AK19)))","v":""},{"$f":"IF(AH19>Saisies!$E$10,\"\",(IF(AH19<Saisies!$D$10,\"\",AK19)))","v":""},{"$f":"IF(AH19>Saisies!$G$10,\"\",(IF(AH19<Saisies!$F$10,\"\",AK19)))","v":""},"2016-04-07","J",8,7,0,{"$f":"IF(BB19>=Saisies!$E$4,(IF(BC18<=Saisies!$E$4,AX19,BC18)),0)","v":0},{"$f":"IF(AX19=Saisies!$C$7,MIN((ABS(Saisies!$E$4-BB18)),BE19),BE19)","v":""},{"$f":"IF(ISERROR((IF(AX19>Saisies!$C$7,\"\",IF(ISERROR(IF(AX19<Saisies!$B$7,\"\",AZ19)*BF19),IF(AX19<Saisies!$B$7,\"\",AZ19),\"\")))*(IF(ISERROR(BG19+1),0,BG19))*BH19*BI19*BJ19),\"\",(IF(AX19>Saisies!$C$7,\"\",IF(ISERROR(IF(AX19<Saisies!$B$7,\"\",AZ19)*BF19),IF(AX19<Saisies!$B$7,\"\",AZ19),\"\")))*(IF(ISERROR(BG19+1),0,BG19))*BH19*BI19*BJ19)","v":""},"",1,{"$f":"IF(AX19>Saisies!$C$25,1,(IF(AX19<Saisies!$B$25,1,IF(Saisies!$B$25=0,1,0))))","v":1},{"$f":"IF(AX19>Saisies!$E$25,1,(IF(AX19<Saisies!$D$25,1,IF(Saisies!$D$25=0,1,0))))","v":1},{"$f":"IF(AX19>Saisies!$G$25,1,(IF(AX19<Saisies!$F$25,1,IF(Saisies!$F$25<10,1,0))))","v":1},{"$f":"IF(AX19>Saisies!$C$10,\"\",(IF(AX19<Saisies!$B$10,\"\",BA19)))","v":""},{"$f":"IF(AX19>Saisies!$E$10,\"\",(IF(AX19<Saisies!$D$10,\"\",BA19)))","v":""},{"$f":"IF(AX19>Saisies!$G$10,\"\",(IF(AX19<Saisies!$F$10,\"\",BA19)))","v":""},"2016-05-07","S",0,0,0,{"$f":"IF(MAX(BR19,(BR18+BP19))>=Saisies!$E$4,(IF(BR18<=Saisies!$E$4,BN19,BS18)),0)","v":0},{"$f":"IF(BN19=Saisies!$C$7,MIN((ABS(Saisies!$E$4-BR18)),BU19),BU19)","v":""},{"$f":"IF(ISERROR((IF(BN19>Saisies!$C$7,\"\",IF(ISERROR(IF(BN19<Saisies!$B$7,\"\",BP19)*BV19),IF(BN19<Saisies!$B$7,\"\",BP19),\"\")))*(IF(ISERROR(BW19+1),0,BW19))*BX19*BY19*BZ19),\"\",(IF(BN19>Saisies!$C$7,\"\",IF(ISERROR(IF(BN19<Saisies!$B$7,\"\",BP19)*BV19),IF(BN19<Saisies!$B$7,\"\",BP19),\"\")))*(IF(ISERROR(BW19+1),0,BW19))*BX19*BY19*BZ19)","v":""},"",1,{"$f":"IF(BN19>Saisies!$C$25,1,(IF(BN19<Saisies!$B$25,1,IF(Saisies!$B$25=0,1,0))))","v":1},{"$f":"IF(BN19>Saisies!$E$25,1,(IF(BN19<Saisies!$D$25,1,IF(Saisies!$D$25=0,1,0))))","v":1},{"$f":"IF(BN19>Saisies!$G$25,1,(IF(BN19<Saisies!$F$25,1,IF(Saisies!$F$25<10,1,0))))","v":1},{"$f":"IF(BN19>Saisies!$C$10,\"\",(IF(BN19<Saisies!$B$10,\"\",BQ19)))","v":""},{"$f":"IF(BN19>Saisies!$E$10,\"\",(IF(BN19<Saisies!$D$10,\"\",BQ19)))","v":""},{"$f":"IF(BN19>Saisies!$G$10,\"\",(IF(BN19<Saisies!$F$10,\"\",BQ19)))","v":""},"2016-06-07","M",8,7,35,{"$f":"IF(MAX(CH19,(CH18+CF19))>=Saisies!$E$4,(IF(CH18<=Saisies!$E$4,CD19,CI18)),0)","v":0},{"$f":"IF(CD19=Saisies!$C$7,MIN((ABS(Saisies!$E$4-CH18)),CK19),CK19)","v":8},{"$f":"IF(ISERROR((IF(CD19>Saisies!$C$7,\"\",IF(ISERROR(IF(CD19<Saisies!$B$7,\"\",CF19)*CL19),IF(CD19<Saisies!$B$7,\"\",CF19),\"\")))*(IF(ISERROR(CM19+1),0,CM19))*CN19*CO19*CP19),\"\",(IF(CD19>Saisies!$C$7,\"\",IF(ISERROR(IF(CD19<Saisies!$B$7,\"\",CF19)*CL19),IF(CD19<Saisies!$B$7,\"\",CF19),\"\")))*(IF(ISERROR(CM19+1),0,CM19))*CN19*CO19*CP19)","v":8},"",1,{"$f":"IF(CD19>Saisies!$C$25,1,(IF(CD19<Saisies!$B$25,1,IF(Saisies!$B$25=0,1,0))))","v":1},{"$f":"IF(CD19>Saisies!$E$25,1,(IF(CD19<Saisies!$D$25,1,IF(Saisies!$D$25=0,1,0))))","v":1},{"$f":"IF(CD19>Saisies!$G$25,1,(IF(CD19<Saisies!$F$25,1,IF(Saisies!$F$25<10,1,0))))","v":1},{"$f":"IF(CD19>Saisies!$C$10,\"\",(IF(CD19<Saisies!$B$10,\"\",CG19)))","v":""},{"$f":"IF(CD19>Saisies!$E$10,\"\",(IF(CD19<Saisies!$D$10,\"\",CG19)))","v":""},{"$f":"IF(CD19>Saisies!$G$10,\"\",(IF(CD19<Saisies!$F$10,\"\",CG19)))","v":""},"2016-07-07","J",8,7,188,{"$f":"IF(MAX(CX19,(CX18+CV19))>=Saisies!$E$4,(IF(CX18<=Saisies!$E$4,CT19,CY18)),0)","v":0},{"$f":"IF(CT19=Saisies!$C$7,MIN((ABS(Saisies!$E$4-CX18)),DA19),DA19)","v":""},{"$f":"IF(ISERROR((IF(CT19>Saisies!$C$7,\"\",IF(ISERROR(IF(CT19<Saisies!$B$7,\"\",CV19)*DB19),IF(CT19<Saisies!$B$7,\"\",CV19),\"\")))*(IF(ISERROR(DC19+1),0,DC19))*DD19*DE19*DF19),\"\",(IF(CT19>Saisies!$C$7,\"\",IF(ISERROR(IF(CT19<Saisies!$B$7,\"\",CV19)*DB19),IF(CT19<Saisies!$B$7,\"\",CV19),\"\")))*(IF(ISERROR(DC19+1),0,DC19))*DD19*DE19*DF19)","v":""},7,1,{"$f":"IF(CT19>Saisies!$C$25,1,(IF(CT19<Saisies!$B$25,1,IF(Saisies!$B$25=0,1,0))))","v":1},{"$f":"IF(CT19>Saisies!$E$25,1,(IF(CT19<Saisies!$D$25,1,IF(Saisies!$D$25=0,1,0))))","v":1},{"$f":"IF(CT19>Saisies!$G$25,1,(IF(CT19<Saisies!$F$25,1,IF(Saisies!$F$25<10,1,0))))","v":1},{"$f":"IF(CT19>Saisies!$C$10,\"\",(IF(CT19<Saisies!$B$10,\"\",CW19)))","v":7},{"$f":"IF(CT19>Saisies!$E$10,\"\",(IF(CT19<Saisies!$D$10,\"\",CW19)))","v":""},{"$f":"IF(CT19>Saisies!$G$10,\"\",(IF(CT19<Saisies!$F$10,\"\",CW19)))","v":""},"2016-08-07","D",0,0,324,{"$f":"IF(DN19>=Saisies!$E$4,(IF(DO18<=Saisies!$E$4,DJ19,DO18)),0)","v":0},{"$f":"IF(DJ19=Saisies!$C$7,MIN((ABS(Saisies!$E$4-DN18)),DQ19),DQ19)","v":0},{"$f":"IF(ISERROR((IF(DJ19>Saisies!$C$7,\"\",IF(ISERROR(IF(DJ19<Saisies!$B$7,\"\",DL19)*DR19),IF(DJ19<Saisies!$B$7,\"\",DL19),\"\")))*(IF(ISERROR(DS19+1),0,DS19))*DT19*DU19*DV19),\"\",(IF(DJ19>Saisies!$C$7,\"\",IF(ISERROR(IF(DJ19<Saisies!$B$7,\"\",DL19)*DR19),IF(DJ19<Saisies!$B$7,\"\",DL19),\"\")))*(IF(ISERROR(DS19+1),0,DS19))*DT19*DU19*DV19)","v":0},"",1,{"$f":"IF(DJ19>Saisies!$C$25,1,(IF(DJ19<Saisies!$B$25,1,IF(Saisies!$B$25=0,1,0))))","v":1},{"$f":"IF(DJ19>Saisies!$E$25,1,(IF(DJ19<Saisies!$D$25,1,IF(Saisies!$D$25=0,1,0))))","v":1},{"$f":"IF(DJ19>Saisies!$G$25,1,(IF(DJ19<Saisies!$F$25,1,IF(Saisies!$F$25<10,1,0))))","v":1},{"$f":"IF(DJ19>Saisies!$C$10,\"\",(IF(DJ19<Saisies!$B$10,\"\",DM19)))","v":""},{"$f":"IF(DJ19>Saisies!$E$10,\"\",(IF(DJ19<Saisies!$D$10,\"\",DM19)))","v":0},{"$f":"IF(DJ19>Saisies!$G$10,\"\",(IF(DJ19<Saisies!$F$10,\"\",DM19)))","v":""},"2016-09-07","M",8,7,480,{"$f":"IF(ED19>=Saisies!$E$4,(IF(EE18<=Saisies!$E$4,DZ19,EE18)),0)","v":0},{"$f":"IF(DZ19=Saisies!$C$7,MIN((ABS(Saisies!$E$4-ED18)),EG19),EG19)","v":8},{"$f":"IF(ISERROR((IF(DZ19>Saisies!$C$7,\"\",IF(ISERROR(IF(DZ19<Saisies!$B$7,\"\",EB19)*EH19),IF(DZ19<Saisies!$B$7,\"\",EB19),\"\")))*(IF(ISERROR(EI19+1),0,EI19))*EJ19*EK19*EL19),\"\",(IF(DZ19>Saisies!$C$7,\"\",IF(ISERROR(IF(DZ19<Saisies!$B$7,\"\",EB19)*EH19),IF(DZ19<Saisies!$B$7,\"\",EB19),\"\")))*(IF(ISERROR(EI19+1),0,EI19))*EJ19*EK19*EL19)","v":8},"",1,{"$f":"IF(DZ19>Saisies!$C$25,1,(IF(DZ19<Saisies!$B$25,1,IF(Saisies!$B$25=0,1,0))))","v":1},{"$f":"IF(DZ19>Saisies!$E$25,1,(IF(DZ19<Saisies!$D$25,1,IF(Saisies!$D$25=0,1,0))))","v":1},{"$f":"IF(DZ19>Saisies!$G$25,1,(IF(DZ19<Saisies!$F$25,1,IF(Saisies!$F$25<10,1,0))))","v":1},{"$f":"IF(DZ19>Saisies!$C$10,\"\",(IF(DZ19<Saisies!$B$10,\"\",EC19)))","v":""},{"$f":"IF(DZ19>Saisies!$E$10,\"\",(IF(DZ19<Saisies!$D$10,\"\",EC19)))","v":""},{"$f":"IF(DZ19>Saisies!$G$10,\"\",(IF(DZ19<Saisies!$F$10,\"\",EC19)))","v":""},"2016-10-07","V",4,7,492,{"$f":"IF(ET19>=Saisies!$E$4,(IF(EU18<=Saisies!$E$4,EP19,EU18)),0)","v":42622},{"$f":"IF(EP19=Saisies!$C$7,MIN((ABS(Saisies!$E$4-ET18)),EW19),EW19)","v":""},{"$f":"IF(ISERROR((IF(EP19>Saisies!$C$7,\"\",IF(ISERROR(IF(EP19<Saisies!$B$7,\"\",ER19)*EX19),IF(EP19<Saisies!$B$7,\"\",ER19),\"\")))*(IF(ISERROR(EY19+1),0,EY19))*EZ19*FA19*FB19),\"\",(IF(EP19>Saisies!$C$7,\"\",IF(ISERROR(IF(EP19<Saisies!$B$7,\"\",ER19)*EX19),IF(EP19<Saisies!$B$7,\"\",ER19),\"\")))*(IF(ISERROR(EY19+1),0,EY19))*EZ19*FA19*FB19)","v":""},"",1,{"$f":"IF(EP19>Saisies!$C$25,1,(IF(EP19<Saisies!$B$25,1,IF(Saisies!$B$25=0,1,0))))","v":1},{"$f":"IF(EP19>Saisies!$E$25,1,(IF(EP19<Saisies!$D$25,1,IF(Saisies!$D$25=0,1,0))))","v":1},{"$f":"IF(EP19>Saisies!$G$25,1,(IF(EP19<Saisies!$F$25,1,IF(Saisies!$F$25<10,1,0))))","v":1},{"$f":"IF(EP19>Saisies!$C$10,\"\",(IF(EP19<Saisies!$B$10,\"\",ES19)))","v":""},{"$f":"IF(EP19>Saisies!$E$10,\"\",(IF(EP19<Saisies!$D$10,\"\",ES19)))","v":""},{"$f":"IF(EP19>Saisies!$G$10,\"\",(IF(EP19<Saisies!$F$10,\"\",ES19)))","v":""},"2016-11-07","L",7,7,492,{"$f":"IF(FJ19>=Saisies!$E$4,(IF(FK18<=Saisies!$E$4,FF19,FK18)),0)","v":42622},{"$f":"IF(FF19=Saisies!$C$7,MIN((ABS(Saisies!$E$4-FJ18)),FM19),FM19)","v":""},{"$f":"IF(ISERROR((IF(FF19>Saisies!$C$7,\"\",IF(ISERROR(IF(FF19<Saisies!$B$7,\"\",FH19)*FN19),IF(FF19<Saisies!$B$7,\"\",FH19),\"\")))*(IF(ISERROR(FO19+1),0,FO19))*FP19*FQ19*FR19),\"\",(IF(FF19>Saisies!$C$7,\"\",IF(ISERROR(IF(FF19<Saisies!$B$7,\"\",FH19)*FN19),IF(FF19<Saisies!$B$7,\"\",FH19),\"\")))*(IF(ISERROR(FO19+1),0,FO19))*FP19*FQ19*FR19)","v":""},"",1,{"$f":"IF(FF19>Saisies!$C$25,1,(IF(FF19<Saisies!$B$25,1,IF(Saisies!$B$25=0,1,0))))","v":1},{"$f":"IF(FF19>Saisies!$E$25,1,(IF(FF19<Saisies!$D$25,1,IF(Saisies!$D$25=0,1,0))))","v":1},{"$f":"IF(FF19>Saisies!$G$25,1,(IF(FF19<Saisies!$F$25,1,IF(Saisies!$F$25<10,1,0))))","v":1},{"$f":"IF(FF19>Saisies!$C$10,\"\",(IF(FF19<Saisies!$B$10,\"\",FI19)))","v":""},{"$f":"IF(FF19>Saisies!$E$10,\"\",(IF(FF19<Saisies!$D$10,\"\",FI19)))","v":""},{"$f":"IF(FF19>Saisies!$G$10,\"\",(IF(FF19<Saisies!$F$10,\"\",FI19)))","v":""},"2016-12-07","M",8,7,492,{"$f":"IF(FZ19>=Saisies!$E$4,(IF(GA18<=Saisies!$E$4,FV19,GA18)),0)","v":42622},{"$f":"IF(FV19=Saisies!$C$7,MIN((ABS(Saisies!$E$4-FZ18)),GC19),GC19)","v":""},{"$f":"IF(ISERROR((IF(FV19>Saisies!$C$7,\"\",IF(ISERROR(IF(FV19<Saisies!$B$7,\"\",FX19)*GD19),IF(FV19<Saisies!$B$7,\"\",FX19),\"\")))*(IF(ISERROR(GE19+1),0,GE19))*GF19*GG19*GH19),\"\",(IF(FV19>Saisies!$C$7,\"\",IF(ISERROR(IF(FV19<Saisies!$B$7,\"\",FX19)*GD19),IF(FV19<Saisies!$B$7,\"\",FX19),\"\")))*(IF(ISERROR(GE19+1),0,GE19))*GF19*GG19*GH19)","v":""},"",1,{"$f":"IF(FV19>Saisies!$C$25,1,(IF(FV19<Saisies!$B$25,1,IF(Saisies!$B$25=0,1,0))))","v":1},{"$f":"IF(FV19>Saisies!$E$25,1,(IF(FV19<Saisies!$D$25,1,IF(Saisies!$D$25=0,1,0))))","v":1},{"$f":"IF(FV19>Saisies!$G$25,1,(IF(FV19<Saisies!$F$25,1,IF(Saisies!$F$25<10,1,0))))","v":1},{"$f":"IF(FV19>Saisies!$C$10,\"\",(IF(FV19<Saisies!$B$10,\"\",FY19)))","v":""},{"$f":"IF(FV19>Saisies!$E$10,\"\",(IF(FV19<Saisies!$D$10,\"\",FY19)))","v":""},{"$f":"IF(FV19>Saisies!$G$10,\"\",(IF(FV19<Saisies!$F$10,\"\",FY19)))","v":""},null,null,null,null,null,null,null,null,null,null,null,"SA",{"$f":"Saisies!D20","v":0}]
[null,"2016-01-08","V",4,7,0,{"$f":"IF(MAX(F20,(F19+D20))>=Saisies!$E$4,(IF(F19<=Saisies!$E$4,B20,G19)),0)","v":0},{"$f":"IF(B20=Saisies!$C$7,MIN((ABS(Saisies!$E$4-F19)),I20),I20)","v":""},{"$f":"IF(ISERROR((IF(B20>Saisies!$C$7,\"\",IF(ISERROR(IF(B20<Saisies!$B$7,\"\",D20)*J20),IF(B20<Saisies!$B$7,\"\",D20),\"\")))*(IF(ISERROR(K20+1),0,K20))*L20*M20*N20),\"\",(IF(B20>Saisies!$C$7,\"\",IF(ISERROR(IF(B20<Saisies!$B$7,\"\",D20)*J20),IF(B20<Saisies!$B$7,\"\",D20),\"\")))*(IF(ISERROR(K20+1),0,K20))*L20*M20*N20)","v":""},"",1,{"$f":"IF(B20>Saisies!$C$25,1,(IF(B20<Saisies!$B$25,1,IF(Saisies!$B$25=0,1,0))))","v":1},{"$f":"IF(B20>Saisies!$E$25,1,(IF(B20<Saisies!$D$25,1,IF(Saisies!$D$25=0,1,0))))","v":1},{"$f":"IF(B20>Saisies!$G$25,1,(IF(B20<Saisies!$F$25,1,IF(Saisies!$F$25<10,1,0))))","v":1},{"$f":"IF(B20>Saisies!$C$10,\"\",(IF(B20<Saisies!$B$10,\"\",E20)))","v":""},{"$f":"IF(B20>Saisies!$E$10,\"\",(IF(B20<Saisies!$D$10,\"\",E20)))","v":""},{"$f":"IF(B20>Saisies!$G$10,\"\",(IF(B20<Saisies!$F$10,\"\",E20)))","v":""},"2016-02-08","L",7,7,0,{"$f":"IF(MAX(V20,(V19+T20))>=Saisies!$E$4,(IF(V19<=Saisies!$E$4,R20,W19)),0)","v":0},{"$f":"IF(R20=Saisies!$C$7,MIN((ABS(Saisies!$E$4-V19)),Y20),Y20)","v":""},{"$f":"IF(ISERROR((IF(R20>Saisies!$C$7,\"\",IF(ISERROR(IF(R20<Saisies!$B$7,\"\",T20)*Z20),IF(R20<Saisies!$B$7,\"\",T20),\"\")))*(IF(ISERROR(AA20+1),0,AA20))*AB20*AC20*AD20),\"\",(IF(R20>Saisies!$C$7,\"\",IF(ISERROR(IF(R20<Saisies!$B$7,\"\",T20)*Z20),IF(R20<Saisies!$B$7,\"\",T20),\"\")))*(IF(ISERROR(AA20+1),0,AA20))*AB20*AC20*AD20)","v":""},"",1,{"$f":"IF(R20>Saisies!$C$25,1,(IF(R20<Saisies!$B$25,1,IF(Saisies!$B$25=0,1,0))))","v":1},{"$f":"IF(R20>Saisies!$E$25,1,(IF(R20<Saisies!$D$25,1,IF(Saisies!$D$25=0,1,0))))","v":1},{"$f":"IF(R20>Saisies!$G$25,1,(IF(R20<Saisies!$F$25,1,IF(Saisies!$F$25<10,1,0))))","v":1},{"$f":"IF(R20>Saisies!$C$10,\"\",(IF(R20<Saisies!$B$10,\"\",U20)))","v":""},{"$f":"IF(R20>Saisies!$E$10,\"\",(IF(R20<Saisies!$D$10,\"\",U20)))","v":""},{"$f":"IF(R20>Saisies!$G$10,\"\",(IF(R20<Saisies!$F$10,\"\",U20)))","v":""},"2016-03-08","M",8,7,0,{"$f":"IF(MAX(AL20,(AL19+AJ20))>=Saisies!$E$4,(IF(AL19<=Saisies!$E$4,AH20,AM19)),0)","v":0},{"$f":"IF(AH20=Saisies!$C$7,MIN((ABS(Saisies!$E$4-AL19)),AO20),AO20)","v":""},{"$f":"IF(ISERROR((IF(AH20>Saisies!$C$7,\"\",IF(ISERROR(IF(AH20<Saisies!$B$7,\"\",AJ20)*AP20),IF(AH20<Saisies!$B$7,\"\",AJ20),\"\")))*(IF(ISERROR(AQ20+1),0,AQ20))*AR20*AS20*AT20),\"\",(IF(AH20>Saisies!$C$7,\"\",IF(ISERROR(IF(AH20<Saisies!$B$7,\"\",AJ20)*AP20),IF(AH20<Saisies!$B$7,\"\",AJ20),\"\")))*(IF(ISERROR(AQ20+1),0,AQ20))*AR20*AS20*AT20)","v":""},"",1,{"$f":"IF(AH20>Saisies!$C$25,1,(IF(AH20<Saisies!$B$25,1,IF(Saisies!$B$25=0,1,0))))","v":1},{"$f":"IF(AH20>Saisies!$E$25,1,(IF(AH20<Saisies!$D$25,1,IF(Saisies!$D$25=0,1,0))))","v":1},{"$f":"IF(AH20>Saisies!$G$25,1,(IF(AH20<Saisies!$F$25,1,IF(Saisies!$F$25<10,1,0))))","v":1},{"$f":"IF(AH20>Saisies!$C$10,\"\",(IF(AH20<Saisies!$B$10,\"\",AK20)))","v":""},{"$f":"IF(AH20>Saisies!$E$10,\"\",(IF(AH20<Saisies!$D$10,\"\",AK20)))","v":""},{"$f":"IF(AH20>Saisies!$G$10,\"\",(IF(AH20<Saisies!$F$10,\"\",AK20)))","v":""},"2016-04-08","V",4,7,0,{"$f":"IF(BB20>=Saisies!$E$4,(IF(BC19<=Saisies!$E$4,AX20,BC19)),0)","v":0},{"$f":"IF(AX20=Saisies!$C$7,MIN((ABS(Saisies!$E$4-BB19)),BE20),BE20)","v":""},{"$f":"IF(ISERROR((IF(AX20>Saisies!$C$7,\"\",IF(ISERROR(IF(AX20<Saisies!$B$7,\"\",AZ20)*BF20),IF(AX20<Saisies!$B$7,\"\",AZ20),\"\")))*(IF(ISERROR(BG20+1),0,BG20))*BH20*BI20*BJ20),\"\",(IF(AX20>Saisies!$C$7,\"\",IF(ISERROR(IF(AX20<Saisies!$B$7,\"\",AZ20)*BF20),IF(AX20<Saisies!$B$7,\"\",AZ20),\"\")))*(IF(ISERROR(BG20+1),0,BG20))*BH20*BI20*BJ20)","v":""},"",1,{"$f":"IF(AX20>Saisies!$C$25,1,(IF(AX20<Saisies!$B$25,1,IF(Saisies!$B$25=0,1,0))))","v":1},{"$f":"IF(AX20>Saisies!$E$25,1,(IF(AX20<Saisies!$D$25,1,IF(Saisies!$D$25=0,1,0))))","v":1},{"$f":"IF(AX20>Saisies!$G$25,1,(IF(AX20<Saisies!$F$25,1,IF(Saisies!$F$25<10,1,0))))","v":1},{"$f":"IF(AX20>Saisies!$C$10,\"\",(IF(AX20<Saisies!$B$10,\"\",BA20)))","v":""},{"$f":"IF(AX20>Saisies!$E$10,\"\",(IF(AX20<Saisies!$D$10,\"\",BA20)))","v":""},{"$f":"IF(AX20>Saisies!$G$10,\"\",(IF(AX20<Saisies!$F$10,\"\",BA20)))","v":""},"2016-05-08","D",0,0,0,{"$f":"IF(MAX(BR20,(BR19+BP20))>=Saisies!$E$4,(IF(BR19<=Saisies!$E$4,BN20,BS19)),0)","v":0},{"$f":"IF(BN20=Saisies!$C$7,MIN((ABS(Saisies!$E$4-BR19)),BU20),BU20)","v":""},{"$f":"IF(ISERROR((IF(BN20>Saisies!$C$7,\"\",IF(ISERROR(IF(BN20<Saisies!$B$7,\"\",BP20)*BV20),IF(BN20<Saisies!$B$7,\"\",BP20),\"\")))*BW20*BX20*BY20*BZ20),\"\",(IF(BN20>Saisies!$C$7,\"\",IF(ISERROR(IF(BN20<Saisies!$B$7,\"\",BP20)*BV20),IF(BN20<Saisies!$B$7,\"\",BP20),\"\")))*BW20*BX20*BY20*BZ20)","v":""},{"$f":"IF((SUM(CA20:CC20)*BW20*BX20*BY20*BZ20)=0,\"\",SUM(CA20:CC20))","v":""},0,{"$f":"IF(BN20>Saisies!$C$25,1,(IF(BN20<Saisies!$B$25,1,IF(Saisies!$B$25=0,1,0))))","v":1},{"$f":"IF(BN20>Saisies!$E$25,1,(IF(BN20<Saisies!$D$25,1,IF(Saisies!$D$25=0,1,0))))","v":1},{"$f":"IF(BN20>Saisies!$G$25,1,(IF(BN20<Saisies!$F$25,1,IF(Saisies!$F$25<10,1,0))))","v":1},{"$f":"IF(BN20>Saisies!$C$10,\"\",(IF(BN20<Saisies!$B$10,\"\",BQ20)))","v":""},{"$f":"IF(BN20>Saisies!$E$10,\"\",(IF(BN20<Saisies!$D$10,\"\",BQ20)))","v":""},{"$f":"IF(BN20>Saisies!$G$10,\"\",(IF(BN20<Saisies!$F$10,\"\",BQ20)))","v":""},"2016-06-08","M",8,7,43,{"$f":"IF(MAX(CH20,(CH19+CF20))>=Saisies!$E$4,(IF(CH19<=Saisies!$E$4,CD20,CI19)),0)","v":0},{"$f":"IF(CD20=Saisies!$C$7,MIN((ABS(Saisies!$E$4-CH19)),CK20),CK20)","v":8},{"$f":"IF(ISERROR((IF(CD20>Saisies!$C$7,\"\",IF(ISERROR(IF(CD20<Saisies!$B$7,\"\",CF20)*CL20),IF(CD20<Saisies!$B$7,\"\",CF20),\"\")))*(IF(ISERROR(CM20+1),0,CM20))*CN20*CO20*CP20),\"\",(IF(CD20>Saisies!$C$7,\"\",IF(ISERROR(IF(CD20<Saisies!$B$7,\"\",CF20)*CL20),IF(CD20<Saisies!$B$7,\"\",CF20),\"\")))*(IF(ISERROR(CM20+1),0,CM20))*CN20*CO20*CP20)","v":8},"",1,{"$f":"IF(CD20>Saisies!$C$25,1,(IF(CD20<Saisies!$B$25,1,IF(Saisies!$B$25=0,1,0))))","v":1},{"$f":"IF(CD20>Saisies!$E$25,1,(IF(CD20<Saisies!$D$25,1,IF(Saisies!$D$25=0,1,0))))","v":1},{"$f":"IF(CD20>Saisies!$G$25,1,(IF(CD20<Saisies!$F$25,1,IF(Saisies!$F$25<10,1,0))))","v":1},{"$f":"IF(CD20>Saisies!$C$10,\"\",(IF(CD20<Saisies!$B$10,\"\",CG20)))","v":""},{"$f":"IF(CD20>Saisies!$E$10,\"\",(IF(CD20<Saisies!$D$10,\"\",CG20)))","v":""},{"$f":"IF(CD20>Saisies!$G$10,\"\",(IF(CD20<Saisies!$F$10,\"\",CG20)))","v":""},"2016-07-08","V",4,7,195,{"$f":"IF(MAX(CX20,(CX19+CV20))>=Saisies!$E$4,(IF(CX19<=Saisies!$E$4,CT20,CY19)),0)","v":0},{"$f":"IF(CT20=Saisies!$C$7,MIN((ABS(Saisies!$E$4-CX19)),DA20),DA20)","v":""},{"$f":"IF(ISERROR((IF(CT20>Saisies!$C$7,\"\",IF(ISERROR(IF(CT20<Saisies!$B$7,\"\",CV20)*DB20),IF(CT20<Saisies!$B$7,\"\",CV20),\"\")))*(IF(ISERROR(DC20+1),0,DC20))*DD20*DE20*DF20),\"\",(IF(CT20>Saisies!$C$7,\"\",IF(ISERROR(IF(CT20<Saisies!$B$7,\"\",CV20)*DB20),IF(CT20<Saisies!$B$7,\"\",CV20),\"\")))*(IF(ISERROR(DC20+1),0,DC20))*DD20*DE20*DF20)","v":""},7,1,{"$f":"IF(CT20>Saisies!$C$25,1,(IF(CT20<Saisies!$B$25,1,IF(Saisies!$B$25=0,1,0))))","v":1},{"$f":"IF(CT20>Saisies!$E$25,1,(IF(CT20<Saisies!$D$25,1,IF(Saisies!$D$25=0,1,0))))","v":1},{"$f":"IF(CT20>Saisies!$G$25,1,(IF(CT20<Saisies!$F$25,1,IF(Saisies!$F$25<10,1,0))))","v":1},{"$f":"IF(CT20>Saisies!$C$10,\"\",(IF(CT20<Saisies!$B$10,\"\",CW20)))","v":7},{"$f":"IF(CT20>Saisies!$E$10,\"\",(IF(CT20<Saisies!$D$10,\"\",CW20)))","v":""},{"$f":"IF(CT20>Saisies!$G$10,\"\",(IF(CT20<Saisies!$F$10,\"\",CW20)))","v":""},"2016-08-08","L",7,7,331,{"$f":"IF(DN20>=Saisies!$E$4,(IF(DO19<=Saisies!$E$4,DJ20,DO19)),0)","v":0},{"$f":"IF(DJ20=Saisies!$C$7,MIN((ABS(Saisies!$E$4-DN19)),DQ20),DQ20)","v":""},{"$f":"IF(ISERROR((IF(DJ20>Saisies!$C$7,\"\",IF(ISERROR(IF(DJ20<Saisies!$B$7,\"\",DL20)*DR20),IF(DJ20<Saisies!$B$7,\"\",DL20),\"\")))*(IF(ISERROR(DS20+1),0,DS20))*DT20*DU20*DV20),\"\",(IF(DJ20>Saisies!$C$7,\"\",IF(ISERROR(IF(DJ20<Saisies!$B$7,\"\",DL20)*DR20),IF(DJ20<Saisies!$B$7,\"\",DL20),\"\")))*(IF(ISERROR(DS20+1),0,DS20))*DT20*DU20*DV20)","v":""},7,1,{"$f":"IF(DJ20>Saisies!$C$25,1,(IF(DJ20<Saisies!$B$25,1,IF(Saisies!$B$25=0,1,0))))","v":1},{"$f":"IF(DJ20>Saisies!$E$25,1,(IF(DJ20<Saisies!$D$25,1,IF(Saisies!$D$25=0,1,0))))","v":1},{"$f":"IF(DJ20>Saisies!$G$25,1,(IF(DJ20<Saisies!$F$25,1,IF(Saisies!$F$25<10,1,0))))","v":1},{"$f":"IF(DJ20>Saisies!$C$10,\"\",(IF(DJ20<Saisies!$B$10,\"\",DM20)))","v":""},{"$f":"IF(DJ20>Saisies!$E$10,\"\",(IF(DJ20<Saisies!$D$10,\"\",DM20)))","v":7},{"$f":"IF(DJ20>Saisies!$G$10,\"\",(IF(DJ20<Saisies!$F$10,\"\",DM20)))","v":""},"2016-09-08","J",8,7,488,{"$f":"IF(ED20>=Saisies!$E$4,(IF(EE19<=Saisies!$E$4,DZ20,EE19)),0)","v":0},{"$f":"IF(DZ20=Saisies!$C$7,MIN((ABS(Saisies!$E$4-ED19)),EG20),EG20)","v":8},{"$f":"IF(ISERROR((IF(DZ20>Saisies!$C$7,\"\",IF(ISERROR(IF(DZ20<Saisies!$B$7,\"\",EB20)*EH20),IF(DZ20<Saisies!$B$7,\"\",EB20),\"\")))*(IF(ISERROR(EI20+1),0,EI20))*EJ20*EK20*EL20),\"\",(IF(DZ20>Saisies!$C$7,\"\",IF(ISERROR(IF(DZ20<Saisies!$B$7,\"\",EB20)*EH20),IF(DZ20<Saisies!$B$7,\"\",EB20),\"\")))*(IF(ISERROR(EI20+1),0,EI20))*EJ20*EK20*EL20)","v":8},"",1,{"$f":"IF(DZ20>Saisies!$C$25,1,(IF(DZ20<Saisies!$B$25,1,IF(Saisies!$B$25=0,1,0))))","v":1},{"$f":"IF(DZ20>Saisies!$E$25,1,(IF(DZ20<Saisies!$D$25,1,IF(Saisies!$D$25=0,1,0))))","v":1},{"$f":"IF(DZ20>Saisies!$G$25,1,(IF(DZ20<Saisies!$F$25,1,IF(Saisies!$F$25<10,1,0))))","v":1},{"$f":"IF(DZ20>Saisies!$C$10,\"\",(IF(DZ20<Saisies!$B$10,\"\",EC20)))","v":""},{"$f":"IF(DZ20>Saisies!$E$10,\"\",(IF(DZ20<Saisies!$D$10,\"\",EC20)))","v":""},{"$f":"IF(DZ20>Saisies!$G$10,\"\",(IF(DZ20<Saisies!$F$10,\"\",EC20)))","v":""},"2016-10-08","S",0,0,492,{"$f":"IF(ET20>=Saisies!$E$4,(IF(EU19<=Saisies!$E$4,EP20,EU19)),0)","v":42622},{"$f":"IF(EP20=Saisies!$C$7,MIN((ABS(Saisies!$E$4-ET19)),EW20),EW20)","v":""},{"$f":"IF(ISERROR((IF(EP20>Saisies!$C$7,\"\",IF(ISERROR(IF(EP20<Saisies!$B$7,\"\",ER20)*EX20),IF(EP20<Saisies!$B$7,\"\",ER20),\"\")))*(IF(ISERROR(EY20+1),0,EY20))*EZ20*FA20*FB20),\"\",(IF(EP20>Saisies!$C$7,\"\",IF(ISERROR(IF(EP20<Saisies!$B$7,\"\",ER20)*EX20),IF(EP20<Saisies!$B$7,\"\",ER20),\"\")))*(IF(ISERROR(EY20+1),0,EY20))*EZ20*FA20*FB20)","v":""},"",1,{"$f":"IF(EP20>Saisies!$C$25,1,(IF(EP20<Saisies!$B$25,1,IF(Saisies!$B$25=0,1,0))))","v":1},{"$f":"IF(EP20>Saisies!$E$25,1,(IF(EP20<Saisies!$D$25,1,IF(Saisies!$D$25=0,1,0))))","v":1},{"$f":"IF(EP20>Saisies!$G$25,1,(IF(EP20<Saisies!$F$25,1,IF(Saisies!$F$25<10,1,0))))","v":1},{"$f":"IF(EP20>Saisies!$C$10,\"\",(IF(EP20<Saisies!$B$10,\"\",ES20)))","v":""},{"$f":"IF(EP20>Saisies!$E$10,\"\",(IF(EP20<Saisies!$D$10,\"\",ES20)))","v":""},{"$f":"IF(EP20>Saisies!$G$10,\"\",(IF(EP20<Saisies!$F$10,\"\",ES20)))","v":""},"2016-11-08","M",8,7,492,{"$f":"IF(FJ20>=Saisies!$E$4,(IF(FK19<=Saisies!$E$4,FF20,FK19)),0)","v":42622},{"$f":"IF(FF20=Saisies!$C$7,MIN((ABS(Saisies!$E$4-FJ19)),FM20),FM20)","v":""},{"$f":"IF(ISERROR((IF(FF20>Saisies!$C$7,\"\",IF(ISERROR(IF(FF20<Saisies!$B$7,\"\",FH20)*FN20),IF(FF20<Saisies!$B$7,\"\",FH20),\"\")))*(IF(ISERROR(FO20+1),0,FO20))*FP20*FQ20*FR20),\"\",(IF(FF20>Saisies!$C$7,\"\",IF(ISERROR(IF(FF20<Saisies!$B$7,\"\",FH20)*FN20),IF(FF20<Saisies!$B$7,\"\",FH20),\"\")))*(IF(ISERROR(FO20+1),0,FO20))*FP20*FQ20*FR20)","v":""},"",1,{"$f":"IF(FF20>Saisies!$C$25,1,(IF(FF20<Saisies!$B$25,1,IF(Saisies!$B$25=0,1,0))))","v":1},{"$f":"IF(FF20>Saisies!$E$25,1,(IF(FF20<Saisies!$D$25,1,IF(Saisies!$D$25=0,1,0))))","v":1},{"$f":"IF(FF20>Saisies!$G$25,1,(IF(FF20<Saisies!$F$25,1,IF(Saisies!$F$25<10,1,0))))","v":1},{"$f":"IF(FF20>Saisies!$C$10,\"\",(IF(FF20<Saisies!$B$10,\"\",FI20)))","v":""},{"$f":"IF(FF20>Saisies!$E$10,\"\",(IF(FF20<Saisies!$D$10,\"\",FI20)))","v":""},{"$f":"IF(FF20>Saisies!$G$10,\"\",(IF(FF20<Saisies!$F$10,\"\",FI20)))","v":""},"2016-12-08","J",8,7,492,{"$f":"IF(FZ20>=Saisies!$E$4,(IF(GA19<=Saisies!$E$4,FV20,GA19)),0)","v":42622},{"$f":"IF(FV20=Saisies!$C$7,MIN((ABS(Saisies!$E$4-FZ19)),GC20),GC20)","v":""},{"$f":"IF(ISERROR((IF(FV20>Saisies!$C$7,\"\",IF(ISERROR(IF(FV20<Saisies!$B$7,\"\",FX20)*GD20),IF(FV20<Saisies!$B$7,\"\",FX20),\"\")))*(IF(ISERROR(GE20+1),0,GE20))*GF20*GG20*GH20),\"\",(IF(FV20>Saisies!$C$7,\"\",IF(ISERROR(IF(FV20<Saisies!$B$7,\"\",FX20)*GD20),IF(FV20<Saisies!$B$7,\"\",FX20),\"\")))*(IF(ISERROR(GE20+1),0,GE20))*GF20*GG20*GH20)","v":""},"",1,{"$f":"IF(FV20>Saisies!$C$25,1,(IF(FV20<Saisies!$B$25,1,IF(Saisies!$B$25=0,1,0))))","v":1},{"$f":"IF(FV20>Saisies!$E$25,1,(IF(FV20<Saisies!$D$25,1,IF(Saisies!$D$25=0,1,0))))","v":1},{"$f":"IF(FV20>Saisies!$G$25,1,(IF(FV20<Saisies!$F$25,1,IF(Saisies!$F$25<10,1,0))))","v":1},{"$f":"IF(FV20>Saisies!$C$10,\"\",(IF(FV20<Saisies!$B$10,\"\",FY20)))","v":""},{"$f":"IF(FV20>Saisies!$E$10,\"\",(IF(FV20<Saisies!$D$10,\"\",FY20)))","v":""},{"$f":"IF(FV20>Saisies!$G$10,\"\",(IF(FV20<Saisies!$F$10,\"\",FY20)))","v":""},null,null,null,null,null,null,null,null,null,null,null,"VE",{"$f":"Saisies!D19","v":7}]
[null,"2016-01-09","S",0,0,0,{"$f":"IF(MAX(F21,(F20+D21))>=Saisies!$E$4,(IF(F20<=Saisies!$E$4,B21,G20)),0)","v":0},{"$f":"IF(B21=Saisies!$C$7,MIN((ABS(Saisies!$E$4-F20)),I21),I21)","v":""},{"$f":"IF(ISERROR((IF(B21>Saisies!$C$7,\"\",IF(ISERROR(IF(B21<Saisies!$B$7,\"\",D21)*J21),IF(B21<Saisies!$B$7,\"\",D21),\"\")))*(IF(ISERROR(K21+1),0,K21))*L21*M21*N21),\"\",(IF(B21>Saisies!$C$7,\"\",IF(ISERROR(IF(B21<Saisies!$B$7,\"\",D21)*J21),IF(B21<Saisies!$B$7,\"\",D21),\"\")))*(IF(ISERROR(K21+1),0,K21))*L21*M21*N21)","v":""},"",1,{"$f":"IF(B21>Saisies!$C$25,1,(IF(B21<Saisies!$B$25,1,IF(Saisies!$B$25=0,1,0))))","v":1},{"$f":"IF(B21>Saisies!$E$25,1,(IF(B21<Saisies!$D$25,1,IF(Saisies!$D$25=0,1,0))))","v":1},{"$f":"IF(B21>Saisies!$G$25,1,(IF(B21<Saisies!$F$25,1,IF(Saisies!$F$25<10,1,0))))","v":1},{"$f":"IF(B21>Saisies!$C$10,\"\",(IF(B21<Saisies!$B$10,\"\",E21)))","v":""},{"$f":"IF(B21>Saisies!$E$10,\"\",(IF(B21<Saisies!$D$10,\"\",E21)))","v":""},{"$f":"IF(B21>Saisies!$G$10,\"\",(IF(B21<Saisies!$F$10,\"\",E21)))","v":""},"2016-02-09","M",8,7,0,{"$f":"IF(MAX(V21,(V20+T21))>=Saisies!$E$4,(IF(V20<=Saisies!$E$4,R21,W20)),0)","v":0},{"$f":"IF(R21=Saisies!$C$7,MIN((ABS(Saisies!$E$4-V20)),Y21),Y21)","v":""},{"$f":"IF(ISERROR((IF(R21>Saisies!$C$7,\"\",IF(ISERROR(IF(R21<Saisies!$B$7,\"\",T21)*Z21),IF(R21<Saisies!$B$7,\"\",T21),\"\")))*(IF(ISERROR(AA21+1),0,AA21))*AB21*AC21*AD21),\"\",(IF(R21>Saisies!$C$7,\"\",IF(ISERROR(IF(R21<Saisies!$B$7,\"\",T21)*Z21),IF(R21<Saisies!$B$7,\"\",T21),\"\")))*(IF(ISERROR(AA21+1),0,AA21))*AB21*AC21*AD21)","v":""},"",1,{"$f":"IF(R21>Saisies!$C$25,1,(IF(R21<Saisies!$B$25,1,IF(Saisies!$B$25=0,1,0))))","v":1},{"$f":"IF(R21>Saisies!$E$25,1,(IF(R21<Saisies!$D$25,1,IF(Saisies!$D$25=0,1,0))))","v":1},{"$f":"IF(R21>Saisies!$G$25,1,(IF(R21<Saisies!$F$25,1,IF(Saisies!$F$25<10,1,0))))","v":1},{"$f":"IF(R21>Saisies!$C$10,\"\",(IF(R21<Saisies!$B$10,\"\",U21)))","v":""},{"$f":"IF(R21>Saisies!$E$10,\"\",(IF(R21<Saisies!$D$10,\"\",U21)))","v":""},{"$f":"IF(R21>Saisies!$G$10,\"\",(IF(R21<Saisies!$F$10,\"\",U21)))","v":""},"2016-03-09","M",8,7,0,{"$f":"IF(MAX(AL21,(AL20+AJ21))>=Saisies!$E$4,(IF(AL20<=Saisies!$E$4,AH21,AM20)),0)","v":0},{"$f":"IF(AH21=Saisies!$C$7,MIN((ABS(Saisies!$E$4-AL20)),AO21),AO21)","v":""},{"$f":"IF(ISERROR((IF(AH21>Saisies!$C$7,\"\",IF(ISERROR(IF(AH21<Saisies!$B$7,\"\",AJ21)*AP21),IF(AH21<Saisies!$B$7,\"\",AJ21),\"\")))*(IF(ISERROR(AQ21+1),0,AQ21))*AR21*AS21*AT21),\"\",(IF(AH21>Saisies!$C$7,\"\",IF(ISERROR(IF(AH21<Saisies!$B$7,\"\",AJ21)*AP21),IF(AH21<Saisies!$B$7,\"\",AJ21),\"\")))*(IF(ISERROR(AQ21+1),0,AQ21))*AR21*AS21*AT21)","v":""},"",1,{"$f":"IF(AH21>Saisies!$C$25,1,(IF(AH21<Saisies!$B$25,1,IF(Saisies!$B$25=0,1,0))))","v":1},{"$f":"IF(AH21>Saisies!$E$25,1,(IF(AH21<Saisies!$D$25,1,IF(Saisies!$D$25=0,1,0))))","v":1},{"$f":"IF(AH21>Saisies!$G$25,1,(IF(AH21<Saisies!$F$25,1,IF(Saisies!$F$25<10,1,0))))","v":1},{"$f":"IF(AH21>Saisies!$C$10,\"\",(IF(AH21<Saisies!$B$10,\"\",AK21)))","v":""},{"$f":"IF(AH21>Saisies!$E$10,\"\",(IF(AH21<Saisies!$D$10,\"\",AK21)))","v":""},{"$f":"IF(AH21>Saisies!$G$10,\"\",(IF(AH21<Saisies!$F$10,\"\",AK21)))","v":""},"2016-04-09","S",0,0,0,{"$f":"IF(BB21>=Saisies!$E$4,(IF(BC20<=Saisies!$E$4,AX21,BC20)),0)","v":0},{"$f":"IF(AX21=Saisies!$C$7,MIN((ABS(Saisies!$E$4-BB20)),BE21),BE21)","v":""},{"$f":"IF(ISERROR((IF(AX21>Saisies!$C$7,\"\",IF(ISERROR(IF(AX21<Saisies!$B$7,\"\",AZ21)*BF21),IF(AX21<Saisies!$B$7,\"\",AZ21),\"\")))*(IF(ISERROR(BG21+1),0,BG21))*BH21*BI21*BJ21),\"\",(IF(AX21>Saisies!$C$7,\"\",IF(ISERROR(IF(AX21<Saisies!$B$7,\"\",AZ21)*BF21),IF(AX21<Saisies!$B$7,\"\",AZ21),\"\")))*(IF(ISERROR(BG21+1),0,BG21))*BH21*BI21*BJ21)","v":""},"",1,{"$f":"IF(AX21>Saisies!$C$25,1,(IF(AX21<Saisies!$B$25,1,IF(Saisies!$B$25=0,1,0))))","v":1},{"$f":"IF(AX21>Saisies!$E$25,1,(IF(AX21<Saisies!$D$25,1,IF(Saisies!$D$25=0,1,0))))","v":1},{"$f":"IF(AX21>Saisies!$G$25,1,(IF(AX21<Saisies!$F$25,1,IF(Saisies!$F$25<10,1,0))))","v":1},{"$f":"IF(AX21>Saisies!$C$10,\"\",(IF(AX21<Saisies!$B$10,\"\",BA21)))","v":""},{"$f":"IF(AX21>Saisies!$E$10,\"\",(IF(AX21<Saisies!$D$10,\"\",BA21)))","v":""},{"$f":"IF(AX21>Saisies!$G$10,\"\",(IF(AX21<Saisies!$F$10,\"\",BA21)))","v":""},"2016-05-09","L",7,7,0,{"$f":"IF(MAX(BR21,(BR20+BP21))>=Saisies!$E$4,(IF(BR20<=Saisies!$E$4,BN21,BS20)),0)","v":0},{"$f":"IF(BN21=Saisies!$C$7,MIN((ABS(Saisies!$E$4-BR20)),BU21),BU21)","v":""},{"$f":"IF(ISERROR((IF(BN21>Saisies!$C$7,\"\",IF(ISERROR(IF(BN21<Saisies!$B$7,\"\",BP21)*BV21),IF(BN21<Saisies!$B$7,\"\",BP21),\"\")))*(IF(ISERROR(BW21+1),0,BW21))*BX21*BY21*BZ21),\"\",(IF(BN21>Saisies!$C$7,\"\",IF(ISERROR(IF(BN21<Saisies!$B$7,\"\",BP21)*BV21),IF(BN21<Saisies!$B$7,\"\",BP21),\"\")))*(IF(ISERROR(BW21+1),0,BW21))*BX21*BY21*BZ21)","v":""},{"$f":"IF((SUM(CA21:CC21)*(IF(ISERROR(BW21+1),0,BW21))*BX21*BY21*BZ21)=0,\"\",SUM(CA21:CC21))","v":""},{"$f":"IF(ISERROR(IF(IF(ISERROR(VLOOKUP(BN21,Champs,2,FALSE)),1,0)=0,LOOKUP(BN21,general),1)),0,(IF(IF(ISERROR(VLOOKUP(BN21,Champs,2,FALSE)),1,0)=0,LOOKUP(BN21,general),1)))","v":1},{"$f":"IF(BN21>Saisies!$C$25,1,(IF(BN21<Saisies!$B$25,1,IF(Saisies!$B$25=0,1,0))))","v":1},{"$f":"IF(BN21>Saisies!$E$25,1,(IF(BN21<Saisies!$D$25,1,IF(Saisies!$D$25=0,1,0))))","v":1},{"$f":"IF(BN21>Saisies!$G$25,1,(IF(BN21<Saisies!$F$25,1,IF(Saisies!$F$25<10,1,0))))","v":1},{"$f":"IF(BN21>Saisies!$C$10,\"\",(IF(BN21<Saisies!$B$10,\"\",BQ21)))","v":""},{"$f":"IF(BN21>Saisies!$E$10,\"\",(IF(BN21<Saisies!$D$10,\"\",BQ21)))","v":""},{"$f":"IF(BN21>Saisies!$G$10,\"\",(IF(BN21<Saisies!$F$10,\"\",BQ21)))","v":""},"2016-06-09","J",8,7,51,{"$f":"IF(MAX(CH21,(CH20+CF21))>=Saisies!$E$4,(IF(CH20<=Saisies!$E$4,CD21,CI20)),0)","v":0},{"$f":"IF(CD21=Saisies!$C$7,MIN((ABS(Saisies!$E$4-CH20)),CK21),CK21)","v":8},{"$f":"IF(ISERROR((IF(CD21>Saisies!$C$7,\"\",IF(ISERROR(IF(CD21<Saisies!$B$7,\"\",CF21)*CL21),IF(CD21<Saisies!$B$7,\"\",CF21),\"\")))*(IF(ISERROR(CM21+1),0,CM21))*CN21*CO21*CP21),\"\",(IF(CD21>Saisies!$C$7,\"\",IF(ISERROR(IF(CD21<Saisies!$B$7,\"\",CF21)*CL21),IF(CD21<Saisies!$B$7,\"\",CF21),\"\")))*(IF(ISERROR(CM21+1),0,CM21))*CN21*CO21*CP21)","v":8},"",1,{"$f":"IF(CD21>Saisies!$C$25,1,(IF(CD21<Saisies!$B$25,1,IF(Saisies!$B$25=0,1,0))))","v":1},{"$f":"IF(CD21>Saisies!$E$25,1,(IF(CD21<Saisies!$D$25,1,IF(Saisies!$D$25=0,1,0))))","v":1},{"$f":"IF(CD21>Saisies!$G$25,1,(IF(CD21<Saisies!$F$25,1,IF(Saisies!$F$25<10,1,0))))","v":1},{"$f":"IF(CD21>Saisies!$C$10,\"\",(IF(CD21<Saisies!$B$10,\"\",CG21)))","v":""},{"$f":"IF(CD21>Saisies!$E$10,\"\",(IF(CD21<Saisies!$D$10,\"\",CG21)))","v":""},{"$f":"IF(CD21>Saisies!$G$10,\"\",(IF(CD21<Saisies!$F$10,\"\",CG21)))","v":""},"2016-07-09","S",0,0,195,{"$f":"IF(MAX(CX21,(CX20+CV21))>=Saisies!$E$4,(IF(CX20<=Saisies!$E$4,CT21,CY20)),0)","v":0},{"$f":"IF(CT21=Saisies!$C$7,MIN((ABS(Saisies!$E$4-CX20)),DA21),DA21)","v":0},{"$f":"IF(ISERROR((IF(CT21>Saisies!$C$7,\"\",IF(ISERROR(IF(CT21<Saisies!$B$7,\"\",CV21)*DB21),IF(CT21<Saisies!$B$7,\"\",CV21),\"\")))*(IF(ISERROR(DC21+1),0,DC21))*DD21*DE21*DF21),\"\",(IF(CT21>Saisies!$C$7,\"\",IF(ISERROR(IF(CT21<Saisies!$B$7,\"\",CV21)*DB21),IF(CT21<Saisies!$B$7,\"\",CV21),\"\")))*(IF(ISERROR(DC21+1),0,DC21))*DD21*DE21*DF21)","v":0},"",1,{"$f":"IF(CT21>Saisies!$C$25,1,(IF(CT21<Saisies!$B$25,1,IF(Saisies!$B$25=0,1,0))))","v":1},{"$f":"IF(CT21>Saisies!$E$25,1,(IF(CT21<Saisies!$D$25,1,IF(Saisies!$D$25=0,1,0))))","v":1},{"$f":"IF(CT21>Saisies!$G$25,1,(IF(CT21<Saisies!$F$25,1,IF(Saisies!$F$25<10,1,0))))","v":1},{"$f":"IF(CT21>Saisies!$C$10,\"\",(IF(CT21<Saisies!$B$10,\"\",CW21)))","v":0},{"$f":"IF(CT21>Saisies!$E$10,\"\",(IF(CT21<Saisies!$D$10,\"\",CW21)))","v":""},{"$f":"IF(CT21>Saisies!$G$10,\"\",(IF(CT21<Saisies!$F$10,\"\",CW21)))","v":""},"2016-08-09","M",8,7,338,{"$f":"IF(DN21>=Saisies!$E$4,(IF(DO20<=Saisies!$E$4,DJ21,DO20)),0)","v":0},{"$f":"IF(DJ21=Saisies!$C$7,MIN((ABS(Saisies!$E$4-DN20)),DQ21),DQ21)","v":""},{"$f":"IF(ISERROR((IF(DJ21>Saisies!$C$7,\"\",IF(ISERROR(IF(DJ21<Saisies!$B$7,\"\",DL21)*DR21),IF(DJ21<Saisies!$B$7,\"\",DL21),\"\")))*(IF(ISERROR(DS21+1),0,DS21))*DT21*DU21*DV21),\"\",(IF(DJ21>Saisies!$C$7,\"\",IF(ISERROR(IF(DJ21<Saisies!$B$7,\"\",DL21)*DR21),IF(DJ21<Saisies!$B$7,\"\",DL21),\"\")))*(IF(ISERROR(DS21+1),0,DS21))*DT21*DU21*DV21)","v":""},7,1,{"$f":"IF(DJ21>Saisies!$C$25,1,(IF(DJ21<Saisies!$B$25,1,IF(Saisies!$B$25=0,1,0))))","v":1},{"$f":"IF(DJ21>Saisies!$E$25,1,(IF(DJ21<Saisies!$D$25,1,IF(Saisies!$D$25=0,1,0))))","v":1},{"$f":"IF(DJ21>Saisies!$G$25,1,(IF(DJ21<Saisies!$F$25,1,IF(Saisies!$F$25<10,1,0))))","v":1},{"$f":"IF(DJ21>Saisies!$C$10,\"\",(IF(DJ21<Saisies!$B$10,\"\",DM21)))","v":""},{"$f":"IF(DJ21>Saisies!$E$10,\"\",(IF(DJ21<Saisies!$D$10,\"\",DM21)))","v":7},{"$f":"IF(DJ21>Saisies!$G$10,\"\",(IF(DJ21<Saisies!$F$10,\"\",DM21)))","v":""},"2016-09-09","V",4,7,492,{"$f":"IF(ED21>=Saisies!$E$4,(IF(EE20<=Saisies!$E$4,DZ21,EE20)),0)","v":42622},{"$f":"IF(DZ21=Saisies!$C$7,MIN((ABS(Saisies!$E$4-ED20)),EG21),EG21)","v":2},{"$f":"IF(ISERROR((IF(DZ21>Saisies!$C$7,\"\",IF(ISERROR(IF(DZ21<Saisies!$B$7,\"\",EB21)*EH21),IF(DZ21<Saisies!$B$7,\"\",EB21),\"\")))*(IF(ISERROR(EI21+1),0,EI21))*EJ21*EK21*EL21),\"\",(IF(DZ21>Saisies!$C$7,\"\",IF(ISERROR(IF(DZ21<Saisies!$B$7,\"\",EB21)*EH21),IF(DZ21<Saisies!$B$7,\"\",EB21),\"\")))*(IF(ISERROR(EI21+1),0,EI21))*EJ21*EK21*EL21)","v":4},"",1,{"$f":"IF(DZ21>Saisies!$C$25,1,(IF(DZ21<Saisies!$B$25,1,IF(Saisies!$B$25=0,1,0))))","v":1},{"$f":"IF(DZ21>Saisies!$E$25,1,(IF(DZ21<Saisies!$D$25,1,IF(Saisies!$D$25=0,1,0))))","v":1},{"$f":"IF(DZ21>Saisies!$G$25,1,(IF(DZ21<Saisies!$F$25,1,IF(Saisies!$F$25<10,1,0))))","v":1},{"$f":"IF(DZ21>Saisies!$C$10,\"\",(IF(DZ21<Saisies!$B$10,\"\",EC21)))","v":""},{"$f":"IF(DZ21>Saisies!$E$10,\"\",(IF(DZ21<Saisies!$D$10,\"\",EC21)))","v":""},{"$f":"IF(DZ21>Saisies!$G$10,\"\",(IF(DZ21<Saisies!$F$10,\"\",EC21)))","v":""},"2016-10-09","D",0,0,492,{"$f":"IF(ET21>=Saisies!$E$4,(IF(EU20<=Saisies!$E$4,EP21,EU20)),0)","v":42622},{"$f":"IF(EP21=Saisies!$C$7,MIN((ABS(Saisies!$E$4-ET20)),EW21),EW21)","v":""},{"$f":"IF(ISERROR((IF(EP21>Saisies!$C$7,\"\",IF(ISERROR(IF(EP21<Saisies!$B$7,\"\",ER21)*EX21),IF(EP21<Saisies!$B$7,\"\",ER21),\"\")))*(IF(ISERROR(EY21+1),0,EY21))*EZ21*FA21*FB21),\"\",(IF(EP21>Saisies!$C$7,\"\",IF(ISERROR(IF(EP21<Saisies!$B$7,\"\",ER21)*EX21),IF(EP21<Saisies!$B$7,\"\",ER21),\"\")))*(IF(ISERROR(EY21+1),0,EY21))*EZ21*FA21*FB21)","v":""},"",1,{"$f":"IF(EP21>Saisies!$C$25,1,(IF(EP21<Saisies!$B$25,1,IF(Saisies!$B$25=0,1,0))))","v":1},{"$f":"IF(EP21>Saisies!$E$25,1,(IF(EP21<Saisies!$D$25,1,IF(Saisies!$D$25=0,1,0))))","v":1},{"$f":"IF(EP21>Saisies!$G$25,1,(IF(EP21<Saisies!$F$25,1,IF(Saisies!$F$25<10,1,0))))","v":1},{"$f":"IF(EP21>Saisies!$C$10,\"\",(IF(EP21<Saisies!$B$10,\"\",ES21)))","v":""},{"$f":"IF(EP21>Saisies!$E$10,\"\",(IF(EP21<Saisies!$D$10,\"\",ES21)))","v":""},{"$f":"IF(EP21>Saisies!$G$10,\"\",(IF(EP21<Saisies!$F$10,\"\",ES21)))","v":""},"2016-11-09","M",8,7,492,{"$f":"IF(FJ21>=Saisies!$E$4,(IF(FK20<=Saisies!$E$4,FF21,FK20)),0)","v":42622},{"$f":"IF(FF21=Saisies!$C$7,MIN((ABS(Saisies!$E$4-FJ20)),FM21),FM21)","v":""},{"$f":"IF(ISERROR((IF(FF21>Saisies!$C$7,\"\",IF(ISERROR(IF(FF21<Saisies!$B$7,\"\",FH21)*FN21),IF(FF21<Saisies!$B$7,\"\",FH21),\"\")))*(IF(ISERROR(FO21+1),0,FO21))*FP21*FQ21*FR21),\"\",(IF(FF21>Saisies!$C$7,\"\",IF(ISERROR(IF(FF21<Saisies!$B$7,\"\",FH21)*FN21),IF(FF21<Saisies!$B$7,\"\",FH21),\"\")))*(IF(ISERROR(FO21+1),0,FO21))*FP21*FQ21*FR21)","v":""},"",1,{"$f":"IF(FF21>Saisies!$C$25,1,(IF(FF21<Saisies!$B$25,1,IF(Saisies!$B$25=0,1,0))))","v":1},{"$f":"IF(FF21>Saisies!$E$25,1,(IF(FF21<Saisies!$D$25,1,IF(Saisies!$D$25=0,1,0))))","v":1},{"$f":"IF(FF21>Saisies!$G$25,1,(IF(FF21<Saisies!$F$25,1,IF(Saisies!$F$25<10,1,0))))","v":1},{"$f":"IF(FF21>Saisies!$C$10,\"\",(IF(FF21<Saisies!$B$10,\"\",FI21)))","v":""},{"$f":"IF(FF21>Saisies!$E$10,\"\",(IF(FF21<Saisies!$D$10,\"\",FI21)))","v":""},{"$f":"IF(FF21>Saisies!$G$10,\"\",(IF(FF21<Saisies!$F$10,\"\",FI21)))","v":""},"2016-12-09","V",4,7,492,{"$f":"IF(FZ21>=Saisies!$E$4,(IF(GA20<=Saisies!$E$4,FV21,GA20)),0)","v":42622},{"$f":"IF(FV21=Saisies!$C$7,MIN((ABS(Saisies!$E$4-FZ20)),GC21),GC21)","v":""},{"$f":"IF(ISERROR((IF(FV21>Saisies!$C$7,\"\",IF(ISERROR(IF(FV21<Saisies!$B$7,\"\",FX21)*GD21),IF(FV21<Saisies!$B$7,\"\",FX21),\"\")))*(IF(ISERROR(GE21+1),0,GE21))*GF21*GG21*GH21),\"\",(IF(FV21>Saisies!$C$7,\"\",IF(ISERROR(IF(FV21<Saisies!$B$7,\"\",FX21)*GD21),IF(FV21<Saisies!$B$7,\"\",FX21),\"\")))*(IF(ISERROR(GE21+1),0,GE21))*GF21*GG21*GH21)","v":""},"",1,{"$f":"IF(FV21>Saisies!$C$25,1,(IF(FV21<Saisies!$B$25,1,IF(Saisies!$B$25=0,1,0))))","v":1},{"$f":"IF(FV21>Saisies!$E$25,1,(IF(FV21<Saisies!$D$25,1,IF(Saisies!$D$25=0,1,0))))","v":1},{"$f":"IF(FV21>Saisies!$G$25,1,(IF(FV21<Saisies!$F$25,1,IF(Saisies!$F$25<10,1,0))))","v":1},{"$f":"IF(FV21>Saisies!$C$10,\"\",(IF(FV21<Saisies!$B$10,\"\",FY21)))","v":""},{"$f":"IF(FV21>Saisies!$E$10,\"\",(IF(FV21<Saisies!$D$10,\"\",FY21)))","v":""},{"$f":"IF(FV21>Saisies!$G$10,\"\",(IF(FV21<Saisies!$F$10,\"\",FY21)))","v":""}]
[null,"2016-01-10","D",0,0,0,{"$f":"IF(MAX(F22,(F21+D22))>=Saisies!$E$4,(IF(F21<=Saisies!$E$4,B22,G21)),0)","v":0},{"$f":"IF(B22=Saisies!$C$7,MIN((ABS(Saisies!$E$4-F21)),I22),I22)","v":""},{"$f":"IF(ISERROR((IF(B22>Saisies!$C$7,\"\",IF(ISERROR(IF(B22<Saisies!$B$7,\"\",D22)*J22),IF(B22<Saisies!$B$7,\"\",D22),\"\")))*(IF(ISERROR(K22+1),0,K22))*L22*M22*N22),\"\",(IF(B22>Saisies!$C$7,\"\",IF(ISERROR(IF(B22<Saisies!$B$7,\"\",D22)*J22),IF(B22<Saisies!$B$7,\"\",D22),\"\")))*(IF(ISERROR(K22+1),0,K22))*L22*M22*N22)","v":""},"",1,{"$f":"IF(B22>Saisies!$C$25,1,(IF(B22<Saisies!$B$25,1,IF(Saisies!$B$25=0,1,0))))","v":1},{"$f":"IF(B22>Saisies!$E$25,1,(IF(B22<Saisies!$D$25,1,IF(Saisies!$D$25=0,1,0))))","v":1},{"$f":"IF(B22>Saisies!$G$25,1,(IF(B22<Saisies!$F$25,1,IF(Saisies!$F$25<10,1,0))))","v":1},{"$f":"IF(B22>Saisies!$C$10,\"\",(IF(B22<Saisies!$B$10,\"\",E22)))","v":""},{"$f":"IF(B22>Saisies!$E$10,\"\",(IF(B22<Saisies!$D$10,\"\",E22)))","v":""},{"$f":"IF(B22>Saisies!$G$10,\"\",(IF(B22<Saisies!$F$10,\"\",E22)))","v":""},"2016-02-10","M",8,7,0,{"$f":"IF(MAX(V22,(V21+T22))>=Saisies!$E$4,(IF(V21<=Saisies!$E$4,R22,W21)),0)","v":0},{"$f":"IF(R22=Saisies!$C$7,MIN((ABS(Saisies!$E$4-V21)),Y22),Y22)","v":""},{"$f":"IF(ISERROR((IF(R22>Saisies!$C$7,\"\",IF(ISERROR(IF(R22<Saisies!$B$7,\"\",T22)*Z22),IF(R22<Saisies!$B$7,\"\",T22),\"\")))*(IF(ISERROR(AA22+1),0,AA22))*AB22*AC22*AD22),\"\",(IF(R22>Saisies!$C$7,\"\",IF(ISERROR(IF(R22<Saisies!$B$7,\"\",T22)*Z22),IF(R22<Saisies!$B$7,\"\",T22),\"\")))*(IF(ISERROR(AA22+1),0,AA22))*AB22*AC22*AD22)","v":""},"",1,{"$f":"IF(R22>Saisies!$C$25,1,(IF(R22<Saisies!$B$25,1,IF(Saisies!$B$25=0,1,0))))","v":1},{"$f":"IF(R22>Saisies!$E$25,1,(IF(R22<Saisies!$D$25,1,IF(Saisies!$D$25=0,1,0))))","v":1},{"$f":"IF(R22>Saisies!$G$25,1,(IF(R22<Saisies!$F$25,1,IF(Saisies!$F$25<10,1,0))))","v":1},{"$f":"IF(R22>Saisies!$C$10,\"\",(IF(R22<Saisies!$B$10,\"\",U22)))","v":""},{"$f":"IF(R22>Saisies!$E$10,\"\",(IF(R22<Saisies!$D$10,\"\",U22)))","v":""},{"$f":"IF(R22>Saisies!$G$10,\"\",(IF(R22<Saisies!$F$10,\"\",U22)))","v":""},"2016-03-10","J",8,7,0,{"$f":"IF(MAX(AL22,(AL21+AJ22))>=Saisies!$E$4,(IF(AL21<=Saisies!$E$4,AH22,AM21)),0)","v":0},{"$f":"IF(AH22=Saisies!$C$7,MIN((ABS(Saisies!$E$4-AL21)),AO22),AO22)","v":""},{"$f":"IF(ISERROR((IF(AH22>Saisies!$C$7,\"\",IF(ISERROR(IF(AH22<Saisies!$B$7,\"\",AJ22)*AP22),IF(AH22<Saisies!$B$7,\"\",AJ22),\"\")))*(IF(ISERROR(AQ22+1),0,AQ22))*AR22*AS22*AT22),\"\",(IF(AH22>Saisies!$C$7,\"\",IF(ISERROR(IF(AH22<Saisies!$B$7,\"\",AJ22)*AP22),IF(AH22<Saisies!$B$7,\"\",AJ22),\"\")))*(IF(ISERROR(AQ22+1),0,AQ22))*AR22*AS22*AT22)","v":""},"",1,{"$f":"IF(AH22>Saisies!$C$25,1,(IF(AH22<Saisies!$B$25,1,IF(Saisies!$B$25=0,1,0))))","v":1},{"$f":"IF(AH22>Saisies!$E$25,1,(IF(AH22<Saisies!$D$25,1,IF(Saisies!$D$25=0,1,0))))","v":1},{"$f":"IF(AH22>Saisies!$G$25,1,(IF(AH22<Saisies!$F$25,1,IF(Saisies!$F$25<10,1,0))))","v":1},{"$f":"IF(AH22>Saisies!$C$10,\"\",(IF(AH22<Saisies!$B$10,\"\",AK22)))","v":""},{"$f":"IF(AH22>Saisies!$E$10,\"\",(IF(AH22<Saisies!$D$10,\"\",AK22)))","v":""},{"$f":"IF(AH22>Saisies!$G$10,\"\",(IF(AH22<Saisies!$F$10,\"\",AK22)))","v":""},"2016-04-10","D",0,0,0,{"$f":"IF(BB22>=Saisies!$E$4,(IF(BC21<=Saisies!$E$4,AX22,BC21)),0)","v":0},{"$f":"IF(AX22=Saisies!$C$7,MIN((ABS(Saisies!$E$4-BB21)),BE22),BE22)","v":""},{"$f":"IF(ISERROR((IF(AX22>Saisies!$C$7,\"\",IF(ISERROR(IF(AX22<Saisies!$B$7,\"\",AZ22)*BF22),IF(AX22<Saisies!$B$7,\"\",AZ22),\"\")))*(IF(ISERROR(BG22+1),0,BG22))*BH22*BI22*BJ22),\"\",(IF(AX22>Saisies!$C$7,\"\",IF(ISERROR(IF(AX22<Saisies!$B$7,\"\",AZ22)*BF22),IF(AX22<Saisies!$B$7,\"\",AZ22),\"\")))*(IF(ISERROR(BG22+1),0,BG22))*BH22*BI22*BJ22)","v":""},"",1,{"$f":"IF(AX22>Saisies!$C$25,1,(IF(AX22<Saisies!$B$25,1,IF(Saisies!$B$25=0,1,0))))","v":1},{"$f":"IF(AX22>Saisies!$E$25,1,(IF(AX22<Saisies!$D$25,1,IF(Saisies!$D$25=0,1,0))))","v":1},{"$f":"IF(AX22>Saisies!$G$25,1,(IF(AX22<Saisies!$F$25,1,IF(Saisies!$F$25<10,1,0))))","v":1},{"$f":"IF(AX22>Saisies!$C$10,\"\",(IF(AX22<Saisies!$B$10,\"\",BA22)))","v":""},{"$f":"IF(AX22>Saisies!$E$10,\"\",(IF(AX22<Saisies!$D$10,\"\",BA22)))","v":""},{"$f":"IF(AX22>Saisies!$G$10,\"\",(IF(AX22<Saisies!$F$10,\"\",BA22)))","v":""},"2016-05-10","M",8,7,0,{"$f":"IF(MAX(BR22,(BR21+BP22))>=Saisies!$E$4,(IF(BR21<=Saisies!$E$4,BN22,BS21)),0)","v":0},{"$f":"IF(BN22=Saisies!$C$7,MIN((ABS(Saisies!$E$4-BR21)),BU22),BU22)","v":""},{"$f":"IF(ISERROR((IF(BN22>Saisies!$C$7,\"\",IF(ISERROR(IF(BN22<Saisies!$B$7,\"\",BP22)*BV22),IF(BN22<Saisies!$B$7,\"\",BP22),\"\")))*(IF(ISERROR(BW22+1),0,BW22))*BX22*BY22*BZ22),\"\",(IF(BN22>Saisies!$C$7,\"\",IF(ISERROR(IF(BN22<Saisies!$B$7,\"\",BP22)*BV22),IF(BN22<Saisies!$B$7,\"\",BP22),\"\")))*(IF(ISERROR(BW22+1),0,BW22))*BX22*BY22*BZ22)","v":""},"",1,{"$f":"IF(BN22>Saisies!$C$25,1,(IF(BN22<Saisies!$B$25,1,IF(Saisies!$B$25=0,1,0))))","v":1},{"$f":"IF(BN22>Saisies!$E$25,1,(IF(BN22<Saisies!$D$25,1,IF(Saisies!$D$25=0,1,0))))","v":1},{"$f":"IF(BN22>Saisies!$G$25,1,(IF(BN22<Saisies!$F$25,1,IF(Saisies!$F$25<10,1,0))))","v":1},{"$f":"IF(BN22>Saisies!$C$10,\"\",(IF(BN22<Saisies!$B$10,\"\",BQ22)))","v":""},{"$f":"IF(BN22>Saisies!$E$10,\"\",(IF(BN22<Saisies!$D$10,\"\",BQ22)))","v":""},{"$f":"IF(BN22>Saisies!$G$10,\"\",(IF(BN22<Saisies!$F$10,\"\",BQ22)))","v":""},"2016-06-10","V",4,7,55,{"$f":"IF(MAX(CH22,(CH21+CF22))>=Saisies!$E$4,(IF(CH21<=Saisies!$E$4,CD22,CI21)),0)","v":0},{"$f":"IF(CD22=Saisies!$C$7,MIN((ABS(Saisies!$E$4-CH21)),CK22),CK22)","v":4},{"$f":"IF(ISERROR((IF(CD22>Saisies!$C$7,\"\",IF(ISERROR(IF(CD22<Saisies!$B$7,\"\",CF22)*CL22),IF(CD22<Saisies!$B$7,\"\",CF22),\"\")))*(IF(ISERROR(CM22+1),0,CM22))*CN22*CO22*CP22),\"\",(IF(CD22>Saisies!$C$7,\"\",IF(ISERROR(IF(CD22<Saisies!$B$7,\"\",CF22)*CL22),IF(CD22<Saisies!$B$7,\"\",CF22),\"\")))*(IF(ISERROR(CM22+1),0,CM22))*CN22*CO22*CP22)","v":4},"",1,{"$f":"IF(CD22>Saisies!$C$25,1,(IF(CD22<Saisies!$B$25,1,IF(Saisies!$B$25=0,1,0))))","v":1},{"$f":"IF(CD22>Saisies!$E$25,1,(IF(CD22<Saisies!$D$25,1,IF(Saisies!$D$25=0,1,0))))","v":1},{"$f":"IF(CD22>Saisies!$G$25,1,(IF(CD22<Saisies!$F$25,1,IF(Saisies!$F$25<10,1,0))))","v":1},{"$f":"IF(CD22>Saisies!$C$10,\"\",(IF(CD22<Saisies!$B$10,\"\",CG22)))","v":""},{"$f":"IF(CD22>Saisies!$E$10,\"\",(IF(CD22<Saisies!$D$10,\"\",CG22)))","v":""},{"$f":"IF(CD22>Saisies!$G$10,\"\",(IF(CD22<Saisies!$F$10,\"\",CG22)))","v":""},"2016-07-10","D",0,0,195,{"$f":"IF(MAX(CX22,(CX21+CV22))>=Saisies!$E$4,(IF(CX21<=Saisies!$E$4,CT22,CY21)),0)","v":0},{"$f":"IF(CT22=Saisies!$C$7,MIN((ABS(Saisies!$E$4-CX21)),DA22),DA22)","v":0},{"$f":"IF(ISERROR((IF(CT22>Saisies!$C$7,\"\",IF(ISERROR(IF(CT22<Saisies!$B$7,\"\",CV22)*DB22),IF(CT22<Saisies!$B$7,\"\",CV22),\"\")))*(IF(ISERROR(DC22+1),0,DC22))*DD22*DE22*DF22),\"\",(IF(CT22>Saisies!$C$7,\"\",IF(ISERROR(IF(CT22<Saisies!$B$7,\"\",CV22)*DB22),IF(CT22<Saisies!$B$7,\"\",CV22),\"\")))*(IF(ISERROR(DC22+1),0,DC22))*DD22*DE22*DF22)","v":0},"",1,{"$f":"IF(CT22>Saisies!$C$25,1,(IF(CT22<Saisies!$B$25,1,IF(Saisies!$B$25=0,1,0))))","v":1},{"$f":"IF(CT22>Saisies!$E$25,1,(IF(CT22<Saisies!$D$25,1,IF(Saisies!$D$25=0,1,0))))","v":1},{"$f":"IF(CT22>Saisies!$G$25,1,(IF(CT22<Saisies!$F$25,1,IF(Saisies!$F$25<10,1,0))))","v":1},{"$f":"IF(CT22>Saisies!$C$10,\"\",(IF(CT22<Saisies!$B$10,\"\",CW22)))","v":0},{"$f":"IF(CT22>Saisies!$E$10,\"\",(IF(CT22<Saisies!$D$10,\"\",CW22)))","v":""},{"$f":"IF(CT22>Saisies!$G$10,\"\",(IF(CT22<Saisies!$F$10,\"\",CW22)))","v":""},"2016-08-10","M",8,7,345,{"$f":"IF(DN22>=Saisies!$E$4,(IF(DO21<=Saisies!$E$4,DJ22,DO21)),0)","v":0},{"$f":"IF(DJ22=Saisies!$C$7,MIN((ABS(Saisies!$E$4-DN21)),DQ22),DQ22)","v":""},{"$f":"IF(ISERROR((IF(DJ22>Saisies!$C$7,\"\",IF(ISERROR(IF(DJ22<Saisies!$B$7,\"\",DL22)*DR22),IF(DJ22<Saisies!$B$7,\"\",DL22),\"\")))*(IF(ISERROR(DS22+1),0,DS22))*DT22*DU22*DV22),\"\",(IF(DJ22>Saisies!$C$7,\"\",IF(ISERROR(IF(DJ22<Saisies!$B$7,\"\",DL22)*DR22),IF(DJ22<Saisies!$B$7,\"\",DL22),\"\")))*(IF(ISERROR(DS22+1),0,DS22))*DT22*DU22*DV22)","v":""},7,1,{"$f":"IF(DJ22>Saisies!$C$25,1,(IF(DJ22<Saisies!$B$25,1,IF(Saisies!$B$25=0,1,0))))","v":1},{"$f":"IF(DJ22>Saisies!$E$25,1,(IF(DJ22<Saisies!$D$25,1,IF(Saisies!$D$25=0,1,0))))","v":1},{"$f":"IF(DJ22>Saisies!$G$25,1,(IF(DJ22<Saisies!$F$25,1,IF(Saisies!$F$25<10,1,0))))","v":1},{"$f":"IF(DJ22>Saisies!$C$10,\"\",(IF(DJ22<Saisies!$B$10,\"\",DM22)))","v":""},{"$f":"IF(DJ22>Saisies!$E$10,\"\",(IF(DJ22<Saisies!$D$10,\"\",DM22)))","v":7},{"$f":"IF(DJ22>Saisies!$G$10,\"\",(IF(DJ22<Saisies!$F$10,\"\",DM22)))","v":""},"2016-09-10","S",0,0,492,{"$f":"IF(ED22>=Saisies!$E$4,(IF(EE21<=Saisies!$E$4,DZ22,EE21)),0)","v":42622},{"$f":"IF(DZ22=Saisies!$C$7,MIN((ABS(Saisies!$E$4-ED21)),EG22),EG22)","v":""},{"$f":"IF(ISERROR((IF(DZ22>Saisies!$C$7,\"\",IF(ISERROR(IF(DZ22<Saisies!$B$7,\"\",EB22)*EH22),IF(DZ22<Saisies!$B$7,\"\",EB22),\"\")))*(IF(ISERROR(EI22+1),0,EI22))*EJ22*EK22*EL22),\"\",(IF(DZ22>Saisies!$C$7,\"\",IF(ISERROR(IF(DZ22<Saisies!$B$7,\"\",EB22)*EH22),IF(DZ22<Saisies!$B$7,\"\",EB22),\"\")))*(IF(ISERROR(EI22+1),0,EI22))*EJ22*EK22*EL22)","v":""},"",1,{"$f":"IF(DZ22>Saisies!$C$25,1,(IF(DZ22<Saisies!$B$25,1,IF(Saisies!$B$25=0,1,0))))","v":1},{"$f":"IF(DZ22>Saisies!$E$25,1,(IF(DZ22<Saisies!$D$25,1,IF(Saisies!$D$25=0,1,0))))","v":1},{"$f":"IF(DZ22>Saisies!$G$25,1,(IF(DZ22<Saisies!$F$25,1,IF(Saisies!$F$25<10,1,0))))","v":1},{"$f":"IF(DZ22>Saisies!$C$10,\"\",(IF(DZ22<Saisies!$B$10,\"\",EC22)))","v":""},{"$f":"IF(DZ22>Saisies!$E$10,\"\",(IF(DZ22<Saisies!$D$10,\"\",EC22)))","v":""},{"$f":"IF(DZ22>Saisies!$G$10,\"\",(IF(DZ22<Saisies!$F$10,\"\",EC22)))","v":""},"2016-10-10","L",7,7,492,{"$f":"IF(ET22>=Saisies!$E$4,(IF(EU21<=Saisies!$E$4,EP22,EU21)),0)","v":42622},{"$f":"IF(EP22=Saisies!$C$7,MIN((ABS(Saisies!$E$4-ET21)),EW22),EW22)","v":""},{"$f":"IF(ISERROR((IF(EP22>Saisies!$C$7,\"\",IF(ISERROR(IF(EP22<Saisies!$B$7,\"\",ER22)*EX22),IF(EP22<Saisies!$B$7,\"\",ER22),\"\")))*(IF(ISERROR(EY22+1),0,EY22))*EZ22*FA22*FB22),\"\",(IF(EP22>Saisies!$C$7,\"\",IF(ISERROR(IF(EP22<Saisies!$B$7,\"\",ER22)*EX22),IF(EP22<Saisies!$B$7,\"\",ER22),\"\")))*(IF(ISERROR(EY22+1),0,EY22))*EZ22*FA22*FB22)","v":""},"",1,{"$f":"IF(EP22>Saisies!$C$25,1,(IF(EP22<Saisies!$B$25,1,IF(Saisies!$B$25=0,1,0))))","v":1},{"$f":"IF(EP22>Saisies!$E$25,1,(IF(EP22<Saisies!$D$25,1,IF(Saisies!$D$25=0,1,0))))","v":1},{"$f":"IF(EP22>Saisies!$G$25,1,(IF(EP22<Saisies!$F$25,1,IF(Saisies!$F$25<10,1,0))))","v":1},{"$f":"IF(EP22>Saisies!$C$10,\"\",(IF(EP22<Saisies!$B$10,\"\",ES22)))","v":""},{"$f":"IF(EP22>Saisies!$E$10,\"\",(IF(EP22<Saisies!$D$10,\"\",ES22)))","v":""},{"$f":"IF(EP22>Saisies!$G$10,\"\",(IF(EP22<Saisies!$F$10,\"\",ES22)))","v":""},"2016-11-10","J",8,7,492,{"$f":"IF(FJ22>=Saisies!$E$4,(IF(FK21<=Saisies!$E$4,FF22,FK21)),0)","v":42622},{"$f":"IF(FF22=Saisies!$C$7,MIN((ABS(Saisies!$E$4-FJ21)),FM22),FM22)","v":""},{"$f":"IF(ISERROR((IF(FF22>Saisies!$C$7,\"\",IF(ISERROR(IF(FF22<Saisies!$B$7,\"\",FH22)*FN22),IF(FF22<Saisies!$B$7,\"\",FH22),\"\")))*(IF(ISERROR(FO22+1),0,FO22))*FP22*FQ22*FR22),\"\",(IF(FF22>Saisies!$C$7,\"\",IF(ISERROR(IF(FF22<Saisies!$B$7,\"\",FH22)*FN22),IF(FF22<Saisies!$B$7,\"\",FH22),\"\")))*(IF(ISERROR(FO22+1),0,FO22))*FP22*FQ22*FR22)","v":""},"",1,{"$f":"IF(FF22>Saisies!$C$25,1,(IF(FF22<Saisies!$B$25,1,IF(Saisies!$B$25=0,1,0))))","v":1},{"$f":"IF(FF22>Saisies!$E$25,1,(IF(FF22<Saisies!$D$25,1,IF(Saisies!$D$25=0,1,0))))","v":1},{"$f":"IF(FF22>Saisies!$G$25,1,(IF(FF22<Saisies!$F$25,1,IF(Saisies!$F$25<10,1,0))))","v":1},{"$f":"IF(FF22>Saisies!$C$10,\"\",(IF(FF22<Saisies!$B$10,\"\",FI22)))","v":""},{"$f":"IF(FF22>Saisies!$E$10,\"\",(IF(FF22<Saisies!$D$10,\"\",FI22)))","v":""},{"$f":"IF(FF22>Saisies!$G$10,\"\",(IF(FF22<Saisies!$F$10,\"\",FI22)))","v":""},"2016-12-10","S",0,0,492,{"$f":"IF(FZ22>=Saisies!$E$4,(IF(GA21<=Saisies!$E$4,FV22,GA21)),0)","v":42622},{"$f":"IF(FV22=Saisies!$C$7,MIN((ABS(Saisies!$E$4-FZ21)),GC22),GC22)","v":""},{"$f":"IF(ISERROR((IF(FV22>Saisies!$C$7,\"\",IF(ISERROR(IF(FV22<Saisies!$B$7,\"\",FX22)*GD22),IF(FV22<Saisies!$B$7,\"\",FX22),\"\")))*(IF(ISERROR(GE22+1),0,GE22))*GF22*GG22*GH22),\"\",(IF(FV22>Saisies!$C$7,\"\",IF(ISERROR(IF(FV22<Saisies!$B$7,\"\",FX22)*GD22),IF(FV22<Saisies!$B$7,\"\",FX22),\"\")))*(IF(ISERROR(GE22+1),0,GE22))*GF22*GG22*GH22)","v":""},"",1,{"$f":"IF(FV22>Saisies!$C$25,1,(IF(FV22<Saisies!$B$25,1,IF(Saisies!$B$25=0,1,0))))","v":1},{"$f":"IF(FV22>Saisies!$E$25,1,(IF(FV22<Saisies!$D$25,1,IF(Saisies!$D$25=0,1,0))))","v":1},{"$f":"IF(FV22>Saisies!$G$25,1,(IF(FV22<Saisies!$F$25,1,IF(Saisies!$F$25<10,1,0))))","v":1},{"$f":"IF(FV22>Saisies!$C$10,\"\",(IF(FV22<Saisies!$B$10,\"\",FY22)))","v":""},{"$f":"IF(FV22>Saisies!$E$10,\"\",(IF(FV22<Saisies!$D$10,\"\",FY22)))","v":""},{"$f":"IF(FV22>Saisies!$G$10,\"\",(IF(FV22<Saisies!$F$10,\"\",FY22)))","v":""}]
[null,"2016-01-11","L",7,7,0,{"$f":"IF(MAX(F23,(F22+D23))>=Saisies!$E$4,(IF(F22<=Saisies!$E$4,B23,G22)),0)","v":0},{"$f":"IF(B23=Saisies!$C$7,MIN((ABS(Saisies!$E$4-F22)),I23),I23)","v":""},{"$f":"IF(ISERROR((IF(B23>Saisies!$C$7,\"\",IF(ISERROR(IF(B23<Saisies!$B$7,\"\",D23)*J23),IF(B23<Saisies!$B$7,\"\",D23),\"\")))*(IF(ISERROR(K23+1),0,K23))*L23*M23*N23),\"\",(IF(B23>Saisies!$C$7,\"\",IF(ISERROR(IF(B23<Saisies!$B$7,\"\",D23)*J23),IF(B23<Saisies!$B$7,\"\",D23),\"\")))*(IF(ISERROR(K23+1),0,K23))*L23*M23*N23)","v":""},"",1,{"$f":"IF(B23>Saisies!$C$25,1,(IF(B23<Saisies!$B$25,1,IF(Saisies!$B$25=0,1,0))))","v":1},{"$f":"IF(B23>Saisies!$E$25,1,(IF(B23<Saisies!$D$25,1,IF(Saisies!$D$25=0,1,0))))","v":1},{"$f":"IF(B23>Saisies!$G$25,1,(IF(B23<Saisies!$F$25,1,IF(Saisies!$F$25<10,1,0))))","v":1},{"$f":"IF(B23>Saisies!$C$10,\"\",(IF(B23<Saisies!$B$10,\"\",E23)))","v":""},{"$f":"IF(B23>Saisies!$E$10,\"\",(IF(B23<Saisies!$D$10,\"\",E23)))","v":""},{"$f":"IF(B23>Saisies!$G$10,\"\",(IF(B23<Saisies!$F$10,\"\",E23)))","v":""},"2016-02-11","J",8,7,0,{"$f":"IF(MAX(V23,(V22+T23))>=Saisies!$E$4,(IF(V22<=Saisies!$E$4,R23,W22)),0)","v":0},{"$f":"IF(R23=Saisies!$C$7,MIN((ABS(Saisies!$E$4-V22)),Y23),Y23)","v":""},{"$f":"IF(ISERROR((IF(R23>Saisies!$C$7,\"\",IF(ISERROR(IF(R23<Saisies!$B$7,\"\",T23)*Z23),IF(R23<Saisies!$B$7,\"\",T23),\"\")))*(IF(ISERROR(AA23+1),0,AA23))*AB23*AC23*AD23),\"\",(IF(R23>Saisies!$C$7,\"\",IF(ISERROR(IF(R23<Saisies!$B$7,\"\",T23)*Z23),IF(R23<Saisies!$B$7,\"\",T23),\"\")))*(IF(ISERROR(AA23+1),0,AA23))*AB23*AC23*AD23)","v":""},"",1,{"$f":"IF(R23>Saisies!$C$25,1,(IF(R23<Saisies!$B$25,1,IF(Saisies!$B$25=0,1,0))))","v":1},{"$f":"IF(R23>Saisies!$E$25,1,(IF(R23<Saisies!$D$25,1,IF(Saisies!$D$25=0,1,0))))","v":1},{"$f":"IF(R23>Saisies!$G$25,1,(IF(R23<Saisies!$F$25,1,IF(Saisies!$F$25<10,1,0))))","v":1},{"$f":"IF(R23>Saisies!$C$10,\"\",(IF(R23<Saisies!$B$10,\"\",U23)))","v":""},{"$f":"IF(R23>Saisies!$E$10,\"\",(IF(R23<Saisies!$D$10,\"\",U23)))","v":""},{"$f":"IF(R23>Saisies!$G$10,\"\",(IF(R23<Saisies!$F$10,\"\",U23)))","v":""},"2016-03-11","V",4,7,0,{"$f":"IF(MAX(AL23,(AL22+AJ23))>=Saisies!$E$4,(IF(AL22<=Saisies!$E$4,AH23,AM22)),0)","v":0},{"$f":"IF(AH23=Saisies!$C$7,MIN((ABS(Saisies!$E$4-AL22)),AO23),AO23)","v":""},{"$f":"IF(ISERROR((IF(AH23>Saisies!$C$7,\"\",IF(ISERROR(IF(AH23<Saisies!$B$7,\"\",AJ23)*AP23),IF(AH23<Saisies!$B$7,\"\",AJ23),\"\")))*(IF(ISERROR(AQ23+1),0,AQ23))*AR23*AS23*AT23),\"\",(IF(AH23>Saisies!$C$7,\"\",IF(ISERROR(IF(AH23<Saisies!$B$7,\"\",AJ23)*AP23),IF(AH23<Saisies!$B$7,\"\",AJ23),\"\")))*(IF(ISERROR(AQ23+1),0,AQ23))*AR23*AS23*AT23)","v":""},"",1,{"$f":"IF(AH23>Saisies!$C$25,1,(IF(AH23<Saisies!$B$25,1,IF(Saisies!$B$25=0,1,0))))","v":1},{"$f":"IF(AH23>Saisies!$E$25,1,(IF(AH23<Saisies!$D$25,1,IF(Saisies!$D$25=0,1,0))))","v":1},{"$f":"IF(AH23>Saisies!$G$25,1,(IF(AH23<Saisies!$F$25,1,IF(Saisies!$F$25<10,1,0))))","v":1},{"$f":"IF(AH23>Saisies!$C$10,\"\",(IF(AH23<Saisies!$B$10,\"\",AK23)))","v":""},{"$f":"IF(AH23>Saisies!$E$10,\"\",(IF(AH23<Saisies!$D$10,\"\",AK23)))","v":""},{"$f":"IF(AH23>Saisies!$G$10,\"\",(IF(AH23<Saisies!$F$10,\"\",AK23)))","v":""},"2016-04-11","L",7,7,0,{"$f":"IF(BB23>=Saisies!$E$4,(IF(BC22<=Saisies!$E$4,AX23,BC22)),0)","v":0},{"$f":"IF(AX23=Saisies!$C$7,MIN((ABS(Saisies!$E$4-BB22)),BE23),BE23)","v":""},{"$f":"IF(ISERROR((IF(AX23>Saisies!$C$7,\"\",IF(ISERROR(IF(AX23<Saisies!$B$7,\"\",AZ23)*BF23),IF(AX23<Saisies!$B$7,\"\",AZ23),\"\")))*(IF(ISERROR(BG23+1),0,BG23))*BH23*BI23*BJ23),\"\",(IF(AX23>Saisies!$C$7,\"\",IF(ISERROR(IF(AX23<Saisies!$B$7,\"\",AZ23)*BF23),IF(AX23<Saisies!$B$7,\"\",AZ23),\"\")))*(IF(ISERROR(BG23+1),0,BG23))*BH23*BI23*BJ23)","v":""},"",1,{"$f":"IF(AX23>Saisies!$C$25,1,(IF(AX23<Saisies!$B$25,1,IF(Saisies!$B$25=0,1,0))))","v":1},{"$f":"IF(AX23>Saisies!$E$25,1,(IF(AX23<Saisies!$D$25,1,IF(Saisies!$D$25=0,1,0))))","v":1},{"$f":"IF(AX23>Saisies!$G$25,1,(IF(AX23<Saisies!$F$25,1,IF(Saisies!$F$25<10,1,0))))","v":1},{"$f":"IF(AX23>Saisies!$C$10,\"\",(IF(AX23<Saisies!$B$10,\"\",BA23)))","v":""},{"$f":"IF(AX23>Saisies!$E$10,\"\",(IF(AX23<Saisies!$D$10,\"\",BA23)))","v":""},{"$f":"IF(AX23>Saisies!$G$10,\"\",(IF(AX23<Saisies!$F$10,\"\",BA23)))","v":""},"2016-05-11","M",8,7,0,{"$f":"IF(MAX(BR23,(BR22+BP23))>=Saisies!$E$4,(IF(BR22<=Saisies!$E$4,BN23,BS22)),0)","v":0},{"$f":"IF(BN23=Saisies!$C$7,MIN((ABS(Saisies!$E$4-BR22)),BU23),BU23)","v":""},{"$f":"IF(ISERROR((IF(BN23>Saisies!$C$7,\"\",IF(ISERROR(IF(BN23<Saisies!$B$7,\"\",BP23)*BV23),IF(BN23<Saisies!$B$7,\"\",BP23),\"\")))*(IF(ISERROR(BW23+1),0,BW23))*BX23*BY23*BZ23),\"\",(IF(BN23>Saisies!$C$7,\"\",IF(ISERROR(IF(BN23<Saisies!$B$7,\"\",BP23)*BV23),IF(BN23<Saisies!$B$7,\"\",BP23),\"\")))*(IF(ISERROR(BW23+1),0,BW23))*BX23*BY23*BZ23)","v":""},"",1,{"$f":"IF(BN23>Saisies!$C$25,1,(IF(BN23<Saisies!$B$25,1,IF(Saisies!$B$25=0,1,0))))","v":1},{"$f":"IF(BN23>Saisies!$E$25,1,(IF(BN23<Saisies!$D$25,1,IF(Saisies!$D$25=0,1,0))))","v":1},{"$f":"IF(BN23>Saisies!$G$25,1,(IF(BN23<Saisies!$F$25,1,IF(Saisies!$F$25<10,1,0))))","v":1},{"$f":"IF(BN23>Saisies!$C$10,\"\",(IF(BN23<Saisies!$B$10,\"\",BQ23)))","v":""},{"$f":"IF(BN23>Saisies!$E$10,\"\",(IF(BN23<Saisies!$D$10,\"\",BQ23)))","v":""},{"$f":"IF(BN23>Saisies!$G$10,\"\",(IF(BN23<Saisies!$F$10,\"\",BQ23)))","v":""},"2016-06-11","S",0,0,55,{"$f":"IF(MAX(CH23,(CH22+CF23))>=Saisies!$E$4,(IF(CH22<=Saisies!$E$4,CD23,CI22)),0)","v":0},{"$f":"IF(CD23=Saisies!$C$7,MIN((ABS(Saisies!$E$4-CH22)),CK23),CK23)","v":0},{"$f":"IF(ISERROR((IF(CD23>Saisies!$C$7,\"\",IF(ISERROR(IF(CD23<Saisies!$B$7,\"\",CF23)*CL23),IF(CD23<Saisies!$B$7,\"\",CF23),\"\")))*(IF(ISERROR(CM23+1),0,CM23))*CN23*CO23*CP23),\"\",(IF(CD23>Saisies!$C$7,\"\",IF(ISERROR(IF(CD23<Saisies!$B$7,\"\",CF23)*CL23),IF(CD23<Saisies!$B$7,\"\",CF23),\"\")))*(IF(ISERROR(CM23+1),0,CM23))*CN23*CO23*CP23)","v":0},"",1,{"$f":"IF(CD23>Saisies!$C$25,1,(IF(CD23<Saisies!$B$25,1,IF(Saisies!$B$25=0,1,0))))","v":1},{"$f":"IF(CD23>Saisies!$E$25,1,(IF(CD23<Saisies!$D$25,1,IF(Saisies!$D$25=0,1,0))))","v":1},{"$f":"IF(CD23>Saisies!$G$25,1,(IF(CD23<Saisies!$F$25,1,IF(Saisies!$F$25<10,1,0))))","v":1},{"$f":"IF(CD23>Saisies!$C$10,\"\",(IF(CD23<Saisies!$B$10,\"\",CG23)))","v":""},{"$f":"IF(CD23>Saisies!$E$10,\"\",(IF(CD23<Saisies!$D$10,\"\",CG23)))","v":""},{"$f":"IF(CD23>Saisies!$G$10,\"\",(IF(CD23<Saisies!$F$10,\"\",CG23)))","v":""},"2016-07-11","L",7,7,202,{"$f":"IF(MAX(CX23,(CX22+CV23))>=Saisies!$E$4,(IF(CX22<=Saisies!$E$4,CT23,CY22)),0)","v":0},{"$f":"IF(CT23=Saisies!$C$7,MIN((ABS(Saisies!$E$4-CX22)),DA23),DA23)","v":""},{"$f":"IF(ISERROR((IF(CT23>Saisies!$C$7,\"\",IF(ISERROR(IF(CT23<Saisies!$B$7,\"\",CV23)*DB23),IF(CT23<Saisies!$B$7,\"\",CV23),\"\")))*(IF(ISERROR(DC23+1),0,DC23))*DD23*DE23*DF23),\"\",(IF(CT23>Saisies!$C$7,\"\",IF(ISERROR(IF(CT23<Saisies!$B$7,\"\",CV23)*DB23),IF(CT23<Saisies!$B$7,\"\",CV23),\"\")))*(IF(ISERROR(DC23+1),0,DC23))*DD23*DE23*DF23)","v":""},7,1,{"$f":"IF(CT23>Saisies!$C$25,1,(IF(CT23<Saisies!$B$25,1,IF(Saisies!$B$25=0,1,0))))","v":1},{"$f":"IF(CT23>Saisies!$E$25,1,(IF(CT23<Saisies!$D$25,1,IF(Saisies!$D$25=0,1,0))))","v":1},{"$f":"IF(CT23>Saisies!$G$25,1,(IF(CT23<Saisies!$F$25,1,IF(Saisies!$F$25<10,1,0))))","v":1},{"$f":"IF(CT23>Saisies!$C$10,\"\",(IF(CT23<Saisies!$B$10,\"\",CW23)))","v":7},{"$f":"IF(CT23>Saisies!$E$10,\"\",(IF(CT23<Saisies!$D$10,\"\",CW23)))","v":""},{"$f":"IF(CT23>Saisies!$G$10,\"\",(IF(CT23<Saisies!$F$10,\"\",CW23)))","v":""},"2016-08-11","J",8,7,352,{"$f":"IF(DN23>=Saisies!$E$4,(IF(DO22<=Saisies!$E$4,DJ23,DO22)),0)","v":0},{"$f":"IF(DJ23=Saisies!$C$7,MIN((ABS(Saisies!$E$4-DN22)),DQ23),DQ23)","v":""},{"$f":"IF(ISERROR((IF(DJ23>Saisies!$C$7,\"\",IF(ISERROR(IF(DJ23<Saisies!$B$7,\"\",DL23)*DR23),IF(DJ23<Saisies!$B$7,\"\",DL23),\"\")))*(IF(ISERROR(DS23+1),0,DS23))*DT23*DU23*DV23),\"\",(IF(DJ23>Saisies!$C$7,\"\",IF(ISERROR(IF(DJ23<Saisies!$B$7,\"\",DL23)*DR23),IF(DJ23<Saisies!$B$7,\"\",DL23),\"\")))*(IF(ISERROR(DS23+1),0,DS23))*DT23*DU23*DV23)","v":""},7,1,{"$f":"IF(DJ23>Saisies!$C$25,1,(IF(DJ23<Saisies!$B$25,1,IF(Saisies!$B$25=0,1,0))))","v":1},{"$f":"IF(DJ23>Saisies!$E$25,1,(IF(DJ23<Saisies!$D$25,1,IF(Saisies!$D$25=0,1,0))))","v":1},{"$f":"IF(DJ23>Saisies!$G$25,1,(IF(DJ23<Saisies!$F$25,1,IF(Saisies!$F$25<10,1,0))))","v":1},{"$f":"IF(DJ23>Saisies!$C$10,\"\",(IF(DJ23<Saisies!$B$10,\"\",DM23)))","v":""},{"$f":"IF(DJ23>Saisies!$E$10,\"\",(IF(DJ23<Saisies!$D$10,\"\",DM23)))","v":7},{"$f":"IF(DJ23>Saisies!$G$10,\"\",(IF(DJ23<Saisies!$F$10,\"\",DM23)))","v":""},"2016-09-11","D",0,0,492,{"$f":"IF(ED23>=Saisies!$E$4,(IF(EE22<=Saisies!$E$4,DZ23,EE22)),0)","v":42622},{"$f":"IF(DZ23=Saisies!$C$7,MIN((ABS(Saisies!$E$4-ED22)),EG23),EG23)","v":""},{"$f":"IF(ISERROR((IF(DZ23>Saisies!$C$7,\"\",IF(ISERROR(IF(DZ23<Saisies!$B$7,\"\",EB23)*EH23),IF(DZ23<Saisies!$B$7,\"\",EB23),\"\")))*(IF(ISERROR(EI23+1),0,EI23))*EJ23*EK23*EL23),\"\",(IF(DZ23>Saisies!$C$7,\"\",IF(ISERROR(IF(DZ23<Saisies!$B$7,\"\",EB23)*EH23),IF(DZ23<Saisies!$B$7,\"\",EB23),\"\")))*(IF(ISERROR(EI23+1),0,EI23))*EJ23*EK23*EL23)","v":""},"",1,{"$f":"IF(DZ23>Saisies!$C$25,1,(IF(DZ23<Saisies!$B$25,1,IF(Saisies!$B$25=0,1,0))))","v":1},{"$f":"IF(DZ23>Saisies!$E$25,1,(IF(DZ23<Saisies!$D$25,1,IF(Saisies!$D$25=0,1,0))))","v":1},{"$f":"IF(DZ23>Saisies!$G$25,1,(IF(DZ23<Saisies!$F$25,1,IF(Saisies!$F$25<10,1,0))))","v":1},{"$f":"IF(DZ23>Saisies!$C$10,\"\",(IF(DZ23<Saisies!$B$10,\"\",EC23)))","v":""},{"$f":"IF(DZ23>Saisies!$E$10,\"\",(IF(DZ23<Saisies!$D$10,\"\",EC23)))","v":""},{"$f":"IF(DZ23>Saisies!$G$10,\"\",(IF(DZ23<Saisies!$F$10,\"\",EC23)))","v":""},"2016-10-11","M",8,7,492,{"$f":"IF(ET23>=Saisies!$E$4,(IF(EU22<=Saisies!$E$4,EP23,EU22)),0)","v":42622},{"$f":"IF(EP23=Saisies!$C$7,MIN((ABS(Saisies!$E$4-ET22)),EW23),EW23)","v":""},{"$f":"IF(ISERROR((IF(EP23>Saisies!$C$7,\"\",IF(ISERROR(IF(EP23<Saisies!$B$7,\"\",ER23)*EX23),IF(EP23<Saisies!$B$7,\"\",ER23),\"\")))*(IF(ISERROR(EY23+1),0,EY23))*EZ23*FA23*FB23),\"\",(IF(EP23>Saisies!$C$7,\"\",IF(ISERROR(IF(EP23<Saisies!$B$7,\"\",ER23)*EX23),IF(EP23<Saisies!$B$7,\"\",ER23),\"\")))*(IF(ISERROR(EY23+1),0,EY23))*EZ23*FA23*FB23)","v":""},"",1,{"$f":"IF(EP23>Saisies!$C$25,1,(IF(EP23<Saisies!$B$25,1,IF(Saisies!$B$25=0,1,0))))","v":1},{"$f":"IF(EP23>Saisies!$E$25,1,(IF(EP23<Saisies!$D$25,1,IF(Saisies!$D$25=0,1,0))))","v":1},{"$f":"IF(EP23>Saisies!$G$25,1,(IF(EP23<Saisies!$F$25,1,IF(Saisies!$F$25<10,1,0))))","v":1},{"$f":"IF(EP23>Saisies!$C$10,\"\",(IF(EP23<Saisies!$B$10,\"\",ES23)))","v":""},{"$f":"IF(EP23>Saisies!$E$10,\"\",(IF(EP23<Saisies!$D$10,\"\",ES23)))","v":""},{"$f":"IF(EP23>Saisies!$G$10,\"\",(IF(EP23<Saisies!$F$10,\"\",ES23)))","v":""},"2016-11-11","V",4,7,492,{"$f":"IF(FJ23>=Saisies!$E$4,(IF(FK22<=Saisies!$E$4,FF23,FK22)),0)","v":42622},{"$f":"IF(FF23=Saisies!$C$7,MIN((ABS(Saisies!$E$4-FJ22)),FM23),FM23)","v":""},{"$f":"IF(ISERROR((IF(FF23>Saisies!$C$7,\"\",IF(ISERROR(IF(FF23<Saisies!$B$7,\"\",FH23)*FN23),IF(FF23<Saisies!$B$7,\"\",FH23),\"\")))*FO23*FP23*FQ23*FR23),\"\",(IF(FF23>Saisies!$C$7,\"\",IF(ISERROR(IF(FF23<Saisies!$B$7,\"\",FH23)*FN23),IF(FF23<Saisies!$B$7,\"\",FH23),\"\")))*FO23*FP23*FQ23*FR23)","v":""},{"$f":"IF((SUM(FS23:FU23)*FO23*FP23*FQ23*FR23)=0,\"\",SUM(FS23:FU23))","v":""},0,{"$f":"IF(FF23>Saisies!$C$25,1,(IF(FF23<Saisies!$B$25,1,IF(Saisies!$B$25=0,1,0))))","v":1},{"$f":"IF(FF23>Saisies!$E$25,1,(IF(FF23<Saisies!$D$25,1,IF(Saisies!$D$25=0,1,0))))","v":1},{"$f":"IF(FF23>Saisies!$G$25,1,(IF(FF23<Saisies!$F$25,1,IF(Saisies!$F$25<10,1,0))))","v":1},{"$f":"IF(FF23>Saisies!$C$10,\"\",(IF(FF23<Saisies!$B$10,\"\",FI23)))","v":""},{"$f":"IF(FF23>Saisies!$E$10,\"\",(IF(FF23<Saisies!$D$10,\"\",FI23)))","v":""},{"$f":"IF(FF23>Saisies!$G$10,\"\",(IF(FF23<Saisies!$F$10,\"\",FI23)))","v":""},"2016-12-11","D",0,0,492,{"$f":"IF(FZ23>=Saisies!$E$4,(IF(GA22<=Saisies!$E$4,FV23,GA22)),0)","v":42622},{"$f":"IF(FV23=Saisies!$C$7,MIN((ABS(Saisies!$E$4-FZ22)),GC23),GC23)","v":""},{"$f":"IF(ISERROR((IF(FV23>Saisies!$C$7,\"\",IF(ISERROR(IF(FV23<Saisies!$B$7,\"\",FX23)*GD23),IF(FV23<Saisies!$B$7,\"\",FX23),\"\")))*(IF(ISERROR(GE23+1),0,GE23))*GF23*GG23*GH23),\"\",(IF(FV23>Saisies!$C$7,\"\",IF(ISERROR(IF(FV23<Saisies!$B$7,\"\",FX23)*GD23),IF(FV23<Saisies!$B$7,\"\",FX23),\"\")))*(IF(ISERROR(GE23+1),0,GE23))*GF23*GG23*GH23)","v":""},"",1,{"$f":"IF(FV23>Saisies!$C$25,1,(IF(FV23<Saisies!$B$25,1,IF(Saisies!$B$25=0,1,0))))","v":1},{"$f":"IF(FV23>Saisies!$E$25,1,(IF(FV23<Saisies!$D$25,1,IF(Saisies!$D$25=0,1,0))))","v":1},{"$f":"IF(FV23>Saisies!$G$25,1,(IF(FV23<Saisies!$F$25,1,IF(Saisies!$F$25<10,1,0))))","v":1},{"$f":"IF(FV23>Saisies!$C$10,\"\",(IF(FV23<Saisies!$B$10,\"\",FY23)))","v":""},{"$f":"IF(FV23>Saisies!$E$10,\"\",(IF(FV23<Saisies!$D$10,\"\",FY23)))","v":""},{"$f":"IF(FV23>Saisies!$G$10,\"\",(IF(FV23<Saisies!$F$10,\"\",FY23)))","v":""}]
[null,"2016-01-12","M",8,7,0,{"$f":"IF(MAX(F24,(F23+D24))>=Saisies!$E$4,(IF(F23<=Saisies!$E$4,B24,G23)),0)","v":0},{"$f":"IF(B24=Saisies!$C$7,MIN((ABS(Saisies!$E$4-F23)),I24),I24)","v":""},{"$f":"IF(ISERROR((IF(B24>Saisies!$C$7,\"\",IF(ISERROR(IF(B24<Saisies!$B$7,\"\",D24)*J24),IF(B24<Saisies!$B$7,\"\",D24),\"\")))*(IF(ISERROR(K24+1),0,K24))*L24*M24*N24),\"\",(IF(B24>Saisies!$C$7,\"\",IF(ISERROR(IF(B24<Saisies!$B$7,\"\",D24)*J24),IF(B24<Saisies!$B$7,\"\",D24),\"\")))*(IF(ISERROR(K24+1),0,K24))*L24*M24*N24)","v":""},"",1,{"$f":"IF(B24>Saisies!$C$25,1,(IF(B24<Saisies!$B$25,1,IF(Saisies!$B$25=0,1,0))))","v":1},{"$f":"IF(B24>Saisies!$E$25,1,(IF(B24<Saisies!$D$25,1,IF(Saisies!$D$25=0,1,0))))","v":1},{"$f":"IF(B24>Saisies!$G$25,1,(IF(B24<Saisies!$F$25,1,IF(Saisies!$F$25<10,1,0))))","v":1},{"$f":"IF(B24>Saisies!$C$10,\"\",(IF(B24<Saisies!$B$10,\"\",E24)))","v":""},{"$f":"IF(B24>Saisies!$E$10,\"\",(IF(B24<Saisies!$D$10,\"\",E24)))","v":""},{"$f":"IF(B24>Saisies!$G$10,\"\",(IF(B24<Saisies!$F$10,\"\",E24)))","v":""},"2016-02-12","V",4,7,0,{"$f":"IF(MAX(V24,(V23+T24))>=Saisies!$E$4,(IF(V23<=Saisies!$E$4,R24,W23)),0)","v":0},{"$f":"IF(R24=Saisies!$C$7,MIN((ABS(Saisies!$E$4-V23)),Y24),Y24)","v":""},{"$f":"IF(ISERROR((IF(R24>Saisies!$C$7,\"\",IF(ISERROR(IF(R24<Saisies!$B$7,\"\",T24)*Z24),IF(R24<Saisies!$B$7,\"\",T24),\"\")))*(IF(ISERROR(AA24+1),0,AA24))*AB24*AC24*AD24),\"\",(IF(R24>Saisies!$C$7,\"\",IF(ISERROR(IF(R24<Saisies!$B$7,\"\",T24)*Z24),IF(R24<Saisies!$B$7,\"\",T24),\"\")))*(IF(ISERROR(AA24+1),0,AA24))*AB24*AC24*AD24)","v":""},"",1,{"$f":"IF(R24>Saisies!$C$25,1,(IF(R24<Saisies!$B$25,1,IF(Saisies!$B$25=0,1,0))))","v":1},{"$f":"IF(R24>Saisies!$E$25,1,(IF(R24<Saisies!$D$25,1,IF(Saisies!$D$25=0,1,0))))","v":1},{"$f":"IF(R24>Saisies!$G$25,1,(IF(R24<Saisies!$F$25,1,IF(Saisies!$F$25<10,1,0))))","v":1},{"$f":"IF(R24>Saisies!$C$10,\"\",(IF(R24<Saisies!$B$10,\"\",U24)))","v":""},{"$f":"IF(R24>Saisies!$E$10,\"\",(IF(R24<Saisies!$D$10,\"\",U24)))","v":""},{"$f":"IF(R24>Saisies!$G$10,\"\",(IF(R24<Saisies!$F$10,\"\",U24)))","v":""},"2016-03-12","S",0,0,0,{"$f":"IF(MAX(AL24,(AL23+AJ24))>=Saisies!$E$4,(IF(AL23<=Saisies!$E$4,AH24,AM23)),0)","v":0},{"$f":"IF(AH24=Saisies!$C$7,MIN((ABS(Saisies!$E$4-AL23)),AO24),AO24)","v":""},{"$f":"IF(ISERROR((IF(AH24>Saisies!$C$7,\"\",IF(ISERROR(IF(AH24<Saisies!$B$7,\"\",AJ24)*AP24),IF(AH24<Saisies!$B$7,\"\",AJ24),\"\")))*(IF(ISERROR(AQ24+1),0,AQ24))*AR24*AS24*AT24),\"\",(IF(AH24>Saisies!$C$7,\"\",IF(ISERROR(IF(AH24<Saisies!$B$7,\"\",AJ24)*AP24),IF(AH24<Saisies!$B$7,\"\",AJ24),\"\")))*(IF(ISERROR(AQ24+1),0,AQ24))*AR24*AS24*AT24)","v":""},"",1,{"$f":"IF(AH24>Saisies!$C$25,1,(IF(AH24<Saisies!$B$25,1,IF(Saisies!$B$25=0,1,0))))","v":1},{"$f":"IF(AH24>Saisies!$E$25,1,(IF(AH24<Saisies!$D$25,1,IF(Saisies!$D$25=0,1,0))))","v":1},{"$f":"IF(AH24>Saisies!$G$25,1,(IF(AH24<Saisies!$F$25,1,IF(Saisies!$F$25<10,1,0))))","v":1},{"$f":"IF(AH24>Saisies!$C$10,\"\",(IF(AH24<Saisies!$B$10,\"\",AK24)))","v":""},{"$f":"IF(AH24>Saisies!$E$10,\"\",(IF(AH24<Saisies!$D$10,\"\",AK24)))","v":""},{"$f":"IF(AH24>Saisies!$G$10,\"\",(IF(AH24<Saisies!$F$10,\"\",AK24)))","v":""},"2016-04-12","M",8,7,0,{"$f":"IF(BB24>=Saisies!$E$4,(IF(BC23<=Saisies!$E$4,AX24,BC23)),0)","v":0},{"$f":"IF(AX24=Saisies!$C$7,MIN((ABS(Saisies!$E$4-BB23)),BE24),BE24)","v":""},{"$f":"IF(ISERROR((IF(AX24>Saisies!$C$7,\"\",IF(ISERROR(IF(AX24<Saisies!$B$7,\"\",AZ24)*BF24),IF(AX24<Saisies!$B$7,\"\",AZ24),\"\")))*(IF(ISERROR(BG24+1),0,BG24))*BH24*BI24*BJ24),\"\",(IF(AX24>Saisies!$C$7,\"\",IF(ISERROR(IF(AX24<Saisies!$B$7,\"\",AZ24)*BF24),IF(AX24<Saisies!$B$7,\"\",AZ24),\"\")))*(IF(ISERROR(BG24+1),0,BG24))*BH24*BI24*BJ24)","v":""},"",1,{"$f":"IF(AX24>Saisies!$C$25,1,(IF(AX24<Saisies!$B$25,1,IF(Saisies!$B$25=0,1,0))))","v":1},{"$f":"IF(AX24>Saisies!$E$25,1,(IF(AX24<Saisies!$D$25,1,IF(Saisies!$D$25=0,1,0))))","v":1},{"$f":"IF(AX24>Saisies!$G$25,1,(IF(AX24<Saisies!$F$25,1,IF(Saisies!$F$25<10,1,0))))","v":1},{"$f":"IF(AX24>Saisies!$C$10,\"\",(IF(AX24<Saisies!$B$10,\"\",BA24)))","v":""},{"$f":"IF(AX24>Saisies!$E$10,\"\",(IF(AX24<Saisies!$D$10,\"\",BA24)))","v":""},{"$f":"IF(AX24>Saisies!$G$10,\"\",(IF(AX24<Saisies!$F$10,\"\",BA24)))","v":""},"2016-05-12","J",8,7,0,{"$f":"IF(MAX(BR24,(BR23+BP24))>=Saisies!$E$4,(IF(BR23<=Saisies!$E$4,BN24,BS23)),0)","v":0},{"$f":"IF(BN24=Saisies!$C$7,MIN((ABS(Saisies!$E$4-BR23)),BU24),BU24)","v":""},{"$f":"IF(ISERROR((IF(BN24>Saisies!$C$7,\"\",IF(ISERROR(IF(BN24<Saisies!$B$7,\"\",BP24)*BV24),IF(BN24<Saisies!$B$7,\"\",BP24),\"\")))*(IF(ISERROR(BW24+1),0,BW24))*BX24*BY24*BZ24),\"\",(IF(BN24>Saisies!$C$7,\"\",IF(ISERROR(IF(BN24<Saisies!$B$7,\"\",BP24)*BV24),IF(BN24<Saisies!$B$7,\"\",BP24),\"\")))*(IF(ISERROR(BW24+1),0,BW24))*BX24*BY24*BZ24)","v":""},"",1,{"$f":"IF(BN24>Saisies!$C$25,1,(IF(BN24<Saisies!$B$25,1,IF(Saisies!$B$25=0,1,0))))","v":1},{"$f":"IF(BN24>Saisies!$E$25,1,(IF(BN24<Saisies!$D$25,1,IF(Saisies!$D$25=0,1,0))))","v":1},{"$f":"IF(BN24>Saisies!$G$25,1,(IF(BN24<Saisies!$F$25,1,IF(Saisies!$F$25<10,1,0))))","v":1},{"$f":"IF(BN24>Saisies!$C$10,\"\",(IF(BN24<Saisies!$B$10,\"\",BQ24)))","v":""},{"$f":"IF(BN24>Saisies!$E$10,\"\",(IF(BN24<Saisies!$D$10,\"\",BQ24)))","v":""},{"$f":"IF(BN24>Saisies!$G$10,\"\",(IF(BN24<Saisies!$F$10,\"\",BQ24)))","v":""},"2016-06-12","D",0,0,55,{"$f":"IF(MAX(CH24,(CH23+CF24))>=Saisies!$E$4,(IF(CH23<=Saisies!$E$4,CD24,CI23)),0)","v":0},{"$f":"IF(CD24=Saisies!$C$7,MIN((ABS(Saisies!$E$4-CH23)),CK24),CK24)","v":0},{"$f":"IF(ISERROR((IF(CD24>Saisies!$C$7,\"\",IF(ISERROR(IF(CD24<Saisies!$B$7,\"\",CF24)*CL24),IF(CD24<Saisies!$B$7,\"\",CF24),\"\")))*(IF(ISERROR(CM24+1),0,CM24))*CN24*CO24*CP24),\"\",(IF(CD24>Saisies!$C$7,\"\",IF(ISERROR(IF(CD24<Saisies!$B$7,\"\",CF24)*CL24),IF(CD24<Saisies!$B$7,\"\",CF24),\"\")))*(IF(ISERROR(CM24+1),0,CM24))*CN24*CO24*CP24)","v":0},"",1,{"$f":"IF(CD24>Saisies!$C$25,1,(IF(CD24<Saisies!$B$25,1,IF(Saisies!$B$25=0,1,0))))","v":1},{"$f":"IF(CD24>Saisies!$E$25,1,(IF(CD24<Saisies!$D$25,1,IF(Saisies!$D$25=0,1,0))))","v":1},{"$f":"IF(CD24>Saisies!$G$25,1,(IF(CD24<Saisies!$F$25,1,IF(Saisies!$F$25<10,1,0))))","v":1},{"$f":"IF(CD24>Saisies!$C$10,\"\",(IF(CD24<Saisies!$B$10,\"\",CG24)))","v":""},{"$f":"IF(CD24>Saisies!$E$10,\"\",(IF(CD24<Saisies!$D$10,\"\",CG24)))","v":""},{"$f":"IF(CD24>Saisies!$G$10,\"\",(IF(CD24<Saisies!$F$10,\"\",CG24)))","v":""},"2016-07-12","M",8,7,209,{"$f":"IF(MAX(CX24,(CX23+CV24))>=Saisies!$E$4,(IF(CX23<=Saisies!$E$4,CT24,CY23)),0)","v":0},{"$f":"IF(CT24=Saisies!$C$7,MIN((ABS(Saisies!$E$4-CX23)),DA24),DA24)","v":""},{"$f":"IF(ISERROR((IF(CT24>Saisies!$C$7,\"\",IF(ISERROR(IF(CT24<Saisies!$B$7,\"\",CV24)*DB24),IF(CT24<Saisies!$B$7,\"\",CV24),\"\")))*(IF(ISERROR(DC24+1),0,DC24))*DD24*DE24*DF24),\"\",(IF(CT24>Saisies!$C$7,\"\",IF(ISERROR(IF(CT24<Saisies!$B$7,\"\",CV24)*DB24),IF(CT24<Saisies!$B$7,\"\",CV24),\"\")))*(IF(ISERROR(DC24+1),0,DC24))*DD24*DE24*DF24)","v":""},7,1,{"$f":"IF(CT24>Saisies!$C$25,1,(IF(CT24<Saisies!$B$25,1,IF(Saisies!$B$25=0,1,0))))","v":1},{"$f":"IF(CT24>Saisies!$E$25,1,(IF(CT24<Saisies!$D$25,1,IF(Saisies!$D$25=0,1,0))))","v":1},{"$f":"IF(CT24>Saisies!$G$25,1,(IF(CT24<Saisies!$F$25,1,IF(Saisies!$F$25<10,1,0))))","v":1},{"$f":"IF(CT24>Saisies!$C$10,\"\",(IF(CT24<Saisies!$B$10,\"\",CW24)))","v":7},{"$f":"IF(CT24>Saisies!$E$10,\"\",(IF(CT24<Saisies!$D$10,\"\",CW24)))","v":""},{"$f":"IF(CT24>Saisies!$G$10,\"\",(IF(CT24<Saisies!$F$10,\"\",CW24)))","v":""},"2016-08-12","V",4,7,359,{"$f":"IF(DN24>=Saisies!$E$4,(IF(DO23<=Saisies!$E$4,DJ24,DO23)),0)","v":0},{"$f":"IF(DJ24=Saisies!$C$7,MIN((ABS(Saisies!$E$4-DN23)),DQ24),DQ24)","v":""},{"$f":"IF(ISERROR((IF(DJ24>Saisies!$C$7,\"\",IF(ISERROR(IF(DJ24<Saisies!$B$7,\"\",DL24)*DR24),IF(DJ24<Saisies!$B$7,\"\",DL24),\"\")))*(IF(ISERROR(DS24+1),0,DS24))*DT24*DU24*DV24),\"\",(IF(DJ24>Saisies!$C$7,\"\",IF(ISERROR(IF(DJ24<Saisies!$B$7,\"\",DL24)*DR24),IF(DJ24<Saisies!$B$7,\"\",DL24),\"\")))*(IF(ISERROR(DS24+1),0,DS24))*DT24*DU24*DV24)","v":""},7,1,{"$f":"IF(DJ24>Saisies!$C$25,1,(IF(DJ24<Saisies!$B$25,1,IF(Saisies!$B$25=0,1,0))))","v":1},{"$f":"IF(DJ24>Saisies!$E$25,1,(IF(DJ24<Saisies!$D$25,1,IF(Saisies!$D$25=0,1,0))))","v":1},{"$f":"IF(DJ24>Saisies!$G$25,1,(IF(DJ24<Saisies!$F$25,1,IF(Saisies!$F$25<10,1,0))))","v":1},{"$f":"IF(DJ24>Saisies!$C$10,\"\",(IF(DJ24<Saisies!$B$10,\"\",DM24)))","v":""},{"$f":"IF(DJ24>Saisies!$E$10,\"\",(IF(DJ24<Saisies!$D$10,\"\",DM24)))","v":7},{"$f":"IF(DJ24>Saisies!$G$10,\"\",(IF(DJ24<Saisies!$F$10,\"\",DM24)))","v":""},"2016-09-12","L",7,7,492,{"$f":"IF(ED24>=Saisies!$E$4,(IF(EE23<=Saisies!$E$4,DZ24,EE23)),0)","v":42622},{"$f":"IF(DZ24=Saisies!$C$7,MIN((ABS(Saisies!$E$4-ED23)),EG24),EG24)","v":""},{"$f":"IF(ISERROR((IF(DZ24>Saisies!$C$7,\"\",IF(ISERROR(IF(DZ24<Saisies!$B$7,\"\",EB24)*EH24),IF(DZ24<Saisies!$B$7,\"\",EB24),\"\")))*(IF(ISERROR(EI24+1),0,EI24))*EJ24*EK24*EL24),\"\",(IF(DZ24>Saisies!$C$7,\"\",IF(ISERROR(IF(DZ24<Saisies!$B$7,\"\",EB24)*EH24),IF(DZ24<Saisies!$B$7,\"\",EB24),\"\")))*(IF(ISERROR(EI24+1),0,EI24))*EJ24*EK24*EL24)","v":""},"",1,{"$f":"IF(DZ24>Saisies!$C$25,1,(IF(DZ24<Saisies!$B$25,1,IF(Saisies!$B$25=0,1,0))))","v":1},{"$f":"IF(DZ24>Saisies!$E$25,1,(IF(DZ24<Saisies!$D$25,1,IF(Saisies!$D$25=0,1,0))))","v":1},{"$f":"IF(DZ24>Saisies!$G$25,1,(IF(DZ24<Saisies!$F$25,1,IF(Saisies!$F$25<10,1,0))))","v":1},{"$f":"IF(DZ24>Saisies!$C$10,\"\",(IF(DZ24<Saisies!$B$10,\"\",EC24)))","v":""},{"$f":"IF(DZ24>Saisies!$E$10,\"\",(IF(DZ24<Saisies!$D$10,\"\",EC24)))","v":""},{"$f":"IF(DZ24>Saisies!$G$10,\"\",(IF(DZ24<Saisies!$F$10,\"\",EC24)))","v":""},"2016-10-12","M",8,7,492,{"$f":"IF(ET24>=Saisies!$E$4,(IF(EU23<=Saisies!$E$4,EP24,EU23)),0)","v":42622},{"$f":"IF(EP24=Saisies!$C$7,MIN((ABS(Saisies!$E$4-ET23)),EW24),EW24)","v":""},{"$f":"IF(ISERROR((IF(EP24>Saisies!$C$7,\"\",IF(ISERROR(IF(EP24<Saisies!$B$7,\"\",ER24)*EX24),IF(EP24<Saisies!$B$7,\"\",ER24),\"\")))*(IF(ISERROR(EY24+1),0,EY24))*EZ24*FA24*FB24),\"\",(IF(EP24>Saisies!$C$7,\"\",IF(ISERROR(IF(EP24<Saisies!$B$7,\"\",ER24)*EX24),IF(EP24<Saisies!$B$7,\"\",ER24),\"\")))*(IF(ISERROR(EY24+1),0,EY24))*EZ24*FA24*FB24)","v":""},"",1,{"$f":"IF(EP24>Saisies!$C$25,1,(IF(EP24<Saisies!$B$25,1,IF(Saisies!$B$25=0,1,0))))","v":1},{"$f":"IF(EP24>Saisies!$E$25,1,(IF(EP24<Saisies!$D$25,1,IF(Saisies!$D$25=0,1,0))))","v":1},{"$f":"IF(EP24>Saisies!$G$25,1,(IF(EP24<Saisies!$F$25,1,IF(Saisies!$F$25<10,1,0))))","v":1},{"$f":"IF(EP24>Saisies!$C$10,\"\",(IF(EP24<Saisies!$B$10,\"\",ES24)))","v":""},{"$f":"IF(EP24>Saisies!$E$10,\"\",(IF(EP24<Saisies!$D$10,\"\",ES24)))","v":""},{"$f":"IF(EP24>Saisies!$G$10,\"\",(IF(EP24<Saisies!$F$10,\"\",ES24)))","v":""},"2016-11-12","S",0,0,492,{"$f":"IF(FJ24>=Saisies!$E$4,(IF(FK23<=Saisies!$E$4,FF24,FK23)),0)","v":42622},{"$f":"IF(FF24=Saisies!$C$7,MIN((ABS(Saisies!$E$4-FJ23)),FM24),FM24)","v":""},{"$f":"IF(ISERROR((IF(FF24>Saisies!$C$7,\"\",IF(ISERROR(IF(FF24<Saisies!$B$7,\"\",FH24)*FN24),IF(FF24<Saisies!$B$7,\"\",FH24),\"\")))*(IF(ISERROR(FO24+1),0,FO24))*FP24*FQ24*FR24),\"\",(IF(FF24>Saisies!$C$7,\"\",IF(ISERROR(IF(FF24<Saisies!$B$7,\"\",FH24)*FN24),IF(FF24<Saisies!$B$7,\"\",FH24),\"\")))*(IF(ISERROR(FO24+1),0,FO24))*FP24*FQ24*FR24)","v":""},{"$f":"IF((SUM(FS24:FU24)*(IF(ISERROR(FO24+1),0,FO24))*FP24*FQ24*FR24)=0,\"\",SUM(FS24:FU24))","v":""},{"$f":"IF(ISERROR(IF(IF(ISERROR(VLOOKUP(FF24,Champs,2,FALSE)),1,0)=0,LOOKUP(FF24,general),1)),0,(IF(IF(ISERROR(VLOOKUP(FF24,Champs,2,FALSE)),1,0)=0,LOOKUP(FF24,general),1)))","v":1},{"$f":"IF(FF24>Saisies!$C$25,1,(IF(FF24<Saisies!$B$25,1,IF(Saisies!$B$25=0,1,0))))","v":1},{"$f":"IF(FF24>Saisies!$E$25,1,(IF(FF24<Saisies!$D$25,1,IF(Saisies!$D$25=0,1,0))))","v":1},{"$f":"IF(FF24>Saisies!$G$25,1,(IF(FF24<Saisies!$F$25,1,IF(Saisies!$F$25<10,1,0))))","v":1},{"$f":"IF(FF24>Saisies!$C$10,\"\",(IF(FF24<Saisies!$B$10,\"\",FI24)))","v":""},{"$f":"IF(FF24>Saisies!$E$10,\"\",(IF(FF24<Saisies!$D$10,\"\",FI24)))","v":""},{"$f":"IF(FF24>Saisies!$G$10,\"\",(IF(FF24<Saisies!$F$10,\"\",FI24)))","v":""},"2016-12-12","L",7,7,492,{"$f":"IF(FZ24>=Saisies!$E$4,(IF(GA23<=Saisies!$E$4,FV24,GA23)),0)","v":42622},{"$f":"IF(FV24=Saisies!$C$7,MIN((ABS(Saisies!$E$4-FZ23)),GC24),GC24)","v":""},{"$f":"IF(ISERROR((IF(FV24>Saisies!$C$7,\"\",IF(ISERROR(IF(FV24<Saisies!$B$7,\"\",FX24)*GD24),IF(FV24<Saisies!$B$7,\"\",FX24),\"\")))*(IF(ISERROR(GE24+1),0,GE24))*GF24*GG24*GH24),\"\",(IF(FV24>Saisies!$C$7,\"\",IF(ISERROR(IF(FV24<Saisies!$B$7,\"\",FX24)*GD24),IF(FV24<Saisies!$B$7,\"\",FX24),\"\")))*(IF(ISERROR(GE24+1),0,GE24))*GF24*GG24*GH24)","v":""},"",1,{"$f":"IF(FV24>Saisies!$C$25,1,(IF(FV24<Saisies!$B$25,1,IF(Saisies!$B$25=0,1,0))))","v":1},{"$f":"IF(FV24>Saisies!$E$25,1,(IF(FV24<Saisies!$D$25,1,IF(Saisies!$D$25=0,1,0))))","v":1},{"$f":"IF(FV24>Saisies!$G$25,1,(IF(FV24<Saisies!$F$25,1,IF(Saisies!$F$25<10,1,0))))","v":1},{"$f":"IF(FV24>Saisies!$C$10,\"\",(IF(FV24<Saisies!$B$10,\"\",FY24)))","v":""},{"$f":"IF(FV24>Saisies!$E$10,\"\",(IF(FV24<Saisies!$D$10,\"\",FY24)))","v":""},{"$f":"IF(FV24>Saisies!$G$10,\"\",(IF(FV24<Saisies!$F$10,\"\",FY24)))","v":""},null,null,{"$f":"IF(ISERROR(GE24+1),0,GE24)","v":1}]
[null,"2016-01-13","M",8,7,0,{"$f":"IF(MAX(F25,(F24+D25))>=Saisies!$E$4,(IF(F24<=Saisies!$E$4,B25,G24)),0)","v":0},{"$f":"IF(B25=Saisies!$C$7,MIN((ABS(Saisies!$E$4-F24)),I25),I25)","v":""},{"$f":"IF(ISERROR((IF(B25>Saisies!$C$7,\"\",IF(ISERROR(IF(B25<Saisies!$B$7,\"\",D25)*J25),IF(B25<Saisies!$B$7,\"\",D25),\"\")))*(IF(ISERROR(K25+1),0,K25))*L25*M25*N25),\"\",(IF(B25>Saisies!$C$7,\"\",IF(ISERROR(IF(B25<Saisies!$B$7,\"\",D25)*J25),IF(B25<Saisies!$B$7,\"\",D25),\"\")))*(IF(ISERROR(K25+1),0,K25))*L25*M25*N25)","v":""},"",1,{"$f":"IF(B25>Saisies!$C$25,1,(IF(B25<Saisies!$B$25,1,IF(Saisies!$B$25=0,1,0))))","v":1},{"$f":"IF(B25>Saisies!$E$25,1,(IF(B25<Saisies!$D$25,1,IF(Saisies!$D$25=0,1,0))))","v":1},{"$f":"IF(B25>Saisies!$G$25,1,(IF(B25<Saisies!$F$25,1,IF(Saisies!$F$25<10,1,0))))","v":1},{"$f":"IF(B25>Saisies!$C$10,\"\",(IF(B25<Saisies!$B$10,\"\",E25)))","v":""},{"$f":"IF(B25>Saisies!$E$10,\"\",(IF(B25<Saisies!$D$10,\"\",E25)))","v":""},{"$f":"IF(B25>Saisies!$G$10,\"\",(IF(B25<Saisies!$F$10,\"\",E25)))","v":""},"2016-02-13","S",0,0,0,{"$f":"IF(MAX(V25,(V24+T25))>=Saisies!$E$4,(IF(V24<=Saisies!$E$4,R25,W24)),0)","v":0},{"$f":"IF(R25=Saisies!$C$7,MIN((ABS(Saisies!$E$4-V24)),Y25),Y25)","v":""},{"$f":"IF(ISERROR((IF(R25>Saisies!$C$7,\"\",IF(ISERROR(IF(R25<Saisies!$B$7,\"\",T25)*Z25),IF(R25<Saisies!$B$7,\"\",T25),\"\")))*(IF(ISERROR(AA25+1),0,AA25))*AB25*AC25*AD25),\"\",(IF(R25>Saisies!$C$7,\"\",IF(ISERROR(IF(R25<Saisies!$B$7,\"\",T25)*Z25),IF(R25<Saisies!$B$7,\"\",T25),\"\")))*(IF(ISERROR(AA25+1),0,AA25))*AB25*AC25*AD25)","v":""},"",1,{"$f":"IF(R25>Saisies!$C$25,1,(IF(R25<Saisies!$B$25,1,IF(Saisies!$B$25=0,1,0))))","v":1},{"$f":"IF(R25>Saisies!$E$25,1,(IF(R25<Saisies!$D$25,1,IF(Saisies!$D$25=0,1,0))))","v":1},{"$f":"IF(R25>Saisies!$G$25,1,(IF(R25<Saisies!$F$25,1,IF(Saisies!$F$25<10,1,0))))","v":1},{"$f":"IF(R25>Saisies!$C$10,\"\",(IF(R25<Saisies!$B$10,\"\",U25)))","v":""},{"$f":"IF(R25>Saisies!$E$10,\"\",(IF(R25<Saisies!$D$10,\"\",U25)))","v":""},{"$f":"IF(R25>Saisies!$G$10,\"\",(IF(R25<Saisies!$F$10,\"\",U25)))","v":""},"2016-03-13","D",0,0,0,{"$f":"IF(MAX(AL25,(AL24+AJ25))>=Saisies!$E$4,(IF(AL24<=Saisies!$E$4,AH25,AM24)),0)","v":0},{"$f":"IF(AH25=Saisies!$C$7,MIN((ABS(Saisies!$E$4-AL24)),AO25),AO25)","v":""},{"$f":"IF(ISERROR((IF(AH25>Saisies!$C$7,\"\",IF(ISERROR(IF(AH25<Saisies!$B$7,\"\",AJ25)*AP25),IF(AH25<Saisies!$B$7,\"\",AJ25),\"\")))*(IF(ISERROR(AQ25+1),0,AQ25))*AR25*AS25*AT25),\"\",(IF(AH25>Saisies!$C$7,\"\",IF(ISERROR(IF(AH25<Saisies!$B$7,\"\",AJ25)*AP25),IF(AH25<Saisies!$B$7,\"\",AJ25),\"\")))*(IF(ISERROR(AQ25+1),0,AQ25))*AR25*AS25*AT25)","v":""},"",1,{"$f":"IF(AH25>Saisies!$C$25,1,(IF(AH25<Saisies!$B$25,1,IF(Saisies!$B$25=0,1,0))))","v":1},{"$f":"IF(AH25>Saisies!$E$25,1,(IF(AH25<Saisies!$D$25,1,IF(Saisies!$D$25=0,1,0))))","v":1},{"$f":"IF(AH25>Saisies!$G$25,1,(IF(AH25<Saisies!$F$25,1,IF(Saisies!$F$25<10,1,0))))","v":1},{"$f":"IF(AH25>Saisies!$C$10,\"\",(IF(AH25<Saisies!$B$10,\"\",AK25)))","v":""},{"$f":"IF(AH25>Saisies!$E$10,\"\",(IF(AH25<Saisies!$D$10,\"\",AK25)))","v":""},{"$f":"IF(AH25>Saisies!$G$10,\"\",(IF(AH25<Saisies!$F$10,\"\",AK25)))","v":""},"2016-04-13","M",8,7,0,{"$f":"IF(BB25>=Saisies!$E$4,(IF(BC24<=Saisies!$E$4,AX25,BC24)),0)","v":0},{"$f":"IF(AX25=Saisies!$C$7,MIN((ABS(Saisies!$E$4-BB24)),BE25),BE25)","v":""},{"$f":"IF(ISERROR((IF(AX25>Saisies!$C$7,\"\",IF(ISERROR(IF(AX25<Saisies!$B$7,\"\",AZ25)*BF25),IF(AX25<Saisies!$B$7,\"\",AZ25),\"\")))*(IF(ISERROR(BG25+1),0,BG25))*BH25*BI25*BJ25),\"\",(IF(AX25>Saisies!$C$7,\"\",IF(ISERROR(IF(AX25<Saisies!$B$7,\"\",AZ25)*BF25),IF(AX25<Saisies!$B$7,\"\",AZ25),\"\")))*(IF(ISERROR(BG25+1),0,BG25))*BH25*BI25*BJ25)","v":""},"",1,{"$f":"IF(AX25>Saisies!$C$25,1,(IF(AX25<Saisies!$B$25,1,IF(Saisies!$B$25=0,1,0))))","v":1},{"$f":"IF(AX25>Saisies!$E$25,1,(IF(AX25<Saisies!$D$25,1,IF(Saisies!$D$25=0,1,0))))","v":1},{"$f":"IF(AX25>Saisies!$G$25,1,(IF(AX25<Saisies!$F$25,1,IF(Saisies!$F$25<10,1,0))))","v":1},{"$f":"IF(AX25>Saisies!$C$10,\"\",(IF(AX25<Saisies!$B$10,\"\",BA25)))","v":""},{"$f":"IF(AX25>Saisies!$E$10,\"\",(IF(AX25<Saisies!$D$10,\"\",BA25)))","v":""},{"$f":"IF(AX25>Saisies!$G$10,\"\",(IF(AX25<Saisies!$F$10,\"\",BA25)))","v":""},"2016-05-13","V",4,7,0,{"$f":"IF(MAX(BR25,(BR24+BP25))>=Saisies!$E$4,(IF(BR24<=Saisies!$E$4,BN25,BS24)),0)","v":0},{"$f":"IF(BN25=Saisies!$C$7,MIN((ABS(Saisies!$E$4-BR24)),BU25),BU25)","v":""},{"$f":"IF(ISERROR((IF(BN25>Saisies!$C$7,\"\",IF(ISERROR(IF(BN25<Saisies!$B$7,\"\",BP25)*BV25),IF(BN25<Saisies!$B$7,\"\",BP25),\"\")))*(IF(ISERROR(BW25+1),0,BW25))*BX25*BY25*BZ25),\"\",(IF(BN25>Saisies!$C$7,\"\",IF(ISERROR(IF(BN25<Saisies!$B$7,\"\",BP25)*BV25),IF(BN25<Saisies!$B$7,\"\",BP25),\"\")))*(IF(ISERROR(BW25+1),0,BW25))*BX25*BY25*BZ25)","v":""},"",1,{"$f":"IF(BN25>Saisies!$C$25,1,(IF(BN25<Saisies!$B$25,1,IF(Saisies!$B$25=0,1,0))))","v":1},{"$f":"IF(BN25>Saisies!$E$25,1,(IF(BN25<Saisies!$D$25,1,IF(Saisies!$D$25=0,1,0))))","v":1},{"$f":"IF(BN25>Saisies!$G$25,1,(IF(BN25<Saisies!$F$25,1,IF(Saisies!$F$25<10,1,0))))","v":1},{"$f":"IF(BN25>Saisies!$C$10,\"\",(IF(BN25<Saisies!$B$10,\"\",BQ25)))","v":""},{"$f":"IF(BN25>Saisies!$E$10,\"\",(IF(BN25<Saisies!$D$10,\"\",BQ25)))","v":""},{"$f":"IF(BN25>Saisies!$G$10,\"\",(IF(BN25<Saisies!$F$10,\"\",BQ25)))","v":""},"2016-06-13","L",7,7,62,{"$f":"IF(MAX(CH25,(CH24+CF25))>=Saisies!$E$4,(IF(CH24<=Saisies!$E$4,CD25,CI24)),0)","v":0},{"$f":"IF(CD25=Saisies!$C$7,MIN((ABS(Saisies!$E$4-CH24)),CK25),CK25)","v":7},{"$f":"IF(ISERROR((IF(CD25>Saisies!$C$7,\"\",IF(ISERROR(IF(CD25<Saisies!$B$7,\"\",CF25)*CL25),IF(CD25<Saisies!$B$7,\"\",CF25),\"\")))*(IF(ISERROR(CM25+1),0,CM25))*CN25*CO25*CP25),\"\",(IF(CD25>Saisies!$C$7,\"\",IF(ISERROR(IF(CD25<Saisies!$B$7,\"\",CF25)*CL25),IF(CD25<Saisies!$B$7,\"\",CF25),\"\")))*(IF(ISERROR(CM25+1),0,CM25))*CN25*CO25*CP25)","v":7},"",1,{"$f":"IF(CD25>Saisies!$C$25,1,(IF(CD25<Saisies!$B$25,1,IF(Saisies!$B$25=0,1,0))))","v":1},{"$f":"IF(CD25>Saisies!$E$25,1,(IF(CD25<Saisies!$D$25,1,IF(Saisies!$D$25=0,1,0))))","v":1},{"$f":"IF(CD25>Saisies!$G$25,1,(IF(CD25<Saisies!$F$25,1,IF(Saisies!$F$25<10,1,0))))","v":1},{"$f":"IF(CD25>Saisies!$C$10,\"\",(IF(CD25<Saisies!$B$10,\"\",CG25)))","v":""},{"$f":"IF(CD25>Saisies!$E$10,\"\",(IF(CD25<Saisies!$D$10,\"\",CG25)))","v":""},{"$f":"IF(CD25>Saisies!$G$10,\"\",(IF(CD25<Saisies!$F$10,\"\",CG25)))","v":""},"2016-07-13","M",8,7,216,{"$f":"IF(MAX(CX25,(CX24+CV25))>=Saisies!$E$4,(IF(CX24<=Saisies!$E$4,CT25,CY24)),0)","v":0},{"$f":"IF(CT25=Saisies!$C$7,MIN((ABS(Saisies!$E$4-CX24)),DA25),DA25)","v":""},{"$f":"IF(ISERROR((IF(CT25>Saisies!$C$7,\"\",IF(ISERROR(IF(CT25<Saisies!$B$7,\"\",CV25)*DB25),IF(CT25<Saisies!$B$7,\"\",CV25),\"\")))*(IF(ISERROR(DC25+1),0,DC25))*DD25*DE25*DF25),\"\",(IF(CT25>Saisies!$C$7,\"\",IF(ISERROR(IF(CT25<Saisies!$B$7,\"\",CV25)*DB25),IF(CT25<Saisies!$B$7,\"\",CV25),\"\")))*(IF(ISERROR(DC25+1),0,DC25))*DD25*DE25*DF25)","v":""},7,1,{"$f":"IF(CT25>Saisies!$C$25,1,(IF(CT25<Saisies!$B$25,1,IF(Saisies!$B$25=0,1,0))))","v":1},{"$f":"IF(CT25>Saisies!$E$25,1,(IF(CT25<Saisies!$D$25,1,IF(Saisies!$D$25=0,1,0))))","v":1},{"$f":"IF(CT25>Saisies!$G$25,1,(IF(CT25<Saisies!$F$25,1,IF(Saisies!$F$25<10,1,0))))","v":1},{"$f":"IF(CT25>Saisies!$C$10,\"\",(IF(CT25<Saisies!$B$10,\"\",CW25)))","v":7},{"$f":"IF(CT25>Saisies!$E$10,\"\",(IF(CT25<Saisies!$D$10,\"\",CW25)))","v":""},{"$f":"IF(CT25>Saisies!$G$10,\"\",(IF(CT25<Saisies!$F$10,\"\",CW25)))","v":""},"2016-08-13","S",0,0,359,{"$f":"IF(DN25>=Saisies!$E$4,(IF(DO24<=Saisies!$E$4,DJ25,DO24)),0)","v":0},{"$f":"IF(DJ25=Saisies!$C$7,MIN((ABS(Saisies!$E$4-DN24)),DQ25),DQ25)","v":0},{"$f":"IF(ISERROR((IF(DJ25>Saisies!$C$7,\"\",IF(ISERROR(IF(DJ25<Saisies!$B$7,\"\",DL25)*DR25),IF(DJ25<Saisies!$B$7,\"\",DL25),\"\")))*(IF(ISERROR(DS25+1),0,DS25))*DT25*DU25*DV25),\"\",(IF(DJ25>Saisies!$C$7,\"\",IF(ISERROR(IF(DJ25<Saisies!$B$7,\"\",DL25)*DR25),IF(DJ25<Saisies!$B$7,\"\",DL25),\"\")))*(IF(ISERROR(DS25+1),0,DS25))*DT25*DU25*DV25)","v":0},"",1,{"$f":"IF(DJ25>Saisies!$C$25,1,(IF(DJ25<Saisies!$B$25,1,IF(Saisies!$B$25=0,1,0))))","v":1},{"$f":"IF(DJ25>Saisies!$E$25,1,(IF(DJ25<Saisies!$D$25,1,IF(Saisies!$D$25=0,1,0))))","v":1},{"$f":"IF(DJ25>Saisies!$G$25,1,(IF(DJ25<Saisies!$F$25,1,IF(Saisies!$F$25<10,1,0))))","v":1},{"$f":"IF(DJ25>Saisies!$C$10,\"\",(IF(DJ25<Saisies!$B$10,\"\",DM25)))","v":""},{"$f":"IF(DJ25>Saisies!$E$10,\"\",(IF(DJ25<Saisies!$D$10,\"\",DM25)))","v":0},{"$f":"IF(DJ25>Saisies!$G$10,\"\",(IF(DJ25<Saisies!$F$10,\"\",DM25)))","v":""},"2016-09-13","M",8,7,492,{"$f":"IF(ED25>=Saisies!$E$4,(IF(EE24<=Saisies!$E$4,DZ25,EE24)),0)","v":42622},{"$f":"IF(DZ25=Saisies!$C$7,MIN((ABS(Saisies!$E$4-ED24)),EG25),EG25)","v":""},{"$f":"IF(ISERROR((IF(DZ25>Saisies!$C$7,\"\",IF(ISERROR(IF(DZ25<Saisies!$B$7,\"\",EB25)*EH25),IF(DZ25<Saisies!$B$7,\"\",EB25),\"\")))*(IF(ISERROR(EI25+1),0,EI25))*EJ25*EK25*EL25),\"\",(IF(DZ25>Saisies!$C$7,\"\",IF(ISERROR(IF(DZ25<Saisies!$B$7,\"\",EB25)*EH25),IF(DZ25<Saisies!$B$7,\"\",EB25),\"\")))*(IF(ISERROR(EI25+1),0,EI25))*EJ25*EK25*EL25)","v":""},"",1,{"$f":"IF(DZ25>Saisies!$C$25,1,(IF(DZ25<Saisies!$B$25,1,IF(Saisies!$B$25=0,1,0))))","v":1},{"$f":"IF(DZ25>Saisies!$E$25,1,(IF(DZ25<Saisies!$D$25,1,IF(Saisies!$D$25=0,1,0))))","v":1},{"$f":"IF(DZ25>Saisies!$G$25,1,(IF(DZ25<Saisies!$F$25,1,IF(Saisies!$F$25<10,1,0))))","v":1},{"$f":"IF(DZ25>Saisies!$C$10,\"\",(IF(DZ25<Saisies!$B$10,\"\",EC25)))","v":""},{"$f":"IF(DZ25>Saisies!$E$10,\"\",(IF(DZ25<Saisies!$D$10,\"\",EC25)))","v":""},{"$f":"IF(DZ25>Saisies!$G$10,\"\",(IF(DZ25<Saisies!$F$10,\"\",EC25)))","v":""},"2016-10-13","J",8,7,492,{"$f":"IF(ET25>=Saisies!$E$4,(IF(EU24<=Saisies!$E$4,EP25,EU24)),0)","v":42622},{"$f":"IF(EP25=Saisies!$C$7,MIN((ABS(Saisies!$E$4-ET24)),EW25),EW25)","v":""},{"$f":"IF(ISERROR((IF(EP25>Saisies!$C$7,\"\",IF(ISERROR(IF(EP25<Saisies!$B$7,\"\",ER25)*EX25),IF(EP25<Saisies!$B$7,\"\",ER25),\"\")))*(IF(ISERROR(EY25+1),0,EY25))*EZ25*FA25*FB25),\"\",(IF(EP25>Saisies!$C$7,\"\",IF(ISERROR(IF(EP25<Saisies!$B$7,\"\",ER25)*EX25),IF(EP25<Saisies!$B$7,\"\",ER25),\"\")))*(IF(ISERROR(EY25+1),0,EY25))*EZ25*FA25*FB25)","v":""},"",1,{"$f":"IF(EP25>Saisies!$C$25,1,(IF(EP25<Saisies!$B$25,1,IF(Saisies!$B$25=0,1,0))))","v":1},{"$f":"IF(EP25>Saisies!$E$25,1,(IF(EP25<Saisies!$D$25,1,IF(Saisies!$D$25=0,1,0))))","v":1},{"$f":"IF(EP25>Saisies!$G$25,1,(IF(EP25<Saisies!$F$25,1,IF(Saisies!$F$25<10,1,0))))","v":1},{"$f":"IF(EP25>Saisies!$C$10,\"\",(IF(EP25<Saisies!$B$10,\"\",ES25)))","v":""},{"$f":"IF(EP25>Saisies!$E$10,\"\",(IF(EP25<Saisies!$D$10,\"\",ES25)))","v":""},{"$f":"IF(EP25>Saisies!$G$10,\"\",(IF(EP25<Saisies!$F$10,\"\",ES25)))","v":""},"2016-11-13","D",0,0,492,{"$f":"IF(FJ25>=Saisies!$E$4,(IF(FK24<=Saisies!$E$4,FF25,FK24)),0)","v":42622},{"$f":"IF(FF25=Saisies!$C$7,MIN((ABS(Saisies!$E$4-FJ24)),FM25),FM25)","v":""},{"$f":"IF(ISERROR((IF(FF25>Saisies!$C$7,\"\",IF(ISERROR(IF(FF25<Saisies!$B$7,\"\",FH25)*FN25),IF(FF25<Saisies!$B$7,\"\",FH25),\"\")))*(IF(ISERROR(FO25+1),0,FO25))*FP25*FQ25*FR25),\"\",(IF(FF25>Saisies!$C$7,\"\",IF(ISERROR(IF(FF25<Saisies!$B$7,\"\",FH25)*FN25),IF(FF25<Saisies!$B$7,\"\",FH25),\"\")))*(IF(ISERROR(FO25+1),0,FO25))*FP25*FQ25*FR25)","v":""},"",1,{"$f":"IF(FF25>Saisies!$C$25,1,(IF(FF25<Saisies!$B$25,1,IF(Saisies!$B$25=0,1,0))))","v":1},{"$f":"IF(FF25>Saisies!$E$25,1,(IF(FF25<Saisies!$D$25,1,IF(Saisies!$D$25=0,1,0))))","v":1},{"$f":"IF(FF25>Saisies!$G$25,1,(IF(FF25<Saisies!$F$25,1,IF(Saisies!$F$25<10,1,0))))","v":1},{"$f":"IF(FF25>Saisies!$C$10,\"\",(IF(FF25<Saisies!$B$10,\"\",FI25)))","v":""},{"$f":"IF(FF25>Saisies!$E$10,\"\",(IF(FF25<Saisies!$D$10,\"\",FI25)))","v":""},{"$f":"IF(FF25>Saisies!$G$10,\"\",(IF(FF25<Saisies!$F$10,\"\",FI25)))","v":""},"2016-12-13","M",8,7,492,{"$f":"IF(FZ25>=Saisies!$E$4,(IF(GA24<=Saisies!$E$4,FV25,GA24)),0)","v":42622},{"$f":"IF(FV25=Saisies!$C$7,MIN((ABS(Saisies!$E$4-FZ24)),GC25),GC25)","v":""},{"$f":"IF(ISERROR((IF(FV25>Saisies!$C$7,\"\",IF(ISERROR(IF(FV25<Saisies!$B$7,\"\",FX25)*GD25),IF(FV25<Saisies!$B$7,\"\",FX25),\"\")))*(IF(ISERROR(GE25+1),0,GE25))*GF25*GG25*GH25),\"\",(IF(FV25>Saisies!$C$7,\"\",IF(ISERROR(IF(FV25<Saisies!$B$7,\"\",FX25)*GD25),IF(FV25<Saisies!$B$7,\"\",FX25),\"\")))*(IF(ISERROR(GE25+1),0,GE25))*GF25*GG25*GH25)","v":""},"",1,{"$f":"IF(FV25>Saisies!$C$25,1,(IF(FV25<Saisies!$B$25,1,IF(Saisies!$B$25=0,1,0))))","v":1},{"$f":"IF(FV25>Saisies!$E$25,1,(IF(FV25<Saisies!$D$25,1,IF(Saisies!$D$25=0,1,0))))","v":1},{"$f":"IF(FV25>Saisies!$G$25,1,(IF(FV25<Saisies!$F$25,1,IF(Saisies!$F$25<10,1,0))))","v":1},{"$f":"IF(FV25>Saisies!$C$10,\"\",(IF(FV25<Saisies!$B$10,\"\",FY25)))","v":""},{"$f":"IF(FV25>Saisies!$E$10,\"\",(IF(FV25<Saisies!$D$10,\"\",FY25)))","v":""},{"$f":"IF(FV25>Saisies!$G$10,\"\",(IF(FV25<Saisies!$F$10,\"\",FY25)))","v":""},null,null,1]
[null,"2016-01-14","J",8,7,0,{"$f":"IF(MAX(F26,(F25+D26))>=Saisies!$E$4,(IF(F25<=Saisies!$E$4,B26,G25)),0)","v":0},{"$f":"IF(B26=Saisies!$C$7,MIN((ABS(Saisies!$E$4-F25)),I26),I26)","v":""},{"$f":"IF(ISERROR((IF(B26>Saisies!$C$7,\"\",IF(ISERROR(IF(B26<Saisies!$B$7,\"\",D26)*J26),IF(B26<Saisies!$B$7,\"\",D26),\"\")))*(IF(ISERROR(K26+1),0,K26))*L26*M26*N26),\"\",(IF(B26>Saisies!$C$7,\"\",IF(ISERROR(IF(B26<Saisies!$B$7,\"\",D26)*J26),IF(B26<Saisies!$B$7,\"\",D26),\"\")))*(IF(ISERROR(K26+1),0,K26))*L26*M26*N26)","v":""},"",1,{"$f":"IF(B26>Saisies!$C$25,1,(IF(B26<Saisies!$B$25,1,IF(Saisies!$B$25=0,1,0))))","v":1},{"$f":"IF(B26>Saisies!$E$25,1,(IF(B26<Saisies!$D$25,1,IF(Saisies!$D$25=0,1,0))))","v":1},{"$f":"IF(B26>Saisies!$G$25,1,(IF(B26<Saisies!$F$25,1,IF(Saisies!$F$25<10,1,0))))","v":1},{"$f":"IF(B26>Saisies!$C$10,\"\",(IF(B26<Saisies!$B$10,\"\",E26)))","v":""},{"$f":"IF(B26>Saisies!$E$10,\"\",(IF(B26<Saisies!$D$10,\"\",E26)))","v":""},{"$f":"IF(B26>Saisies!$G$10,\"\",(IF(B26<Saisies!$F$10,\"\",E26)))","v":""},"2016-02-14","D",0,0,0,{"$f":"IF(MAX(V26,(V25+T26))>=Saisies!$E$4,(IF(V25<=Saisies!$E$4,R26,W25)),0)","v":0},{"$f":"IF(R26=Saisies!$C$7,MIN((ABS(Saisies!$E$4-V25)),Y26),Y26)","v":""},{"$f":"IF(ISERROR((IF(R26>Saisies!$C$7,\"\",IF(ISERROR(IF(R26<Saisies!$B$7,\"\",T26)*Z26),IF(R26<Saisies!$B$7,\"\",T26),\"\")))*(IF(ISERROR(AA26+1),0,AA26))*AB26*AC26*AD26),\"\",(IF(R26>Saisies!$C$7,\"\",IF(ISERROR(IF(R26<Saisies!$B$7,\"\",T26)*Z26),IF(R26<Saisies!$B$7,\"\",T26),\"\")))*(IF(ISERROR(AA26+1),0,AA26))*AB26*AC26*AD26)","v":""},"",1,{"$f":"IF(R26>Saisies!$C$25,1,(IF(R26<Saisies!$B$25,1,IF(Saisies!$B$25=0,1,0))))","v":1},{"$f":"IF(R26>Saisies!$E$25,1,(IF(R26<Saisies!$D$25,1,IF(Saisies!$D$25=0,1,0))))","v":1},{"$f":"IF(R26>Saisies!$G$25,1,(IF(R26<Saisies!$F$25,1,IF(Saisies!$F$25<10,1,0))))","v":1},{"$f":"IF(R26>Saisies!$C$10,\"\",(IF(R26<Saisies!$B$10,\"\",U26)))","v":""},{"$f":"IF(R26>Saisies!$E$10,\"\",(IF(R26<Saisies!$D$10,\"\",U26)))","v":""},{"$f":"IF(R26>Saisies!$G$10,\"\",(IF(R26<Saisies!$F$10,\"\",U26)))","v":""},"2016-03-14","L",7,7,0,{"$f":"IF(MAX(AL26,(AL25+AJ26))>=Saisies!$E$4,(IF(AL25<=Saisies!$E$4,AH26,AM25)),0)","v":0},{"$f":"IF(AH26=Saisies!$C$7,MIN((ABS(Saisies!$E$4-AL25)),AO26),AO26)","v":""},{"$f":"IF(ISERROR((IF(AH26>Saisies!$C$7,\"\",IF(ISERROR(IF(AH26<Saisies!$B$7,\"\",AJ26)*AP26),IF(AH26<Saisies!$B$7,\"\",AJ26),\"\")))*(IF(ISERROR(AQ26+1),0,AQ26))*AR26*AS26*AT26),\"\",(IF(AH26>Saisies!$C$7,\"\",IF(ISERROR(IF(AH26<Saisies!$B$7,\"\",AJ26)*AP26),IF(AH26<Saisies!$B$7,\"\",AJ26),\"\")))*(IF(ISERROR(AQ26+1),0,AQ26))*AR26*AS26*AT26)","v":""},"",1,{"$f":"IF(AH26>Saisies!$C$25,1,(IF(AH26<Saisies!$B$25,1,IF(Saisies!$B$25=0,1,0))))","v":1},{"$f":"IF(AH26>Saisies!$E$25,1,(IF(AH26<Saisies!$D$25,1,IF(Saisies!$D$25=0,1,0))))","v":1},{"$f":"IF(AH26>Saisies!$G$25,1,(IF(AH26<Saisies!$F$25,1,IF(Saisies!$F$25<10,1,0))))","v":1},{"$f":"IF(AH26>Saisies!$C$10,\"\",(IF(AH26<Saisies!$B$10,\"\",AK26)))","v":""},{"$f":"IF(AH26>Saisies!$E$10,\"\",(IF(AH26<Saisies!$D$10,\"\",AK26)))","v":""},{"$f":"IF(AH26>Saisies!$G$10,\"\",(IF(AH26<Saisies!$F$10,\"\",AK26)))","v":""},"2016-04-14","J",8,7,0,{"$f":"IF(BB26>=Saisies!$E$4,(IF(BC25<=Saisies!$E$4,AX26,BC25)),0)","v":0},{"$f":"IF(AX26=Saisies!$C$7,MIN((ABS(Saisies!$E$4-BB25)),BE26),BE26)","v":""},{"$f":"IF(ISERROR((IF(AX26>Saisies!$C$7,\"\",IF(ISERROR(IF(AX26<Saisies!$B$7,\"\",AZ26)*BF26),IF(AX26<Saisies!$B$7,\"\",AZ26),\"\")))*(IF(ISERROR(BG26+1),0,BG26))*BH26*BI26*BJ26),\"\",(IF(AX26>Saisies!$C$7,\"\",IF(ISERROR(IF(AX26<Saisies!$B$7,\"\",AZ26)*BF26),IF(AX26<Saisies!$B$7,\"\",AZ26),\"\")))*(IF(ISERROR(BG26+1),0,BG26))*BH26*BI26*BJ26)","v":""},"",1,{"$f":"IF(AX26>Saisies!$C$25,1,(IF(AX26<Saisies!$B$25,1,IF(Saisies!$B$25=0,1,0))))","v":1},{"$f":"IF(AX26>Saisies!$E$25,1,(IF(AX26<Saisies!$D$25,1,IF(Saisies!$D$25=0,1,0))))","v":1},{"$f":"IF(AX26>Saisies!$G$25,1,(IF(AX26<Saisies!$F$25,1,IF(Saisies!$F$25<10,1,0))))","v":1},{"$f":"IF(AX26>Saisies!$C$10,\"\",(IF(AX26<Saisies!$B$10,\"\",BA26)))","v":""},{"$f":"IF(AX26>Saisies!$E$10,\"\",(IF(AX26<Saisies!$D$10,\"\",BA26)))","v":""},{"$f":"IF(AX26>Saisies!$G$10,\"\",(IF(AX26<Saisies!$F$10,\"\",BA26)))","v":""},"2016-05-14","S",0,0,0,{"$f":"IF(MAX(BR26,(BR25+BP26))>=Saisies!$E$4,(IF(BR25<=Saisies!$E$4,BN26,BS25)),0)","v":0},{"$f":"IF(BN26=Saisies!$C$7,MIN((ABS(Saisies!$E$4-BR25)),BU26),BU26)","v":""},{"$f":"IF(ISERROR((IF(BN26>Saisies!$C$7,\"\",IF(ISERROR(IF(BN26<Saisies!$B$7,\"\",BP26)*BV26),IF(BN26<Saisies!$B$7,\"\",BP26),\"\")))*(IF(ISERROR(BW26+1),0,BW26))*BX26*BY26*BZ26),\"\",(IF(BN26>Saisies!$C$7,\"\",IF(ISERROR(IF(BN26<Saisies!$B$7,\"\",BP26)*BV26),IF(BN26<Saisies!$B$7,\"\",BP26),\"\")))*(IF(ISERROR(BW26+1),0,BW26))*BX26*BY26*BZ26)","v":""},"",1,{"$f":"IF(BN26>Saisies!$C$25,1,(IF(BN26<Saisies!$B$25,1,IF(Saisies!$B$25=0,1,0))))","v":1},{"$f":"IF(BN26>Saisies!$E$25,1,(IF(BN26<Saisies!$D$25,1,IF(Saisies!$D$25=0,1,0))))","v":1},{"$f":"IF(BN26>Saisies!$G$25,1,(IF(BN26<Saisies!$F$25,1,IF(Saisies!$F$25<10,1,0))))","v":1},{"$f":"IF(BN26>Saisies!$C$10,\"\",(IF(BN26<Saisies!$B$10,\"\",BQ26)))","v":""},{"$f":"IF(BN26>Saisies!$E$10,\"\",(IF(BN26<Saisies!$D$10,\"\",BQ26)))","v":""},{"$f":"IF(BN26>Saisies!$G$10,\"\",(IF(BN26<Saisies!$F$10,\"\",BQ26)))","v":""},"2016-06-14","M",8,7,70,{"$f":"IF(MAX(CH26,(CH25+CF26))>=Saisies!$E$4,(IF(CH25<=Saisies!$E$4,CD26,CI25)),0)","v":0},{"$f":"IF(CD26=Saisies!$C$7,MIN((ABS(Saisies!$E$4-CH25)),CK26),CK26)","v":8},{"$f":"IF(ISERROR((IF(CD26>Saisies!$C$7,\"\",IF(ISERROR(IF(CD26<Saisies!$B$7,\"\",CF26)*CL26),IF(CD26<Saisies!$B$7,\"\",CF26),\"\")))*(IF(ISERROR(CM26+1),0,CM26))*CN26*CO26*CP26),\"\",(IF(CD26>Saisies!$C$7,\"\",IF(ISERROR(IF(CD26<Saisies!$B$7,\"\",CF26)*CL26),IF(CD26<Saisies!$B$7,\"\",CF26),\"\")))*(IF(ISERROR(CM26+1),0,CM26))*CN26*CO26*CP26)","v":8},"",1,{"$f":"IF(CD26>Saisies!$C$25,1,(IF(CD26<Saisies!$B$25,1,IF(Saisies!$B$25=0,1,0))))","v":1},{"$f":"IF(CD26>Saisies!$E$25,1,(IF(CD26<Saisies!$D$25,1,IF(Saisies!$D$25=0,1,0))))","v":1},{"$f":"IF(CD26>Saisies!$G$25,1,(IF(CD26<Saisies!$F$25,1,IF(Saisies!$F$25<10,1,0))))","v":1},{"$f":"IF(CD26>Saisies!$C$10,\"\",(IF(CD26<Saisies!$B$10,\"\",CG26)))","v":""},{"$f":"IF(CD26>Saisies!$E$10,\"\",(IF(CD26<Saisies!$D$10,\"\",CG26)))","v":""},{"$f":"IF(CD26>Saisies!$G$10,\"\",(IF(CD26<Saisies!$F$10,\"\",CG26)))","v":""},"2016-07-14","J",8,7,216,{"$f":"IF(MAX(CX26,(CX25+CV26))>=Saisies!$E$4,(IF(CX25<=Saisies!$E$4,CT26,CY25)),0)","v":0},{"$f":"IF(CT26=Saisies!$C$7,MIN((ABS(Saisies!$E$4-CX25)),DA26),DA26)","v":0},{"$f":"IF(ISERROR((IF(CT26>Saisies!$C$7,\"\",IF(ISERROR(IF(CT26<Saisies!$B$7,\"\",CV26)*DB26),IF(CT26<Saisies!$B$7,\"\",CV26),\"\")))*DC26*DD26*DE26*DF26),\"\",(IF(CT26>Saisies!$C$7,\"\",IF(ISERROR(IF(CT26<Saisies!$B$7,\"\",CV26)*DB26),IF(CT26<Saisies!$B$7,\"\",CV26),\"\")))*DC26*DD26*DE26*DF26)","v":0},{"$f":"IF((SUM(DG26:DI26)*DC26*DD26*DE26*DF26)=0,\"\",SUM(DG26:DI26))","v":""},0,{"$f":"IF(CT26>Saisies!$C$25,1,(IF(CT26<Saisies!$B$25,1,IF(Saisies!$B$25=0,1,0))))","v":1},{"$f":"IF(CT26>Saisies!$E$25,1,(IF(CT26<Saisies!$D$25,1,IF(Saisies!$D$25=0,1,0))))","v":1},{"$f":"IF(CT26>Saisies!$G$25,1,(IF(CT26<Saisies!$F$25,1,IF(Saisies!$F$25<10,1,0))))","v":1},{"$f":"IF(CT26>Saisies!$C$10,\"\",(IF(CT26<Saisies!$B$10,\"\",CW26)))","v":7},{"$f":"IF(CT26>Saisies!$E$10,\"\",(IF(CT26<Saisies!$D$10,\"\",CW26)))","v":""},{"$f":"IF(CT26>Saisies!$G$10,\"\",(IF(CT26<Saisies!$F$10,\"\",CW26)))","v":""},"2016-08-14","D",0,0,359,{"$f":"IF(DN26>=Saisies!$E$4,(IF(DO25<=Saisies!$E$4,DJ26,DO25)),0)","v":0},{"$f":"IF(DJ26=Saisies!$C$7,MIN((ABS(Saisies!$E$4-DN25)),DQ26),DQ26)","v":0},{"$f":"IF(ISERROR((IF(DJ26>Saisies!$C$7,\"\",IF(ISERROR(IF(DJ26<Saisies!$B$7,\"\",DL26)*DR26),IF(DJ26<Saisies!$B$7,\"\",DL26),\"\")))*(IF(ISERROR(DS26+1),0,DS26))*DT26*DU26*DV26),\"\",(IF(DJ26>Saisies!$C$7,\"\",IF(ISERROR(IF(DJ26<Saisies!$B$7,\"\",DL26)*DR26),IF(DJ26<Saisies!$B$7,\"\",DL26),\"\")))*(IF(ISERROR(DS26+1),0,DS26))*DT26*DU26*DV26)","v":0},"",1,{"$f":"IF(DJ26>Saisies!$C$25,1,(IF(DJ26<Saisies!$B$25,1,IF(Saisies!$B$25=0,1,0))))","v":1},{"$f":"IF(DJ26>Saisies!$E$25,1,(IF(DJ26<Saisies!$D$25,1,IF(Saisies!$D$25=0,1,0))))","v":1},{"$f":"IF(DJ26>Saisies!$G$25,1,(IF(DJ26<Saisies!$F$25,1,IF(Saisies!$F$25<10,1,0))))","v":1},{"$f":"IF(DJ26>Saisies!$C$10,\"\",(IF(DJ26<Saisies!$B$10,\"\",DM26)))","v":""},{"$f":"IF(DJ26>Saisies!$E$10,\"\",(IF(DJ26<Saisies!$D$10,\"\",DM26)))","v":0},{"$f":"IF(DJ26>Saisies!$G$10,\"\",(IF(DJ26<Saisies!$F$10,\"\",DM26)))","v":""},"2016-09-14","M",8,7,492,{"$f":"IF(ED26>=Saisies!$E$4,(IF(EE25<=Saisies!$E$4,DZ26,EE25)),0)","v":42622},{"$f":"IF(DZ26=Saisies!$C$7,MIN((ABS(Saisies!$E$4-ED25)),EG26),EG26)","v":""},{"$f":"IF(ISERROR((IF(DZ26>Saisies!$C$7,\"\",IF(ISERROR(IF(DZ26<Saisies!$B$7,\"\",EB26)*EH26),IF(DZ26<Saisies!$B$7,\"\",EB26),\"\")))*(IF(ISERROR(EI26+1),0,EI26))*EJ26*EK26*EL26),\"\",(IF(DZ26>Saisies!$C$7,\"\",IF(ISERROR(IF(DZ26<Saisies!$B$7,\"\",EB26)*EH26),IF(DZ26<Saisies!$B$7,\"\",EB26),\"\")))*(IF(ISERROR(EI26+1),0,EI26))*EJ26*EK26*EL26)","v":""},"",1,{"$f":"IF(DZ26>Saisies!$C$25,1,(IF(DZ26<Saisies!$B$25,1,IF(Saisies!$B$25=0,1,0))))","v":1},{"$f":"IF(DZ26>Saisies!$E$25,1,(IF(DZ26<Saisies!$D$25,1,IF(Saisies!$D$25=0,1,0))))","v":1},{"$f":"IF(DZ26>Saisies!$G$25,1,(IF(DZ26<Saisies!$F$25,1,IF(Saisies!$F$25<10,1,0))))","v":1},{"$f":"IF(DZ26>Saisies!$C$10,\"\",(IF(DZ26<Saisies!$B$10,\"\",EC26)))","v":""},{"$f":"IF(DZ26>Saisies!$E$10,\"\",(IF(DZ26<Saisies!$D$10,\"\",EC26)))","v":""},{"$f":"IF(DZ26>Saisies!$G$10,\"\",(IF(DZ26<Saisies!$F$10,\"\",EC26)))","v":""},"2016-10-14","V",4,7,492,{"$f":"IF(ET26>=Saisies!$E$4,(IF(EU25<=Saisies!$E$4,EP26,EU25)),0)","v":42622},{"$f":"IF(EP26=Saisies!$C$7,MIN((ABS(Saisies!$E$4-ET25)),EW26),EW26)","v":""},{"$f":"IF(ISERROR((IF(EP26>Saisies!$C$7,\"\",IF(ISERROR(IF(EP26<Saisies!$B$7,\"\",ER26)*EX26),IF(EP26<Saisies!$B$7,\"\",ER26),\"\")))*(IF(ISERROR(EY26+1),0,EY26))*EZ26*FA26*FB26),\"\",(IF(EP26>Saisies!$C$7,\"\",IF(ISERROR(IF(EP26<Saisies!$B$7,\"\",ER26)*EX26),IF(EP26<Saisies!$B$7,\"\",ER26),\"\")))*(IF(ISERROR(EY26+1),0,EY26))*EZ26*FA26*FB26)","v":""},"",1,{"$f":"IF(EP26>Saisies!$C$25,1,(IF(EP26<Saisies!$B$25,1,IF(Saisies!$B$25=0,1,0))))","v":1},{"$f":"IF(EP26>Saisies!$E$25,1,(IF(EP26<Saisies!$D$25,1,IF(Saisies!$D$25=0,1,0))))","v":1},{"$f":"IF(EP26>Saisies!$G$25,1,(IF(EP26<Saisies!$F$25,1,IF(Saisies!$F$25<10,1,0))))","v":1},{"$f":"IF(EP26>Saisies!$C$10,\"\",(IF(EP26<Saisies!$B$10,\"\",ES26)))","v":""},{"$f":"IF(EP26>Saisies!$E$10,\"\",(IF(EP26<Saisies!$D$10,\"\",ES26)))","v":""},{"$f":"IF(EP26>Saisies!$G$10,\"\",(IF(EP26<Saisies!$F$10,\"\",ES26)))","v":""},"2016-11-14","L",7,7,492,{"$f":"IF(FJ26>=Saisies!$E$4,(IF(FK25<=Saisies!$E$4,FF26,FK25)),0)","v":42622},{"$f":"IF(FF26=Saisies!$C$7,MIN((ABS(Saisies!$E$4-FJ25)),FM26),FM26)","v":""},{"$f":"IF(ISERROR((IF(FF26>Saisies!$C$7,\"\",IF(ISERROR(IF(FF26<Saisies!$B$7,\"\",FH26)*FN26),IF(FF26<Saisies!$B$7,\"\",FH26),\"\")))*(IF(ISERROR(FO26+1),0,FO26))*FP26*FQ26*FR26),\"\",(IF(FF26>Saisies!$C$7,\"\",IF(ISERROR(IF(FF26<Saisies!$B$7,\"\",FH26)*FN26),IF(FF26<Saisies!$B$7,\"\",FH26),\"\")))*(IF(ISERROR(FO26+1),0,FO26))*FP26*FQ26*FR26)","v":""},"",1,{"$f":"IF(FF26>Saisies!$C$25,1,(IF(FF26<Saisies!$B$25,1,IF(Saisies!$B$25=0,1,0))))","v":1},{"$f":"IF(FF26>Saisies!$E$25,1,(IF(FF26<Saisies!$D$25,1,IF(Saisies!$D$25=0,1,0))))","v":1},{"$f":"IF(FF26>Saisies!$G$25,1,(IF(FF26<Saisies!$F$25,1,IF(Saisies!$F$25<10,1,0))))","v":1},{"$f":"IF(FF26>Saisies!$C$10,\"\",(IF(FF26<Saisies!$B$10,\"\",FI26)))","v":""},{"$f":"IF(FF26>Saisies!$E$10,\"\",(IF(FF26<Saisies!$D$10,\"\",FI26)))","v":""},{"$f":"IF(FF26>Saisies!$G$10,\"\",(IF(FF26<Saisies!$F$10,\"\",FI26)))","v":""},"2016-12-14","M",8,7,492,{"$f":"IF(FZ26>=Saisies!$E$4,(IF(GA25<=Saisies!$E$4,FV26,GA25)),0)","v":42622},{"$f":"IF(FV26=Saisies!$C$7,MIN((ABS(Saisies!$E$4-FZ25)),GC26),GC26)","v":""},{"$f":"IF(ISERROR((IF(FV26>Saisies!$C$7,\"\",IF(ISERROR(IF(FV26<Saisies!$B$7,\"\",FX26)*GD26),IF(FV26<Saisies!$B$7,\"\",FX26),\"\")))*(IF(ISERROR(GE26+1),0,GE26))*GF26*GG26*GH26),\"\",(IF(FV26>Saisies!$C$7,\"\",IF(ISERROR(IF(FV26<Saisies!$B$7,\"\",FX26)*GD26),IF(FV26<Saisies!$B$7,\"\",FX26),\"\")))*(IF(ISERROR(GE26+1),0,GE26))*GF26*GG26*GH26)","v":""},"",1,{"$f":"IF(FV26>Saisies!$C$25,1,(IF(FV26<Saisies!$B$25,1,IF(Saisies!$B$25=0,1,0))))","v":1},{"$f":"IF(FV26>Saisies!$E$25,1,(IF(FV26<Saisies!$D$25,1,IF(Saisies!$D$25=0,1,0))))","v":1},{"$f":"IF(FV26>Saisies!$G$25,1,(IF(FV26<Saisies!$F$25,1,IF(Saisies!$F$25<10,1,0))))","v":1},{"$f":"IF(FV26>Saisies!$C$10,\"\",(IF(FV26<Saisies!$B$10,\"\",FY26)))","v":""},{"$f":"IF(FV26>Saisies!$E$10,\"\",(IF(FV26<Saisies!$D$10,\"\",FY26)))","v":""},{"$f":"IF(FV26>Saisies!$G$10,\"\",(IF(FV26<Saisies!$F$10,\"\",FY26)))","v":""},null,null,1]
[null,"2016-01-15","V",4,7,0,{"$f":"IF(MAX(F27,(F26+D27))>=Saisies!$E$4,(IF(F26<=Saisies!$E$4,B27,G26)),0)","v":0},{"$f":"IF(B27=Saisies!$C$7,MIN((ABS(Saisies!$E$4-F26)),I27),I27)","v":""},{"$f":"IF(ISERROR((IF(B27>Saisies!$C$7,\"\",IF(ISERROR(IF(B27<Saisies!$B$7,\"\",D27)*J27),IF(B27<Saisies!$B$7,\"\",D27),\"\")))*(IF(ISERROR(K27+1),0,K27))*L27*M27*N27),\"\",(IF(B27>Saisies!$C$7,\"\",IF(ISERROR(IF(B27<Saisies!$B$7,\"\",D27)*J27),IF(B27<Saisies!$B$7,\"\",D27),\"\")))*(IF(ISERROR(K27+1),0,K27))*L27*M27*N27)","v":""},"",1,{"$f":"IF(B27>Saisies!$C$25,1,(IF(B27<Saisies!$B$25,1,IF(Saisies!$B$25=0,1,0))))","v":1},{"$f":"IF(B27>Saisies!$E$25,1,(IF(B27<Saisies!$D$25,1,IF(Saisies!$D$25=0,1,0))))","v":1},{"$f":"IF(B27>Saisies!$G$25,1,(IF(B27<Saisies!$F$25,1,IF(Saisies!$F$25<10,1,0))))","v":1},{"$f":"IF(B27>Saisies!$C$10,\"\",(IF(B27<Saisies!$B$10,\"\",E27)))","v":""},{"$f":"IF(B27>Saisies!$E$10,\"\",(IF(B27<Saisies!$D$10,\"\",E27)))","v":""},{"$f":"IF(B27>Saisies!$G$10,\"\",(IF(B27<Saisies!$F$10,\"\",E27)))","v":""},"2016-02-15","L",7,7,0,{"$f":"IF(MAX(V27,(V26+T27))>=Saisies!$E$4,(IF(V26<=Saisies!$E$4,R27,W26)),0)","v":0},{"$f":"IF(R27=Saisies!$C$7,MIN((ABS(Saisies!$E$4-V26)),Y27),Y27)","v":""},{"$f":"IF(ISERROR((IF(R27>Saisies!$C$7,\"\",IF(ISERROR(IF(R27<Saisies!$B$7,\"\",T27)*Z27),IF(R27<Saisies!$B$7,\"\",T27),\"\")))*(IF(ISERROR(AA27+1),0,AA27))*AB27*AC27*AD27),\"\",(IF(R27>Saisies!$C$7,\"\",IF(ISERROR(IF(R27<Saisies!$B$7,\"\",T27)*Z27),IF(R27<Saisies!$B$7,\"\",T27),\"\")))*(IF(ISERROR(AA27+1),0,AA27))*AB27*AC27*AD27)","v":""},"",1,{"$f":"IF(R27>Saisies!$C$25,1,(IF(R27<Saisies!$B$25,1,IF(Saisies!$B$25=0,1,0))))","v":1},{"$f":"IF(R27>Saisies!$E$25,1,(IF(R27<Saisies!$D$25,1,IF(Saisies!$D$25=0,1,0))))","v":1},{"$f":"IF(R27>Saisies!$G$25,1,(IF(R27<Saisies!$F$25,1,IF(Saisies!$F$25<10,1,0))))","v":1},{"$f":"IF(R27>Saisies!$C$10,\"\",(IF(R27<Saisies!$B$10,\"\",U27)))","v":""},{"$f":"IF(R27>Saisies!$E$10,\"\",(IF(R27<Saisies!$D$10,\"\",U27)))","v":""},{"$f":"IF(R27>Saisies!$G$10,\"\",(IF(R27<Saisies!$F$10,\"\",U27)))","v":""},"2016-03-15","M",8,7,0,{"$f":"IF(MAX(AL27,(AL26+AJ27))>=Saisies!$E$4,(IF(AL26<=Saisies!$E$4,AH27,AM26)),0)","v":0},{"$f":"IF(AH27=Saisies!$C$7,MIN((ABS(Saisies!$E$4-AL26)),AO27),AO27)","v":""},{"$f":"IF(ISERROR((IF(AH27>Saisies!$C$7,\"\",IF(ISERROR(IF(AH27<Saisies!$B$7,\"\",AJ27)*AP27),IF(AH27<Saisies!$B$7,\"\",AJ27),\"\")))*(IF(ISERROR(AQ27+1),0,AQ27))*AR27*AS27*AT27),\"\",(IF(AH27>Saisies!$C$7,\"\",IF(ISERROR(IF(AH27<Saisies!$B$7,\"\",AJ27)*AP27),IF(AH27<Saisies!$B$7,\"\",AJ27),\"\")))*(IF(ISERROR(AQ27+1),0,AQ27))*AR27*AS27*AT27)","v":""},"",1,{"$f":"IF(AH27>Saisies!$C$25,1,(IF(AH27<Saisies!$B$25,1,IF(Saisies!$B$25=0,1,0))))","v":1},{"$f":"IF(AH27>Saisies!$E$25,1,(IF(AH27<Saisies!$D$25,1,IF(Saisies!$D$25=0,1,0))))","v":1},{"$f":"IF(AH27>Saisies!$G$25,1,(IF(AH27<Saisies!$F$25,1,IF(Saisies!$F$25<10,1,0))))","v":1},{"$f":"IF(AH27>Saisies!$C$10,\"\",(IF(AH27<Saisies!$B$10,\"\",AK27)))","v":""},{"$f":"IF(AH27>Saisies!$E$10,\"\",(IF(AH27<Saisies!$D$10,\"\",AK27)))","v":""},{"$f":"IF(AH27>Saisies!$G$10,\"\",(IF(AH27<Saisies!$F$10,\"\",AK27)))","v":""},"2016-04-15","V",4,7,0,{"$f":"IF(BB27>=Saisies!$E$4,(IF(BC26<=Saisies!$E$4,AX27,BC26)),0)","v":0},{"$f":"IF(AX27=Saisies!$C$7,MIN((ABS(Saisies!$E$4-BB26)),BE27),BE27)","v":""},{"$f":"IF(ISERROR((IF(AX27>Saisies!$C$7,\"\",IF(ISERROR(IF(AX27<Saisies!$B$7,\"\",AZ27)*BF27),IF(AX27<Saisies!$B$7,\"\",AZ27),\"\")))*(IF(ISERROR(BG27+1),0,BG27))*BH27*BI27*BJ27),\"\",(IF(AX27>Saisies!$C$7,\"\",IF(ISERROR(IF(AX27<Saisies!$B$7,\"\",AZ27)*BF27),IF(AX27<Saisies!$B$7,\"\",AZ27),\"\")))*(IF(ISERROR(BG27+1),0,BG27))*BH27*BI27*BJ27)","v":""},"",1,{"$f":"IF(AX27>Saisies!$C$25,1,(IF(AX27<Saisies!$B$25,1,IF(Saisies!$B$25=0,1,0))))","v":1},{"$f":"IF(AX27>Saisies!$E$25,1,(IF(AX27<Saisies!$D$25,1,IF(Saisies!$D$25=0,1,0))))","v":1},{"$f":"IF(AX27>Saisies!$G$25,1,(IF(AX27<Saisies!$F$25,1,IF(Saisies!$F$25<10,1,0))))","v":1},{"$f":"IF(AX27>Saisies!$C$10,\"\",(IF(AX27<Saisies!$B$10,\"\",BA27)))","v":""},{"$f":"IF(AX27>Saisies!$E$10,\"\",(IF(AX27<Saisies!$D$10,\"\",BA27)))","v":""},{"$f":"IF(AX27>Saisies!$G$10,\"\",(IF(AX27<Saisies!$F$10,\"\",BA27)))","v":""},"2016-05-15","D",0,0,0,{"$f":"IF(MAX(BR27,(BR26+BP27))>=Saisies!$E$4,(IF(BR26<=Saisies!$E$4,BN27,BS26)),0)","v":0},{"$f":"IF(BN27=Saisies!$C$7,MIN((ABS(Saisies!$E$4-BR26)),BU27),BU27)","v":""},{"$f":"IF(ISERROR((IF(BN27>Saisies!$C$7,\"\",IF(ISERROR(IF(BN27<Saisies!$B$7,\"\",BP27)*BV27),IF(BN27<Saisies!$B$7,\"\",BP27),\"\")))*(IF(ISERROR(BW27+1),0,BW27))*BX27*BY27*BZ27),\"\",(IF(BN27>Saisies!$C$7,\"\",IF(ISERROR(IF(BN27<Saisies!$B$7,\"\",BP27)*BV27),IF(BN27<Saisies!$B$7,\"\",BP27),\"\")))*(IF(ISERROR(BW27+1),0,BW27))*BX27*BY27*BZ27)","v":""},"",1,{"$f":"IF(BN27>Saisies!$C$25,1,(IF(BN27<Saisies!$B$25,1,IF(Saisies!$B$25=0,1,0))))","v":1},{"$f":"IF(BN27>Saisies!$E$25,1,(IF(BN27<Saisies!$D$25,1,IF(Saisies!$D$25=0,1,0))))","v":1},{"$f":"IF(BN27>Saisies!$G$25,1,(IF(BN27<Saisies!$F$25,1,IF(Saisies!$F$25<10,1,0))))","v":1},{"$f":"IF(BN27>Saisies!$C$10,\"\",(IF(BN27<Saisies!$B$10,\"\",BQ27)))","v":""},{"$f":"IF(BN27>Saisies!$E$10,\"\",(IF(BN27<Saisies!$D$10,\"\",BQ27)))","v":""},{"$f":"IF(BN27>Saisies!$G$10,\"\",(IF(BN27<Saisies!$F$10,\"\",BQ27)))","v":""},"2016-06-15","M",8,7,78,{"$f":"IF(MAX(CH27,(CH26+CF27))>=Saisies!$E$4,(IF(CH26<=Saisies!$E$4,CD27,CI26)),0)","v":0},{"$f":"IF(CD27=Saisies!$C$7,MIN((ABS(Saisies!$E$4-CH26)),CK27),CK27)","v":8},{"$f":"IF(ISERROR((IF(CD27>Saisies!$C$7,\"\",IF(ISERROR(IF(CD27<Saisies!$B$7,\"\",CF27)*CL27),IF(CD27<Saisies!$B$7,\"\",CF27),\"\")))*(IF(ISERROR(CM27+1),0,CM27))*CN27*CO27*CP27),\"\",(IF(CD27>Saisies!$C$7,\"\",IF(ISERROR(IF(CD27<Saisies!$B$7,\"\",CF27)*CL27),IF(CD27<Saisies!$B$7,\"\",CF27),\"\")))*(IF(ISERROR(CM27+1),0,CM27))*CN27*CO27*CP27)","v":8},"",1,{"$f":"IF(CD27>Saisies!$C$25,1,(IF(CD27<Saisies!$B$25,1,IF(Saisies!$B$25=0,1,0))))","v":1},{"$f":"IF(CD27>Saisies!$E$25,1,(IF(CD27<Saisies!$D$25,1,IF(Saisies!$D$25=0,1,0))))","v":1},{"$f":"IF(CD27>Saisies!$G$25,1,(IF(CD27<Saisies!$F$25,1,IF(Saisies!$F$25<10,1,0))))","v":1},{"$f":"IF(CD27>Saisies!$C$10,\"\",(IF(CD27<Saisies!$B$10,\"\",CG27)))","v":""},{"$f":"IF(CD27>Saisies!$E$10,\"\",(IF(CD27<Saisies!$D$10,\"\",CG27)))","v":""},{"$f":"IF(CD27>Saisies!$G$10,\"\",(IF(CD27<Saisies!$F$10,\"\",CG27)))","v":""},"2016-07-15","V",4,7,216,{"$f":"IF(MAX(CX27,(CX26+CV27))>=Saisies!$E$4,(IF(CX26<=Saisies!$E$4,CT27,CY26)),0)","v":0},{"$f":"IF(CT27=Saisies!$C$7,MIN((ABS(Saisies!$E$4-CX26)),DA27),DA27)","v":0},{"$f":"IF(ISERROR((IF(CT27>Saisies!$C$7,\"\",IF(ISERROR(IF(CT27<Saisies!$B$7,\"\",CV27)*DB27),IF(CT27<Saisies!$B$7,\"\",CV27),\"\")))*(IF(ISERROR(DC27+1),0,DC27))*DD27*DE27*DF27),\"\",(IF(CT27>Saisies!$C$7,\"\",IF(ISERROR(IF(CT27<Saisies!$B$7,\"\",CV27)*DB27),IF(CT27<Saisies!$B$7,\"\",CV27),\"\")))*(IF(ISERROR(DC27+1),0,DC27))*DD27*DE27*DF27)","v":0},{"$f":"IF((SUM(DG27:DI27)*(IF(ISERROR(DC27+1),0,DC27))*DD27*DE27*DF27)=0,\"\",SUM(DG27:DI27))","v":""},{"$f":"IF(ISERROR(IF(IF(ISERROR(VLOOKUP(CT27,Champs,2,FALSE)),1,0)=0,LOOKUP(CT27,general),1)),0,(IF(IF(ISERROR(VLOOKUP(CT27,Champs,2,FALSE)),1,0)=0,LOOKUP(CT27,general),1)))","v":"R"},{"$f":"IF(CT27>Saisies!$C$25,1,(IF(CT27<Saisies!$B$25,1,IF(Saisies!$B$25=0,1,0))))","v":1},{"$f":"IF(CT27>Saisies!$E$25,1,(IF(CT27<Saisies!$D$25,1,IF(Saisies!$D$25=0,1,0))))","v":1},{"$f":"IF(CT27>Saisies!$G$25,1,(IF(CT27<Saisies!$F$25,1,IF(Saisies!$F$25<10,1,0))))","v":1},{"$f":"IF(CT27>Saisies!$C$10,\"\",(IF(CT27<Saisies!$B$10,\"\",CW27)))","v":7},{"$f":"IF(CT27>Saisies!$E$10,\"\",(IF(CT27<Saisies!$D$10,\"\",CW27)))","v":""},{"$f":"IF(CT27>Saisies!$G$10,\"\",(IF(CT27<Saisies!$F$10,\"\",CW27)))","v":""},"2016-08-15","L",7,7,359,{"$f":"IF(DN27>=Saisies!$E$4,(IF(DO26<=Saisies!$E$4,DJ27,DO26)),0)","v":0},{"$f":"IF(DJ27=Saisies!$C$7,MIN((ABS(Saisies!$E$4-DN26)),DQ27),DQ27)","v":0},{"$f":"IF(ISERROR((IF(DJ27>Saisies!$C$7,\"\",IF(ISERROR(IF(DJ27<Saisies!$B$7,\"\",DL27)*DR27),IF(DJ27<Saisies!$B$7,\"\",DL27),\"\")))*DS27*DT27*DU27*DV27),\"\",(IF(DJ27>Saisies!$C$7,\"\",IF(ISERROR(IF(DJ27<Saisies!$B$7,\"\",DL27)*DR27),IF(DJ27<Saisies!$B$7,\"\",DL27),\"\")))*DS27*DT27*DU27*DV27)","v":0},{"$f":"IF((SUM(DW27:DY27)*DS27*DT27*DU27*DV27)=0,\"\",SUM(DW27:DY27))","v":""},0,{"$f":"IF(DJ27>Saisies!$C$25,1,(IF(DJ27<Saisies!$B$25,1,IF(Saisies!$B$25=0,1,0))))","v":1},{"$f":"IF(DJ27>Saisies!$E$25,1,(IF(DJ27<Saisies!$D$25,1,IF(Saisies!$D$25=0,1,0))))","v":1},{"$f":"IF(DJ27>Saisies!$G$25,1,(IF(DJ27<Saisies!$F$25,1,IF(Saisies!$F$25<10,1,0))))","v":1},{"$f":"IF(DJ27>Saisies!$C$10,\"\",(IF(DJ27<Saisies!$B$10,\"\",DM27)))","v":""},{"$f":"IF(DJ27>Saisies!$E$10,\"\",(IF(DJ27<Saisies!$D$10,\"\",DM27)))","v":7},{"$f":"IF(DJ27>Saisies!$G$10,\"\",(IF(DJ27<Saisies!$F$10,\"\",DM27)))","v":""},"2016-09-15","J",8,7,492,{"$f":"IF(ED27>=Saisies!$E$4,(IF(EE26<=Saisies!$E$4,DZ27,EE26)),0)","v":42622},{"$f":"IF(DZ27=Saisies!$C$7,MIN((ABS(Saisies!$E$4-ED26)),EG27),EG27)","v":""},{"$f":"IF(ISERROR((IF(DZ27>Saisies!$C$7,\"\",IF(ISERROR(IF(DZ27<Saisies!$B$7,\"\",EB27)*EH27),IF(DZ27<Saisies!$B$7,\"\",EB27),\"\")))*(IF(ISERROR(EI27+1),0,EI27))*EJ27*EK27*EL27),\"\",(IF(DZ27>Saisies!$C$7,\"\",IF(ISERROR(IF(DZ27<Saisies!$B$7,\"\",EB27)*EH27),IF(DZ27<Saisies!$B$7,\"\",EB27),\"\")))*(IF(ISERROR(EI27+1),0,EI27))*EJ27*EK27*EL27)","v":""},"",1,{"$f":"IF(DZ27>Saisies!$C$25,1,(IF(DZ27<Saisies!$B$25,1,IF(Saisies!$B$25=0,1,0))))","v":1},{"$f":"IF(DZ27>Saisies!$E$25,1,(IF(DZ27<Saisies!$D$25,1,IF(Saisies!$D$25=0,1,0))))","v":1},{"$f":"IF(DZ27>Saisies!$G$25,1,(IF(DZ27<Saisies!$F$25,1,IF(Saisies!$F$25<10,1,0))))","v":1},{"$f":"IF(DZ27>Saisies!$C$10,\"\",(IF(DZ27<Saisies!$B$10,\"\",EC27)))","v":""},{"$f":"IF(DZ27>Saisies!$E$10,\"\",(IF(DZ27<Saisies!$D$10,\"\",EC27)))","v":""},{"$f":"IF(DZ27>Saisies!$G$10,\"\",(IF(DZ27<Saisies!$F$10,\"\",EC27)))","v":""},"2016-10-15","S",0,0,492,{"$f":"IF(ET27>=Saisies!$E$4,(IF(EU26<=Saisies!$E$4,EP27,EU26)),0)","v":42622},{"$f":"IF(EP27=Saisies!$C$7,MIN((ABS(Saisies!$E$4-ET26)),EW27),EW27)","v":""},{"$f":"IF(ISERROR((IF(EP27>Saisies!$C$7,\"\",IF(ISERROR(IF(EP27<Saisies!$B$7,\"\",ER27)*EX27),IF(EP27<Saisies!$B$7,\"\",ER27),\"\")))*(IF(ISERROR(EY27+1),0,EY27))*EZ27*FA27*FB27),\"\",(IF(EP27>Saisies!$C$7,\"\",IF(ISERROR(IF(EP27<Saisies!$B$7,\"\",ER27)*EX27),IF(EP27<Saisies!$B$7,\"\",ER27),\"\")))*(IF(ISERROR(EY27+1),0,EY27))*EZ27*FA27*FB27)","v":""},"",1,{"$f":"IF(EP27>Saisies!$C$25,1,(IF(EP27<Saisies!$B$25,1,IF(Saisies!$B$25=0,1,0))))","v":1},{"$f":"IF(EP27>Saisies!$E$25,1,(IF(EP27<Saisies!$D$25,1,IF(Saisies!$D$25=0,1,0))))","v":1},{"$f":"IF(EP27>Saisies!$G$25,1,(IF(EP27<Saisies!$F$25,1,IF(Saisies!$F$25<10,1,0))))","v":1},{"$f":"IF(EP27>Saisies!$C$10,\"\",(IF(EP27<Saisies!$B$10,\"\",ES27)))","v":""},{"$f":"IF(EP27>Saisies!$E$10,\"\",(IF(EP27<Saisies!$D$10,\"\",ES27)))","v":""},{"$f":"IF(EP27>Saisies!$G$10,\"\",(IF(EP27<Saisies!$F$10,\"\",ES27)))","v":""},"2016-11-15","M",8,7,492,{"$f":"IF(FJ27>=Saisies!$E$4,(IF(FK26<=Saisies!$E$4,FF27,FK26)),0)","v":42622},{"$f":"IF(FF27=Saisies!$C$7,MIN((ABS(Saisies!$E$4-FJ26)),FM27),FM27)","v":""},{"$f":"IF(ISERROR((IF(FF27>Saisies!$C$7,\"\",IF(ISERROR(IF(FF27<Saisies!$B$7,\"\",FH27)*FN27),IF(FF27<Saisies!$B$7,\"\",FH27),\"\")))*(IF(ISERROR(FO27+1),0,FO27))*FP27*FQ27*FR27),\"\",(IF(FF27>Saisies!$C$7,\"\",IF(ISERROR(IF(FF27<Saisies!$B$7,\"\",FH27)*FN27),IF(FF27<Saisies!$B$7,\"\",FH27),\"\")))*(IF(ISERROR(FO27+1),0,FO27))*FP27*FQ27*FR27)","v":""},"",1,{"$f":"IF(FF27>Saisies!$C$25,1,(IF(FF27<Saisies!$B$25,1,IF(Saisies!$B$25=0,1,0))))","v":1},{"$f":"IF(FF27>Saisies!$E$25,1,(IF(FF27<Saisies!$D$25,1,IF(Saisies!$D$25=0,1,0))))","v":1},{"$f":"IF(FF27>Saisies!$G$25,1,(IF(FF27<Saisies!$F$25,1,IF(Saisies!$F$25<10,1,0))))","v":1},{"$f":"IF(FF27>Saisies!$C$10,\"\",(IF(FF27<Saisies!$B$10,\"\",FI27)))","v":""},{"$f":"IF(FF27>Saisies!$E$10,\"\",(IF(FF27<Saisies!$D$10,\"\",FI27)))","v":""},{"$f":"IF(FF27>Saisies!$G$10,\"\",(IF(FF27<Saisies!$F$10,\"\",FI27)))","v":""},"2016-12-15","J",8,7,492,{"$f":"IF(FZ27>=Saisies!$E$4,(IF(GA26<=Saisies!$E$4,FV27,GA26)),0)","v":42622},{"$f":"IF(FV27=Saisies!$C$7,MIN((ABS(Saisies!$E$4-FZ26)),GC27),GC27)","v":""},{"$f":"IF(ISERROR((IF(FV27>Saisies!$C$7,\"\",IF(ISERROR(IF(FV27<Saisies!$B$7,\"\",FX27)*GD27),IF(FV27<Saisies!$B$7,\"\",FX27),\"\")))*(IF(ISERROR(GE27+1),0,GE27))*GF27*GG27*GH27),\"\",(IF(FV27>Saisies!$C$7,\"\",IF(ISERROR(IF(FV27<Saisies!$B$7,\"\",FX27)*GD27),IF(FV27<Saisies!$B$7,\"\",FX27),\"\")))*(IF(ISERROR(GE27+1),0,GE27))*GF27*GG27*GH27)","v":""},"",1,{"$f":"IF(FV27>Saisies!$C$25,1,(IF(FV27<Saisies!$B$25,1,IF(Saisies!$B$25=0,1,0))))","v":1},{"$f":"IF(FV27>Saisies!$E$25,1,(IF(FV27<Saisies!$D$25,1,IF(Saisies!$D$25=0,1,0))))","v":1},{"$f":"IF(FV27>Saisies!$G$25,1,(IF(FV27<Saisies!$F$25,1,IF(Saisies!$F$25<10,1,0))))","v":1},{"$f":"IF(FV27>Saisies!$C$10,\"\",(IF(FV27<Saisies!$B$10,\"\",FY27)))","v":""},{"$f":"IF(FV27>Saisies!$E$10,\"\",(IF(FV27<Saisies!$D$10,\"\",FY27)))","v":""},{"$f":"IF(FV27>Saisies!$G$10,\"\",(IF(FV27<Saisies!$F$10,\"\",FY27)))","v":""},null,null,1]
[null,"2016-01-16","S",0,0,0,{"$f":"IF(MAX(F28,(F27+D28))>=Saisies!$E$4,(IF(F27<=Saisies!$E$4,B28,G27)),0)","v":0},{"$f":"IF(B28=Saisies!$C$7,MIN((ABS(Saisies!$E$4-F27)),I28),I28)","v":""},{"$f":"IF(ISERROR((IF(B28>Saisies!$C$7,\"\",IF(ISERROR(IF(B28<Saisies!$B$7,\"\",D28)*J28),IF(B28<Saisies!$B$7,\"\",D28),\"\")))*(IF(ISERROR(K28+1),0,K28))*L28*M28*N28),\"\",(IF(B28>Saisies!$C$7,\"\",IF(ISERROR(IF(B28<Saisies!$B$7,\"\",D28)*J28),IF(B28<Saisies!$B$7,\"\",D28),\"\")))*(IF(ISERROR(K28+1),0,K28))*L28*M28*N28)","v":""},"",1,{"$f":"IF(B28>Saisies!$C$25,1,(IF(B28<Saisies!$B$25,1,IF(Saisies!$B$25=0,1,0))))","v":1},{"$f":"IF(B28>Saisies!$E$25,1,(IF(B28<Saisies!$D$25,1,IF(Saisies!$D$25=0,1,0))))","v":1},{"$f":"IF(B28>Saisies!$G$25,1,(IF(B28<Saisies!$F$25,1,IF(Saisies!$F$25<10,1,0))))","v":1},{"$f":"IF(B28>Saisies!$C$10,\"\",(IF(B28<Saisies!$B$10,\"\",E28)))","v":""},{"$f":"IF(B28>Saisies!$E$10,\"\",(IF(B28<Saisies!$D$10,\"\",E28)))","v":""},{"$f":"IF(B28>Saisies!$G$10,\"\",(IF(B28<Saisies!$F$10,\"\",E28)))","v":""},"2016-02-16","M",8,7,0,{"$f":"IF(MAX(V28,(V27+T28))>=Saisies!$E$4,(IF(V27<=Saisies!$E$4,R28,W27)),0)","v":0},{"$f":"IF(R28=Saisies!$C$7,MIN((ABS(Saisies!$E$4-V27)),Y28),Y28)","v":""},{"$f":"IF(ISERROR((IF(R28>Saisies!$C$7,\"\",IF(ISERROR(IF(R28<Saisies!$B$7,\"\",T28)*Z28),IF(R28<Saisies!$B$7,\"\",T28),\"\")))*(IF(ISERROR(AA28+1),0,AA28))*AB28*AC28*AD28),\"\",(IF(R28>Saisies!$C$7,\"\",IF(ISERROR(IF(R28<Saisies!$B$7,\"\",T28)*Z28),IF(R28<Saisies!$B$7,\"\",T28),\"\")))*(IF(ISERROR(AA28+1),0,AA28))*AB28*AC28*AD28)","v":""},"",1,{"$f":"IF(R28>Saisies!$C$25,1,(IF(R28<Saisies!$B$25,1,IF(Saisies!$B$25=0,1,0))))","v":1},{"$f":"IF(R28>Saisies!$E$25,1,(IF(R28<Saisies!$D$25,1,IF(Saisies!$D$25=0,1,0))))","v":1},{"$f":"IF(R28>Saisies!$G$25,1,(IF(R28<Saisies!$F$25,1,IF(Saisies!$F$25<10,1,0))))","v":1},{"$f":"IF(R28>Saisies!$C$10,\"\",(IF(R28<Saisies!$B$10,\"\",U28)))","v":""},{"$f":"IF(R28>Saisies!$E$10,\"\",(IF(R28<Saisies!$D$10,\"\",U28)))","v":""},{"$f":"IF(R28>Saisies!$G$10,\"\",(IF(R28<Saisies!$F$10,\"\",U28)))","v":""},"2016-03-16","M",8,7,0,{"$f":"IF(MAX(AL28,(AL27+AJ28))>=Saisies!$E$4,(IF(AL27<=Saisies!$E$4,AH28,AM27)),0)","v":0},{"$f":"IF(AH28=Saisies!$C$7,MIN((ABS(Saisies!$E$4-AL27)),AO28),AO28)","v":""},{"$f":"IF(ISERROR((IF(AH28>Saisies!$C$7,\"\",IF(ISERROR(IF(AH28<Saisies!$B$7,\"\",AJ28)*AP28),IF(AH28<Saisies!$B$7,\"\",AJ28),\"\")))*(IF(ISERROR(AQ28+1),0,AQ28))*AR28*AS28*AT28),\"\",(IF(AH28>Saisies!$C$7,\"\",IF(ISERROR(IF(AH28<Saisies!$B$7,\"\",AJ28)*AP28),IF(AH28<Saisies!$B$7,\"\",AJ28),\"\")))*(IF(ISERROR(AQ28+1),0,AQ28))*AR28*AS28*AT28)","v":""},"",1,{"$f":"IF(AH28>Saisies!$C$25,1,(IF(AH28<Saisies!$B$25,1,IF(Saisies!$B$25=0,1,0))))","v":1},{"$f":"IF(AH28>Saisies!$E$25,1,(IF(AH28<Saisies!$D$25,1,IF(Saisies!$D$25=0,1,0))))","v":1},{"$f":"IF(AH28>Saisies!$G$25,1,(IF(AH28<Saisies!$F$25,1,IF(Saisies!$F$25<10,1,0))))","v":1},{"$f":"IF(AH28>Saisies!$C$10,\"\",(IF(AH28<Saisies!$B$10,\"\",AK28)))","v":""},{"$f":"IF(AH28>Saisies!$E$10,\"\",(IF(AH28<Saisies!$D$10,\"\",AK28)))","v":""},{"$f":"IF(AH28>Saisies!$G$10,\"\",(IF(AH28<Saisies!$F$10,\"\",AK28)))","v":""},"2016-04-16","S",0,0,0,{"$f":"IF(BB28>=Saisies!$E$4,(IF(BC27<=Saisies!$E$4,AX28,BC27)),0)","v":0},{"$f":"IF(AX28=Saisies!$C$7,MIN((ABS(Saisies!$E$4-BB27)),BE28),BE28)","v":""},{"$f":"IF(ISERROR((IF(AX28>Saisies!$C$7,\"\",IF(ISERROR(IF(AX28<Saisies!$B$7,\"\",AZ28)*BF28),IF(AX28<Saisies!$B$7,\"\",AZ28),\"\")))*(IF(ISERROR(BG28+1),0,BG28))*BH28*BI28*BJ28),\"\",(IF(AX28>Saisies!$C$7,\"\",IF(ISERROR(IF(AX28<Saisies!$B$7,\"\",AZ28)*BF28),IF(AX28<Saisies!$B$7,\"\",AZ28),\"\")))*(IF(ISERROR(BG28+1),0,BG28))*BH28*BI28*BJ28)","v":""},"",1,{"$f":"IF(AX28>Saisies!$C$25,1,(IF(AX28<Saisies!$B$25,1,IF(Saisies!$B$25=0,1,0))))","v":1},{"$f":"IF(AX28>Saisies!$E$25,1,(IF(AX28<Saisies!$D$25,1,IF(Saisies!$D$25=0,1,0))))","v":1},{"$f":"IF(AX28>Saisies!$G$25,1,(IF(AX28<Saisies!$F$25,1,IF(Saisies!$F$25<10,1,0))))","v":1},{"$f":"IF(AX28>Saisies!$C$10,\"\",(IF(AX28<Saisies!$B$10,\"\",BA28)))","v":""},{"$f":"IF(AX28>Saisies!$E$10,\"\",(IF(AX28<Saisies!$D$10,\"\",BA28)))","v":""},{"$f":"IF(AX28>Saisies!$G$10,\"\",(IF(AX28<Saisies!$F$10,\"\",BA28)))","v":""},"2016-05-16","L",7,7,0,{"$f":"IF(MAX(BR28,(BR27+BP28))>=Saisies!$E$4,(IF(BR27<=Saisies!$E$4,BN28,BS27)),0)","v":0},{"$f":"IF(BN28=Saisies!$C$7,MIN((ABS(Saisies!$E$4-BR27)),BU28),BU28)","v":""},{"$f":"IF(ISERROR((IF(BN28>Saisies!$C$7,\"\",IF(ISERROR(IF(BN28<Saisies!$B$7,\"\",BP28)*BV28),IF(BN28<Saisies!$B$7,\"\",BP28),\"\")))*(IF(ISERROR(BW28+1),0,BW28))*BX28*BY28*BZ28),\"\",(IF(BN28>Saisies!$C$7,\"\",IF(ISERROR(IF(BN28<Saisies!$B$7,\"\",BP28)*BV28),IF(BN28<Saisies!$B$7,\"\",BP28),\"\")))*(IF(ISERROR(BW28+1),0,BW28))*BX28*BY28*BZ28)","v":""},"","B",{"$f":"IF(BN28>Saisies!$C$25,1,(IF(BN28<Saisies!$B$25,1,IF(Saisies!$B$25=0,1,0))))","v":1},{"$f":"IF(BN28>Saisies!$E$25,1,(IF(BN28<Saisies!$D$25,1,IF(Saisies!$D$25=0,1,0))))","v":1},{"$f":"IF(BN28>Saisies!$G$25,1,(IF(BN28<Saisies!$F$25,1,IF(Saisies!$F$25<10,1,0))))","v":1},{"$f":"IF(BN28>Saisies!$C$10,\"\",(IF(BN28<Saisies!$B$10,\"\",BQ28)))","v":""},{"$f":"IF(BN28>Saisies!$E$10,\"\",(IF(BN28<Saisies!$D$10,\"\",BQ28)))","v":""},{"$f":"IF(BN28>Saisies!$G$10,\"\",(IF(BN28<Saisies!$F$10,\"\",BQ28)))","v":""},"2016-06-16","J",8,7,86,{"$f":"IF(MAX(CH28,(CH27+CF28))>=Saisies!$E$4,(IF(CH27<=Saisies!$E$4,CD28,CI27)),0)","v":0},{"$f":"IF(CD28=Saisies!$C$7,MIN((ABS(Saisies!$E$4-CH27)),CK28),CK28)","v":8},{"$f":"IF(ISERROR((IF(CD28>Saisies!$C$7,\"\",IF(ISERROR(IF(CD28<Saisies!$B$7,\"\",CF28)*CL28),IF(CD28<Saisies!$B$7,\"\",CF28),\"\")))*(IF(ISERROR(CM28+1),0,CM28))*CN28*CO28*CP28),\"\",(IF(CD28>Saisies!$C$7,\"\",IF(ISERROR(IF(CD28<Saisies!$B$7,\"\",CF28)*CL28),IF(CD28<Saisies!$B$7,\"\",CF28),\"\")))*(IF(ISERROR(CM28+1),0,CM28))*CN28*CO28*CP28)","v":8},"",1,{"$f":"IF(CD28>Saisies!$C$25,1,(IF(CD28<Saisies!$B$25,1,IF(Saisies!$B$25=0,1,0))))","v":1},{"$f":"IF(CD28>Saisies!$E$25,1,(IF(CD28<Saisies!$D$25,1,IF(Saisies!$D$25=0,1,0))))","v":1},{"$f":"IF(CD28>Saisies!$G$25,1,(IF(CD28<Saisies!$F$25,1,IF(Saisies!$F$25<10,1,0))))","v":1},{"$f":"IF(CD28>Saisies!$C$10,\"\",(IF(CD28<Saisies!$B$10,\"\",CG28)))","v":""},{"$f":"IF(CD28>Saisies!$E$10,\"\",(IF(CD28<Saisies!$D$10,\"\",CG28)))","v":""},{"$f":"IF(CD28>Saisies!$G$10,\"\",(IF(CD28<Saisies!$F$10,\"\",CG28)))","v":""},"2016-07-16","S",0,0,216,{"$f":"IF(MAX(CX28,(CX27+CV28))>=Saisies!$E$4,(IF(CX27<=Saisies!$E$4,CT28,CY27)),0)","v":0},{"$f":"IF(CT28=Saisies!$C$7,MIN((ABS(Saisies!$E$4-CX27)),DA28),DA28)","v":0},{"$f":"IF(ISERROR((IF(CT28>Saisies!$C$7,\"\",IF(ISERROR(IF(CT28<Saisies!$B$7,\"\",CV28)*DB28),IF(CT28<Saisies!$B$7,\"\",CV28),\"\")))*(IF(ISERROR(DC28+1),0,DC28))*DD28*DE28*DF28),\"\",(IF(CT28>Saisies!$C$7,\"\",IF(ISERROR(IF(CT28<Saisies!$B$7,\"\",CV28)*DB28),IF(CT28<Saisies!$B$7,\"\",CV28),\"\")))*(IF(ISERROR(DC28+1),0,DC28))*DD28*DE28*DF28)","v":0},"",1,{"$f":"IF(CT28>Saisies!$C$25,1,(IF(CT28<Saisies!$B$25,1,IF(Saisies!$B$25=0,1,0))))","v":1},{"$f":"IF(CT28>Saisies!$E$25,1,(IF(CT28<Saisies!$D$25,1,IF(Saisies!$D$25=0,1,0))))","v":1},{"$f":"IF(CT28>Saisies!$G$25,1,(IF(CT28<Saisies!$F$25,1,IF(Saisies!$F$25<10,1,0))))","v":1},{"$f":"IF(CT28>Saisies!$C$10,\"\",(IF(CT28<Saisies!$B$10,\"\",CW28)))","v":0},{"$f":"IF(CT28>Saisies!$E$10,\"\",(IF(CT28<Saisies!$D$10,\"\",CW28)))","v":""},{"$f":"IF(CT28>Saisies!$G$10,\"\",(IF(CT28<Saisies!$F$10,\"\",CW28)))","v":""},"2016-08-16","M",8,7,366,{"$f":"IF(DN28>=Saisies!$E$4,(IF(DO27<=Saisies!$E$4,DJ28,DO27)),0)","v":0},{"$f":"IF(DJ28=Saisies!$C$7,MIN((ABS(Saisies!$E$4-DN27)),DQ28),DQ28)","v":""},{"$f":"IF(ISERROR((IF(DJ28>Saisies!$C$7,\"\",IF(ISERROR(IF(DJ28<Saisies!$B$7,\"\",DL28)*DR28),IF(DJ28<Saisies!$B$7,\"\",DL28),\"\")))*(IF(ISERROR(DS28+1),0,DS28))*DT28*DU28*DV28),\"\",(IF(DJ28>Saisies!$C$7,\"\",IF(ISERROR(IF(DJ28<Saisies!$B$7,\"\",DL28)*DR28),IF(DJ28<Saisies!$B$7,\"\",DL28),\"\")))*(IF(ISERROR(DS28+1),0,DS28))*DT28*DU28*DV28)","v":""},{"$f":"IF((SUM(DW28:DY28)*(IF(ISERROR(DS28+1),0,DS28))*DT28*DU28*DV28)=0,\"\",SUM(DW28:DY28))","v":7},{"$f":"IF(ISERROR(IF(IF(ISERROR(VLOOKUP(DJ28,Champs,2,FALSE)),1,0)=0,LOOKUP(DJ28,general),1)),0,(IF(IF(ISERROR(VLOOKUP(DJ28,Champs,2,FALSE)),1,0)=0,LOOKUP(DJ28,general),1)))","v":1},{"$f":"IF(DJ28>Saisies!$C$25,1,(IF(DJ28<Saisies!$B$25,1,IF(Saisies!$B$25=0,1,0))))","v":1},{"$f":"IF(DJ28>Saisies!$E$25,1,(IF(DJ28<Saisies!$D$25,1,IF(Saisies!$D$25=0,1,0))))","v":1},{"$f":"IF(DJ28>Saisies!$G$25,1,(IF(DJ28<Saisies!$F$25,1,IF(Saisies!$F$25<10,1,0))))","v":1},{"$f":"IF(DJ28>Saisies!$C$10,\"\",(IF(DJ28<Saisies!$B$10,\"\",DM28)))","v":""},{"$f":"IF(DJ28>Saisies!$E$10,\"\",(IF(DJ28<Saisies!$D$10,\"\",DM28)))","v":7},{"$f":"IF(DJ28>Saisies!$G$10,\"\",(IF(DJ28<Saisies!$F$10,\"\",DM28)))","v":""},"2016-09-16","V",4,7,492,{"$f":"IF(ED28>=Saisies!$E$4,(IF(EE27<=Saisies!$E$4,DZ28,EE27)),0)","v":42622},{"$f":"IF(DZ28=Saisies!$C$7,MIN((ABS(Saisies!$E$4-ED27)),EG28),EG28)","v":""},{"$f":"IF(ISERROR((IF(DZ28>Saisies!$C$7,\"\",IF(ISERROR(IF(DZ28<Saisies!$B$7,\"\",EB28)*EH28),IF(DZ28<Saisies!$B$7,\"\",EB28),\"\")))*(IF(ISERROR(EI28+1),0,EI28))*EJ28*EK28*EL28),\"\",(IF(DZ28>Saisies!$C$7,\"\",IF(ISERROR(IF(DZ28<Saisies!$B$7,\"\",EB28)*EH28),IF(DZ28<Saisies!$B$7,\"\",EB28),\"\")))*(IF(ISERROR(EI28+1),0,EI28))*EJ28*EK28*EL28)","v":""},"",1,{"$f":"IF(DZ28>Saisies!$C$25,1,(IF(DZ28<Saisies!$B$25,1,IF(Saisies!$B$25=0,1,0))))","v":1},{"$f":"IF(DZ28>Saisies!$E$25,1,(IF(DZ28<Saisies!$D$25,1,IF(Saisies!$D$25=0,1,0))))","v":1},{"$f":"IF(DZ28>Saisies!$G$25,1,(IF(DZ28<Saisies!$F$25,1,IF(Saisies!$F$25<10,1,0))))","v":1},{"$f":"IF(DZ28>Saisies!$C$10,\"\",(IF(DZ28<Saisies!$B$10,\"\",EC28)))","v":""},{"$f":"IF(DZ28>Saisies!$E$10,\"\",(IF(DZ28<Saisies!$D$10,\"\",EC28)))","v":""},{"$f":"IF(DZ28>Saisies!$G$10,\"\",(IF(DZ28<Saisies!$F$10,\"\",EC28)))","v":""},"2016-10-16","D",0,0,492,{"$f":"IF(ET28>=Saisies!$E$4,(IF(EU27<=Saisies!$E$4,EP28,EU27)),0)","v":42622},{"$f":"IF(EP28=Saisies!$C$7,MIN((ABS(Saisies!$E$4-ET27)),EW28),EW28)","v":""},{"$f":"IF(ISERROR((IF(EP28>Saisies!$C$7,\"\",IF(ISERROR(IF(EP28<Saisies!$B$7,\"\",ER28)*EX28),IF(EP28<Saisies!$B$7,\"\",ER28),\"\")))*(IF(ISERROR(EY28+1),0,EY28))*EZ28*FA28*FB28),\"\",(IF(EP28>Saisies!$C$7,\"\",IF(ISERROR(IF(EP28<Saisies!$B$7,\"\",ER28)*EX28),IF(EP28<Saisies!$B$7,\"\",ER28),\"\")))*(IF(ISERROR(EY28+1),0,EY28))*EZ28*FA28*FB28)","v":""},"",1,{"$f":"IF(EP28>Saisies!$C$25,1,(IF(EP28<Saisies!$B$25,1,IF(Saisies!$B$25=0,1,0))))","v":1},{"$f":"IF(EP28>Saisies!$E$25,1,(IF(EP28<Saisies!$D$25,1,IF(Saisies!$D$25=0,1,0))))","v":1},{"$f":"IF(EP28>Saisies!$G$25,1,(IF(EP28<Saisies!$F$25,1,IF(Saisies!$F$25<10,1,0))))","v":1},{"$f":"IF(EP28>Saisies!$C$10,\"\",(IF(EP28<Saisies!$B$10,\"\",ES28)))","v":""},{"$f":"IF(EP28>Saisies!$E$10,\"\",(IF(EP28<Saisies!$D$10,\"\",ES28)))","v":""},{"$f":"IF(EP28>Saisies!$G$10,\"\",(IF(EP28<Saisies!$F$10,\"\",ES28)))","v":""},"2016-11-16","M",8,7,492,{"$f":"IF(FJ28>=Saisies!$E$4,(IF(FK27<=Saisies!$E$4,FF28,FK27)),0)","v":42622},{"$f":"IF(FF28=Saisies!$C$7,MIN((ABS(Saisies!$E$4-FJ27)),FM28),FM28)","v":""},{"$f":"IF(ISERROR((IF(FF28>Saisies!$C$7,\"\",IF(ISERROR(IF(FF28<Saisies!$B$7,\"\",FH28)*FN28),IF(FF28<Saisies!$B$7,\"\",FH28),\"\")))*(IF(ISERROR(FO28+1),0,FO28))*FP28*FQ28*FR28),\"\",(IF(FF28>Saisies!$C$7,\"\",IF(ISERROR(IF(FF28<Saisies!$B$7,\"\",FH28)*FN28),IF(FF28<Saisies!$B$7,\"\",FH28),\"\")))*(IF(ISERROR(FO28+1),0,FO28))*FP28*FQ28*FR28)","v":""},"",1,{"$f":"IF(FF28>Saisies!$C$25,1,(IF(FF28<Saisies!$B$25,1,IF(Saisies!$B$25=0,1,0))))","v":1},{"$f":"IF(FF28>Saisies!$E$25,1,(IF(FF28<Saisies!$D$25,1,IF(Saisies!$D$25=0,1,0))))","v":1},{"$f":"IF(FF28>Saisies!$G$25,1,(IF(FF28<Saisies!$F$25,1,IF(Saisies!$F$25<10,1,0))))","v":1},{"$f":"IF(FF28>Saisies!$C$10,\"\",(IF(FF28<Saisies!$B$10,\"\",FI28)))","v":""},{"$f":"IF(FF28>Saisies!$E$10,\"\",(IF(FF28<Saisies!$D$10,\"\",FI28)))","v":""},{"$f":"IF(FF28>Saisies!$G$10,\"\",(IF(FF28<Saisies!$F$10,\"\",FI28)))","v":""},"2016-12-16","V",4,7,492,{"$f":"IF(FZ28>=Saisies!$E$4,(IF(GA27<=Saisies!$E$4,FV28,GA27)),0)","v":42622},{"$f":"IF(FV28=Saisies!$C$7,MIN((ABS(Saisies!$E$4-FZ27)),GC28),GC28)","v":""},{"$f":"IF(ISERROR((IF(FV28>Saisies!$C$7,\"\",IF(ISERROR(IF(FV28<Saisies!$B$7,\"\",FX28)*GD28),IF(FV28<Saisies!$B$7,\"\",FX28),\"\")))*(IF(ISERROR(GE28+1),0,GE28))*GF28*GG28*GH28),\"\",(IF(FV28>Saisies!$C$7,\"\",IF(ISERROR(IF(FV28<Saisies!$B$7,\"\",FX28)*GD28),IF(FV28<Saisies!$B$7,\"\",FX28),\"\")))*(IF(ISERROR(GE28+1),0,GE28))*GF28*GG28*GH28)","v":""},"",1,{"$f":"IF(FV28>Saisies!$C$25,1,(IF(FV28<Saisies!$B$25,1,IF(Saisies!$B$25=0,1,0))))","v":1},{"$f":"IF(FV28>Saisies!$E$25,1,(IF(FV28<Saisies!$D$25,1,IF(Saisies!$D$25=0,1,0))))","v":1},{"$f":"IF(FV28>Saisies!$G$25,1,(IF(FV28<Saisies!$F$25,1,IF(Saisies!$F$25<10,1,0))))","v":1},{"$f":"IF(FV28>Saisies!$C$10,\"\",(IF(FV28<Saisies!$B$10,\"\",FY28)))","v":""},{"$f":"IF(FV28>Saisies!$E$10,\"\",(IF(FV28<Saisies!$D$10,\"\",FY28)))","v":""},{"$f":"IF(FV28>Saisies!$G$10,\"\",(IF(FV28<Saisies!$F$10,\"\",FY28)))","v":""},null,null,1]
[null,"2016-01-17","D",0,0,0,{"$f":"IF(MAX(F29,(F28+D29))>=Saisies!$E$4,(IF(F28<=Saisies!$E$4,B29,G28)),0)","v":0},{"$f":"IF(B29=Saisies!$C$7,MIN((ABS(Saisies!$E$4-F28)),I29),I29)","v":""},{"$f":"IF(ISERROR((IF(B29>Saisies!$C$7,\"\",IF(ISERROR(IF(B29<Saisies!$B$7,\"\",D29)*J29),IF(B29<Saisies!$B$7,\"\",D29),\"\")))*(IF(ISERROR(K29+1),0,K29))*L29*M29*N29),\"\",(IF(B29>Saisies!$C$7,\"\",IF(ISERROR(IF(B29<Saisies!$B$7,\"\",D29)*J29),IF(B29<Saisies!$B$7,\"\",D29),\"\")))*(IF(ISERROR(K29+1),0,K29))*L29*M29*N29)","v":""},"",1,{"$f":"IF(B29>Saisies!$C$25,1,(IF(B29<Saisies!$B$25,1,IF(Saisies!$B$25=0,1,0))))","v":1},{"$f":"IF(B29>Saisies!$E$25,1,(IF(B29<Saisies!$D$25,1,IF(Saisies!$D$25=0,1,0))))","v":1},{"$f":"IF(B29>Saisies!$G$25,1,(IF(B29<Saisies!$F$25,1,IF(Saisies!$F$25<10,1,0))))","v":1},{"$f":"IF(B29>Saisies!$C$10,\"\",(IF(B29<Saisies!$B$10,\"\",E29)))","v":""},{"$f":"IF(B29>Saisies!$E$10,\"\",(IF(B29<Saisies!$D$10,\"\",E29)))","v":""},{"$f":"IF(B29>Saisies!$G$10,\"\",(IF(B29<Saisies!$F$10,\"\",E29)))","v":""},"2016-02-17","M",8,7,0,{"$f":"IF(MAX(V29,(V28+T29))>=Saisies!$E$4,(IF(V28<=Saisies!$E$4,R29,W28)),0)","v":0},{"$f":"IF(R29=Saisies!$C$7,MIN((ABS(Saisies!$E$4-V28)),Y29),Y29)","v":""},{"$f":"IF(ISERROR((IF(R29>Saisies!$C$7,\"\",IF(ISERROR(IF(R29<Saisies!$B$7,\"\",T29)*Z29),IF(R29<Saisies!$B$7,\"\",T29),\"\")))*(IF(ISERROR(AA29+1),0,AA29))*AB29*AC29*AD29),\"\",(IF(R29>Saisies!$C$7,\"\",IF(ISERROR(IF(R29<Saisies!$B$7,\"\",T29)*Z29),IF(R29<Saisies!$B$7,\"\",T29),\"\")))*(IF(ISERROR(AA29+1),0,AA29))*AB29*AC29*AD29)","v":""},"",1,{"$f":"IF(R29>Saisies!$C$25,1,(IF(R29<Saisies!$B$25,1,IF(Saisies!$B$25=0,1,0))))","v":1},{"$f":"IF(R29>Saisies!$E$25,1,(IF(R29<Saisies!$D$25,1,IF(Saisies!$D$25=0,1,0))))","v":1},{"$f":"IF(R29>Saisies!$G$25,1,(IF(R29<Saisies!$F$25,1,IF(Saisies!$F$25<10,1,0))))","v":1},{"$f":"IF(R29>Saisies!$C$10,\"\",(IF(R29<Saisies!$B$10,\"\",U29)))","v":""},{"$f":"IF(R29>Saisies!$E$10,\"\",(IF(R29<Saisies!$D$10,\"\",U29)))","v":""},{"$f":"IF(R29>Saisies!$G$10,\"\",(IF(R29<Saisies!$F$10,\"\",U29)))","v":""},"2016-03-17","J",8,7,0,{"$f":"IF(MAX(AL29,(AL28+AJ29))>=Saisies!$E$4,(IF(AL28<=Saisies!$E$4,AH29,AM28)),0)","v":0},{"$f":"IF(AH29=Saisies!$C$7,MIN((ABS(Saisies!$E$4-AL28)),AO29),AO29)","v":""},{"$f":"IF(ISERROR((IF(AH29>Saisies!$C$7,\"\",IF(ISERROR(IF(AH29<Saisies!$B$7,\"\",AJ29)*AP29),IF(AH29<Saisies!$B$7,\"\",AJ29),\"\")))*(IF(ISERROR(AQ29+1),0,AQ29))*AR29*AS29*AT29),\"\",(IF(AH29>Saisies!$C$7,\"\",IF(ISERROR(IF(AH29<Saisies!$B$7,\"\",AJ29)*AP29),IF(AH29<Saisies!$B$7,\"\",AJ29),\"\")))*(IF(ISERROR(AQ29+1),0,AQ29))*AR29*AS29*AT29)","v":""},"",1,{"$f":"IF(AH29>Saisies!$C$25,1,(IF(AH29<Saisies!$B$25,1,IF(Saisies!$B$25=0,1,0))))","v":1},{"$f":"IF(AH29>Saisies!$E$25,1,(IF(AH29<Saisies!$D$25,1,IF(Saisies!$D$25=0,1,0))))","v":1},{"$f":"IF(AH29>Saisies!$G$25,1,(IF(AH29<Saisies!$F$25,1,IF(Saisies!$F$25<10,1,0))))","v":1},{"$f":"IF(AH29>Saisies!$C$10,\"\",(IF(AH29<Saisies!$B$10,\"\",AK29)))","v":""},{"$f":"IF(AH29>Saisies!$E$10,\"\",(IF(AH29<Saisies!$D$10,\"\",AK29)))","v":""},{"$f":"IF(AH29>Saisies!$G$10,\"\",(IF(AH29<Saisies!$F$10,\"\",AK29)))","v":""},"2016-04-17","D",0,0,0,{"$f":"IF(BB29>=Saisies!$E$4,(IF(BC28<=Saisies!$E$4,AX29,BC28)),0)","v":0},{"$f":"IF(AX29=Saisies!$C$7,MIN((ABS(Saisies!$E$4-BB28)),BE29),BE29)","v":""},{"$f":"IF(ISERROR((IF(AX29>Saisies!$C$7,\"\",IF(ISERROR(IF(AX29<Saisies!$B$7,\"\",AZ29)*BF29),IF(AX29<Saisies!$B$7,\"\",AZ29),\"\")))*(IF(ISERROR(BG29+1),0,BG29))*BH29*BI29*BJ29),\"\",(IF(AX29>Saisies!$C$7,\"\",IF(ISERROR(IF(AX29<Saisies!$B$7,\"\",AZ29)*BF29),IF(AX29<Saisies!$B$7,\"\",AZ29),\"\")))*(IF(ISERROR(BG29+1),0,BG29))*BH29*BI29*BJ29)","v":""},"",1,{"$f":"IF(AX29>Saisies!$C$25,1,(IF(AX29<Saisies!$B$25,1,IF(Saisies!$B$25=0,1,0))))","v":1},{"$f":"IF(AX29>Saisies!$E$25,1,(IF(AX29<Saisies!$D$25,1,IF(Saisies!$D$25=0,1,0))))","v":1},{"$f":"IF(AX29>Saisies!$G$25,1,(IF(AX29<Saisies!$F$25,1,IF(Saisies!$F$25<10,1,0))))","v":1},{"$f":"IF(AX29>Saisies!$C$10,\"\",(IF(AX29<Saisies!$B$10,\"\",BA29)))","v":""},{"$f":"IF(AX29>Saisies!$E$10,\"\",(IF(AX29<Saisies!$D$10,\"\",BA29)))","v":""},{"$f":"IF(AX29>Saisies!$G$10,\"\",(IF(AX29<Saisies!$F$10,\"\",BA29)))","v":""},"2016-05-17","M",8,7,0,{"$f":"IF(MAX(BR29,(BR28+BP29))>=Saisies!$E$4,(IF(BR28<=Saisies!$E$4,BN29,BS28)),0)","v":0},{"$f":"IF(BN29=Saisies!$C$7,MIN((ABS(Saisies!$E$4-BR28)),BU29),BU29)","v":""},{"$f":"IF(ISERROR((IF(BN29>Saisies!$C$7,\"\",IF(ISERROR(IF(BN29<Saisies!$B$7,\"\",BP29)*BV29),IF(BN29<Saisies!$B$7,\"\",BP29),\"\")))*(IF(ISERROR(BW29+1),0,BW29))*BX29*BY29*BZ29),\"\",(IF(BN29>Saisies!$C$7,\"\",IF(ISERROR(IF(BN29<Saisies!$B$7,\"\",BP29)*BV29),IF(BN29<Saisies!$B$7,\"\",BP29),\"\")))*(IF(ISERROR(BW29+1),0,BW29))*BX29*BY29*BZ29)","v":""},"",1,{"$f":"IF(BN29>Saisies!$C$25,1,(IF(BN29<Saisies!$B$25,1,IF(Saisies!$B$25=0,1,0))))","v":1},{"$f":"IF(BN29>Saisies!$E$25,1,(IF(BN29<Saisies!$D$25,1,IF(Saisies!$D$25=0,1,0))))","v":1},{"$f":"IF(BN29>Saisies!$G$25,1,(IF(BN29<Saisies!$F$25,1,IF(Saisies!$F$25<10,1,0))))","v":1},{"$f":"IF(BN29>Saisies!$C$10,\"\",(IF(BN29<Saisies!$B$10,\"\",BQ29)))","v":""},{"$f":"IF(BN29>Saisies!$E$10,\"\",(IF(BN29<Saisies!$D$10,\"\",BQ29)))","v":""},{"$f":"IF(BN29>Saisies!$G$10,\"\",(IF(BN29<Saisies!$F$10,\"\",BQ29)))","v":""},"2016-06-17","V",4,7,90,{"$f":"IF(MAX(CH29,(CH28+CF29))>=Saisies!$E$4,(IF(CH28<=Saisies!$E$4,CD29,CI28)),0)","v":0},{"$f":"IF(CD29=Saisies!$C$7,MIN((ABS(Saisies!$E$4-CH28)),CK29),CK29)","v":4},{"$f":"IF(ISERROR((IF(CD29>Saisies!$C$7,\"\",IF(ISERROR(IF(CD29<Saisies!$B$7,\"\",CF29)*CL29),IF(CD29<Saisies!$B$7,\"\",CF29),\"\")))*(IF(ISERROR(CM29+1),0,CM29))*CN29*CO29*CP29),\"\",(IF(CD29>Saisies!$C$7,\"\",IF(ISERROR(IF(CD29<Saisies!$B$7,\"\",CF29)*CL29),IF(CD29<Saisies!$B$7,\"\",CF29),\"\")))*(IF(ISERROR(CM29+1),0,CM29))*CN29*CO29*CP29)","v":4},"",1,{"$f":"IF(CD29>Saisies!$C$25,1,(IF(CD29<Saisies!$B$25,1,IF(Saisies!$B$25=0,1,0))))","v":1},{"$f":"IF(CD29>Saisies!$E$25,1,(IF(CD29<Saisies!$D$25,1,IF(Saisies!$D$25=0,1,0))))","v":1},{"$f":"IF(CD29>Saisies!$G$25,1,(IF(CD29<Saisies!$F$25,1,IF(Saisies!$F$25<10,1,0))))","v":1},{"$f":"IF(CD29>Saisies!$C$10,\"\",(IF(CD29<Saisies!$B$10,\"\",CG29)))","v":""},{"$f":"IF(CD29>Saisies!$E$10,\"\",(IF(CD29<Saisies!$D$10,\"\",CG29)))","v":""},{"$f":"IF(CD29>Saisies!$G$10,\"\",(IF(CD29<Saisies!$F$10,\"\",CG29)))","v":""},"2016-07-17","D",0,0,216,{"$f":"IF(MAX(CX29,(CX28+CV29))>=Saisies!$E$4,(IF(CX28<=Saisies!$E$4,CT29,CY28)),0)","v":0},{"$f":"IF(CT29=Saisies!$C$7,MIN((ABS(Saisies!$E$4-CX28)),DA29),DA29)","v":0},{"$f":"IF(ISERROR((IF(CT29>Saisies!$C$7,\"\",IF(ISERROR(IF(CT29<Saisies!$B$7,\"\",CV29)*DB29),IF(CT29<Saisies!$B$7,\"\",CV29),\"\")))*(IF(ISERROR(DC29+1),0,DC29))*DD29*DE29*DF29),\"\",(IF(CT29>Saisies!$C$7,\"\",IF(ISERROR(IF(CT29<Saisies!$B$7,\"\",CV29)*DB29),IF(CT29<Saisies!$B$7,\"\",CV29),\"\")))*(IF(ISERROR(DC29+1),0,DC29))*DD29*DE29*DF29)","v":0},"",1,{"$f":"IF(CT29>Saisies!$C$25,1,(IF(CT29<Saisies!$B$25,1,IF(Saisies!$B$25=0,1,0))))","v":1},{"$f":"IF(CT29>Saisies!$E$25,1,(IF(CT29<Saisies!$D$25,1,IF(Saisies!$D$25=0,1,0))))","v":1},{"$f":"IF(CT29>Saisies!$G$25,1,(IF(CT29<Saisies!$F$25,1,IF(Saisies!$F$25<10,1,0))))","v":1},{"$f":"IF(CT29>Saisies!$C$10,\"\",(IF(CT29<Saisies!$B$10,\"\",CW29)))","v":0},{"$f":"IF(CT29>Saisies!$E$10,\"\",(IF(CT29<Saisies!$D$10,\"\",CW29)))","v":""},{"$f":"IF(CT29>Saisies!$G$10,\"\",(IF(CT29<Saisies!$F$10,\"\",CW29)))","v":""},"2016-08-17","M",8,7,373,{"$f":"IF(DN29>=Saisies!$E$4,(IF(DO28<=Saisies!$E$4,DJ29,DO28)),0)","v":0},{"$f":"IF(DJ29=Saisies!$C$7,MIN((ABS(Saisies!$E$4-DN28)),DQ29),DQ29)","v":""},{"$f":"IF(ISERROR((IF(DJ29>Saisies!$C$7,\"\",IF(ISERROR(IF(DJ29<Saisies!$B$7,\"\",DL29)*DR29),IF(DJ29<Saisies!$B$7,\"\",DL29),\"\")))*(IF(ISERROR(DS29+1),0,DS29))*DT29*DU29*DV29),\"\",(IF(DJ29>Saisies!$C$7,\"\",IF(ISERROR(IF(DJ29<Saisies!$B$7,\"\",DL29)*DR29),IF(DJ29<Saisies!$B$7,\"\",DL29),\"\")))*(IF(ISERROR(DS29+1),0,DS29))*DT29*DU29*DV29)","v":""},7,1,{"$f":"IF(DJ29>Saisies!$C$25,1,(IF(DJ29<Saisies!$B$25,1,IF(Saisies!$B$25=0,1,0))))","v":1},{"$f":"IF(DJ29>Saisies!$E$25,1,(IF(DJ29<Saisies!$D$25,1,IF(Saisies!$D$25=0,1,0))))","v":1},{"$f":"IF(DJ29>Saisies!$G$25,1,(IF(DJ29<Saisies!$F$25,1,IF(Saisies!$F$25<10,1,0))))","v":1},{"$f":"IF(DJ29>Saisies!$C$10,\"\",(IF(DJ29<Saisies!$B$10,\"\",DM29)))","v":""},{"$f":"IF(DJ29>Saisies!$E$10,\"\",(IF(DJ29<Saisies!$D$10,\"\",DM29)))","v":7},{"$f":"IF(DJ29>Saisies!$G$10,\"\",(IF(DJ29<Saisies!$F$10,\"\",DM29)))","v":""},"2016-09-17","S",0,0,492,{"$f":"IF(ED29>=Saisies!$E$4,(IF(EE28<=Saisies!$E$4,DZ29,EE28)),0)","v":42622},{"$f":"IF(DZ29=Saisies!$C$7,MIN((ABS(Saisies!$E$4-ED28)),EG29),EG29)","v":""},{"$f":"IF(ISERROR((IF(DZ29>Saisies!$C$7,\"\",IF(ISERROR(IF(DZ29<Saisies!$B$7,\"\",EB29)*EH29),IF(DZ29<Saisies!$B$7,\"\",EB29),\"\")))*(IF(ISERROR(EI29+1),0,EI29))*EJ29*EK29*EL29),\"\",(IF(DZ29>Saisies!$C$7,\"\",IF(ISERROR(IF(DZ29<Saisies!$B$7,\"\",EB29)*EH29),IF(DZ29<Saisies!$B$7,\"\",EB29),\"\")))*(IF(ISERROR(EI29+1),0,EI29))*EJ29*EK29*EL29)","v":""},"",1,{"$f":"IF(DZ29>Saisies!$C$25,1,(IF(DZ29<Saisies!$B$25,1,IF(Saisies!$B$25=0,1,0))))","v":1},{"$f":"IF(DZ29>Saisies!$E$25,1,(IF(DZ29<Saisies!$D$25,1,IF(Saisies!$D$25=0,1,0))))","v":1},{"$f":"IF(DZ29>Saisies!$G$25,1,(IF(DZ29<Saisies!$F$25,1,IF(Saisies!$F$25<10,1,0))))","v":1},{"$f":"IF(DZ29>Saisies!$C$10,\"\",(IF(DZ29<Saisies!$B$10,\"\",EC29)))","v":""},{"$f":"IF(DZ29>Saisies!$E$10,\"\",(IF(DZ29<Saisies!$D$10,\"\",EC29)))","v":""},{"$f":"IF(DZ29>Saisies!$G$10,\"\",(IF(DZ29<Saisies!$F$10,\"\",EC29)))","v":""},"2016-10-17","L",7,7,492,{"$f":"IF(ET29>=Saisies!$E$4,(IF(EU28<=Saisies!$E$4,EP29,EU28)),0)","v":42622},{"$f":"IF(EP29=Saisies!$C$7,MIN((ABS(Saisies!$E$4-ET28)),EW29),EW29)","v":""},{"$f":"IF(ISERROR((IF(EP29>Saisies!$C$7,\"\",IF(ISERROR(IF(EP29<Saisies!$B$7,\"\",ER29)*EX29),IF(EP29<Saisies!$B$7,\"\",ER29),\"\")))*(IF(ISERROR(EY29+1),0,EY29))*EZ29*FA29*FB29),\"\",(IF(EP29>Saisies!$C$7,\"\",IF(ISERROR(IF(EP29<Saisies!$B$7,\"\",ER29)*EX29),IF(EP29<Saisies!$B$7,\"\",ER29),\"\")))*(IF(ISERROR(EY29+1),0,EY29))*EZ29*FA29*FB29)","v":""},"",1,{"$f":"IF(EP29>Saisies!$C$25,1,(IF(EP29<Saisies!$B$25,1,IF(Saisies!$B$25=0,1,0))))","v":1},{"$f":"IF(EP29>Saisies!$E$25,1,(IF(EP29<Saisies!$D$25,1,IF(Saisies!$D$25=0,1,0))))","v":1},{"$f":"IF(EP29>Saisies!$G$25,1,(IF(EP29<Saisies!$F$25,1,IF(Saisies!$F$25<10,1,0))))","v":1},{"$f":"IF(EP29>Saisies!$C$10,\"\",(IF(EP29<Saisies!$B$10,\"\",ES29)))","v":""},{"$f":"IF(EP29>Saisies!$E$10,\"\",(IF(EP29<Saisies!$D$10,\"\",ES29)))","v":""},{"$f":"IF(EP29>Saisies!$G$10,\"\",(IF(EP29<Saisies!$F$10,\"\",ES29)))","v":""},"2016-11-17","J",8,7,492,{"$f":"IF(FJ29>=Saisies!$E$4,(IF(FK28<=Saisies!$E$4,FF29,FK28)),0)","v":42622},{"$f":"IF(FF29=Saisies!$C$7,MIN((ABS(Saisies!$E$4-FJ28)),FM29),FM29)","v":""},{"$f":"IF(ISERROR((IF(FF29>Saisies!$C$7,\"\",IF(ISERROR(IF(FF29<Saisies!$B$7,\"\",FH29)*FN29),IF(FF29<Saisies!$B$7,\"\",FH29),\"\")))*(IF(ISERROR(FO29+1),0,FO29))*FP29*FQ29*FR29),\"\",(IF(FF29>Saisies!$C$7,\"\",IF(ISERROR(IF(FF29<Saisies!$B$7,\"\",FH29)*FN29),IF(FF29<Saisies!$B$7,\"\",FH29),\"\")))*(IF(ISERROR(FO29+1),0,FO29))*FP29*FQ29*FR29)","v":""},"",1,{"$f":"IF(FF29>Saisies!$C$25,1,(IF(FF29<Saisies!$B$25,1,IF(Saisies!$B$25=0,1,0))))","v":1},{"$f":"IF(FF29>Saisies!$E$25,1,(IF(FF29<Saisies!$D$25,1,IF(Saisies!$D$25=0,1,0))))","v":1},{"$f":"IF(FF29>Saisies!$G$25,1,(IF(FF29<Saisies!$F$25,1,IF(Saisies!$F$25<10,1,0))))","v":1},{"$f":"IF(FF29>Saisies!$C$10,\"\",(IF(FF29<Saisies!$B$10,\"\",FI29)))","v":""},{"$f":"IF(FF29>Saisies!$E$10,\"\",(IF(FF29<Saisies!$D$10,\"\",FI29)))","v":""},{"$f":"IF(FF29>Saisies!$G$10,\"\",(IF(FF29<Saisies!$F$10,\"\",FI29)))","v":""},"2016-12-17","S",0,0,492,{"$f":"IF(FZ29>=Saisies!$E$4,(IF(GA28<=Saisies!$E$4,FV29,GA28)),0)","v":42622},{"$f":"IF(FV29=Saisies!$C$7,MIN((ABS(Saisies!$E$4-FZ28)),GC29),GC29)","v":""},{"$f":"IF(ISERROR((IF(FV29>Saisies!$C$7,\"\",IF(ISERROR(IF(FV29<Saisies!$B$7,\"\",FX29)*GD29),IF(FV29<Saisies!$B$7,\"\",FX29),\"\")))*(IF(ISERROR(GE29+1),0,GE29))*GF29*GG29*GH29),\"\",(IF(FV29>Saisies!$C$7,\"\",IF(ISERROR(IF(FV29<Saisies!$B$7,\"\",FX29)*GD29),IF(FV29<Saisies!$B$7,\"\",FX29),\"\")))*(IF(ISERROR(GE29+1),0,GE29))*GF29*GG29*GH29)","v":""},"",1,{"$f":"IF(FV29>Saisies!$C$25,1,(IF(FV29<Saisies!$B$25,1,IF(Saisies!$B$25=0,1,0))))","v":1},{"$f":"IF(FV29>Saisies!$E$25,1,(IF(FV29<Saisies!$D$25,1,IF(Saisies!$D$25=0,1,0))))","v":1},{"$f":"IF(FV29>Saisies!$G$25,1,(IF(FV29<Saisies!$F$25,1,IF(Saisies!$F$25<10,1,0))))","v":1},{"$f":"IF(FV29>Saisies!$C$10,\"\",(IF(FV29<Saisies!$B$10,\"\",FY29)))","v":""},{"$f":"IF(FV29>Saisies!$E$10,\"\",(IF(FV29<Saisies!$D$10,\"\",FY29)))","v":""},{"$f":"IF(FV29>Saisies!$G$10,\"\",(IF(FV29<Saisies!$F$10,\"\",FY29)))","v":""},null,null,1]
[null,"2016-01-18","L",7,7,0,{"$f":"IF(MAX(F30,(F29+D30))>=Saisies!$E$4,(IF(F29<=Saisies!$E$4,B30,G29)),0)","v":0},{"$f":"IF(B30=Saisies!$C$7,MIN((ABS(Saisies!$E$4-F29)),I30),I30)","v":""},{"$f":"IF(ISERROR((IF(B30>Saisies!$C$7,\"\",IF(ISERROR(IF(B30<Saisies!$B$7,\"\",D30)*J30),IF(B30<Saisies!$B$7,\"\",D30),\"\")))*(IF(ISERROR(K30+1),0,K30))*L30*M30*N30),\"\",(IF(B30>Saisies!$C$7,\"\",IF(ISERROR(IF(B30<Saisies!$B$7,\"\",D30)*J30),IF(B30<Saisies!$B$7,\"\",D30),\"\")))*(IF(ISERROR(K30+1),0,K30))*L30*M30*N30)","v":""},"",1,{"$f":"IF(B30>Saisies!$C$25,1,(IF(B30<Saisies!$B$25,1,IF(Saisies!$B$25=0,1,0))))","v":1},{"$f":"IF(B30>Saisies!$E$25,1,(IF(B30<Saisies!$D$25,1,IF(Saisies!$D$25=0,1,0))))","v":1},{"$f":"IF(B30>Saisies!$G$25,1,(IF(B30<Saisies!$F$25,1,IF(Saisies!$F$25<10,1,0))))","v":1},{"$f":"IF(B30>Saisies!$C$10,\"\",(IF(B30<Saisies!$B$10,\"\",E30)))","v":""},{"$f":"IF(B30>Saisies!$E$10,\"\",(IF(B30<Saisies!$D$10,\"\",E30)))","v":""},{"$f":"IF(B30>Saisies!$G$10,\"\",(IF(B30<Saisies!$F$10,\"\",E30)))","v":""},"2016-02-18","J",8,7,0,{"$f":"IF(MAX(V30,(V29+T30))>=Saisies!$E$4,(IF(V29<=Saisies!$E$4,R30,W29)),0)","v":0},{"$f":"IF(R30=Saisies!$C$7,MIN((ABS(Saisies!$E$4-V29)),Y30),Y30)","v":""},{"$f":"IF(ISERROR((IF(R30>Saisies!$C$7,\"\",IF(ISERROR(IF(R30<Saisies!$B$7,\"\",T30)*Z30),IF(R30<Saisies!$B$7,\"\",T30),\"\")))*(IF(ISERROR(AA30+1),0,AA30))*AB30*AC30*AD30),\"\",(IF(R30>Saisies!$C$7,\"\",IF(ISERROR(IF(R30<Saisies!$B$7,\"\",T30)*Z30),IF(R30<Saisies!$B$7,\"\",T30),\"\")))*(IF(ISERROR(AA30+1),0,AA30))*AB30*AC30*AD30)","v":""},"",1,{"$f":"IF(R30>Saisies!$C$25,1,(IF(R30<Saisies!$B$25,1,IF(Saisies!$B$25=0,1,0))))","v":1},{"$f":"IF(R30>Saisies!$E$25,1,(IF(R30<Saisies!$D$25,1,IF(Saisies!$D$25=0,1,0))))","v":1},{"$f":"IF(R30>Saisies!$G$25,1,(IF(R30<Saisies!$F$25,1,IF(Saisies!$F$25<10,1,0))))","v":1},{"$f":"IF(R30>Saisies!$C$10,\"\",(IF(R30<Saisies!$B$10,\"\",U30)))","v":""},{"$f":"IF(R30>Saisies!$E$10,\"\",(IF(R30<Saisies!$D$10,\"\",U30)))","v":""},{"$f":"IF(R30>Saisies!$G$10,\"\",(IF(R30<Saisies!$F$10,\"\",U30)))","v":""},"2016-03-18","V",4,7,0,{"$f":"IF(MAX(AL30,(AL29+AJ30))>=Saisies!$E$4,(IF(AL29<=Saisies!$E$4,AH30,AM29)),0)","v":0},{"$f":"IF(AH30=Saisies!$C$7,MIN((ABS(Saisies!$E$4-AL29)),AO30),AO30)","v":""},{"$f":"IF(ISERROR((IF(AH30>Saisies!$C$7,\"\",IF(ISERROR(IF(AH30<Saisies!$B$7,\"\",AJ30)*AP30),IF(AH30<Saisies!$B$7,\"\",AJ30),\"\")))*(IF(ISERROR(AQ30+1),0,AQ30))*AR30*AS30*AT30),\"\",(IF(AH30>Saisies!$C$7,\"\",IF(ISERROR(IF(AH30<Saisies!$B$7,\"\",AJ30)*AP30),IF(AH30<Saisies!$B$7,\"\",AJ30),\"\")))*(IF(ISERROR(AQ30+1),0,AQ30))*AR30*AS30*AT30)","v":""},"",1,{"$f":"IF(AH30>Saisies!$C$25,1,(IF(AH30<Saisies!$B$25,1,IF(Saisies!$B$25=0,1,0))))","v":1},{"$f":"IF(AH30>Saisies!$E$25,1,(IF(AH30<Saisies!$D$25,1,IF(Saisies!$D$25=0,1,0))))","v":1},{"$f":"IF(AH30>Saisies!$G$25,1,(IF(AH30<Saisies!$F$25,1,IF(Saisies!$F$25<10,1,0))))","v":1},{"$f":"IF(AH30>Saisies!$C$10,\"\",(IF(AH30<Saisies!$B$10,\"\",AK30)))","v":""},{"$f":"IF(AH30>Saisies!$E$10,\"\",(IF(AH30<Saisies!$D$10,\"\",AK30)))","v":""},{"$f":"IF(AH30>Saisies!$G$10,\"\",(IF(AH30<Saisies!$F$10,\"\",AK30)))","v":""},"2016-04-18","L",7,7,0,{"$f":"IF(BB30>=Saisies!$E$4,(IF(BC29<=Saisies!$E$4,AX30,BC29)),0)","v":0},{"$f":"IF(AX30=Saisies!$C$7,MIN((ABS(Saisies!$E$4-BB29)),BE30),BE30)","v":""},{"$f":"IF(ISERROR((IF(AX30>Saisies!$C$7,\"\",IF(ISERROR(IF(AX30<Saisies!$B$7,\"\",AZ30)*BF30),IF(AX30<Saisies!$B$7,\"\",AZ30),\"\")))*(IF(ISERROR(BG30+1),0,BG30))*BH30*BI30*BJ30),\"\",(IF(AX30>Saisies!$C$7,\"\",IF(ISERROR(IF(AX30<Saisies!$B$7,\"\",AZ30)*BF30),IF(AX30<Saisies!$B$7,\"\",AZ30),\"\")))*(IF(ISERROR(BG30+1),0,BG30))*BH30*BI30*BJ30)","v":""},"",1,{"$f":"IF(AX30>Saisies!$C$25,1,(IF(AX30<Saisies!$B$25,1,IF(Saisies!$B$25=0,1,0))))","v":1},{"$f":"IF(AX30>Saisies!$E$25,1,(IF(AX30<Saisies!$D$25,1,IF(Saisies!$D$25=0,1,0))))","v":1},{"$f":"IF(AX30>Saisies!$G$25,1,(IF(AX30<Saisies!$F$25,1,IF(Saisies!$F$25<10,1,0))))","v":1},{"$f":"IF(AX30>Saisies!$C$10,\"\",(IF(AX30<Saisies!$B$10,\"\",BA30)))","v":""},{"$f":"IF(AX30>Saisies!$E$10,\"\",(IF(AX30<Saisies!$D$10,\"\",BA30)))","v":""},{"$f":"IF(AX30>Saisies!$G$10,\"\",(IF(AX30<Saisies!$F$10,\"\",BA30)))","v":""},"2016-05-18","M",8,7,0,{"$f":"IF(MAX(BR30,(BR29+BP30))>=Saisies!$E$4,(IF(BR29<=Saisies!$E$4,BN30,BS29)),0)","v":0},{"$f":"IF(BN30=Saisies!$C$7,MIN((ABS(Saisies!$E$4-BR29)),BU30),BU30)","v":""},{"$f":"IF(ISERROR((IF(BN30>Saisies!$C$7,\"\",IF(ISERROR(IF(BN30<Saisies!$B$7,\"\",BP30)*BV30),IF(BN30<Saisies!$B$7,\"\",BP30),\"\")))*(IF(ISERROR(BW30+1),0,BW30))*BX30*BY30*BZ30),\"\",(IF(BN30>Saisies!$C$7,\"\",IF(ISERROR(IF(BN30<Saisies!$B$7,\"\",BP30)*BV30),IF(BN30<Saisies!$B$7,\"\",BP30),\"\")))*(IF(ISERROR(BW30+1),0,BW30))*BX30*BY30*BZ30)","v":""},"",1,{"$f":"IF(BN30>Saisies!$C$25,1,(IF(BN30<Saisies!$B$25,1,IF(Saisies!$B$25=0,1,0))))","v":1},{"$f":"IF(BN30>Saisies!$E$25,1,(IF(BN30<Saisies!$D$25,1,IF(Saisies!$D$25=0,1,0))))","v":1},{"$f":"IF(BN30>Saisies!$G$25,1,(IF(BN30<Saisies!$F$25,1,IF(Saisies!$F$25<10,1,0))))","v":1},{"$f":"IF(BN30>Saisies!$C$10,\"\",(IF(BN30<Saisies!$B$10,\"\",BQ30)))","v":""},{"$f":"IF(BN30>Saisies!$E$10,\"\",(IF(BN30<Saisies!$D$10,\"\",BQ30)))","v":""},{"$f":"IF(BN30>Saisies!$G$10,\"\",(IF(BN30<Saisies!$F$10,\"\",BQ30)))","v":""},"2016-06-18","S",0,0,90,{"$f":"IF(MAX(CH30,(CH29+CF30))>=Saisies!$E$4,(IF(CH29<=Saisies!$E$4,CD30,CI29)),0)","v":0},{"$f":"IF(CD30=Saisies!$C$7,MIN((ABS(Saisies!$E$4-CH29)),CK30),CK30)","v":0},{"$f":"IF(ISERROR((IF(CD30>Saisies!$C$7,\"\",IF(ISERROR(IF(CD30<Saisies!$B$7,\"\",CF30)*CL30),IF(CD30<Saisies!$B$7,\"\",CF30),\"\")))*(IF(ISERROR(CM30+1),0,CM30))*CN30*CO30*CP30),\"\",(IF(CD30>Saisies!$C$7,\"\",IF(ISERROR(IF(CD30<Saisies!$B$7,\"\",CF30)*CL30),IF(CD30<Saisies!$B$7,\"\",CF30),\"\")))*(IF(ISERROR(CM30+1),0,CM30))*CN30*CO30*CP30)","v":0},"",1,{"$f":"IF(CD30>Saisies!$C$25,1,(IF(CD30<Saisies!$B$25,1,IF(Saisies!$B$25=0,1,0))))","v":1},{"$f":"IF(CD30>Saisies!$E$25,1,(IF(CD30<Saisies!$D$25,1,IF(Saisies!$D$25=0,1,0))))","v":1},{"$f":"IF(CD30>Saisies!$G$25,1,(IF(CD30<Saisies!$F$25,1,IF(Saisies!$F$25<10,1,0))))","v":1},{"$f":"IF(CD30>Saisies!$C$10,\"\",(IF(CD30<Saisies!$B$10,\"\",CG30)))","v":""},{"$f":"IF(CD30>Saisies!$E$10,\"\",(IF(CD30<Saisies!$D$10,\"\",CG30)))","v":""},{"$f":"IF(CD30>Saisies!$G$10,\"\",(IF(CD30<Saisies!$F$10,\"\",CG30)))","v":""},"2016-07-18","L",7,7,223,{"$f":"IF(MAX(CX30,(CX29+CV30))>=Saisies!$E$4,(IF(CX29<=Saisies!$E$4,CT30,CY29)),0)","v":0},{"$f":"IF(CT30=Saisies!$C$7,MIN((ABS(Saisies!$E$4-CX29)),DA30),DA30)","v":""},{"$f":"IF(ISERROR((IF(CT30>Saisies!$C$7,\"\",IF(ISERROR(IF(CT30<Saisies!$B$7,\"\",CV30)*DB30),IF(CT30<Saisies!$B$7,\"\",CV30),\"\")))*(IF(ISERROR(DC30+1),0,DC30))*DD30*DE30*DF30),\"\",(IF(CT30>Saisies!$C$7,\"\",IF(ISERROR(IF(CT30<Saisies!$B$7,\"\",CV30)*DB30),IF(CT30<Saisies!$B$7,\"\",CV30),\"\")))*(IF(ISERROR(DC30+1),0,DC30))*DD30*DE30*DF30)","v":""},7,1,{"$f":"IF(CT30>Saisies!$C$25,1,(IF(CT30<Saisies!$B$25,1,IF(Saisies!$B$25=0,1,0))))","v":1},{"$f":"IF(CT30>Saisies!$E$25,1,(IF(CT30<Saisies!$D$25,1,IF(Saisies!$D$25=0,1,0))))","v":1},{"$f":"IF(CT30>Saisies!$G$25,1,(IF(CT30<Saisies!$F$25,1,IF(Saisies!$F$25<10,1,0))))","v":1},{"$f":"IF(CT30>Saisies!$C$10,\"\",(IF(CT30<Saisies!$B$10,\"\",CW30)))","v":7},{"$f":"IF(CT30>Saisies!$E$10,\"\",(IF(CT30<Saisies!$D$10,\"\",CW30)))","v":""},{"$f":"IF(CT30>Saisies!$G$10,\"\",(IF(CT30<Saisies!$F$10,\"\",CW30)))","v":""},"2016-08-18","J",8,7,380,{"$f":"IF(DN30>=Saisies!$E$4,(IF(DO29<=Saisies!$E$4,DJ30,DO29)),0)","v":0},{"$f":"IF(DJ30=Saisies!$C$7,MIN((ABS(Saisies!$E$4-DN29)),DQ30),DQ30)","v":""},{"$f":"IF(ISERROR((IF(DJ30>Saisies!$C$7,\"\",IF(ISERROR(IF(DJ30<Saisies!$B$7,\"\",DL30)*DR30),IF(DJ30<Saisies!$B$7,\"\",DL30),\"\")))*(IF(ISERROR(DS30+1),0,DS30))*DT30*DU30*DV30),\"\",(IF(DJ30>Saisies!$C$7,\"\",IF(ISERROR(IF(DJ30<Saisies!$B$7,\"\",DL30)*DR30),IF(DJ30<Saisies!$B$7,\"\",DL30),\"\")))*(IF(ISERROR(DS30+1),0,DS30))*DT30*DU30*DV30)","v":""},7,1,{"$f":"IF(DJ30>Saisies!$C$25,1,(IF(DJ30<Saisies!$B$25,1,IF(Saisies!$B$25=0,1,0))))","v":1},{"$f":"IF(DJ30>Saisies!$E$25,1,(IF(DJ30<Saisies!$D$25,1,IF(Saisies!$D$25=0,1,0))))","v":1},{"$f":"IF(DJ30>Saisies!$G$25,1,(IF(DJ30<Saisies!$F$25,1,IF(Saisies!$F$25<10,1,0))))","v":1},{"$f":"IF(DJ30>Saisies!$C$10,\"\",(IF(DJ30<Saisies!$B$10,\"\",DM30)))","v":""},{"$f":"IF(DJ30>Saisies!$E$10,\"\",(IF(DJ30<Saisies!$D$10,\"\",DM30)))","v":7},{"$f":"IF(DJ30>Saisies!$G$10,\"\",(IF(DJ30<Saisies!$F$10,\"\",DM30)))","v":""},"2016-09-18","D",0,0,492,{"$f":"IF(ED30>=Saisies!$E$4,(IF(EE29<=Saisies!$E$4,DZ30,EE29)),0)","v":42622},{"$f":"IF(DZ30=Saisies!$C$7,MIN((ABS(Saisies!$E$4-ED29)),EG30),EG30)","v":""},{"$f":"IF(ISERROR((IF(DZ30>Saisies!$C$7,\"\",IF(ISERROR(IF(DZ30<Saisies!$B$7,\"\",EB30)*EH30),IF(DZ30<Saisies!$B$7,\"\",EB30),\"\")))*(IF(ISERROR(EI30+1),0,EI30))*EJ30*EK30*EL30),\"\",(IF(DZ30>Saisies!$C$7,\"\",IF(ISERROR(IF(DZ30<Saisies!$B$7,\"\",EB30)*EH30),IF(DZ30<Saisies!$B$7,\"\",EB30),\"\")))*(IF(ISERROR(EI30+1),0,EI30))*EJ30*EK30*EL30)","v":""},"",1,{"$f":"IF(DZ30>Saisies!$C$25,1,(IF(DZ30<Saisies!$B$25,1,IF(Saisies!$B$25=0,1,0))))","v":1},{"$f":"IF(DZ30>Saisies!$E$25,1,(IF(DZ30<Saisies!$D$25,1,IF(Saisies!$D$25=0,1,0))))","v":1},{"$f":"IF(DZ30>Saisies!$G$25,1,(IF(DZ30<Saisies!$F$25,1,IF(Saisies!$F$25<10,1,0))))","v":1},{"$f":"IF(DZ30>Saisies!$C$10,\"\",(IF(DZ30<Saisies!$B$10,\"\",EC30)))","v":""},{"$f":"IF(DZ30>Saisies!$E$10,\"\",(IF(DZ30<Saisies!$D$10,\"\",EC30)))","v":""},{"$f":"IF(DZ30>Saisies!$G$10,\"\",(IF(DZ30<Saisies!$F$10,\"\",EC30)))","v":""},"2016-10-18","M",8,7,492,{"$f":"IF(ET30>=Saisies!$E$4,(IF(EU29<=Saisies!$E$4,EP30,EU29)),0)","v":42622},{"$f":"IF(EP30=Saisies!$C$7,MIN((ABS(Saisies!$E$4-ET29)),EW30),EW30)","v":""},{"$f":"IF(ISERROR((IF(EP30>Saisies!$C$7,\"\",IF(ISERROR(IF(EP30<Saisies!$B$7,\"\",ER30)*EX30),IF(EP30<Saisies!$B$7,\"\",ER30),\"\")))*(IF(ISERROR(EY30+1),0,EY30))*EZ30*FA30*FB30),\"\",(IF(EP30>Saisies!$C$7,\"\",IF(ISERROR(IF(EP30<Saisies!$B$7,\"\",ER30)*EX30),IF(EP30<Saisies!$B$7,\"\",ER30),\"\")))*(IF(ISERROR(EY30+1),0,EY30))*EZ30*FA30*FB30)","v":""},"",1,{"$f":"IF(EP30>Saisies!$C$25,1,(IF(EP30<Saisies!$B$25,1,IF(Saisies!$B$25=0,1,0))))","v":1},{"$f":"IF(EP30>Saisies!$E$25,1,(IF(EP30<Saisies!$D$25,1,IF(Saisies!$D$25=0,1,0))))","v":1},{"$f":"IF(EP30>Saisies!$G$25,1,(IF(EP30<Saisies!$F$25,1,IF(Saisies!$F$25<10,1,0))))","v":1},{"$f":"IF(EP30>Saisies!$C$10,\"\",(IF(EP30<Saisies!$B$10,\"\",ES30)))","v":""},{"$f":"IF(EP30>Saisies!$E$10,\"\",(IF(EP30<Saisies!$D$10,\"\",ES30)))","v":""},{"$f":"IF(EP30>Saisies!$G$10,\"\",(IF(EP30<Saisies!$F$10,\"\",ES30)))","v":""},"2016-11-18","V",4,7,492,{"$f":"IF(FJ30>=Saisies!$E$4,(IF(FK29<=Saisies!$E$4,FF30,FK29)),0)","v":42622},{"$f":"IF(FF30=Saisies!$C$7,MIN((ABS(Saisies!$E$4-FJ29)),FM30),FM30)","v":""},{"$f":"IF(ISERROR((IF(FF30>Saisies!$C$7,\"\",IF(ISERROR(IF(FF30<Saisies!$B$7,\"\",FH30)*FN30),IF(FF30<Saisies!$B$7,\"\",FH30),\"\")))*(IF(ISERROR(FO30+1),0,FO30))*FP30*FQ30*FR30),\"\",(IF(FF30>Saisies!$C$7,\"\",IF(ISERROR(IF(FF30<Saisies!$B$7,\"\",FH30)*FN30),IF(FF30<Saisies!$B$7,\"\",FH30),\"\")))*(IF(ISERROR(FO30+1),0,FO30))*FP30*FQ30*FR30)","v":""},"",1,{"$f":"IF(FF30>Saisies!$C$25,1,(IF(FF30<Saisies!$B$25,1,IF(Saisies!$B$25=0,1,0))))","v":1},{"$f":"IF(FF30>Saisies!$E$25,1,(IF(FF30<Saisies!$D$25,1,IF(Saisies!$D$25=0,1,0))))","v":1},{"$f":"IF(FF30>Saisies!$G$25,1,(IF(FF30<Saisies!$F$25,1,IF(Saisies!$F$25<10,1,0))))","v":1},{"$f":"IF(FF30>Saisies!$C$10,\"\",(IF(FF30<Saisies!$B$10,\"\",FI30)))","v":""},{"$f":"IF(FF30>Saisies!$E$10,\"\",(IF(FF30<Saisies!$D$10,\"\",FI30)))","v":""},{"$f":"IF(FF30>Saisies!$G$10,\"\",(IF(FF30<Saisies!$F$10,\"\",FI30)))","v":""},"2016-12-18","D",0,0,492,{"$f":"IF(FZ30>=Saisies!$E$4,(IF(GA29<=Saisies!$E$4,FV30,GA29)),0)","v":42622},{"$f":"IF(FV30=Saisies!$C$7,MIN((ABS(Saisies!$E$4-FZ29)),GC30),GC30)","v":""},{"$f":"IF(ISERROR((IF(FV30>Saisies!$C$7,\"\",IF(ISERROR(IF(FV30<Saisies!$B$7,\"\",FX30)*GD30),IF(FV30<Saisies!$B$7,\"\",FX30),\"\")))*(IF(ISERROR(GE30+1),0,GE30))*GF30*GG30*GH30),\"\",(IF(FV30>Saisies!$C$7,\"\",IF(ISERROR(IF(FV30<Saisies!$B$7,\"\",FX30)*GD30),IF(FV30<Saisies!$B$7,\"\",FX30),\"\")))*(IF(ISERROR(GE30+1),0,GE30))*GF30*GG30*GH30)","v":""},"",1,{"$f":"IF(FV30>Saisies!$C$25,1,(IF(FV30<Saisies!$B$25,1,IF(Saisies!$B$25=0,1,0))))","v":1},{"$f":"IF(FV30>Saisies!$E$25,1,(IF(FV30<Saisies!$D$25,1,IF(Saisies!$D$25=0,1,0))))","v":1},{"$f":"IF(FV30>Saisies!$G$25,1,(IF(FV30<Saisies!$F$25,1,IF(Saisies!$F$25<10,1,0))))","v":1},{"$f":"IF(FV30>Saisies!$C$10,\"\",(IF(FV30<Saisies!$B$10,\"\",FY30)))","v":""},{"$f":"IF(FV30>Saisies!$E$10,\"\",(IF(FV30<Saisies!$D$10,\"\",FY30)))","v":""},{"$f":"IF(FV30>Saisies!$G$10,\"\",(IF(FV30<Saisies!$F$10,\"\",FY30)))","v":""},null,null,1]
[null,"2016-01-19","M",8,7,0,{"$f":"IF(MAX(F31,(F30+D31))>=Saisies!$E$4,(IF(F30<=Saisies!$E$4,B31,G30)),0)","v":0},{"$f":"IF(B31=Saisies!$C$7,MIN((ABS(Saisies!$E$4-F30)),I31),I31)","v":""},{"$f":"IF(ISERROR((IF(B31>Saisies!$C$7,\"\",IF(ISERROR(IF(B31<Saisies!$B$7,\"\",D31)*J31),IF(B31<Saisies!$B$7,\"\",D31),\"\")))*(IF(ISERROR(K31+1),0,K31))*L31*M31*N31),\"\",(IF(B31>Saisies!$C$7,\"\",IF(ISERROR(IF(B31<Saisies!$B$7,\"\",D31)*J31),IF(B31<Saisies!$B$7,\"\",D31),\"\")))*(IF(ISERROR(K31+1),0,K31))*L31*M31*N31)","v":""},"",1,{"$f":"IF(B31>Saisies!$C$25,1,(IF(B31<Saisies!$B$25,1,IF(Saisies!$B$25=0,1,0))))","v":1},{"$f":"IF(B31>Saisies!$E$25,1,(IF(B31<Saisies!$D$25,1,IF(Saisies!$D$25=0,1,0))))","v":1},{"$f":"IF(B31>Saisies!$G$25,1,(IF(B31<Saisies!$F$25,1,IF(Saisies!$F$25<10,1,0))))","v":1},{"$f":"IF(B31>Saisies!$C$10,\"\",(IF(B31<Saisies!$B$10,\"\",E31)))","v":""},{"$f":"IF(B31>Saisies!$E$10,\"\",(IF(B31<Saisies!$D$10,\"\",E31)))","v":""},{"$f":"IF(B31>Saisies!$G$10,\"\",(IF(B31<Saisies!$F$10,\"\",E31)))","v":""},"2016-02-19","V",4,7,0,{"$f":"IF(MAX(V31,(V30+T31))>=Saisies!$E$4,(IF(V30<=Saisies!$E$4,R31,W30)),0)","v":0},{"$f":"IF(R31=Saisies!$C$7,MIN((ABS(Saisies!$E$4-V30)),Y31),Y31)","v":""},{"$f":"IF(ISERROR((IF(R31>Saisies!$C$7,\"\",IF(ISERROR(IF(R31<Saisies!$B$7,\"\",T31)*Z31),IF(R31<Saisies!$B$7,\"\",T31),\"\")))*(IF(ISERROR(AA31+1),0,AA31))*AB31*AC31*AD31),\"\",(IF(R31>Saisies!$C$7,\"\",IF(ISERROR(IF(R31<Saisies!$B$7,\"\",T31)*Z31),IF(R31<Saisies!$B$7,\"\",T31),\"\")))*(IF(ISERROR(AA31+1),0,AA31))*AB31*AC31*AD31)","v":""},"",1,{"$f":"IF(R31>Saisies!$C$25,1,(IF(R31<Saisies!$B$25,1,IF(Saisies!$B$25=0,1,0))))","v":1},{"$f":"IF(R31>Saisies!$E$25,1,(IF(R31<Saisies!$D$25,1,IF(Saisies!$D$25=0,1,0))))","v":1},{"$f":"IF(R31>Saisies!$G$25,1,(IF(R31<Saisies!$F$25,1,IF(Saisies!$F$25<10,1,0))))","v":1},{"$f":"IF(R31>Saisies!$C$10,\"\",(IF(R31<Saisies!$B$10,\"\",U31)))","v":""},{"$f":"IF(R31>Saisies!$E$10,\"\",(IF(R31<Saisies!$D$10,\"\",U31)))","v":""},{"$f":"IF(R31>Saisies!$G$10,\"\",(IF(R31<Saisies!$F$10,\"\",U31)))","v":""},"2016-03-19","S",0,0,0,{"$f":"IF(MAX(AL31,(AL30+AJ31))>=Saisies!$E$4,(IF(AL30<=Saisies!$E$4,AH31,AM30)),0)","v":0},{"$f":"IF(AH31=Saisies!$C$7,MIN((ABS(Saisies!$E$4-AL30)),AO31),AO31)","v":""},{"$f":"IF(ISERROR((IF(AH31>Saisies!$C$7,\"\",IF(ISERROR(IF(AH31<Saisies!$B$7,\"\",AJ31)*AP31),IF(AH31<Saisies!$B$7,\"\",AJ31),\"\")))*(IF(ISERROR(AQ31+1),0,AQ31))*AR31*AS31*AT31),\"\",(IF(AH31>Saisies!$C$7,\"\",IF(ISERROR(IF(AH31<Saisies!$B$7,\"\",AJ31)*AP31),IF(AH31<Saisies!$B$7,\"\",AJ31),\"\")))*(IF(ISERROR(AQ31+1),0,AQ31))*AR31*AS31*AT31)","v":""},"",1,{"$f":"IF(AH31>Saisies!$C$25,1,(IF(AH31<Saisies!$B$25,1,IF(Saisies!$B$25=0,1,0))))","v":1},{"$f":"IF(AH31>Saisies!$E$25,1,(IF(AH31<Saisies!$D$25,1,IF(Saisies!$D$25=0,1,0))))","v":1},{"$f":"IF(AH31>Saisies!$G$25,1,(IF(AH31<Saisies!$F$25,1,IF(Saisies!$F$25<10,1,0))))","v":1},{"$f":"IF(AH31>Saisies!$C$10,\"\",(IF(AH31<Saisies!$B$10,\"\",AK31)))","v":""},{"$f":"IF(AH31>Saisies!$E$10,\"\",(IF(AH31<Saisies!$D$10,\"\",AK31)))","v":""},{"$f":"IF(AH31>Saisies!$G$10,\"\",(IF(AH31<Saisies!$F$10,\"\",AK31)))","v":""},"2016-04-19","M",8,7,0,{"$f":"IF(BB31>=Saisies!$E$4,(IF(BC30<=Saisies!$E$4,AX31,BC30)),0)","v":0},{"$f":"IF(AX31=Saisies!$C$7,MIN((ABS(Saisies!$E$4-BB30)),BE31),BE31)","v":""},{"$f":"IF(ISERROR((IF(AX31>Saisies!$C$7,\"\",IF(ISERROR(IF(AX31<Saisies!$B$7,\"\",AZ31)*BF31),IF(AX31<Saisies!$B$7,\"\",AZ31),\"\")))*(IF(ISERROR(BG31+1),0,BG31))*BH31*BI31*BJ31),\"\",(IF(AX31>Saisies!$C$7,\"\",IF(ISERROR(IF(AX31<Saisies!$B$7,\"\",AZ31)*BF31),IF(AX31<Saisies!$B$7,\"\",AZ31),\"\")))*(IF(ISERROR(BG31+1),0,BG31))*BH31*BI31*BJ31)","v":""},"",1,{"$f":"IF(AX31>Saisies!$C$25,1,(IF(AX31<Saisies!$B$25,1,IF(Saisies!$B$25=0,1,0))))","v":1},{"$f":"IF(AX31>Saisies!$E$25,1,(IF(AX31<Saisies!$D$25,1,IF(Saisies!$D$25=0,1,0))))","v":1},{"$f":"IF(AX31>Saisies!$G$25,1,(IF(AX31<Saisies!$F$25,1,IF(Saisies!$F$25<10,1,0))))","v":1},{"$f":"IF(AX31>Saisies!$C$10,\"\",(IF(AX31<Saisies!$B$10,\"\",BA31)))","v":""},{"$f":"IF(AX31>Saisies!$E$10,\"\",(IF(AX31<Saisies!$D$10,\"\",BA31)))","v":""},{"$f":"IF(AX31>Saisies!$G$10,\"\",(IF(AX31<Saisies!$F$10,\"\",BA31)))","v":""},"2016-05-19","J",8,7,0,{"$f":"IF(MAX(BR31,(BR30+BP31))>=Saisies!$E$4,(IF(BR30<=Saisies!$E$4,BN31,BS30)),0)","v":0},{"$f":"IF(BN31=Saisies!$C$7,MIN((ABS(Saisies!$E$4-BR30)),BU31),BU31)","v":""},{"$f":"IF(ISERROR((IF(BN31>Saisies!$C$7,\"\",IF(ISERROR(IF(BN31<Saisies!$B$7,\"\",BP31)*BV31),IF(BN31<Saisies!$B$7,\"\",BP31),\"\")))*(IF(ISERROR(BW31+1),0,BW31))*BX31*BY31*BZ31),\"\",(IF(BN31>Saisies!$C$7,\"\",IF(ISERROR(IF(BN31<Saisies!$B$7,\"\",BP31)*BV31),IF(BN31<Saisies!$B$7,\"\",BP31),\"\")))*(IF(ISERROR(BW31+1),0,BW31))*BX31*BY31*BZ31)","v":""},"",1,{"$f":"IF(BN31>Saisies!$C$25,1,(IF(BN31<Saisies!$B$25,1,IF(Saisies!$B$25=0,1,0))))","v":1},{"$f":"IF(BN31>Saisies!$E$25,1,(IF(BN31<Saisies!$D$25,1,IF(Saisies!$D$25=0,1,0))))","v":1},{"$f":"IF(BN31>Saisies!$G$25,1,(IF(BN31<Saisies!$F$25,1,IF(Saisies!$F$25<10,1,0))))","v":1},{"$f":"IF(BN31>Saisies!$C$10,\"\",(IF(BN31<Saisies!$B$10,\"\",BQ31)))","v":""},{"$f":"IF(BN31>Saisies!$E$10,\"\",(IF(BN31<Saisies!$D$10,\"\",BQ31)))","v":""},{"$f":"IF(BN31>Saisies!$G$10,\"\",(IF(BN31<Saisies!$F$10,\"\",BQ31)))","v":""},"2016-06-19","D",0,0,90,{"$f":"IF(MAX(CH31,(CH30+CF31))>=Saisies!$E$4,(IF(CH30<=Saisies!$E$4,CD31,CI30)),0)","v":0},{"$f":"IF(CD31=Saisies!$C$7,MIN((ABS(Saisies!$E$4-CH30)),CK31),CK31)","v":0},{"$f":"IF(ISERROR((IF(CD31>Saisies!$C$7,\"\",IF(ISERROR(IF(CD31<Saisies!$B$7,\"\",CF31)*CL31),IF(CD31<Saisies!$B$7,\"\",CF31),\"\")))*(IF(ISERROR(CM31+1),0,CM31))*CN31*CO31*CP31),\"\",(IF(CD31>Saisies!$C$7,\"\",IF(ISERROR(IF(CD31<Saisies!$B$7,\"\",CF31)*CL31),IF(CD31<Saisies!$B$7,\"\",CF31),\"\")))*(IF(ISERROR(CM31+1),0,CM31))*CN31*CO31*CP31)","v":0},"",1,{"$f":"IF(CD31>Saisies!$C$25,1,(IF(CD31<Saisies!$B$25,1,IF(Saisies!$B$25=0,1,0))))","v":1},{"$f":"IF(CD31>Saisies!$E$25,1,(IF(CD31<Saisies!$D$25,1,IF(Saisies!$D$25=0,1,0))))","v":1},{"$f":"IF(CD31>Saisies!$G$25,1,(IF(CD31<Saisies!$F$25,1,IF(Saisies!$F$25<10,1,0))))","v":1},{"$f":"IF(CD31>Saisies!$C$10,\"\",(IF(CD31<Saisies!$B$10,\"\",CG31)))","v":""},{"$f":"IF(CD31>Saisies!$E$10,\"\",(IF(CD31<Saisies!$D$10,\"\",CG31)))","v":""},{"$f":"IF(CD31>Saisies!$G$10,\"\",(IF(CD31<Saisies!$F$10,\"\",CG31)))","v":""},"2016-07-19","M",8,7,231,{"$f":"IF(MAX(CX31,(CX30+CV31))>=Saisies!$E$4,(IF(CX30<=Saisies!$E$4,CT31,CY30)),0)","v":0},{"$f":"IF(CT31=Saisies!$C$7,MIN((ABS(Saisies!$E$4-CX30)),DA31),DA31)","v":8},{"$f":"IF(ISERROR((IF(CT31>Saisies!$C$7,\"\",IF(ISERROR(IF(CT31<Saisies!$B$7,\"\",CV31)*DB31),IF(CT31<Saisies!$B$7,\"\",CV31),\"\")))*(IF(ISERROR(DC31+1),0,DC31))*DD31*DE31*DF31),\"\",(IF(CT31>Saisies!$C$7,\"\",IF(ISERROR(IF(CT31<Saisies!$B$7,\"\",CV31)*DB31),IF(CT31<Saisies!$B$7,\"\",CV31),\"\")))*(IF(ISERROR(DC31+1),0,DC31))*DD31*DE31*DF31)","v":8},"",1,{"$f":"IF(CT31>Saisies!$C$25,1,(IF(CT31<Saisies!$B$25,1,IF(Saisies!$B$25=0,1,0))))","v":1},{"$f":"IF(CT31>Saisies!$E$25,1,(IF(CT31<Saisies!$D$25,1,IF(Saisies!$D$25=0,1,0))))","v":1},{"$f":"IF(CT31>Saisies!$G$25,1,(IF(CT31<Saisies!$F$25,1,IF(Saisies!$F$25<10,1,0))))","v":1},{"$f":"IF(CT31>Saisies!$C$10,\"\",(IF(CT31<Saisies!$B$10,\"\",CW31)))","v":""},{"$f":"IF(CT31>Saisies!$E$10,\"\",(IF(CT31<Saisies!$D$10,\"\",CW31)))","v":""},{"$f":"IF(CT31>Saisies!$G$10,\"\",(IF(CT31<Saisies!$F$10,\"\",CW31)))","v":""},"2016-08-19","V",4,7,387,{"$f":"IF(DN31>=Saisies!$E$4,(IF(DO30<=Saisies!$E$4,DJ31,DO30)),0)","v":0},{"$f":"IF(DJ31=Saisies!$C$7,MIN((ABS(Saisies!$E$4-DN30)),DQ31),DQ31)","v":""},{"$f":"IF(ISERROR((IF(DJ31>Saisies!$C$7,\"\",IF(ISERROR(IF(DJ31<Saisies!$B$7,\"\",DL31)*DR31),IF(DJ31<Saisies!$B$7,\"\",DL31),\"\")))*(IF(ISERROR(DS31+1),0,DS31))*DT31*DU31*DV31),\"\",(IF(DJ31>Saisies!$C$7,\"\",IF(ISERROR(IF(DJ31<Saisies!$B$7,\"\",DL31)*DR31),IF(DJ31<Saisies!$B$7,\"\",DL31),\"\")))*(IF(ISERROR(DS31+1),0,DS31))*DT31*DU31*DV31)","v":""},7,1,{"$f":"IF(DJ31>Saisies!$C$25,1,(IF(DJ31<Saisies!$B$25,1,IF(Saisies!$B$25=0,1,0))))","v":1},{"$f":"IF(DJ31>Saisies!$E$25,1,(IF(DJ31<Saisies!$D$25,1,IF(Saisies!$D$25=0,1,0))))","v":1},{"$f":"IF(DJ31>Saisies!$G$25,1,(IF(DJ31<Saisies!$F$25,1,IF(Saisies!$F$25<10,1,0))))","v":1},{"$f":"IF(DJ31>Saisies!$C$10,\"\",(IF(DJ31<Saisies!$B$10,\"\",DM31)))","v":""},{"$f":"IF(DJ31>Saisies!$E$10,\"\",(IF(DJ31<Saisies!$D$10,\"\",DM31)))","v":7},{"$f":"IF(DJ31>Saisies!$G$10,\"\",(IF(DJ31<Saisies!$F$10,\"\",DM31)))","v":""},"2016-09-19","L",7,7,492,{"$f":"IF(ED31>=Saisies!$E$4,(IF(EE30<=Saisies!$E$4,DZ31,EE30)),0)","v":42622},{"$f":"IF(DZ31=Saisies!$C$7,MIN((ABS(Saisies!$E$4-ED30)),EG31),EG31)","v":""},{"$f":"IF(ISERROR((IF(DZ31>Saisies!$C$7,\"\",IF(ISERROR(IF(DZ31<Saisies!$B$7,\"\",EB31)*EH31),IF(DZ31<Saisies!$B$7,\"\",EB31),\"\")))*(IF(ISERROR(EI31+1),0,EI31))*EJ31*EK31*EL31),\"\",(IF(DZ31>Saisies!$C$7,\"\",IF(ISERROR(IF(DZ31<Saisies!$B$7,\"\",EB31)*EH31),IF(DZ31<Saisies!$B$7,\"\",EB31),\"\")))*(IF(ISERROR(EI31+1),0,EI31))*EJ31*EK31*EL31)","v":""},"",1,{"$f":"IF(DZ31>Saisies!$C$25,1,(IF(DZ31<Saisies!$B$25,1,IF(Saisies!$B$25=0,1,0))))","v":1},{"$f":"IF(DZ31>Saisies!$E$25,1,(IF(DZ31<Saisies!$D$25,1,IF(Saisies!$D$25=0,1,0))))","v":1},{"$f":"IF(DZ31>Saisies!$G$25,1,(IF(DZ31<Saisies!$F$25,1,IF(Saisies!$F$25<10,1,0))))","v":1},{"$f":"IF(DZ31>Saisies!$C$10,\"\",(IF(DZ31<Saisies!$B$10,\"\",EC31)))","v":""},{"$f":"IF(DZ31>Saisies!$E$10,\"\",(IF(DZ31<Saisies!$D$10,\"\",EC31)))","v":""},{"$f":"IF(DZ31>Saisies!$G$10,\"\",(IF(DZ31<Saisies!$F$10,\"\",EC31)))","v":""},"2016-10-19","M",8,7,492,{"$f":"IF(ET31>=Saisies!$E$4,(IF(EU30<=Saisies!$E$4,EP31,EU30)),0)","v":42622},{"$f":"IF(EP31=Saisies!$C$7,MIN((ABS(Saisies!$E$4-ET30)),EW31),EW31)","v":""},{"$f":"IF(ISERROR((IF(EP31>Saisies!$C$7,\"\",IF(ISERROR(IF(EP31<Saisies!$B$7,\"\",ER31)*EX31),IF(EP31<Saisies!$B$7,\"\",ER31),\"\")))*(IF(ISERROR(EY31+1),0,EY31))*EZ31*FA31*FB31),\"\",(IF(EP31>Saisies!$C$7,\"\",IF(ISERROR(IF(EP31<Saisies!$B$7,\"\",ER31)*EX31),IF(EP31<Saisies!$B$7,\"\",ER31),\"\")))*(IF(ISERROR(EY31+1),0,EY31))*EZ31*FA31*FB31)","v":""},"",1,{"$f":"IF(EP31>Saisies!$C$25,1,(IF(EP31<Saisies!$B$25,1,IF(Saisies!$B$25=0,1,0))))","v":1},{"$f":"IF(EP31>Saisies!$E$25,1,(IF(EP31<Saisies!$D$25,1,IF(Saisies!$D$25=0,1,0))))","v":1},{"$f":"IF(EP31>Saisies!$G$25,1,(IF(EP31<Saisies!$F$25,1,IF(Saisies!$F$25<10,1,0))))","v":1},{"$f":"IF(EP31>Saisies!$C$10,\"\",(IF(EP31<Saisies!$B$10,\"\",ES31)))","v":""},{"$f":"IF(EP31>Saisies!$E$10,\"\",(IF(EP31<Saisies!$D$10,\"\",ES31)))","v":""},{"$f":"IF(EP31>Saisies!$G$10,\"\",(IF(EP31<Saisies!$F$10,\"\",ES31)))","v":""},"2016-11-19","S",0,0,492,{"$f":"IF(FJ31>=Saisies!$E$4,(IF(FK30<=Saisies!$E$4,FF31,FK30)),0)","v":42622},{"$f":"IF(FF31=Saisies!$C$7,MIN((ABS(Saisies!$E$4-FJ30)),FM31),FM31)","v":""},{"$f":"IF(ISERROR((IF(FF31>Saisies!$C$7,\"\",IF(ISERROR(IF(FF31<Saisies!$B$7,\"\",FH31)*FN31),IF(FF31<Saisies!$B$7,\"\",FH31),\"\")))*(IF(ISERROR(FO31+1),0,FO31))*FP31*FQ31*FR31),\"\",(IF(FF31>Saisies!$C$7,\"\",IF(ISERROR(IF(FF31<Saisies!$B$7,\"\",FH31)*FN31),IF(FF31<Saisies!$B$7,\"\",FH31),\"\")))*(IF(ISERROR(FO31+1),0,FO31))*FP31*FQ31*FR31)","v":""},"",1,{"$f":"IF(FF31>Saisies!$C$25,1,(IF(FF31<Saisies!$B$25,1,IF(Saisies!$B$25=0,1,0))))","v":1},{"$f":"IF(FF31>Saisies!$E$25,1,(IF(FF31<Saisies!$D$25,1,IF(Saisies!$D$25=0,1,0))))","v":1},{"$f":"IF(FF31>Saisies!$G$25,1,(IF(FF31<Saisies!$F$25,1,IF(Saisies!$F$25<10,1,0))))","v":1},{"$f":"IF(FF31>Saisies!$C$10,\"\",(IF(FF31<Saisies!$B$10,\"\",FI31)))","v":""},{"$f":"IF(FF31>Saisies!$E$10,\"\",(IF(FF31<Saisies!$D$10,\"\",FI31)))","v":""},{"$f":"IF(FF31>Saisies!$G$10,\"\",(IF(FF31<Saisies!$F$10,\"\",FI31)))","v":""},"2016-12-19","L",7,7,492,{"$f":"IF(FZ31>=Saisies!$E$4,(IF(GA30<=Saisies!$E$4,FV31,GA30)),0)","v":42622},{"$f":"IF(FV31=Saisies!$C$7,MIN((ABS(Saisies!$E$4-FZ30)),GC31),GC31)","v":""},{"$f":"IF(ISERROR((IF(FV31>Saisies!$C$7,\"\",IF(ISERROR(IF(FV31<Saisies!$B$7,\"\",FX31)*GD31),IF(FV31<Saisies!$B$7,\"\",FX31),\"\")))*(IF(ISERROR(GE31+1),0,GE31))*GF31*GG31*GH31),\"\",(IF(FV31>Saisies!$C$7,\"\",IF(ISERROR(IF(FV31<Saisies!$B$7,\"\",FX31)*GD31),IF(FV31<Saisies!$B$7,\"\",FX31),\"\")))*(IF(ISERROR(GE31+1),0,GE31))*GF31*GG31*GH31)","v":""},"",1,{"$f":"IF(FV31>Saisies!$C$25,1,(IF(FV31<Saisies!$B$25,1,IF(Saisies!$B$25=0,1,0))))","v":1},{"$f":"IF(FV31>Saisies!$E$25,1,(IF(FV31<Saisies!$D$25,1,IF(Saisies!$D$25=0,1,0))))","v":1},{"$f":"IF(FV31>Saisies!$G$25,1,(IF(FV31<Saisies!$F$25,1,IF(Saisies!$F$25<10,1,0))))","v":1},{"$f":"IF(FV31>Saisies!$C$10,\"\",(IF(FV31<Saisies!$B$10,\"\",FY31)))","v":""},{"$f":"IF(FV31>Saisies!$E$10,\"\",(IF(FV31<Saisies!$D$10,\"\",FY31)))","v":""},{"$f":"IF(FV31>Saisies!$G$10,\"\",(IF(FV31<Saisies!$F$10,\"\",FY31)))","v":""},null,null,1]
[null,"2016-01-20","M",8,7,0,{"$f":"IF(MAX(F32,(F31+D32))>=Saisies!$E$4,(IF(F31<=Saisies!$E$4,B32,G31)),0)","v":0},{"$f":"IF(B32=Saisies!$C$7,MIN((ABS(Saisies!$E$4-F31)),I32),I32)","v":""},{"$f":"IF(ISERROR((IF(B32>Saisies!$C$7,\"\",IF(ISERROR(IF(B32<Saisies!$B$7,\"\",D32)*J32),IF(B32<Saisies!$B$7,\"\",D32),\"\")))*(IF(ISERROR(K32+1),0,K32))*L32*M32*N32),\"\",(IF(B32>Saisies!$C$7,\"\",IF(ISERROR(IF(B32<Saisies!$B$7,\"\",D32)*J32),IF(B32<Saisies!$B$7,\"\",D32),\"\")))*(IF(ISERROR(K32+1),0,K32))*L32*M32*N32)","v":""},"",1,{"$f":"IF(B32>Saisies!$C$25,1,(IF(B32<Saisies!$B$25,1,IF(Saisies!$B$25=0,1,0))))","v":1},{"$f":"IF(B32>Saisies!$E$25,1,(IF(B32<Saisies!$D$25,1,IF(Saisies!$D$25=0,1,0))))","v":1},{"$f":"IF(B32>Saisies!$G$25,1,(IF(B32<Saisies!$F$25,1,IF(Saisies!$F$25<10,1,0))))","v":1},{"$f":"IF(B32>Saisies!$C$10,\"\",(IF(B32<Saisies!$B$10,\"\",E32)))","v":""},{"$f":"IF(B32>Saisies!$E$10,\"\",(IF(B32<Saisies!$D$10,\"\",E32)))","v":""},{"$f":"IF(B32>Saisies!$G$10,\"\",(IF(B32<Saisies!$F$10,\"\",E32)))","v":""},"2016-02-20","S",0,0,0,{"$f":"IF(MAX(V32,(V31+T32))>=Saisies!$E$4,(IF(V31<=Saisies!$E$4,R32,W31)),0)","v":0},{"$f":"IF(R32=Saisies!$C$7,MIN((ABS(Saisies!$E$4-V31)),Y32),Y32)","v":""},{"$f":"IF(ISERROR((IF(R32>Saisies!$C$7,\"\",IF(ISERROR(IF(R32<Saisies!$B$7,\"\",T32)*Z32),IF(R32<Saisies!$B$7,\"\",T32),\"\")))*(IF(ISERROR(AA32+1),0,AA32))*AB32*AC32*AD32),\"\",(IF(R32>Saisies!$C$7,\"\",IF(ISERROR(IF(R32<Saisies!$B$7,\"\",T32)*Z32),IF(R32<Saisies!$B$7,\"\",T32),\"\")))*(IF(ISERROR(AA32+1),0,AA32))*AB32*AC32*AD32)","v":""},"",1,{"$f":"IF(R32>Saisies!$C$25,1,(IF(R32<Saisies!$B$25,1,IF(Saisies!$B$25=0,1,0))))","v":1},{"$f":"IF(R32>Saisies!$E$25,1,(IF(R32<Saisies!$D$25,1,IF(Saisies!$D$25=0,1,0))))","v":1},{"$f":"IF(R32>Saisies!$G$25,1,(IF(R32<Saisies!$F$25,1,IF(Saisies!$F$25<10,1,0))))","v":1},{"$f":"IF(R32>Saisies!$C$10,\"\",(IF(R32<Saisies!$B$10,\"\",U32)))","v":""},{"$f":"IF(R32>Saisies!$E$10,\"\",(IF(R32<Saisies!$D$10,\"\",U32)))","v":""},{"$f":"IF(R32>Saisies!$G$10,\"\",(IF(R32<Saisies!$F$10,\"\",U32)))","v":""},"2016-03-20","D",0,0,0,{"$f":"IF(MAX(AL32,(AL31+AJ32))>=Saisies!$E$4,(IF(AL31<=Saisies!$E$4,AH32,AM31)),0)","v":0},{"$f":"IF(AH32=Saisies!$C$7,MIN((ABS(Saisies!$E$4-AL31)),AO32),AO32)","v":""},{"$f":"IF(ISERROR((IF(AH32>Saisies!$C$7,\"\",IF(ISERROR(IF(AH32<Saisies!$B$7,\"\",AJ32)*AP32),IF(AH32<Saisies!$B$7,\"\",AJ32),\"\")))*(IF(ISERROR(AQ32+1),0,AQ32))*AR32*AS32*AT32),\"\",(IF(AH32>Saisies!$C$7,\"\",IF(ISERROR(IF(AH32<Saisies!$B$7,\"\",AJ32)*AP32),IF(AH32<Saisies!$B$7,\"\",AJ32),\"\")))*(IF(ISERROR(AQ32+1),0,AQ32))*AR32*AS32*AT32)","v":""},"",1,{"$f":"IF(AH32>Saisies!$C$25,1,(IF(AH32<Saisies!$B$25,1,IF(Saisies!$B$25=0,1,0))))","v":1},{"$f":"IF(AH32>Saisies!$E$25,1,(IF(AH32<Saisies!$D$25,1,IF(Saisies!$D$25=0,1,0))))","v":1},{"$f":"IF(AH32>Saisies!$G$25,1,(IF(AH32<Saisies!$F$25,1,IF(Saisies!$F$25<10,1,0))))","v":1},{"$f":"IF(AH32>Saisies!$C$10,\"\",(IF(AH32<Saisies!$B$10,\"\",AK32)))","v":""},{"$f":"IF(AH32>Saisies!$E$10,\"\",(IF(AH32<Saisies!$D$10,\"\",AK32)))","v":""},{"$f":"IF(AH32>Saisies!$G$10,\"\",(IF(AH32<Saisies!$F$10,\"\",AK32)))","v":""},"2016-04-20","M",8,7,0,{"$f":"IF(BB32>=Saisies!$E$4,(IF(BC31<=Saisies!$E$4,AX32,BC31)),0)","v":0},{"$f":"IF(AX32=Saisies!$C$7,MIN((ABS(Saisies!$E$4-BB31)),BE32),BE32)","v":""},{"$f":"IF(ISERROR((IF(AX32>Saisies!$C$7,\"\",IF(ISERROR(IF(AX32<Saisies!$B$7,\"\",AZ32)*BF32),IF(AX32<Saisies!$B$7,\"\",AZ32),\"\")))*(IF(ISERROR(BG32+1),0,BG32))*BH32*BI32*BJ32),\"\",(IF(AX32>Saisies!$C$7,\"\",IF(ISERROR(IF(AX32<Saisies!$B$7,\"\",AZ32)*BF32),IF(AX32<Saisies!$B$7,\"\",AZ32),\"\")))*(IF(ISERROR(BG32+1),0,BG32))*BH32*BI32*BJ32)","v":""},"",1,{"$f":"IF(AX32>Saisies!$C$25,1,(IF(AX32<Saisies!$B$25,1,IF(Saisies!$B$25=0,1,0))))","v":1},{"$f":"IF(AX32>Saisies!$E$25,1,(IF(AX32<Saisies!$D$25,1,IF(Saisies!$D$25=0,1,0))))","v":1},{"$f":"IF(AX32>Saisies!$G$25,1,(IF(AX32<Saisies!$F$25,1,IF(Saisies!$F$25<10,1,0))))","v":1},{"$f":"IF(AX32>Saisies!$C$10,\"\",(IF(AX32<Saisies!$B$10,\"\",BA32)))","v":""},{"$f":"IF(AX32>Saisies!$E$10,\"\",(IF(AX32<Saisies!$D$10,\"\",BA32)))","v":""},{"$f":"IF(AX32>Saisies!$G$10,\"\",(IF(AX32<Saisies!$F$10,\"\",BA32)))","v":""},"2016-05-20","V",4,7,0,{"$f":"IF(MAX(BR32,(BR31+BP32))>=Saisies!$E$4,(IF(BR31<=Saisies!$E$4,BN32,BS31)),0)","v":0},{"$f":"IF(BN32=Saisies!$C$7,MIN((ABS(Saisies!$E$4-BR31)),BU32),BU32)","v":""},{"$f":"IF(ISERROR((IF(BN32>Saisies!$C$7,\"\",IF(ISERROR(IF(BN32<Saisies!$B$7,\"\",BP32)*BV32),IF(BN32<Saisies!$B$7,\"\",BP32),\"\")))*(IF(ISERROR(BW32+1),0,BW32))*BX32*BY32*BZ32),\"\",(IF(BN32>Saisies!$C$7,\"\",IF(ISERROR(IF(BN32<Saisies!$B$7,\"\",BP32)*BV32),IF(BN32<Saisies!$B$7,\"\",BP32),\"\")))*(IF(ISERROR(BW32+1),0,BW32))*BX32*BY32*BZ32)","v":""},"",1,{"$f":"IF(BN32>Saisies!$C$25,1,(IF(BN32<Saisies!$B$25,1,IF(Saisies!$B$25=0,1,0))))","v":1},{"$f":"IF(BN32>Saisies!$E$25,1,(IF(BN32<Saisies!$D$25,1,IF(Saisies!$D$25=0,1,0))))","v":1},{"$f":"IF(BN32>Saisies!$G$25,1,(IF(BN32<Saisies!$F$25,1,IF(Saisies!$F$25<10,1,0))))","v":1},{"$f":"IF(BN32>Saisies!$C$10,\"\",(IF(BN32<Saisies!$B$10,\"\",BQ32)))","v":""},{"$f":"IF(BN32>Saisies!$E$10,\"\",(IF(BN32<Saisies!$D$10,\"\",BQ32)))","v":""},{"$f":"IF(BN32>Saisies!$G$10,\"\",(IF(BN32<Saisies!$F$10,\"\",BQ32)))","v":""},"2016-06-20","L",7,7,97,{"$f":"IF(MAX(CH32,(CH31+CF32))>=Saisies!$E$4,(IF(CH31<=Saisies!$E$4,CD32,CI31)),0)","v":0},{"$f":"IF(CD32=Saisies!$C$7,MIN((ABS(Saisies!$E$4-CH31)),CK32),CK32)","v":7},{"$f":"IF(ISERROR((IF(CD32>Saisies!$C$7,\"\",IF(ISERROR(IF(CD32<Saisies!$B$7,\"\",CF32)*CL32),IF(CD32<Saisies!$B$7,\"\",CF32),\"\")))*(IF(ISERROR(CM32+1),0,CM32))*CN32*CO32*CP32),\"\",(IF(CD32>Saisies!$C$7,\"\",IF(ISERROR(IF(CD32<Saisies!$B$7,\"\",CF32)*CL32),IF(CD32<Saisies!$B$7,\"\",CF32),\"\")))*(IF(ISERROR(CM32+1),0,CM32))*CN32*CO32*CP32)","v":7},"",1,{"$f":"IF(CD32>Saisies!$C$25,1,(IF(CD32<Saisies!$B$25,1,IF(Saisies!$B$25=0,1,0))))","v":1},{"$f":"IF(CD32>Saisies!$E$25,1,(IF(CD32<Saisies!$D$25,1,IF(Saisies!$D$25=0,1,0))))","v":1},{"$f":"IF(CD32>Saisies!$G$25,1,(IF(CD32<Saisies!$F$25,1,IF(Saisies!$F$25<10,1,0))))","v":1},{"$f":"IF(CD32>Saisies!$C$10,\"\",(IF(CD32<Saisies!$B$10,\"\",CG32)))","v":""},{"$f":"IF(CD32>Saisies!$E$10,\"\",(IF(CD32<Saisies!$D$10,\"\",CG32)))","v":""},{"$f":"IF(CD32>Saisies!$G$10,\"\",(IF(CD32<Saisies!$F$10,\"\",CG32)))","v":""},"2016-07-20","M",8,7,239,{"$f":"IF(MAX(CX32,(CX31+CV32))>=Saisies!$E$4,(IF(CX31<=Saisies!$E$4,CT32,CY31)),0)","v":0},{"$f":"IF(CT32=Saisies!$C$7,MIN((ABS(Saisies!$E$4-CX31)),DA32),DA32)","v":8},{"$f":"IF(ISERROR((IF(CT32>Saisies!$C$7,\"\",IF(ISERROR(IF(CT32<Saisies!$B$7,\"\",CV32)*DB32),IF(CT32<Saisies!$B$7,\"\",CV32),\"\")))*(IF(ISERROR(DC32+1),0,DC32))*DD32*DE32*DF32),\"\",(IF(CT32>Saisies!$C$7,\"\",IF(ISERROR(IF(CT32<Saisies!$B$7,\"\",CV32)*DB32),IF(CT32<Saisies!$B$7,\"\",CV32),\"\")))*(IF(ISERROR(DC32+1),0,DC32))*DD32*DE32*DF32)","v":8},"",1,{"$f":"IF(CT32>Saisies!$C$25,1,(IF(CT32<Saisies!$B$25,1,IF(Saisies!$B$25=0,1,0))))","v":1},{"$f":"IF(CT32>Saisies!$E$25,1,(IF(CT32<Saisies!$D$25,1,IF(Saisies!$D$25=0,1,0))))","v":1},{"$f":"IF(CT32>Saisies!$G$25,1,(IF(CT32<Saisies!$F$25,1,IF(Saisies!$F$25<10,1,0))))","v":1},{"$f":"IF(CT32>Saisies!$C$10,\"\",(IF(CT32<Saisies!$B$10,\"\",CW32)))","v":""},{"$f":"IF(CT32>Saisies!$E$10,\"\",(IF(CT32<Saisies!$D$10,\"\",CW32)))","v":""},{"$f":"IF(CT32>Saisies!$G$10,\"\",(IF(CT32<Saisies!$F$10,\"\",CW32)))","v":""},"2016-08-20","S",0,0,387,{"$f":"IF(DN32>=Saisies!$E$4,(IF(DO31<=Saisies!$E$4,DJ32,DO31)),0)","v":0},{"$f":"IF(DJ32=Saisies!$C$7,MIN((ABS(Saisies!$E$4-DN31)),DQ32),DQ32)","v":0},{"$f":"IF(ISERROR((IF(DJ32>Saisies!$C$7,\"\",IF(ISERROR(IF(DJ32<Saisies!$B$7,\"\",DL32)*DR32),IF(DJ32<Saisies!$B$7,\"\",DL32),\"\")))*(IF(ISERROR(DS32+1),0,DS32))*DT32*DU32*DV32),\"\",(IF(DJ32>Saisies!$C$7,\"\",IF(ISERROR(IF(DJ32<Saisies!$B$7,\"\",DL32)*DR32),IF(DJ32<Saisies!$B$7,\"\",DL32),\"\")))*(IF(ISERROR(DS32+1),0,DS32))*DT32*DU32*DV32)","v":0},"",1,{"$f":"IF(DJ32>Saisies!$C$25,1,(IF(DJ32<Saisies!$B$25,1,IF(Saisies!$B$25=0,1,0))))","v":1},{"$f":"IF(DJ32>Saisies!$E$25,1,(IF(DJ32<Saisies!$D$25,1,IF(Saisies!$D$25=0,1,0))))","v":1},{"$f":"IF(DJ32>Saisies!$G$25,1,(IF(DJ32<Saisies!$F$25,1,IF(Saisies!$F$25<10,1,0))))","v":1},{"$f":"IF(DJ32>Saisies!$C$10,\"\",(IF(DJ32<Saisies!$B$10,\"\",DM32)))","v":""},{"$f":"IF(DJ32>Saisies!$E$10,\"\",(IF(DJ32<Saisies!$D$10,\"\",DM32)))","v":0},{"$f":"IF(DJ32>Saisies!$G$10,\"\",(IF(DJ32<Saisies!$F$10,\"\",DM32)))","v":""},"2016-09-20","M",8,7,492,{"$f":"IF(ED32>=Saisies!$E$4,(IF(EE31<=Saisies!$E$4,DZ32,EE31)),0)","v":42622},{"$f":"IF(DZ32=Saisies!$C$7,MIN((ABS(Saisies!$E$4-ED31)),EG32),EG32)","v":""},{"$f":"IF(ISERROR((IF(DZ32>Saisies!$C$7,\"\",IF(ISERROR(IF(DZ32<Saisies!$B$7,\"\",EB32)*EH32),IF(DZ32<Saisies!$B$7,\"\",EB32),\"\")))*(IF(ISERROR(EI32+1),0,EI32))*EJ32*EK32*EL32),\"\",(IF(DZ32>Saisies!$C$7,\"\",IF(ISERROR(IF(DZ32<Saisies!$B$7,\"\",EB32)*EH32),IF(DZ32<Saisies!$B$7,\"\",EB32),\"\")))*(IF(ISERROR(EI32+1),0,EI32))*EJ32*EK32*EL32)","v":""},"",1,{"$f":"IF(DZ32>Saisies!$C$25,1,(IF(DZ32<Saisies!$B$25,1,IF(Saisies!$B$25=0,1,0))))","v":1},{"$f":"IF(DZ32>Saisies!$E$25,1,(IF(DZ32<Saisies!$D$25,1,IF(Saisies!$D$25=0,1,0))))","v":1},{"$f":"IF(DZ32>Saisies!$G$25,1,(IF(DZ32<Saisies!$F$25,1,IF(Saisies!$F$25<10,1,0))))","v":1},{"$f":"IF(DZ32>Saisies!$C$10,\"\",(IF(DZ32<Saisies!$B$10,\"\",EC32)))","v":""},{"$f":"IF(DZ32>Saisies!$E$10,\"\",(IF(DZ32<Saisies!$D$10,\"\",EC32)))","v":""},{"$f":"IF(DZ32>Saisies!$G$10,\"\",(IF(DZ32<Saisies!$F$10,\"\",EC32)))","v":""},"2016-10-20","J",8,7,492,{"$f":"IF(ET32>=Saisies!$E$4,(IF(EU31<=Saisies!$E$4,EP32,EU31)),0)","v":42622},{"$f":"IF(EP32=Saisies!$C$7,MIN((ABS(Saisies!$E$4-ET31)),EW32),EW32)","v":""},{"$f":"IF(ISERROR((IF(EP32>Saisies!$C$7,\"\",IF(ISERROR(IF(EP32<Saisies!$B$7,\"\",ER32)*EX32),IF(EP32<Saisies!$B$7,\"\",ER32),\"\")))*(IF(ISERROR(EY32+1),0,EY32))*EZ32*FA32*FB32),\"\",(IF(EP32>Saisies!$C$7,\"\",IF(ISERROR(IF(EP32<Saisies!$B$7,\"\",ER32)*EX32),IF(EP32<Saisies!$B$7,\"\",ER32),\"\")))*(IF(ISERROR(EY32+1),0,EY32))*EZ32*FA32*FB32)","v":""},"",1,{"$f":"IF(EP32>Saisies!$C$25,1,(IF(EP32<Saisies!$B$25,1,IF(Saisies!$B$25=0,1,0))))","v":1},{"$f":"IF(EP32>Saisies!$E$25,1,(IF(EP32<Saisies!$D$25,1,IF(Saisies!$D$25=0,1,0))))","v":1},{"$f":"IF(EP32>Saisies!$G$25,1,(IF(EP32<Saisies!$F$25,1,IF(Saisies!$F$25<10,1,0))))","v":1},{"$f":"IF(EP32>Saisies!$C$10,\"\",(IF(EP32<Saisies!$B$10,\"\",ES32)))","v":""},{"$f":"IF(EP32>Saisies!$E$10,\"\",(IF(EP32<Saisies!$D$10,\"\",ES32)))","v":""},{"$f":"IF(EP32>Saisies!$G$10,\"\",(IF(EP32<Saisies!$F$10,\"\",ES32)))","v":""},"2016-11-20","D",0,0,492,{"$f":"IF(FJ32>=Saisies!$E$4,(IF(FK31<=Saisies!$E$4,FF32,FK31)),0)","v":42622},{"$f":"IF(FF32=Saisies!$C$7,MIN((ABS(Saisies!$E$4-FJ31)),FM32),FM32)","v":""},{"$f":"IF(ISERROR((IF(FF32>Saisies!$C$7,\"\",IF(ISERROR(IF(FF32<Saisies!$B$7,\"\",FH32)*FN32),IF(FF32<Saisies!$B$7,\"\",FH32),\"\")))*(IF(ISERROR(FO32+1),0,FO32))*FP32*FQ32*FR32),\"\",(IF(FF32>Saisies!$C$7,\"\",IF(ISERROR(IF(FF32<Saisies!$B$7,\"\",FH32)*FN32),IF(FF32<Saisies!$B$7,\"\",FH32),\"\")))*(IF(ISERROR(FO32+1),0,FO32))*FP32*FQ32*FR32)","v":""},"",1,{"$f":"IF(FF32>Saisies!$C$25,1,(IF(FF32<Saisies!$B$25,1,IF(Saisies!$B$25=0,1,0))))","v":1},{"$f":"IF(FF32>Saisies!$E$25,1,(IF(FF32<Saisies!$D$25,1,IF(Saisies!$D$25=0,1,0))))","v":1},{"$f":"IF(FF32>Saisies!$G$25,1,(IF(FF32<Saisies!$F$25,1,IF(Saisies!$F$25<10,1,0))))","v":1},{"$f":"IF(FF32>Saisies!$C$10,\"\",(IF(FF32<Saisies!$B$10,\"\",FI32)))","v":""},{"$f":"IF(FF32>Saisies!$E$10,\"\",(IF(FF32<Saisies!$D$10,\"\",FI32)))","v":""},{"$f":"IF(FF32>Saisies!$G$10,\"\",(IF(FF32<Saisies!$F$10,\"\",FI32)))","v":""},"2016-12-20","M",8,7,492,{"$f":"IF(FZ32>=Saisies!$E$4,(IF(GA31<=Saisies!$E$4,FV32,GA31)),0)","v":42622},{"$f":"IF(FV32=Saisies!$C$7,MIN((ABS(Saisies!$E$4-FZ31)),GC32),GC32)","v":""},{"$f":"IF(ISERROR((IF(FV32>Saisies!$C$7,\"\",IF(ISERROR(IF(FV32<Saisies!$B$7,\"\",FX32)*GD32),IF(FV32<Saisies!$B$7,\"\",FX32),\"\")))*(IF(ISERROR(GE32+1),0,GE32))*GF32*GG32*GH32),\"\",(IF(FV32>Saisies!$C$7,\"\",IF(ISERROR(IF(FV32<Saisies!$B$7,\"\",FX32)*GD32),IF(FV32<Saisies!$B$7,\"\",FX32),\"\")))*(IF(ISERROR(GE32+1),0,GE32))*GF32*GG32*GH32)","v":""},"",1,{"$f":"IF(FV32>Saisies!$C$25,1,(IF(FV32<Saisies!$B$25,1,IF(Saisies!$B$25=0,1,0))))","v":1},{"$f":"IF(FV32>Saisies!$E$25,1,(IF(FV32<Saisies!$D$25,1,IF(Saisies!$D$25=0,1,0))))","v":1},{"$f":"IF(FV32>Saisies!$G$25,1,(IF(FV32<Saisies!$F$25,1,IF(Saisies!$F$25<10,1,0))))","v":1},{"$f":"IF(FV32>Saisies!$C$10,\"\",(IF(FV32<Saisies!$B$10,\"\",FY32)))","v":""},{"$f":"IF(FV32>Saisies!$E$10,\"\",(IF(FV32<Saisies!$D$10,\"\",FY32)))","v":""},{"$f":"IF(FV32>Saisies!$G$10,\"\",(IF(FV32<Saisies!$F$10,\"\",FY32)))","v":""},null,null,1]
[null,"2016-01-21","J",8,7,0,{"$f":"IF(MAX(F33,(F32+D33))>=Saisies!$E$4,(IF(F32<=Saisies!$E$4,B33,G32)),0)","v":0},{"$f":"IF(B33=Saisies!$C$7,MIN((ABS(Saisies!$E$4-F32)),I33),I33)","v":""},{"$f":"IF(ISERROR((IF(B33>Saisies!$C$7,\"\",IF(ISERROR(IF(B33<Saisies!$B$7,\"\",D33)*J33),IF(B33<Saisies!$B$7,\"\",D33),\"\")))*(IF(ISERROR(K33+1),0,K33))*L33*M33*N33),\"\",(IF(B33>Saisies!$C$7,\"\",IF(ISERROR(IF(B33<Saisies!$B$7,\"\",D33)*J33),IF(B33<Saisies!$B$7,\"\",D33),\"\")))*(IF(ISERROR(K33+1),0,K33))*L33*M33*N33)","v":""},"",1,{"$f":"IF(B33>Saisies!$C$25,1,(IF(B33<Saisies!$B$25,1,IF(Saisies!$B$25=0,1,0))))","v":1},{"$f":"IF(B33>Saisies!$E$25,1,(IF(B33<Saisies!$D$25,1,IF(Saisies!$D$25=0,1,0))))","v":1},{"$f":"IF(B33>Saisies!$G$25,1,(IF(B33<Saisies!$F$25,1,IF(Saisies!$F$25<10,1,0))))","v":1},{"$f":"IF(B33>Saisies!$C$10,\"\",(IF(B33<Saisies!$B$10,\"\",E33)))","v":""},{"$f":"IF(B33>Saisies!$E$10,\"\",(IF(B33<Saisies!$D$10,\"\",E33)))","v":""},{"$f":"IF(B33>Saisies!$G$10,\"\",(IF(B33<Saisies!$F$10,\"\",E33)))","v":""},"2016-02-21","D",0,0,0,{"$f":"IF(MAX(V33,(V32+T33))>=Saisies!$E$4,(IF(V32<=Saisies!$E$4,R33,W32)),0)","v":0},{"$f":"IF(R33=Saisies!$C$7,MIN((ABS(Saisies!$E$4-V32)),Y33),Y33)","v":""},{"$f":"IF(ISERROR((IF(R33>Saisies!$C$7,\"\",IF(ISERROR(IF(R33<Saisies!$B$7,\"\",T33)*Z33),IF(R33<Saisies!$B$7,\"\",T33),\"\")))*(IF(ISERROR(AA33+1),0,AA33))*AB33*AC33*AD33),\"\",(IF(R33>Saisies!$C$7,\"\",IF(ISERROR(IF(R33<Saisies!$B$7,\"\",T33)*Z33),IF(R33<Saisies!$B$7,\"\",T33),\"\")))*(IF(ISERROR(AA33+1),0,AA33))*AB33*AC33*AD33)","v":""},"",1,{"$f":"IF(R33>Saisies!$C$25,1,(IF(R33<Saisies!$B$25,1,IF(Saisies!$B$25=0,1,0))))","v":1},{"$f":"IF(R33>Saisies!$E$25,1,(IF(R33<Saisies!$D$25,1,IF(Saisies!$D$25=0,1,0))))","v":1},{"$f":"IF(R33>Saisies!$G$25,1,(IF(R33<Saisies!$F$25,1,IF(Saisies!$F$25<10,1,0))))","v":1},{"$f":"IF(R33>Saisies!$C$10,\"\",(IF(R33<Saisies!$B$10,\"\",U33)))","v":""},{"$f":"IF(R33>Saisies!$E$10,\"\",(IF(R33<Saisies!$D$10,\"\",U33)))","v":""},{"$f":"IF(R33>Saisies!$G$10,\"\",(IF(R33<Saisies!$F$10,\"\",U33)))","v":""},"2016-03-21","L",7,7,0,{"$f":"IF(MAX(AL33,(AL32+AJ33))>=Saisies!$E$4,(IF(AL32<=Saisies!$E$4,AH33,AM32)),0)","v":0},{"$f":"IF(AH33=Saisies!$C$7,MIN((ABS(Saisies!$E$4-AL32)),AO33),AO33)","v":""},{"$f":"IF(ISERROR((IF(AH33>Saisies!$C$7,\"\",IF(ISERROR(IF(AH33<Saisies!$B$7,\"\",AJ33)*AP33),IF(AH33<Saisies!$B$7,\"\",AJ33),\"\")))*(IF(ISERROR(AQ33+1),0,AQ33))*AR33*AS33*AT33),\"\",(IF(AH33>Saisies!$C$7,\"\",IF(ISERROR(IF(AH33<Saisies!$B$7,\"\",AJ33)*AP33),IF(AH33<Saisies!$B$7,\"\",AJ33),\"\")))*(IF(ISERROR(AQ33+1),0,AQ33))*AR33*AS33*AT33)","v":""},"",1,{"$f":"IF(AH33>Saisies!$C$25,1,(IF(AH33<Saisies!$B$25,1,IF(Saisies!$B$25=0,1,0))))","v":1},{"$f":"IF(AH33>Saisies!$E$25,1,(IF(AH33<Saisies!$D$25,1,IF(Saisies!$D$25=0,1,0))))","v":1},{"$f":"IF(AH33>Saisies!$G$25,1,(IF(AH33<Saisies!$F$25,1,IF(Saisies!$F$25<10,1,0))))","v":1},{"$f":"IF(AH33>Saisies!$C$10,\"\",(IF(AH33<Saisies!$B$10,\"\",AK33)))","v":""},{"$f":"IF(AH33>Saisies!$E$10,\"\",(IF(AH33<Saisies!$D$10,\"\",AK33)))","v":""},{"$f":"IF(AH33>Saisies!$G$10,\"\",(IF(AH33<Saisies!$F$10,\"\",AK33)))","v":""},"2016-04-21","J",8,7,0,{"$f":"IF(BB33>=Saisies!$E$4,(IF(BC32<=Saisies!$E$4,AX33,BC32)),0)","v":0},{"$f":"IF(AX33=Saisies!$C$7,MIN((ABS(Saisies!$E$4-BB32)),BE33),BE33)","v":""},{"$f":"IF(ISERROR((IF(AX33>Saisies!$C$7,\"\",IF(ISERROR(IF(AX33<Saisies!$B$7,\"\",AZ33)*BF33),IF(AX33<Saisies!$B$7,\"\",AZ33),\"\")))*(IF(ISERROR(BG33+1),0,BG33))*BH33*BI33*BJ33),\"\",(IF(AX33>Saisies!$C$7,\"\",IF(ISERROR(IF(AX33<Saisies!$B$7,\"\",AZ33)*BF33),IF(AX33<Saisies!$B$7,\"\",AZ33),\"\")))*(IF(ISERROR(BG33+1),0,BG33))*BH33*BI33*BJ33)","v":""},"",1,{"$f":"IF(AX33>Saisies!$C$25,1,(IF(AX33<Saisies!$B$25,1,IF(Saisies!$B$25=0,1,0))))","v":1},{"$f":"IF(AX33>Saisies!$E$25,1,(IF(AX33<Saisies!$D$25,1,IF(Saisies!$D$25=0,1,0))))","v":1},{"$f":"IF(AX33>Saisies!$G$25,1,(IF(AX33<Saisies!$F$25,1,IF(Saisies!$F$25<10,1,0))))","v":1},{"$f":"IF(AX33>Saisies!$C$10,\"\",(IF(AX33<Saisies!$B$10,\"\",BA33)))","v":""},{"$f":"IF(AX33>Saisies!$E$10,\"\",(IF(AX33<Saisies!$D$10,\"\",BA33)))","v":""},{"$f":"IF(AX33>Saisies!$G$10,\"\",(IF(AX33<Saisies!$F$10,\"\",BA33)))","v":""},"2016-05-21","S",0,0,0,{"$f":"IF(MAX(BR33,(BR32+BP33))>=Saisies!$E$4,(IF(BR32<=Saisies!$E$4,BN33,BS32)),0)","v":0},{"$f":"IF(BN33=Saisies!$C$7,MIN((ABS(Saisies!$E$4-BR32)),BU33),BU33)","v":""},{"$f":"IF(ISERROR((IF(BN33>Saisies!$C$7,\"\",IF(ISERROR(IF(BN33<Saisies!$B$7,\"\",BP33)*BV33),IF(BN33<Saisies!$B$7,\"\",BP33),\"\")))*(IF(ISERROR(BW33+1),0,BW33))*BX33*BY33*BZ33),\"\",(IF(BN33>Saisies!$C$7,\"\",IF(ISERROR(IF(BN33<Saisies!$B$7,\"\",BP33)*BV33),IF(BN33<Saisies!$B$7,\"\",BP33),\"\")))*(IF(ISERROR(BW33+1),0,BW33))*BX33*BY33*BZ33)","v":""},"",1,{"$f":"IF(BN33>Saisies!$C$25,1,(IF(BN33<Saisies!$B$25,1,IF(Saisies!$B$25=0,1,0))))","v":1},{"$f":"IF(BN33>Saisies!$E$25,1,(IF(BN33<Saisies!$D$25,1,IF(Saisies!$D$25=0,1,0))))","v":1},{"$f":"IF(BN33>Saisies!$G$25,1,(IF(BN33<Saisies!$F$25,1,IF(Saisies!$F$25<10,1,0))))","v":1},{"$f":"IF(BN33>Saisies!$C$10,\"\",(IF(BN33<Saisies!$B$10,\"\",BQ33)))","v":""},{"$f":"IF(BN33>Saisies!$E$10,\"\",(IF(BN33<Saisies!$D$10,\"\",BQ33)))","v":""},{"$f":"IF(BN33>Saisies!$G$10,\"\",(IF(BN33<Saisies!$F$10,\"\",BQ33)))","v":""},"2016-06-21","M",8,7,105,{"$f":"IF(MAX(CH33,(CH32+CF33))>=Saisies!$E$4,(IF(CH32<=Saisies!$E$4,CD33,CI32)),0)","v":0},{"$f":"IF(CD33=Saisies!$C$7,MIN((ABS(Saisies!$E$4-CH32)),CK33),CK33)","v":8},{"$f":"IF(ISERROR((IF(CD33>Saisies!$C$7,\"\",IF(ISERROR(IF(CD33<Saisies!$B$7,\"\",CF33)*CL33),IF(CD33<Saisies!$B$7,\"\",CF33),\"\")))*(IF(ISERROR(CM33+1),0,CM33))*CN33*CO33*CP33),\"\",(IF(CD33>Saisies!$C$7,\"\",IF(ISERROR(IF(CD33<Saisies!$B$7,\"\",CF33)*CL33),IF(CD33<Saisies!$B$7,\"\",CF33),\"\")))*(IF(ISERROR(CM33+1),0,CM33))*CN33*CO33*CP33)","v":8},"",1,{"$f":"IF(CD33>Saisies!$C$25,1,(IF(CD33<Saisies!$B$25,1,IF(Saisies!$B$25=0,1,0))))","v":1},{"$f":"IF(CD33>Saisies!$E$25,1,(IF(CD33<Saisies!$D$25,1,IF(Saisies!$D$25=0,1,0))))","v":1},{"$f":"IF(CD33>Saisies!$G$25,1,(IF(CD33<Saisies!$F$25,1,IF(Saisies!$F$25<10,1,0))))","v":1},{"$f":"IF(CD33>Saisies!$C$10,\"\",(IF(CD33<Saisies!$B$10,\"\",CG33)))","v":""},{"$f":"IF(CD33>Saisies!$E$10,\"\",(IF(CD33<Saisies!$D$10,\"\",CG33)))","v":""},{"$f":"IF(CD33>Saisies!$G$10,\"\",(IF(CD33<Saisies!$F$10,\"\",CG33)))","v":""},"2016-07-21","J",8,7,247,{"$f":"IF(MAX(CX33,(CX32+CV33))>=Saisies!$E$4,(IF(CX32<=Saisies!$E$4,CT33,CY32)),0)","v":0},{"$f":"IF(CT33=Saisies!$C$7,MIN((ABS(Saisies!$E$4-CX32)),DA33),DA33)","v":8},{"$f":"IF(ISERROR((IF(CT33>Saisies!$C$7,\"\",IF(ISERROR(IF(CT33<Saisies!$B$7,\"\",CV33)*DB33),IF(CT33<Saisies!$B$7,\"\",CV33),\"\")))*(IF(ISERROR(DC33+1),0,DC33))*DD33*DE33*DF33),\"\",(IF(CT33>Saisies!$C$7,\"\",IF(ISERROR(IF(CT33<Saisies!$B$7,\"\",CV33)*DB33),IF(CT33<Saisies!$B$7,\"\",CV33),\"\")))*(IF(ISERROR(DC33+1),0,DC33))*DD33*DE33*DF33)","v":8},"",1,{"$f":"IF(CT33>Saisies!$C$25,1,(IF(CT33<Saisies!$B$25,1,IF(Saisies!$B$25=0,1,0))))","v":1},{"$f":"IF(CT33>Saisies!$E$25,1,(IF(CT33<Saisies!$D$25,1,IF(Saisies!$D$25=0,1,0))))","v":1},{"$f":"IF(CT33>Saisies!$G$25,1,(IF(CT33<Saisies!$F$25,1,IF(Saisies!$F$25<10,1,0))))","v":1},{"$f":"IF(CT33>Saisies!$C$10,\"\",(IF(CT33<Saisies!$B$10,\"\",CW33)))","v":""},{"$f":"IF(CT33>Saisies!$E$10,\"\",(IF(CT33<Saisies!$D$10,\"\",CW33)))","v":""},{"$f":"IF(CT33>Saisies!$G$10,\"\",(IF(CT33<Saisies!$F$10,\"\",CW33)))","v":""},"2016-08-21","D",0,0,387,{"$f":"IF(DN33>=Saisies!$E$4,(IF(DO32<=Saisies!$E$4,DJ33,DO32)),0)","v":0},{"$f":"IF(DJ33=Saisies!$C$7,MIN((ABS(Saisies!$E$4-DN32)),DQ33),DQ33)","v":0},{"$f":"IF(ISERROR((IF(DJ33>Saisies!$C$7,\"\",IF(ISERROR(IF(DJ33<Saisies!$B$7,\"\",DL33)*DR33),IF(DJ33<Saisies!$B$7,\"\",DL33),\"\")))*(IF(ISERROR(DS33+1),0,DS33))*DT33*DU33*DV33),\"\",(IF(DJ33>Saisies!$C$7,\"\",IF(ISERROR(IF(DJ33<Saisies!$B$7,\"\",DL33)*DR33),IF(DJ33<Saisies!$B$7,\"\",DL33),\"\")))*(IF(ISERROR(DS33+1),0,DS33))*DT33*DU33*DV33)","v":0},"",1,{"$f":"IF(DJ33>Saisies!$C$25,1,(IF(DJ33<Saisies!$B$25,1,IF(Saisies!$B$25=0,1,0))))","v":1},{"$f":"IF(DJ33>Saisies!$E$25,1,(IF(DJ33<Saisies!$D$25,1,IF(Saisies!$D$25=0,1,0))))","v":1},{"$f":"IF(DJ33>Saisies!$G$25,1,(IF(DJ33<Saisies!$F$25,1,IF(Saisies!$F$25<10,1,0))))","v":1},{"$f":"IF(DJ33>Saisies!$C$10,\"\",(IF(DJ33<Saisies!$B$10,\"\",DM33)))","v":""},{"$f":"IF(DJ33>Saisies!$E$10,\"\",(IF(DJ33<Saisies!$D$10,\"\",DM33)))","v":""},{"$f":"IF(DJ33>Saisies!$G$10,\"\",(IF(DJ33<Saisies!$F$10,\"\",DM33)))","v":""},"2016-09-21","M",8,7,492,{"$f":"IF(ED33>=Saisies!$E$4,(IF(EE32<=Saisies!$E$4,DZ33,EE32)),0)","v":42622},{"$f":"IF(DZ33=Saisies!$C$7,MIN((ABS(Saisies!$E$4-ED32)),EG33),EG33)","v":""},{"$f":"IF(ISERROR((IF(DZ33>Saisies!$C$7,\"\",IF(ISERROR(IF(DZ33<Saisies!$B$7,\"\",EB33)*EH33),IF(DZ33<Saisies!$B$7,\"\",EB33),\"\")))*(IF(ISERROR(EI33+1),0,EI33))*EJ33*EK33*EL33),\"\",(IF(DZ33>Saisies!$C$7,\"\",IF(ISERROR(IF(DZ33<Saisies!$B$7,\"\",EB33)*EH33),IF(DZ33<Saisies!$B$7,\"\",EB33),\"\")))*(IF(ISERROR(EI33+1),0,EI33))*EJ33*EK33*EL33)","v":""},"",1,{"$f":"IF(DZ33>Saisies!$C$25,1,(IF(DZ33<Saisies!$B$25,1,IF(Saisies!$B$25=0,1,0))))","v":1},{"$f":"IF(DZ33>Saisies!$E$25,1,(IF(DZ33<Saisies!$D$25,1,IF(Saisies!$D$25=0,1,0))))","v":1},{"$f":"IF(DZ33>Saisies!$G$25,1,(IF(DZ33<Saisies!$F$25,1,IF(Saisies!$F$25<10,1,0))))","v":1},{"$f":"IF(DZ33>Saisies!$C$10,\"\",(IF(DZ33<Saisies!$B$10,\"\",EC33)))","v":""},{"$f":"IF(DZ33>Saisies!$E$10,\"\",(IF(DZ33<Saisies!$D$10,\"\",EC33)))","v":""},{"$f":"IF(DZ33>Saisies!$G$10,\"\",(IF(DZ33<Saisies!$F$10,\"\",EC33)))","v":""},"2016-10-21","V",4,7,492,{"$f":"IF(ET33>=Saisies!$E$4,(IF(EU32<=Saisies!$E$4,EP33,EU32)),0)","v":42622},{"$f":"IF(EP33=Saisies!$C$7,MIN((ABS(Saisies!$E$4-ET32)),EW33),EW33)","v":""},{"$f":"IF(ISERROR((IF(EP33>Saisies!$C$7,\"\",IF(ISERROR(IF(EP33<Saisies!$B$7,\"\",ER33)*EX33),IF(EP33<Saisies!$B$7,\"\",ER33),\"\")))*(IF(ISERROR(EY33+1),0,EY33))*EZ33*FA33*FB33),\"\",(IF(EP33>Saisies!$C$7,\"\",IF(ISERROR(IF(EP33<Saisies!$B$7,\"\",ER33)*EX33),IF(EP33<Saisies!$B$7,\"\",ER33),\"\")))*(IF(ISERROR(EY33+1),0,EY33))*EZ33*FA33*FB33)","v":""},"",1,{"$f":"IF(EP33>Saisies!$C$25,1,(IF(EP33<Saisies!$B$25,1,IF(Saisies!$B$25=0,1,0))))","v":1},{"$f":"IF(EP33>Saisies!$E$25,1,(IF(EP33<Saisies!$D$25,1,IF(Saisies!$D$25=0,1,0))))","v":1},{"$f":"IF(EP33>Saisies!$G$25,1,(IF(EP33<Saisies!$F$25,1,IF(Saisies!$F$25<10,1,0))))","v":1},{"$f":"IF(EP33>Saisies!$C$10,\"\",(IF(EP33<Saisies!$B$10,\"\",ES33)))","v":""},{"$f":"IF(EP33>Saisies!$E$10,\"\",(IF(EP33<Saisies!$D$10,\"\",ES33)))","v":""},{"$f":"IF(EP33>Saisies!$G$10,\"\",(IF(EP33<Saisies!$F$10,\"\",ES33)))","v":""},"2016-11-21","L",7,7,492,{"$f":"IF(FJ33>=Saisies!$E$4,(IF(FK32<=Saisies!$E$4,FF33,FK32)),0)","v":42622},{"$f":"IF(FF33=Saisies!$C$7,MIN((ABS(Saisies!$E$4-FJ32)),FM33),FM33)","v":""},{"$f":"IF(ISERROR((IF(FF33>Saisies!$C$7,\"\",IF(ISERROR(IF(FF33<Saisies!$B$7,\"\",FH33)*FN33),IF(FF33<Saisies!$B$7,\"\",FH33),\"\")))*(IF(ISERROR(FO33+1),0,FO33))*FP33*FQ33*FR33),\"\",(IF(FF33>Saisies!$C$7,\"\",IF(ISERROR(IF(FF33<Saisies!$B$7,\"\",FH33)*FN33),IF(FF33<Saisies!$B$7,\"\",FH33),\"\")))*(IF(ISERROR(FO33+1),0,FO33))*FP33*FQ33*FR33)","v":""},"",1,{"$f":"IF(FF33>Saisies!$C$25,1,(IF(FF33<Saisies!$B$25,1,IF(Saisies!$B$25=0,1,0))))","v":1},{"$f":"IF(FF33>Saisies!$E$25,1,(IF(FF33<Saisies!$D$25,1,IF(Saisies!$D$25=0,1,0))))","v":1},{"$f":"IF(FF33>Saisies!$G$25,1,(IF(FF33<Saisies!$F$25,1,IF(Saisies!$F$25<10,1,0))))","v":1},{"$f":"IF(FF33>Saisies!$C$10,\"\",(IF(FF33<Saisies!$B$10,\"\",FI33)))","v":""},{"$f":"IF(FF33>Saisies!$E$10,\"\",(IF(FF33<Saisies!$D$10,\"\",FI33)))","v":""},{"$f":"IF(FF33>Saisies!$G$10,\"\",(IF(FF33<Saisies!$F$10,\"\",FI33)))","v":""},"2016-12-21","M",8,7,492,{"$f":"IF(FZ33>=Saisies!$E$4,(IF(GA32<=Saisies!$E$4,FV33,GA32)),0)","v":42622},{"$f":"IF(FV33=Saisies!$C$7,MIN((ABS(Saisies!$E$4-FZ32)),GC33),GC33)","v":""},{"$f":"IF(ISERROR((IF(FV33>Saisies!$C$7,\"\",IF(ISERROR(IF(FV33<Saisies!$B$7,\"\",FX33)*GD33),IF(FV33<Saisies!$B$7,\"\",FX33),\"\")))*(IF(ISERROR(GE33+1),0,GE33))*GF33*GG33*GH33),\"\",(IF(FV33>Saisies!$C$7,\"\",IF(ISERROR(IF(FV33<Saisies!$B$7,\"\",FX33)*GD33),IF(FV33<Saisies!$B$7,\"\",FX33),\"\")))*(IF(ISERROR(GE33+1),0,GE33))*GF33*GG33*GH33)","v":""},"",1,{"$f":"IF(FV33>Saisies!$C$25,1,(IF(FV33<Saisies!$B$25,1,IF(Saisies!$B$25=0,1,0))))","v":1},{"$f":"IF(FV33>Saisies!$E$25,1,(IF(FV33<Saisies!$D$25,1,IF(Saisies!$D$25=0,1,0))))","v":1},{"$f":"IF(FV33>Saisies!$G$25,1,(IF(FV33<Saisies!$F$25,1,IF(Saisies!$F$25<10,1,0))))","v":1},{"$f":"IF(FV33>Saisies!$C$10,\"\",(IF(FV33<Saisies!$B$10,\"\",FY33)))","v":""},{"$f":"IF(FV33>Saisies!$E$10,\"\",(IF(FV33<Saisies!$D$10,\"\",FY33)))","v":""},{"$f":"IF(FV33>Saisies!$G$10,\"\",(IF(FV33<Saisies!$F$10,\"\",FY33)))","v":""},null,null,1]
[null,"2016-01-22","V",4,7,0,{"$f":"IF(MAX(F34,(F33+D34))>=Saisies!$E$4,(IF(F33<=Saisies!$E$4,B34,G33)),0)","v":0},{"$f":"IF(B34=Saisies!$C$7,MIN((ABS(Saisies!$E$4-F33)),I34),I34)","v":""},{"$f":"IF(ISERROR((IF(B34>Saisies!$C$7,\"\",IF(ISERROR(IF(B34<Saisies!$B$7,\"\",D34)*J34),IF(B34<Saisies!$B$7,\"\",D34),\"\")))*(IF(ISERROR(K34+1),0,K34))*L34*M34*N34),\"\",(IF(B34>Saisies!$C$7,\"\",IF(ISERROR(IF(B34<Saisies!$B$7,\"\",D34)*J34),IF(B34<Saisies!$B$7,\"\",D34),\"\")))*(IF(ISERROR(K34+1),0,K34))*L34*M34*N34)","v":""},"",1,{"$f":"IF(B34>Saisies!$C$25,1,(IF(B34<Saisies!$B$25,1,IF(Saisies!$B$25=0,1,0))))","v":1},{"$f":"IF(B34>Saisies!$E$25,1,(IF(B34<Saisies!$D$25,1,IF(Saisies!$D$25=0,1,0))))","v":1},{"$f":"IF(B34>Saisies!$G$25,1,(IF(B34<Saisies!$F$25,1,IF(Saisies!$F$25<10,1,0))))","v":1},{"$f":"IF(B34>Saisies!$C$10,\"\",(IF(B34<Saisies!$B$10,\"\",E34)))","v":""},{"$f":"IF(B34>Saisies!$E$10,\"\",(IF(B34<Saisies!$D$10,\"\",E34)))","v":""},{"$f":"IF(B34>Saisies!$G$10,\"\",(IF(B34<Saisies!$F$10,\"\",E34)))","v":""},"2016-02-22","L",7,7,0,{"$f":"IF(MAX(V34,(V33+T34))>=Saisies!$E$4,(IF(V33<=Saisies!$E$4,R34,W33)),0)","v":0},{"$f":"IF(R34=Saisies!$C$7,MIN((ABS(Saisies!$E$4-V33)),Y34),Y34)","v":""},{"$f":"IF(ISERROR((IF(R34>Saisies!$C$7,\"\",IF(ISERROR(IF(R34<Saisies!$B$7,\"\",T34)*Z34),IF(R34<Saisies!$B$7,\"\",T34),\"\")))*(IF(ISERROR(AA34+1),0,AA34))*AB34*AC34*AD34),\"\",(IF(R34>Saisies!$C$7,\"\",IF(ISERROR(IF(R34<Saisies!$B$7,\"\",T34)*Z34),IF(R34<Saisies!$B$7,\"\",T34),\"\")))*(IF(ISERROR(AA34+1),0,AA34))*AB34*AC34*AD34)","v":""},"",1,{"$f":"IF(R34>Saisies!$C$25,1,(IF(R34<Saisies!$B$25,1,IF(Saisies!$B$25=0,1,0))))","v":1},{"$f":"IF(R34>Saisies!$E$25,1,(IF(R34<Saisies!$D$25,1,IF(Saisies!$D$25=0,1,0))))","v":1},{"$f":"IF(R34>Saisies!$G$25,1,(IF(R34<Saisies!$F$25,1,IF(Saisies!$F$25<10,1,0))))","v":1},{"$f":"IF(R34>Saisies!$C$10,\"\",(IF(R34<Saisies!$B$10,\"\",U34)))","v":""},{"$f":"IF(R34>Saisies!$E$10,\"\",(IF(R34<Saisies!$D$10,\"\",U34)))","v":""},{"$f":"IF(R34>Saisies!$G$10,\"\",(IF(R34<Saisies!$F$10,\"\",U34)))","v":""},"2016-03-22","M",8,7,0,{"$f":"IF(MAX(AL34,(AL33+AJ34))>=Saisies!$E$4,(IF(AL33<=Saisies!$E$4,AH34,AM33)),0)","v":0},{"$f":"IF(AH34=Saisies!$C$7,MIN((ABS(Saisies!$E$4-AL33)),AO34),AO34)","v":""},{"$f":"IF(ISERROR((IF(AH34>Saisies!$C$7,\"\",IF(ISERROR(IF(AH34<Saisies!$B$7,\"\",AJ34)*AP34),IF(AH34<Saisies!$B$7,\"\",AJ34),\"\")))*(IF(ISERROR(AQ34+1),0,AQ34))*AR34*AS34*AT34),\"\",(IF(AH34>Saisies!$C$7,\"\",IF(ISERROR(IF(AH34<Saisies!$B$7,\"\",AJ34)*AP34),IF(AH34<Saisies!$B$7,\"\",AJ34),\"\")))*(IF(ISERROR(AQ34+1),0,AQ34))*AR34*AS34*AT34)","v":""},"",1,{"$f":"IF(AH34>Saisies!$C$25,1,(IF(AH34<Saisies!$B$25,1,IF(Saisies!$B$25=0,1,0))))","v":1},{"$f":"IF(AH34>Saisies!$E$25,1,(IF(AH34<Saisies!$D$25,1,IF(Saisies!$D$25=0,1,0))))","v":1},{"$f":"IF(AH34>Saisies!$G$25,1,(IF(AH34<Saisies!$F$25,1,IF(Saisies!$F$25<10,1,0))))","v":1},{"$f":"IF(AH34>Saisies!$C$10,\"\",(IF(AH34<Saisies!$B$10,\"\",AK34)))","v":""},{"$f":"IF(AH34>Saisies!$E$10,\"\",(IF(AH34<Saisies!$D$10,\"\",AK34)))","v":""},{"$f":"IF(AH34>Saisies!$G$10,\"\",(IF(AH34<Saisies!$F$10,\"\",AK34)))","v":""},"2016-04-22","V",4,7,0,{"$f":"IF(BB34>=Saisies!$E$4,(IF(BC33<=Saisies!$E$4,AX34,BC33)),0)","v":0},{"$f":"IF(AX34=Saisies!$C$7,MIN((ABS(Saisies!$E$4-BB33)),BE34),BE34)","v":""},{"$f":"IF(ISERROR((IF(AX34>Saisies!$C$7,\"\",IF(ISERROR(IF(AX34<Saisies!$B$7,\"\",AZ34)*BF34),IF(AX34<Saisies!$B$7,\"\",AZ34),\"\")))*(IF(ISERROR(BG34+1),0,BG34))*BH34*BI34*BJ34),\"\",(IF(AX34>Saisies!$C$7,\"\",IF(ISERROR(IF(AX34<Saisies!$B$7,\"\",AZ34)*BF34),IF(AX34<Saisies!$B$7,\"\",AZ34),\"\")))*(IF(ISERROR(BG34+1),0,BG34))*BH34*BI34*BJ34)","v":""},"",1,{"$f":"IF(AX34>Saisies!$C$25,1,(IF(AX34<Saisies!$B$25,1,IF(Saisies!$B$25=0,1,0))))","v":1},{"$f":"IF(AX34>Saisies!$E$25,1,(IF(AX34<Saisies!$D$25,1,IF(Saisies!$D$25=0,1,0))))","v":1},{"$f":"IF(AX34>Saisies!$G$25,1,(IF(AX34<Saisies!$F$25,1,IF(Saisies!$F$25<10,1,0))))","v":1},{"$f":"IF(AX34>Saisies!$C$10,\"\",(IF(AX34<Saisies!$B$10,\"\",BA34)))","v":""},{"$f":"IF(AX34>Saisies!$E$10,\"\",(IF(AX34<Saisies!$D$10,\"\",BA34)))","v":""},{"$f":"IF(AX34>Saisies!$G$10,\"\",(IF(AX34<Saisies!$F$10,\"\",BA34)))","v":""},"2016-05-22","D",0,0,0,{"$f":"IF(MAX(BR34,(BR33+BP34))>=Saisies!$E$4,(IF(BR33<=Saisies!$E$4,BN34,BS33)),0)","v":0},{"$f":"IF(BN34=Saisies!$C$7,MIN((ABS(Saisies!$E$4-BR33)),BU34),BU34)","v":""},{"$f":"IF(ISERROR((IF(BN34>Saisies!$C$7,\"\",IF(ISERROR(IF(BN34<Saisies!$B$7,\"\",BP34)*BV34),IF(BN34<Saisies!$B$7,\"\",BP34),\"\")))*(IF(ISERROR(BW34+1),0,BW34))*BX34*BY34*BZ34),\"\",(IF(BN34>Saisies!$C$7,\"\",IF(ISERROR(IF(BN34<Saisies!$B$7,\"\",BP34)*BV34),IF(BN34<Saisies!$B$7,\"\",BP34),\"\")))*(IF(ISERROR(BW34+1),0,BW34))*BX34*BY34*BZ34)","v":""},"",1,{"$f":"IF(BN34>Saisies!$C$25,1,(IF(BN34<Saisies!$B$25,1,IF(Saisies!$B$25=0,1,0))))","v":1},{"$f":"IF(BN34>Saisies!$E$25,1,(IF(BN34<Saisies!$D$25,1,IF(Saisies!$D$25=0,1,0))))","v":1},{"$f":"IF(BN34>Saisies!$G$25,1,(IF(BN34<Saisies!$F$25,1,IF(Saisies!$F$25<10,1,0))))","v":1},{"$f":"IF(BN34>Saisies!$C$10,\"\",(IF(BN34<Saisies!$B$10,\"\",BQ34)))","v":""},{"$f":"IF(BN34>Saisies!$E$10,\"\",(IF(BN34<Saisies!$D$10,\"\",BQ34)))","v":""},{"$f":"IF(BN34>Saisies!$G$10,\"\",(IF(BN34<Saisies!$F$10,\"\",BQ34)))","v":""},"2016-06-22","M",8,7,113,{"$f":"IF(MAX(CH34,(CH33+CF34))>=Saisies!$E$4,(IF(CH33<=Saisies!$E$4,CD34,CI33)),0)","v":0},{"$f":"IF(CD34=Saisies!$C$7,MIN((ABS(Saisies!$E$4-CH33)),CK34),CK34)","v":8},{"$f":"IF(ISERROR((IF(CD34>Saisies!$C$7,\"\",IF(ISERROR(IF(CD34<Saisies!$B$7,\"\",CF34)*CL34),IF(CD34<Saisies!$B$7,\"\",CF34),\"\")))*(IF(ISERROR(CM34+1),0,CM34))*CN34*CO34*CP34),\"\",(IF(CD34>Saisies!$C$7,\"\",IF(ISERROR(IF(CD34<Saisies!$B$7,\"\",CF34)*CL34),IF(CD34<Saisies!$B$7,\"\",CF34),\"\")))*(IF(ISERROR(CM34+1),0,CM34))*CN34*CO34*CP34)","v":8},"",1,{"$f":"IF(CD34>Saisies!$C$25,1,(IF(CD34<Saisies!$B$25,1,IF(Saisies!$B$25=0,1,0))))","v":1},{"$f":"IF(CD34>Saisies!$E$25,1,(IF(CD34<Saisies!$D$25,1,IF(Saisies!$D$25=0,1,0))))","v":1},{"$f":"IF(CD34>Saisies!$G$25,1,(IF(CD34<Saisies!$F$25,1,IF(Saisies!$F$25<10,1,0))))","v":1},{"$f":"IF(CD34>Saisies!$C$10,\"\",(IF(CD34<Saisies!$B$10,\"\",CG34)))","v":""},{"$f":"IF(CD34>Saisies!$E$10,\"\",(IF(CD34<Saisies!$D$10,\"\",CG34)))","v":""},{"$f":"IF(CD34>Saisies!$G$10,\"\",(IF(CD34<Saisies!$F$10,\"\",CG34)))","v":""},"2016-07-22","V",4,7,251,{"$f":"IF(MAX(CX34,(CX33+CV34))>=Saisies!$E$4,(IF(CX33<=Saisies!$E$4,CT34,CY33)),0)","v":0},{"$f":"IF(CT34=Saisies!$C$7,MIN((ABS(Saisies!$E$4-CX33)),DA34),DA34)","v":4},{"$f":"IF(ISERROR((IF(CT34>Saisies!$C$7,\"\",IF(ISERROR(IF(CT34<Saisies!$B$7,\"\",CV34)*DB34),IF(CT34<Saisies!$B$7,\"\",CV34),\"\")))*(IF(ISERROR(DC34+1),0,DC34))*DD34*DE34*DF34),\"\",(IF(CT34>Saisies!$C$7,\"\",IF(ISERROR(IF(CT34<Saisies!$B$7,\"\",CV34)*DB34),IF(CT34<Saisies!$B$7,\"\",CV34),\"\")))*(IF(ISERROR(DC34+1),0,DC34))*DD34*DE34*DF34)","v":4},"",1,{"$f":"IF(CT34>Saisies!$C$25,1,(IF(CT34<Saisies!$B$25,1,IF(Saisies!$B$25=0,1,0))))","v":1},{"$f":"IF(CT34>Saisies!$E$25,1,(IF(CT34<Saisies!$D$25,1,IF(Saisies!$D$25=0,1,0))))","v":1},{"$f":"IF(CT34>Saisies!$G$25,1,(IF(CT34<Saisies!$F$25,1,IF(Saisies!$F$25<10,1,0))))","v":1},{"$f":"IF(CT34>Saisies!$C$10,\"\",(IF(CT34<Saisies!$B$10,\"\",CW34)))","v":""},{"$f":"IF(CT34>Saisies!$E$10,\"\",(IF(CT34<Saisies!$D$10,\"\",CW34)))","v":""},{"$f":"IF(CT34>Saisies!$G$10,\"\",(IF(CT34<Saisies!$F$10,\"\",CW34)))","v":""},"2016-08-22","L",7,7,394,{"$f":"IF(DN34>=Saisies!$E$4,(IF(DO33<=Saisies!$E$4,DJ34,DO33)),0)","v":0},{"$f":"IF(DJ34=Saisies!$C$7,MIN((ABS(Saisies!$E$4-DN33)),DQ34),DQ34)","v":7},{"$f":"IF(ISERROR((IF(DJ34>Saisies!$C$7,\"\",IF(ISERROR(IF(DJ34<Saisies!$B$7,\"\",DL34)*DR34),IF(DJ34<Saisies!$B$7,\"\",DL34),\"\")))*(IF(ISERROR(DS34+1),0,DS34))*DT34*DU34*DV34),\"\",(IF(DJ34>Saisies!$C$7,\"\",IF(ISERROR(IF(DJ34<Saisies!$B$7,\"\",DL34)*DR34),IF(DJ34<Saisies!$B$7,\"\",DL34),\"\")))*(IF(ISERROR(DS34+1),0,DS34))*DT34*DU34*DV34)","v":7},"",1,{"$f":"IF(DJ34>Saisies!$C$25,1,(IF(DJ34<Saisies!$B$25,1,IF(Saisies!$B$25=0,1,0))))","v":1},{"$f":"IF(DJ34>Saisies!$E$25,1,(IF(DJ34<Saisies!$D$25,1,IF(Saisies!$D$25=0,1,0))))","v":1},{"$f":"IF(DJ34>Saisies!$G$25,1,(IF(DJ34<Saisies!$F$25,1,IF(Saisies!$F$25<10,1,0))))","v":1},{"$f":"IF(DJ34>Saisies!$C$10,\"\",(IF(DJ34<Saisies!$B$10,\"\",DM34)))","v":""},{"$f":"IF(DJ34>Saisies!$E$10,\"\",(IF(DJ34<Saisies!$D$10,\"\",DM34)))","v":""},{"$f":"IF(DJ34>Saisies!$G$10,\"\",(IF(DJ34<Saisies!$F$10,\"\",DM34)))","v":""},"2016-09-22","J",8,7,492,{"$f":"IF(ED34>=Saisies!$E$4,(IF(EE33<=Saisies!$E$4,DZ34,EE33)),0)","v":42622},{"$f":"IF(DZ34=Saisies!$C$7,MIN((ABS(Saisies!$E$4-ED33)),EG34),EG34)","v":""},{"$f":"IF(ISERROR((IF(DZ34>Saisies!$C$7,\"\",IF(ISERROR(IF(DZ34<Saisies!$B$7,\"\",EB34)*EH34),IF(DZ34<Saisies!$B$7,\"\",EB34),\"\")))*(IF(ISERROR(EI34+1),0,EI34))*EJ34*EK34*EL34),\"\",(IF(DZ34>Saisies!$C$7,\"\",IF(ISERROR(IF(DZ34<Saisies!$B$7,\"\",EB34)*EH34),IF(DZ34<Saisies!$B$7,\"\",EB34),\"\")))*(IF(ISERROR(EI34+1),0,EI34))*EJ34*EK34*EL34)","v":""},"",1,{"$f":"IF(DZ34>Saisies!$C$25,1,(IF(DZ34<Saisies!$B$25,1,IF(Saisies!$B$25=0,1,0))))","v":1},{"$f":"IF(DZ34>Saisies!$E$25,1,(IF(DZ34<Saisies!$D$25,1,IF(Saisies!$D$25=0,1,0))))","v":1},{"$f":"IF(DZ34>Saisies!$G$25,1,(IF(DZ34<Saisies!$F$25,1,IF(Saisies!$F$25<10,1,0))))","v":1},{"$f":"IF(DZ34>Saisies!$C$10,\"\",(IF(DZ34<Saisies!$B$10,\"\",EC34)))","v":""},{"$f":"IF(DZ34>Saisies!$E$10,\"\",(IF(DZ34<Saisies!$D$10,\"\",EC34)))","v":""},{"$f":"IF(DZ34>Saisies!$G$10,\"\",(IF(DZ34<Saisies!$F$10,\"\",EC34)))","v":""},"2016-10-22","S",0,0,492,{"$f":"IF(ET34>=Saisies!$E$4,(IF(EU33<=Saisies!$E$4,EP34,EU33)),0)","v":42622},{"$f":"IF(EP34=Saisies!$C$7,MIN((ABS(Saisies!$E$4-ET33)),EW34),EW34)","v":""},{"$f":"IF(ISERROR((IF(EP34>Saisies!$C$7,\"\",IF(ISERROR(IF(EP34<Saisies!$B$7,\"\",ER34)*EX34),IF(EP34<Saisies!$B$7,\"\",ER34),\"\")))*(IF(ISERROR(EY34+1),0,EY34))*EZ34*FA34*FB34),\"\",(IF(EP34>Saisies!$C$7,\"\",IF(ISERROR(IF(EP34<Saisies!$B$7,\"\",ER34)*EX34),IF(EP34<Saisies!$B$7,\"\",ER34),\"\")))*(IF(ISERROR(EY34+1),0,EY34))*EZ34*FA34*FB34)","v":""},"",1,{"$f":"IF(EP34>Saisies!$C$25,1,(IF(EP34<Saisies!$B$25,1,IF(Saisies!$B$25=0,1,0))))","v":1},{"$f":"IF(EP34>Saisies!$E$25,1,(IF(EP34<Saisies!$D$25,1,IF(Saisies!$D$25=0,1,0))))","v":1},{"$f":"IF(EP34>Saisies!$G$25,1,(IF(EP34<Saisies!$F$25,1,IF(Saisies!$F$25<10,1,0))))","v":1},{"$f":"IF(EP34>Saisies!$C$10,\"\",(IF(EP34<Saisies!$B$10,\"\",ES34)))","v":""},{"$f":"IF(EP34>Saisies!$E$10,\"\",(IF(EP34<Saisies!$D$10,\"\",ES34)))","v":""},{"$f":"IF(EP34>Saisies!$G$10,\"\",(IF(EP34<Saisies!$F$10,\"\",ES34)))","v":""},"2016-11-22","M",8,7,492,{"$f":"IF(FJ34>=Saisies!$E$4,(IF(FK33<=Saisies!$E$4,FF34,FK33)),0)","v":42622},{"$f":"IF(FF34=Saisies!$C$7,MIN((ABS(Saisies!$E$4-FJ33)),FM34),FM34)","v":""},{"$f":"IF(ISERROR((IF(FF34>Saisies!$C$7,\"\",IF(ISERROR(IF(FF34<Saisies!$B$7,\"\",FH34)*FN34),IF(FF34<Saisies!$B$7,\"\",FH34),\"\")))*(IF(ISERROR(FO34+1),0,FO34))*FP34*FQ34*FR34),\"\",(IF(FF34>Saisies!$C$7,\"\",IF(ISERROR(IF(FF34<Saisies!$B$7,\"\",FH34)*FN34),IF(FF34<Saisies!$B$7,\"\",FH34),\"\")))*(IF(ISERROR(FO34+1),0,FO34))*FP34*FQ34*FR34)","v":""},"",1,{"$f":"IF(FF34>Saisies!$C$25,1,(IF(FF34<Saisies!$B$25,1,IF(Saisies!$B$25=0,1,0))))","v":1},{"$f":"IF(FF34>Saisies!$E$25,1,(IF(FF34<Saisies!$D$25,1,IF(Saisies!$D$25=0,1,0))))","v":1},{"$f":"IF(FF34>Saisies!$G$25,1,(IF(FF34<Saisies!$F$25,1,IF(Saisies!$F$25<10,1,0))))","v":1},{"$f":"IF(FF34>Saisies!$C$10,\"\",(IF(FF34<Saisies!$B$10,\"\",FI34)))","v":""},{"$f":"IF(FF34>Saisies!$E$10,\"\",(IF(FF34<Saisies!$D$10,\"\",FI34)))","v":""},{"$f":"IF(FF34>Saisies!$G$10,\"\",(IF(FF34<Saisies!$F$10,\"\",FI34)))","v":""},"2016-12-22",{"$f":"UPPER(LEFT(TEXT(FV34,\"jjj\"),1))","v":"J"},8,7,492,{"$f":"IF(FZ34>=Saisies!$E$4,(IF(GA33<=Saisies!$E$4,FV34,GA33)),0)","v":42622},{"$f":"IF(FV34=Saisies!$C$7,MIN((ABS(Saisies!$E$4-FZ33)),GC34),GC34)","v":""},{"$f":"IF(ISERROR((IF(FV34>Saisies!$C$7,\"\",IF(ISERROR(IF(FV34<Saisies!$B$7,\"\",FX34)*GD34),IF(FV34<Saisies!$B$7,\"\",FX34),\"\")))*(IF(ISERROR(GE34+1),0,GE34))*GF34*GG34*GH34),\"\",(IF(FV34>Saisies!$C$7,\"\",IF(ISERROR(IF(FV34<Saisies!$B$7,\"\",FX34)*GD34),IF(FV34<Saisies!$B$7,\"\",FX34),\"\")))*(IF(ISERROR(GE34+1),0,GE34))*GF34*GG34*GH34)","v":""},"",1,{"$f":"IF(FV34>Saisies!$C$25,1,(IF(FV34<Saisies!$B$25,1,IF(Saisies!$B$25=0,1,0))))","v":1},{"$f":"IF(FV34>Saisies!$E$25,1,(IF(FV34<Saisies!$D$25,1,IF(Saisies!$D$25=0,1,0))))","v":1},{"$f":"IF(FV34>Saisies!$G$25,1,(IF(FV34<Saisies!$F$25,1,IF(Saisies!$F$25<10,1,0))))","v":1},{"$f":"IF(FV34>Saisies!$C$10,\"\",(IF(FV34<Saisies!$B$10,\"\",FY34)))","v":""},{"$f":"IF(FV34>Saisies!$E$10,\"\",(IF(FV34<Saisies!$D$10,\"\",FY34)))","v":""},{"$f":"IF(FV34>Saisies!$G$10,\"\",(IF(FV34<Saisies!$F$10,\"\",FY34)))","v":""},null,null,1]
[null,"2016-01-23","S",0,0,0,{"$f":"IF(MAX(F35,(F34+D35))>=Saisies!$E$4,(IF(F34<=Saisies!$E$4,B35,G34)),0)","v":0},{"$f":"IF(B35=Saisies!$C$7,MIN((ABS(Saisies!$E$4-F34)),I35),I35)","v":""},{"$f":"IF(ISERROR((IF(B35>Saisies!$C$7,\"\",IF(ISERROR(IF(B35<Saisies!$B$7,\"\",D35)*J35),IF(B35<Saisies!$B$7,\"\",D35),\"\")))*(IF(ISERROR(K35+1),0,K35))*L35*M35*N35),\"\",(IF(B35>Saisies!$C$7,\"\",IF(ISERROR(IF(B35<Saisies!$B$7,\"\",D35)*J35),IF(B35<Saisies!$B$7,\"\",D35),\"\")))*(IF(ISERROR(K35+1),0,K35))*L35*M35*N35)","v":""},"",1,{"$f":"IF(B35>Saisies!$C$25,1,(IF(B35<Saisies!$B$25,1,IF(Saisies!$B$25=0,1,0))))","v":1},{"$f":"IF(B35>Saisies!$E$25,1,(IF(B35<Saisies!$D$25,1,IF(Saisies!$D$25=0,1,0))))","v":1},{"$f":"IF(B35>Saisies!$G$25,1,(IF(B35<Saisies!$F$25,1,IF(Saisies!$F$25<10,1,0))))","v":1},{"$f":"IF(B35>Saisies!$C$10,\"\",(IF(B35<Saisies!$B$10,\"\",E35)))","v":""},{"$f":"IF(B35>Saisies!$E$10,\"\",(IF(B35<Saisies!$D$10,\"\",E35)))","v":""},{"$f":"IF(B35>Saisies!$G$10,\"\",(IF(B35<Saisies!$F$10,\"\",E35)))","v":""},"2016-02-23","M",8,7,0,{"$f":"IF(MAX(V35,(V34+T35))>=Saisies!$E$4,(IF(V34<=Saisies!$E$4,R35,W34)),0)","v":0},{"$f":"IF(R35=Saisies!$C$7,MIN((ABS(Saisies!$E$4-V34)),Y35),Y35)","v":""},{"$f":"IF(ISERROR((IF(R35>Saisies!$C$7,\"\",IF(ISERROR(IF(R35<Saisies!$B$7,\"\",T35)*Z35),IF(R35<Saisies!$B$7,\"\",T35),\"\")))*(IF(ISERROR(AA35+1),0,AA35))*AB35*AC35*AD35),\"\",(IF(R35>Saisies!$C$7,\"\",IF(ISERROR(IF(R35<Saisies!$B$7,\"\",T35)*Z35),IF(R35<Saisies!$B$7,\"\",T35),\"\")))*(IF(ISERROR(AA35+1),0,AA35))*AB35*AC35*AD35)","v":""},"",1,{"$f":"IF(R35>Saisies!$C$25,1,(IF(R35<Saisies!$B$25,1,IF(Saisies!$B$25=0,1,0))))","v":1},{"$f":"IF(R35>Saisies!$E$25,1,(IF(R35<Saisies!$D$25,1,IF(Saisies!$D$25=0,1,0))))","v":1},{"$f":"IF(R35>Saisies!$G$25,1,(IF(R35<Saisies!$F$25,1,IF(Saisies!$F$25<10,1,0))))","v":1},{"$f":"IF(R35>Saisies!$C$10,\"\",(IF(R35<Saisies!$B$10,\"\",U35)))","v":""},{"$f":"IF(R35>Saisies!$E$10,\"\",(IF(R35<Saisies!$D$10,\"\",U35)))","v":""},{"$f":"IF(R35>Saisies!$G$10,\"\",(IF(R35<Saisies!$F$10,\"\",U35)))","v":""},"2016-03-23","M",8,7,0,{"$f":"IF(MAX(AL35,(AL34+AJ35))>=Saisies!$E$4,(IF(AL34<=Saisies!$E$4,AH35,AM34)),0)","v":0},{"$f":"IF(AH35=Saisies!$C$7,MIN((ABS(Saisies!$E$4-AL34)),AO35),AO35)","v":""},{"$f":"IF(ISERROR((IF(AH35>Saisies!$C$7,\"\",IF(ISERROR(IF(AH35<Saisies!$B$7,\"\",AJ35)*AP35),IF(AH35<Saisies!$B$7,\"\",AJ35),\"\")))*(IF(ISERROR(AQ35+1),0,AQ35))*AR35*AS35*AT35),\"\",(IF(AH35>Saisies!$C$7,\"\",IF(ISERROR(IF(AH35<Saisies!$B$7,\"\",AJ35)*AP35),IF(AH35<Saisies!$B$7,\"\",AJ35),\"\")))*(IF(ISERROR(AQ35+1),0,AQ35))*AR35*AS35*AT35)","v":""},"",1,{"$f":"IF(AH35>Saisies!$C$25,1,(IF(AH35<Saisies!$B$25,1,IF(Saisies!$B$25=0,1,0))))","v":1},{"$f":"IF(AH35>Saisies!$E$25,1,(IF(AH35<Saisies!$D$25,1,IF(Saisies!$D$25=0,1,0))))","v":1},{"$f":"IF(AH35>Saisies!$G$25,1,(IF(AH35<Saisies!$F$25,1,IF(Saisies!$F$25<10,1,0))))","v":1},{"$f":"IF(AH35>Saisies!$C$10,\"\",(IF(AH35<Saisies!$B$10,\"\",AK35)))","v":""},{"$f":"IF(AH35>Saisies!$E$10,\"\",(IF(AH35<Saisies!$D$10,\"\",AK35)))","v":""},{"$f":"IF(AH35>Saisies!$G$10,\"\",(IF(AH35<Saisies!$F$10,\"\",AK35)))","v":""},"2016-04-23","S",0,0,0,{"$f":"IF(BB35>=Saisies!$E$4,(IF(BC34<=Saisies!$E$4,AX35,BC34)),0)","v":0},{"$f":"IF(AX35=Saisies!$C$7,MIN((ABS(Saisies!$E$4-BB34)),BE35),BE35)","v":""},{"$f":"IF(ISERROR((IF(AX35>Saisies!$C$7,\"\",IF(ISERROR(IF(AX35<Saisies!$B$7,\"\",AZ35)*BF35),IF(AX35<Saisies!$B$7,\"\",AZ35),\"\")))*(IF(ISERROR(BG35+1),0,BG35))*BH35*BI35*BJ35),\"\",(IF(AX35>Saisies!$C$7,\"\",IF(ISERROR(IF(AX35<Saisies!$B$7,\"\",AZ35)*BF35),IF(AX35<Saisies!$B$7,\"\",AZ35),\"\")))*(IF(ISERROR(BG35+1),0,BG35))*BH35*BI35*BJ35)","v":""},"",1,{"$f":"IF(AX35>Saisies!$C$25,1,(IF(AX35<Saisies!$B$25,1,IF(Saisies!$B$25=0,1,0))))","v":1},{"$f":"IF(AX35>Saisies!$E$25,1,(IF(AX35<Saisies!$D$25,1,IF(Saisies!$D$25=0,1,0))))","v":1},{"$f":"IF(AX35>Saisies!$G$25,1,(IF(AX35<Saisies!$F$25,1,IF(Saisies!$F$25<10,1,0))))","v":1},{"$f":"IF(AX35>Saisies!$C$10,\"\",(IF(AX35<Saisies!$B$10,\"\",BA35)))","v":""},{"$f":"IF(AX35>Saisies!$E$10,\"\",(IF(AX35<Saisies!$D$10,\"\",BA35)))","v":""},{"$f":"IF(AX35>Saisies!$G$10,\"\",(IF(AX35<Saisies!$F$10,\"\",BA35)))","v":""},"2016-05-23","L",7,7,0,{"$f":"IF(MAX(BR35,(BR34+BP35))>=Saisies!$E$4,(IF(BR34<=Saisies!$E$4,BN35,BS34)),0)","v":0},{"$f":"IF(BN35=Saisies!$C$7,MIN((ABS(Saisies!$E$4-BR34)),BU35),BU35)","v":""},{"$f":"IF(ISERROR((IF(BN35>Saisies!$C$7,\"\",IF(ISERROR(IF(BN35<Saisies!$B$7,\"\",BP35)*BV35),IF(BN35<Saisies!$B$7,\"\",BP35),\"\")))*(IF(ISERROR(BW35+1),0,BW35))*BX35*BY35*BZ35),\"\",(IF(BN35>Saisies!$C$7,\"\",IF(ISERROR(IF(BN35<Saisies!$B$7,\"\",BP35)*BV35),IF(BN35<Saisies!$B$7,\"\",BP35),\"\")))*(IF(ISERROR(BW35+1),0,BW35))*BX35*BY35*BZ35)","v":""},"",1,{"$f":"IF(BN35>Saisies!$C$25,1,(IF(BN35<Saisies!$B$25,1,IF(Saisies!$B$25=0,1,0))))","v":1},{"$f":"IF(BN35>Saisies!$E$25,1,(IF(BN35<Saisies!$D$25,1,IF(Saisies!$D$25=0,1,0))))","v":1},{"$f":"IF(BN35>Saisies!$G$25,1,(IF(BN35<Saisies!$F$25,1,IF(Saisies!$F$25<10,1,0))))","v":1},{"$f":"IF(BN35>Saisies!$C$10,\"\",(IF(BN35<Saisies!$B$10,\"\",BQ35)))","v":""},{"$f":"IF(BN35>Saisies!$E$10,\"\",(IF(BN35<Saisies!$D$10,\"\",BQ35)))","v":""},{"$f":"IF(BN35>Saisies!$G$10,\"\",(IF(BN35<Saisies!$F$10,\"\",BQ35)))","v":""},"2016-06-23","J",8,7,121,{"$f":"IF(MAX(CH35,(CH34+CF35))>=Saisies!$E$4,(IF(CH34<=Saisies!$E$4,CD35,CI34)),0)","v":0},{"$f":"IF(CD35=Saisies!$C$7,MIN((ABS(Saisies!$E$4-CH34)),CK35),CK35)","v":8},{"$f":"IF(ISERROR((IF(CD35>Saisies!$C$7,\"\",IF(ISERROR(IF(CD35<Saisies!$B$7,\"\",CF35)*CL35),IF(CD35<Saisies!$B$7,\"\",CF35),\"\")))*(IF(ISERROR(CM35+1),0,CM35))*CN35*CO35*CP35),\"\",(IF(CD35>Saisies!$C$7,\"\",IF(ISERROR(IF(CD35<Saisies!$B$7,\"\",CF35)*CL35),IF(CD35<Saisies!$B$7,\"\",CF35),\"\")))*(IF(ISERROR(CM35+1),0,CM35))*CN35*CO35*CP35)","v":8},"",1,{"$f":"IF(CD35>Saisies!$C$25,1,(IF(CD35<Saisies!$B$25,1,IF(Saisies!$B$25=0,1,0))))","v":1},{"$f":"IF(CD35>Saisies!$E$25,1,(IF(CD35<Saisies!$D$25,1,IF(Saisies!$D$25=0,1,0))))","v":1},{"$f":"IF(CD35>Saisies!$G$25,1,(IF(CD35<Saisies!$F$25,1,IF(Saisies!$F$25<10,1,0))))","v":1},{"$f":"IF(CD35>Saisies!$C$10,\"\",(IF(CD35<Saisies!$B$10,\"\",CG35)))","v":""},{"$f":"IF(CD35>Saisies!$E$10,\"\",(IF(CD35<Saisies!$D$10,\"\",CG35)))","v":""},{"$f":"IF(CD35>Saisies!$G$10,\"\",(IF(CD35<Saisies!$F$10,\"\",CG35)))","v":""},"2016-07-23","S",0,0,251,{"$f":"IF(MAX(CX35,(CX34+CV35))>=Saisies!$E$4,(IF(CX34<=Saisies!$E$4,CT35,CY34)),0)","v":0},{"$f":"IF(CT35=Saisies!$C$7,MIN((ABS(Saisies!$E$4-CX34)),DA35),DA35)","v":0},{"$f":"IF(ISERROR((IF(CT35>Saisies!$C$7,\"\",IF(ISERROR(IF(CT35<Saisies!$B$7,\"\",CV35)*DB35),IF(CT35<Saisies!$B$7,\"\",CV35),\"\")))*(IF(ISERROR(DC35+1),0,DC35))*DD35*DE35*DF35),\"\",(IF(CT35>Saisies!$C$7,\"\",IF(ISERROR(IF(CT35<Saisies!$B$7,\"\",CV35)*DB35),IF(CT35<Saisies!$B$7,\"\",CV35),\"\")))*(IF(ISERROR(DC35+1),0,DC35))*DD35*DE35*DF35)","v":0},"",1,{"$f":"IF(CT35>Saisies!$C$25,1,(IF(CT35<Saisies!$B$25,1,IF(Saisies!$B$25=0,1,0))))","v":1},{"$f":"IF(CT35>Saisies!$E$25,1,(IF(CT35<Saisies!$D$25,1,IF(Saisies!$D$25=0,1,0))))","v":1},{"$f":"IF(CT35>Saisies!$G$25,1,(IF(CT35<Saisies!$F$25,1,IF(Saisies!$F$25<10,1,0))))","v":1},{"$f":"IF(CT35>Saisies!$C$10,\"\",(IF(CT35<Saisies!$B$10,\"\",CW35)))","v":""},{"$f":"IF(CT35>Saisies!$E$10,\"\",(IF(CT35<Saisies!$D$10,\"\",CW35)))","v":""},{"$f":"IF(CT35>Saisies!$G$10,\"\",(IF(CT35<Saisies!$F$10,\"\",CW35)))","v":""},"2016-08-23","M",8,7,402,{"$f":"IF(DN35>=Saisies!$E$4,(IF(DO34<=Saisies!$E$4,DJ35,DO34)),0)","v":0},{"$f":"IF(DJ35=Saisies!$C$7,MIN((ABS(Saisies!$E$4-DN34)),DQ35),DQ35)","v":8},{"$f":"IF(ISERROR((IF(DJ35>Saisies!$C$7,\"\",IF(ISERROR(IF(DJ35<Saisies!$B$7,\"\",DL35)*DR35),IF(DJ35<Saisies!$B$7,\"\",DL35),\"\")))*(IF(ISERROR(DS35+1),0,DS35))*DT35*DU35*DV35),\"\",(IF(DJ35>Saisies!$C$7,\"\",IF(ISERROR(IF(DJ35<Saisies!$B$7,\"\",DL35)*DR35),IF(DJ35<Saisies!$B$7,\"\",DL35),\"\")))*(IF(ISERROR(DS35+1),0,DS35))*DT35*DU35*DV35)","v":8},"",1,{"$f":"IF(DJ35>Saisies!$C$25,1,(IF(DJ35<Saisies!$B$25,1,IF(Saisies!$B$25=0,1,0))))","v":1},{"$f":"IF(DJ35>Saisies!$E$25,1,(IF(DJ35<Saisies!$D$25,1,IF(Saisies!$D$25=0,1,0))))","v":1},{"$f":"IF(DJ35>Saisies!$G$25,1,(IF(DJ35<Saisies!$F$25,1,IF(Saisies!$F$25<10,1,0))))","v":1},{"$f":"IF(DJ35>Saisies!$C$10,\"\",(IF(DJ35<Saisies!$B$10,\"\",DM35)))","v":""},{"$f":"IF(DJ35>Saisies!$E$10,\"\",(IF(DJ35<Saisies!$D$10,\"\",DM35)))","v":""},{"$f":"IF(DJ35>Saisies!$G$10,\"\",(IF(DJ35<Saisies!$F$10,\"\",DM35)))","v":""},"2016-09-23","V",4,7,492,{"$f":"IF(ED35>=Saisies!$E$4,(IF(EE34<=Saisies!$E$4,DZ35,EE34)),0)","v":42622},{"$f":"IF(DZ35=Saisies!$C$7,MIN((ABS(Saisies!$E$4-ED34)),EG35),EG35)","v":""},{"$f":"IF(ISERROR((IF(DZ35>Saisies!$C$7,\"\",IF(ISERROR(IF(DZ35<Saisies!$B$7,\"\",EB35)*EH35),IF(DZ35<Saisies!$B$7,\"\",EB35),\"\")))*(IF(ISERROR(EI35+1),0,EI35))*EJ35*EK35*EL35),\"\",(IF(DZ35>Saisies!$C$7,\"\",IF(ISERROR(IF(DZ35<Saisies!$B$7,\"\",EB35)*EH35),IF(DZ35<Saisies!$B$7,\"\",EB35),\"\")))*(IF(ISERROR(EI35+1),0,EI35))*EJ35*EK35*EL35)","v":""},"",1,{"$f":"IF(DZ35>Saisies!$C$25,1,(IF(DZ35<Saisies!$B$25,1,IF(Saisies!$B$25=0,1,0))))","v":1},{"$f":"IF(DZ35>Saisies!$E$25,1,(IF(DZ35<Saisies!$D$25,1,IF(Saisies!$D$25=0,1,0))))","v":1},{"$f":"IF(DZ35>Saisies!$G$25,1,(IF(DZ35<Saisies!$F$25,1,IF(Saisies!$F$25<10,1,0))))","v":1},{"$f":"IF(DZ35>Saisies!$C$10,\"\",(IF(DZ35<Saisies!$B$10,\"\",EC35)))","v":""},{"$f":"IF(DZ35>Saisies!$E$10,\"\",(IF(DZ35<Saisies!$D$10,\"\",EC35)))","v":""},{"$f":"IF(DZ35>Saisies!$G$10,\"\",(IF(DZ35<Saisies!$F$10,\"\",EC35)))","v":""},"2016-10-23","D",0,0,492,{"$f":"IF(ET35>=Saisies!$E$4,(IF(EU34<=Saisies!$E$4,EP35,EU34)),0)","v":42622},{"$f":"IF(EP35=Saisies!$C$7,MIN((ABS(Saisies!$E$4-ET34)),EW35),EW35)","v":""},{"$f":"IF(ISERROR((IF(EP35>Saisies!$C$7,\"\",IF(ISERROR(IF(EP35<Saisies!$B$7,\"\",ER35)*EX35),IF(EP35<Saisies!$B$7,\"\",ER35),\"\")))*(IF(ISERROR(EY35+1),0,EY35))*EZ35*FA35*FB35),\"\",(IF(EP35>Saisies!$C$7,\"\",IF(ISERROR(IF(EP35<Saisies!$B$7,\"\",ER35)*EX35),IF(EP35<Saisies!$B$7,\"\",ER35),\"\")))*(IF(ISERROR(EY35+1),0,EY35))*EZ35*FA35*FB35)","v":""},"",1,{"$f":"IF(EP35>Saisies!$C$25,1,(IF(EP35<Saisies!$B$25,1,IF(Saisies!$B$25=0,1,0))))","v":1},{"$f":"IF(EP35>Saisies!$E$25,1,(IF(EP35<Saisies!$D$25,1,IF(Saisies!$D$25=0,1,0))))","v":1},{"$f":"IF(EP35>Saisies!$G$25,1,(IF(EP35<Saisies!$F$25,1,IF(Saisies!$F$25<10,1,0))))","v":1},{"$f":"IF(EP35>Saisies!$C$10,\"\",(IF(EP35<Saisies!$B$10,\"\",ES35)))","v":""},{"$f":"IF(EP35>Saisies!$E$10,\"\",(IF(EP35<Saisies!$D$10,\"\",ES35)))","v":""},{"$f":"IF(EP35>Saisies!$G$10,\"\",(IF(EP35<Saisies!$F$10,\"\",ES35)))","v":""},"2016-11-23","M",8,7,492,{"$f":"IF(FJ35>=Saisies!$E$4,(IF(FK34<=Saisies!$E$4,FF35,FK34)),0)","v":42622},{"$f":"IF(FF35=Saisies!$C$7,MIN((ABS(Saisies!$E$4-FJ34)),FM35),FM35)","v":""},{"$f":"IF(ISERROR((IF(FF35>Saisies!$C$7,\"\",IF(ISERROR(IF(FF35<Saisies!$B$7,\"\",FH35)*FN35),IF(FF35<Saisies!$B$7,\"\",FH35),\"\")))*(IF(ISERROR(FO35+1),0,FO35))*FP35*FQ35*FR35),\"\",(IF(FF35>Saisies!$C$7,\"\",IF(ISERROR(IF(FF35<Saisies!$B$7,\"\",FH35)*FN35),IF(FF35<Saisies!$B$7,\"\",FH35),\"\")))*(IF(ISERROR(FO35+1),0,FO35))*FP35*FQ35*FR35)","v":""},"",1,{"$f":"IF(FF35>Saisies!$C$25,1,(IF(FF35<Saisies!$B$25,1,IF(Saisies!$B$25=0,1,0))))","v":1},{"$f":"IF(FF35>Saisies!$E$25,1,(IF(FF35<Saisies!$D$25,1,IF(Saisies!$D$25=0,1,0))))","v":1},{"$f":"IF(FF35>Saisies!$G$25,1,(IF(FF35<Saisies!$F$25,1,IF(Saisies!$F$25<10,1,0))))","v":1},{"$f":"IF(FF35>Saisies!$C$10,\"\",(IF(FF35<Saisies!$B$10,\"\",FI35)))","v":""},{"$f":"IF(FF35>Saisies!$E$10,\"\",(IF(FF35<Saisies!$D$10,\"\",FI35)))","v":""},{"$f":"IF(FF35>Saisies!$G$10,\"\",(IF(FF35<Saisies!$F$10,\"\",FI35)))","v":""},"2016-12-23","V",4,7,492,{"$f":"IF(FZ35>=Saisies!$E$4,(IF(GA34<=Saisies!$E$4,FV35,GA34)),0)","v":42622},{"$f":"IF(FV35=Saisies!$C$7,MIN((ABS(Saisies!$E$4-FZ34)),GC35),GC35)","v":""},{"$f":"IF(ISERROR((IF(FV35>Saisies!$C$7,\"\",IF(ISERROR(IF(FV35<Saisies!$B$7,\"\",FX35)*GD35),IF(FV35<Saisies!$B$7,\"\",FX35),\"\")))*(IF(ISERROR(GE35+1),0,GE35))*GF35*GG35*GH35),\"\",(IF(FV35>Saisies!$C$7,\"\",IF(ISERROR(IF(FV35<Saisies!$B$7,\"\",FX35)*GD35),IF(FV35<Saisies!$B$7,\"\",FX35),\"\")))*(IF(ISERROR(GE35+1),0,GE35))*GF35*GG35*GH35)","v":""},"",1,{"$f":"IF(FV35>Saisies!$C$25,1,(IF(FV35<Saisies!$B$25,1,IF(Saisies!$B$25=0,1,0))))","v":1},{"$f":"IF(FV35>Saisies!$E$25,1,(IF(FV35<Saisies!$D$25,1,IF(Saisies!$D$25=0,1,0))))","v":1},{"$f":"IF(FV35>Saisies!$G$25,1,(IF(FV35<Saisies!$F$25,1,IF(Saisies!$F$25<10,1,0))))","v":1},{"$f":"IF(FV35>Saisies!$C$10,\"\",(IF(FV35<Saisies!$B$10,\"\",FY35)))","v":""},{"$f":"IF(FV35>Saisies!$E$10,\"\",(IF(FV35<Saisies!$D$10,\"\",FY35)))","v":""},{"$f":"IF(FV35>Saisies!$G$10,\"\",(IF(FV35<Saisies!$F$10,\"\",FY35)))","v":""},null,null,1]
[null,"2016-01-24","D",0,0,0,{"$f":"IF(MAX(F36,(F35+D36))>=Saisies!$E$4,(IF(F35<=Saisies!$E$4,B36,G35)),0)","v":0},{"$f":"IF(B36=Saisies!$C$7,MIN((ABS(Saisies!$E$4-F35)),I36),I36)","v":""},{"$f":"IF(ISERROR((IF(B36>Saisies!$C$7,\"\",IF(ISERROR(IF(B36<Saisies!$B$7,\"\",D36)*J36),IF(B36<Saisies!$B$7,\"\",D36),\"\")))*(IF(ISERROR(K36+1),0,K36))*L36*M36*N36),\"\",(IF(B36>Saisies!$C$7,\"\",IF(ISERROR(IF(B36<Saisies!$B$7,\"\",D36)*J36),IF(B36<Saisies!$B$7,\"\",D36),\"\")))*(IF(ISERROR(K36+1),0,K36))*L36*M36*N36)","v":""},"",1,{"$f":"IF(B36>Saisies!$C$25,1,(IF(B36<Saisies!$B$25,1,IF(Saisies!$B$25=0,1,0))))","v":1},{"$f":"IF(B36>Saisies!$E$25,1,(IF(B36<Saisies!$D$25,1,IF(Saisies!$D$25=0,1,0))))","v":1},{"$f":"IF(B36>Saisies!$G$25,1,(IF(B36<Saisies!$F$25,1,IF(Saisies!$F$25<10,1,0))))","v":1},{"$f":"IF(B36>Saisies!$C$10,\"\",(IF(B36<Saisies!$B$10,\"\",E36)))","v":""},{"$f":"IF(B36>Saisies!$E$10,\"\",(IF(B36<Saisies!$D$10,\"\",E36)))","v":""},{"$f":"IF(B36>Saisies!$G$10,\"\",(IF(B36<Saisies!$F$10,\"\",E36)))","v":""},"2016-02-24","M",8,7,0,{"$f":"IF(MAX(V36,(V35+T36))>=Saisies!$E$4,(IF(V35<=Saisies!$E$4,R36,W35)),0)","v":0},{"$f":"IF(R36=Saisies!$C$7,MIN((ABS(Saisies!$E$4-V35)),Y36),Y36)","v":""},{"$f":"IF(ISERROR((IF(R36>Saisies!$C$7,\"\",IF(ISERROR(IF(R36<Saisies!$B$7,\"\",T36)*Z36),IF(R36<Saisies!$B$7,\"\",T36),\"\")))*(IF(ISERROR(AA36+1),0,AA36))*AB36*AC36*AD36),\"\",(IF(R36>Saisies!$C$7,\"\",IF(ISERROR(IF(R36<Saisies!$B$7,\"\",T36)*Z36),IF(R36<Saisies!$B$7,\"\",T36),\"\")))*(IF(ISERROR(AA36+1),0,AA36))*AB36*AC36*AD36)","v":""},"",1,{"$f":"IF(R36>Saisies!$C$25,1,(IF(R36<Saisies!$B$25,1,IF(Saisies!$B$25=0,1,0))))","v":1},{"$f":"IF(R36>Saisies!$E$25,1,(IF(R36<Saisies!$D$25,1,IF(Saisies!$D$25=0,1,0))))","v":1},{"$f":"IF(R36>Saisies!$G$25,1,(IF(R36<Saisies!$F$25,1,IF(Saisies!$F$25<10,1,0))))","v":1},{"$f":"IF(R36>Saisies!$C$10,\"\",(IF(R36<Saisies!$B$10,\"\",U36)))","v":""},{"$f":"IF(R36>Saisies!$E$10,\"\",(IF(R36<Saisies!$D$10,\"\",U36)))","v":""},{"$f":"IF(R36>Saisies!$G$10,\"\",(IF(R36<Saisies!$F$10,\"\",U36)))","v":""},"2016-03-24","J",8,7,0,{"$f":"IF(MAX(AL36,(AL35+AJ36))>=Saisies!$E$4,(IF(AL35<=Saisies!$E$4,AH36,AM35)),0)","v":0},{"$f":"IF(AH36=Saisies!$C$7,MIN((ABS(Saisies!$E$4-AL35)),AO36),AO36)","v":""},{"$f":"IF(ISERROR((IF(AH36>Saisies!$C$7,\"\",IF(ISERROR(IF(AH36<Saisies!$B$7,\"\",AJ36)*AP36),IF(AH36<Saisies!$B$7,\"\",AJ36),\"\")))*(IF(ISERROR(AQ36+1),0,AQ36))*AR36*AS36*AT36),\"\",(IF(AH36>Saisies!$C$7,\"\",IF(ISERROR(IF(AH36<Saisies!$B$7,\"\",AJ36)*AP36),IF(AH36<Saisies!$B$7,\"\",AJ36),\"\")))*(IF(ISERROR(AQ36+1),0,AQ36))*AR36*AS36*AT36)","v":""},"",1,{"$f":"IF(AH36>Saisies!$C$25,1,(IF(AH36<Saisies!$B$25,1,IF(Saisies!$B$25=0,1,0))))","v":1},{"$f":"IF(AH36>Saisies!$E$25,1,(IF(AH36<Saisies!$D$25,1,IF(Saisies!$D$25=0,1,0))))","v":1},{"$f":"IF(AH36>Saisies!$G$25,1,(IF(AH36<Saisies!$F$25,1,IF(Saisies!$F$25<10,1,0))))","v":1},{"$f":"IF(AH36>Saisies!$C$10,\"\",(IF(AH36<Saisies!$B$10,\"\",AK36)))","v":""},{"$f":"IF(AH36>Saisies!$E$10,\"\",(IF(AH36<Saisies!$D$10,\"\",AK36)))","v":""},{"$f":"IF(AH36>Saisies!$G$10,\"\",(IF(AH36<Saisies!$F$10,\"\",AK36)))","v":""},"2016-04-24","D",0,0,0,{"$f":"IF(BB36>=Saisies!$E$4,(IF(BC35<=Saisies!$E$4,AX36,BC35)),0)","v":0},{"$f":"IF(AX36=Saisies!$C$7,MIN((ABS(Saisies!$E$4-BB35)),BE36),BE36)","v":""},{"$f":"IF(ISERROR((IF(AX36>Saisies!$C$7,\"\",IF(ISERROR(IF(AX36<Saisies!$B$7,\"\",AZ36)*BF36),IF(AX36<Saisies!$B$7,\"\",AZ36),\"\")))*(IF(ISERROR(BG36+1),0,BG36))*BH36*BI36*BJ36),\"\",(IF(AX36>Saisies!$C$7,\"\",IF(ISERROR(IF(AX36<Saisies!$B$7,\"\",AZ36)*BF36),IF(AX36<Saisies!$B$7,\"\",AZ36),\"\")))*(IF(ISERROR(BG36+1),0,BG36))*BH36*BI36*BJ36)","v":""},"",1,{"$f":"IF(AX36>Saisies!$C$25,1,(IF(AX36<Saisies!$B$25,1,IF(Saisies!$B$25=0,1,0))))","v":1},{"$f":"IF(AX36>Saisies!$E$25,1,(IF(AX36<Saisies!$D$25,1,IF(Saisies!$D$25=0,1,0))))","v":1},{"$f":"IF(AX36>Saisies!$G$25,1,(IF(AX36<Saisies!$F$25,1,IF(Saisies!$F$25<10,1,0))))","v":1},{"$f":"IF(AX36>Saisies!$C$10,\"\",(IF(AX36<Saisies!$B$10,\"\",BA36)))","v":""},{"$f":"IF(AX36>Saisies!$E$10,\"\",(IF(AX36<Saisies!$D$10,\"\",BA36)))","v":""},{"$f":"IF(AX36>Saisies!$G$10,\"\",(IF(AX36<Saisies!$F$10,\"\",BA36)))","v":""},"2016-05-24","M",8,7,0,{"$f":"IF(MAX(BR36,(BR35+BP36))>=Saisies!$E$4,(IF(BR35<=Saisies!$E$4,BN36,BS35)),0)","v":0},{"$f":"IF(BN36=Saisies!$C$7,MIN((ABS(Saisies!$E$4-BR35)),BU36),BU36)","v":""},{"$f":"IF(ISERROR((IF(BN36>Saisies!$C$7,\"\",IF(ISERROR(IF(BN36<Saisies!$B$7,\"\",BP36)*BV36),IF(BN36<Saisies!$B$7,\"\",BP36),\"\")))*(IF(ISERROR(BW36+1),0,BW36))*BX36*BY36*BZ36),\"\",(IF(BN36>Saisies!$C$7,\"\",IF(ISERROR(IF(BN36<Saisies!$B$7,\"\",BP36)*BV36),IF(BN36<Saisies!$B$7,\"\",BP36),\"\")))*(IF(ISERROR(BW36+1),0,BW36))*BX36*BY36*BZ36)","v":""},"",1,{"$f":"IF(BN36>Saisies!$C$25,1,(IF(BN36<Saisies!$B$25,1,IF(Saisies!$B$25=0,1,0))))","v":1},{"$f":"IF(BN36>Saisies!$E$25,1,(IF(BN36<Saisies!$D$25,1,IF(Saisies!$D$25=0,1,0))))","v":1},{"$f":"IF(BN36>Saisies!$G$25,1,(IF(BN36<Saisies!$F$25,1,IF(Saisies!$F$25<10,1,0))))","v":1},{"$f":"IF(BN36>Saisies!$C$10,\"\",(IF(BN36<Saisies!$B$10,\"\",BQ36)))","v":""},{"$f":"IF(BN36>Saisies!$E$10,\"\",(IF(BN36<Saisies!$D$10,\"\",BQ36)))","v":""},{"$f":"IF(BN36>Saisies!$G$10,\"\",(IF(BN36<Saisies!$F$10,\"\",BQ36)))","v":""},"2016-06-24","V",4,7,125,{"$f":"IF(MAX(CH36,(CH35+CF36))>=Saisies!$E$4,(IF(CH35<=Saisies!$E$4,CD36,CI35)),0)","v":0},{"$f":"IF(CD36=Saisies!$C$7,MIN((ABS(Saisies!$E$4-CH35)),CK36),CK36)","v":4},{"$f":"IF(ISERROR((IF(CD36>Saisies!$C$7,\"\",IF(ISERROR(IF(CD36<Saisies!$B$7,\"\",CF36)*CL36),IF(CD36<Saisies!$B$7,\"\",CF36),\"\")))*(IF(ISERROR(CM36+1),0,CM36))*CN36*CO36*CP36),\"\",(IF(CD36>Saisies!$C$7,\"\",IF(ISERROR(IF(CD36<Saisies!$B$7,\"\",CF36)*CL36),IF(CD36<Saisies!$B$7,\"\",CF36),\"\")))*(IF(ISERROR(CM36+1),0,CM36))*CN36*CO36*CP36)","v":4},"",1,{"$f":"IF(CD36>Saisies!$C$25,1,(IF(CD36<Saisies!$B$25,1,IF(Saisies!$B$25=0,1,0))))","v":1},{"$f":"IF(CD36>Saisies!$E$25,1,(IF(CD36<Saisies!$D$25,1,IF(Saisies!$D$25=0,1,0))))","v":1},{"$f":"IF(CD36>Saisies!$G$25,1,(IF(CD36<Saisies!$F$25,1,IF(Saisies!$F$25<10,1,0))))","v":1},{"$f":"IF(CD36>Saisies!$C$10,\"\",(IF(CD36<Saisies!$B$10,\"\",CG36)))","v":""},{"$f":"IF(CD36>Saisies!$E$10,\"\",(IF(CD36<Saisies!$D$10,\"\",CG36)))","v":""},{"$f":"IF(CD36>Saisies!$G$10,\"\",(IF(CD36<Saisies!$F$10,\"\",CG36)))","v":""},"2016-07-24","D",0,0,251,{"$f":"IF(MAX(CX36,(CX35+CV36))>=Saisies!$E$4,(IF(CX35<=Saisies!$E$4,CT36,CY35)),0)","v":0},{"$f":"IF(CT36=Saisies!$C$7,MIN((ABS(Saisies!$E$4-CX35)),DA36),DA36)","v":0},{"$f":"IF(ISERROR((IF(CT36>Saisies!$C$7,\"\",IF(ISERROR(IF(CT36<Saisies!$B$7,\"\",CV36)*DB36),IF(CT36<Saisies!$B$7,\"\",CV36),\"\")))*(IF(ISERROR(DC36+1),0,DC36))*DD36*DE36*DF36),\"\",(IF(CT36>Saisies!$C$7,\"\",IF(ISERROR(IF(CT36<Saisies!$B$7,\"\",CV36)*DB36),IF(CT36<Saisies!$B$7,\"\",CV36),\"\")))*(IF(ISERROR(DC36+1),0,DC36))*DD36*DE36*DF36)","v":0},"",1,{"$f":"IF(CT36>Saisies!$C$25,1,(IF(CT36<Saisies!$B$25,1,IF(Saisies!$B$25=0,1,0))))","v":1},{"$f":"IF(CT36>Saisies!$E$25,1,(IF(CT36<Saisies!$D$25,1,IF(Saisies!$D$25=0,1,0))))","v":1},{"$f":"IF(CT36>Saisies!$G$25,1,(IF(CT36<Saisies!$F$25,1,IF(Saisies!$F$25<10,1,0))))","v":1},{"$f":"IF(CT36>Saisies!$C$10,\"\",(IF(CT36<Saisies!$B$10,\"\",CW36)))","v":""},{"$f":"IF(CT36>Saisies!$E$10,\"\",(IF(CT36<Saisies!$D$10,\"\",CW36)))","v":""},{"$f":"IF(CT36>Saisies!$G$10,\"\",(IF(CT36<Saisies!$F$10,\"\",CW36)))","v":""},"2016-08-24","M",8,7,410,{"$f":"IF(DN36>=Saisies!$E$4,(IF(DO35<=Saisies!$E$4,DJ36,DO35)),0)","v":0},{"$f":"IF(DJ36=Saisies!$C$7,MIN((ABS(Saisies!$E$4-DN35)),DQ36),DQ36)","v":8},{"$f":"IF(ISERROR((IF(DJ36>Saisies!$C$7,\"\",IF(ISERROR(IF(DJ36<Saisies!$B$7,\"\",DL36)*DR36),IF(DJ36<Saisies!$B$7,\"\",DL36),\"\")))*(IF(ISERROR(DS36+1),0,DS36))*DT36*DU36*DV36),\"\",(IF(DJ36>Saisies!$C$7,\"\",IF(ISERROR(IF(DJ36<Saisies!$B$7,\"\",DL36)*DR36),IF(DJ36<Saisies!$B$7,\"\",DL36),\"\")))*(IF(ISERROR(DS36+1),0,DS36))*DT36*DU36*DV36)","v":8},"",1,{"$f":"IF(DJ36>Saisies!$C$25,1,(IF(DJ36<Saisies!$B$25,1,IF(Saisies!$B$25=0,1,0))))","v":1},{"$f":"IF(DJ36>Saisies!$E$25,1,(IF(DJ36<Saisies!$D$25,1,IF(Saisies!$D$25=0,1,0))))","v":1},{"$f":"IF(DJ36>Saisies!$G$25,1,(IF(DJ36<Saisies!$F$25,1,IF(Saisies!$F$25<10,1,0))))","v":1},{"$f":"IF(DJ36>Saisies!$C$10,\"\",(IF(DJ36<Saisies!$B$10,\"\",DM36)))","v":""},{"$f":"IF(DJ36>Saisies!$E$10,\"\",(IF(DJ36<Saisies!$D$10,\"\",DM36)))","v":""},{"$f":"IF(DJ36>Saisies!$G$10,\"\",(IF(DJ36<Saisies!$F$10,\"\",DM36)))","v":""},"2016-09-24","S",0,0,492,{"$f":"IF(ED36>=Saisies!$E$4,(IF(EE35<=Saisies!$E$4,DZ36,EE35)),0)","v":42622},{"$f":"IF(DZ36=Saisies!$C$7,MIN((ABS(Saisies!$E$4-ED35)),EG36),EG36)","v":""},{"$f":"IF(ISERROR((IF(DZ36>Saisies!$C$7,\"\",IF(ISERROR(IF(DZ36<Saisies!$B$7,\"\",EB36)*EH36),IF(DZ36<Saisies!$B$7,\"\",EB36),\"\")))*(IF(ISERROR(EI36+1),0,EI36))*EJ36*EK36*EL36),\"\",(IF(DZ36>Saisies!$C$7,\"\",IF(ISERROR(IF(DZ36<Saisies!$B$7,\"\",EB36)*EH36),IF(DZ36<Saisies!$B$7,\"\",EB36),\"\")))*(IF(ISERROR(EI36+1),0,EI36))*EJ36*EK36*EL36)","v":""},"",1,{"$f":"IF(DZ36>Saisies!$C$25,1,(IF(DZ36<Saisies!$B$25,1,IF(Saisies!$B$25=0,1,0))))","v":1},{"$f":"IF(DZ36>Saisies!$E$25,1,(IF(DZ36<Saisies!$D$25,1,IF(Saisies!$D$25=0,1,0))))","v":1},{"$f":"IF(DZ36>Saisies!$G$25,1,(IF(DZ36<Saisies!$F$25,1,IF(Saisies!$F$25<10,1,0))))","v":1},{"$f":"IF(DZ36>Saisies!$C$10,\"\",(IF(DZ36<Saisies!$B$10,\"\",EC36)))","v":""},{"$f":"IF(DZ36>Saisies!$E$10,\"\",(IF(DZ36<Saisies!$D$10,\"\",EC36)))","v":""},{"$f":"IF(DZ36>Saisies!$G$10,\"\",(IF(DZ36<Saisies!$F$10,\"\",EC36)))","v":""},"2016-10-24","L",7,7,492,{"$f":"IF(ET36>=Saisies!$E$4,(IF(EU35<=Saisies!$E$4,EP36,EU35)),0)","v":42622},{"$f":"IF(EP36=Saisies!$C$7,MIN((ABS(Saisies!$E$4-ET35)),EW36),EW36)","v":""},{"$f":"IF(ISERROR((IF(EP36>Saisies!$C$7,\"\",IF(ISERROR(IF(EP36<Saisies!$B$7,\"\",ER36)*EX36),IF(EP36<Saisies!$B$7,\"\",ER36),\"\")))*(IF(ISERROR(EY36+1),0,EY36))*EZ36*FA36*FB36),\"\",(IF(EP36>Saisies!$C$7,\"\",IF(ISERROR(IF(EP36<Saisies!$B$7,\"\",ER36)*EX36),IF(EP36<Saisies!$B$7,\"\",ER36),\"\")))*(IF(ISERROR(EY36+1),0,EY36))*EZ36*FA36*FB36)","v":""},"",1,{"$f":"IF(EP36>Saisies!$C$25,1,(IF(EP36<Saisies!$B$25,1,IF(Saisies!$B$25=0,1,0))))","v":1},{"$f":"IF(EP36>Saisies!$E$25,1,(IF(EP36<Saisies!$D$25,1,IF(Saisies!$D$25=0,1,0))))","v":1},{"$f":"IF(EP36>Saisies!$G$25,1,(IF(EP36<Saisies!$F$25,1,IF(Saisies!$F$25<10,1,0))))","v":1},{"$f":"IF(EP36>Saisies!$C$10,\"\",(IF(EP36<Saisies!$B$10,\"\",ES36)))","v":""},{"$f":"IF(EP36>Saisies!$E$10,\"\",(IF(EP36<Saisies!$D$10,\"\",ES36)))","v":""},{"$f":"IF(EP36>Saisies!$G$10,\"\",(IF(EP36<Saisies!$F$10,\"\",ES36)))","v":""},"2016-11-24","J",8,7,492,{"$f":"IF(FJ36>=Saisies!$E$4,(IF(FK35<=Saisies!$E$4,FF36,FK35)),0)","v":42622},{"$f":"IF(FF36=Saisies!$C$7,MIN((ABS(Saisies!$E$4-FJ35)),FM36),FM36)","v":""},{"$f":"IF(ISERROR((IF(FF36>Saisies!$C$7,\"\",IF(ISERROR(IF(FF36<Saisies!$B$7,\"\",FH36)*FN36),IF(FF36<Saisies!$B$7,\"\",FH36),\"\")))*(IF(ISERROR(FO36+1),0,FO36))*FP36*FQ36*FR36),\"\",(IF(FF36>Saisies!$C$7,\"\",IF(ISERROR(IF(FF36<Saisies!$B$7,\"\",FH36)*FN36),IF(FF36<Saisies!$B$7,\"\",FH36),\"\")))*(IF(ISERROR(FO36+1),0,FO36))*FP36*FQ36*FR36)","v":""},"",1,{"$f":"IF(FF36>Saisies!$C$25,1,(IF(FF36<Saisies!$B$25,1,IF(Saisies!$B$25=0,1,0))))","v":1},{"$f":"IF(FF36>Saisies!$E$25,1,(IF(FF36<Saisies!$D$25,1,IF(Saisies!$D$25=0,1,0))))","v":1},{"$f":"IF(FF36>Saisies!$G$25,1,(IF(FF36<Saisies!$F$25,1,IF(Saisies!$F$25<10,1,0))))","v":1},{"$f":"IF(FF36>Saisies!$C$10,\"\",(IF(FF36<Saisies!$B$10,\"\",FI36)))","v":""},{"$f":"IF(FF36>Saisies!$E$10,\"\",(IF(FF36<Saisies!$D$10,\"\",FI36)))","v":""},{"$f":"IF(FF36>Saisies!$G$10,\"\",(IF(FF36<Saisies!$F$10,\"\",FI36)))","v":""},"2016-12-24","S",0,0,{"$f":"IF(ISNUMBER(GC36),GB36,0)+IF(ISNUMBER(GD36),GD36,0)+FZ35","v":492},{"$f":"IF(FZ36>=Saisies!$E$4,(IF(GA35<=Saisies!$E$4,FV36,GA35)),0)","v":42622},{"$f":"IF(GD36=\"\",IF(ISERROR(GM36+1),\"\",MIN(GM36,Saisies!$C$26)),\"\")","v":""},{"$f":"IF(ISERROR((IF(FV36>Saisies!$C$7,\"\",IF(ISERROR(IF(FV36<Saisies!$B$7,\"\",FX36)*GD36),IF(FV36<Saisies!$B$7,\"\",FX36),\"\")))*(IF(ISERROR(GE36+1),0,GE36))*GF36*GG36*GH36),\"\",(IF(FV36>Saisies!$C$7,\"\",IF(ISERROR(IF(FV36<Saisies!$B$7,\"\",FX36)*GD36),IF(FV36<Saisies!$B$7,\"\",FX36),\"\")))*(IF(ISERROR(GE36+1),0,GE36))*GF36*GG36*GH36)","v":""},"",{"$f":"IF(ISERROR(IF(IF(ISERROR(VLOOKUP(FV36,Champs,2,FALSE)),1,0)=0,LOOKUP(FV36,general),1)),0,(IF(IF(ISERROR(VLOOKUP(FV36,Champs,2,FALSE)),1,0)=0,LOOKUP(FV36,general),1)))","v":1},{"$f":"IF(FV36>Saisies!$C$25,1,(IF(FV36<Saisies!$B$25,1,IF(Saisies!$B$25=0,1,0))))","v":1},{"$f":"IF(FV36>Saisies!$E$25,1,(IF(FV36<Saisies!$D$25,1,IF(Saisies!$D$25=0,1,0))))","v":1},{"$f":"IF(FV36>Saisies!$G$25,1,(IF(FV36<Saisies!$F$25,1,IF(Saisies!$F$25<10,1,0))))","v":1},{"$f":"IF(FV36>Saisies!$C$10,\"\",(IF(FV36<Saisies!$B$10,\"\",FY36)))","v":""},{"$f":"IF(FV36>Saisies!$E$10,\"\",(IF(FV36<Saisies!$D$10,\"\",FY36)))","v":""},{"$f":"IF(FV36>Saisies!$G$10,\"\",(IF(FV36<Saisies!$F$10,\"\",FY36)))","v":""},null,{"$f":"IF(IF(FV36=Saisies!$C$7,MIN((ABS(Saisies!$E$4-FZ35)),GC36),GC36)=0,0,\n(IF(IF(FV36=Saisies!$C$7,MIN((ABS(Saisies!$E$4-FZ35)),GC36),GC36)=\"\",\"\",\n(IF(FV36=Saisies!$C$7,MIN((ABS(Saisies!$E$4-FZ35)),GC36),GC36)))))","v":""},1]
[null,"2016-01-25","L",7,7,0,{"$f":"IF(MAX(F37,(F36+D37))>=Saisies!$E$4,(IF(F36<=Saisies!$E$4,B37,G36)),0)","v":0},{"$f":"IF(B37=Saisies!$C$7,MIN((ABS(Saisies!$E$4-F36)),I37),I37)","v":""},{"$f":"IF(ISERROR((IF(B37>Saisies!$C$7,\"\",IF(ISERROR(IF(B37<Saisies!$B$7,\"\",D37)*J37),IF(B37<Saisies!$B$7,\"\",D37),\"\")))*(IF(ISERROR(K37+1),0,K37))*L37*M37*N37),\"\",(IF(B37>Saisies!$C$7,\"\",IF(ISERROR(IF(B37<Saisies!$B$7,\"\",D37)*J37),IF(B37<Saisies!$B$7,\"\",D37),\"\")))*(IF(ISERROR(K37+1),0,K37))*L37*M37*N37)","v":""},"",1,{"$f":"IF(B37>Saisies!$C$25,1,(IF(B37<Saisies!$B$25,1,IF(Saisies!$B$25=0,1,0))))","v":1},{"$f":"IF(B37>Saisies!$E$25,1,(IF(B37<Saisies!$D$25,1,IF(Saisies!$D$25=0,1,0))))","v":1},{"$f":"IF(B37>Saisies!$G$25,1,(IF(B37<Saisies!$F$25,1,IF(Saisies!$F$25<10,1,0))))","v":1},{"$f":"IF(B37>Saisies!$C$10,\"\",(IF(B37<Saisies!$B$10,\"\",E37)))","v":""},{"$f":"IF(B37>Saisies!$E$10,\"\",(IF(B37<Saisies!$D$10,\"\",E37)))","v":""},{"$f":"IF(B37>Saisies!$G$10,\"\",(IF(B37<Saisies!$F$10,\"\",E37)))","v":""},"2016-02-25","J",8,7,0,{"$f":"IF(MAX(V37,(V36+T37))>=Saisies!$E$4,(IF(V36<=Saisies!$E$4,R37,W36)),0)","v":0},{"$f":"IF(R37=Saisies!$C$7,MIN((ABS(Saisies!$E$4-V36)),Y37),Y37)","v":""},{"$f":"IF(ISERROR((IF(R37>Saisies!$C$7,\"\",IF(ISERROR(IF(R37<Saisies!$B$7,\"\",T37)*Z37),IF(R37<Saisies!$B$7,\"\",T37),\"\")))*(IF(ISERROR(AA37+1),0,AA37))*AB37*AC37*AD37),\"\",(IF(R37>Saisies!$C$7,\"\",IF(ISERROR(IF(R37<Saisies!$B$7,\"\",T37)*Z37),IF(R37<Saisies!$B$7,\"\",T37),\"\")))*(IF(ISERROR(AA37+1),0,AA37))*AB37*AC37*AD37)","v":""},"",1,{"$f":"IF(R37>Saisies!$C$25,1,(IF(R37<Saisies!$B$25,1,IF(Saisies!$B$25=0,1,0))))","v":1},{"$f":"IF(R37>Saisies!$E$25,1,(IF(R37<Saisies!$D$25,1,IF(Saisies!$D$25=0,1,0))))","v":1},{"$f":"IF(R37>Saisies!$G$25,1,(IF(R37<Saisies!$F$25,1,IF(Saisies!$F$25<10,1,0))))","v":1},{"$f":"IF(R37>Saisies!$C$10,\"\",(IF(R37<Saisies!$B$10,\"\",U37)))","v":""},{"$f":"IF(R37>Saisies!$E$10,\"\",(IF(R37<Saisies!$D$10,\"\",U37)))","v":""},{"$f":"IF(R37>Saisies!$G$10,\"\",(IF(R37<Saisies!$F$10,\"\",U37)))","v":""},"2016-03-25","V",4,7,0,{"$f":"IF(MAX(AL37,(AL36+AJ37))>=Saisies!$E$4,(IF(AL36<=Saisies!$E$4,AH37,AM36)),0)","v":0},{"$f":"IF(AH37=Saisies!$C$7,MIN((ABS(Saisies!$E$4-AL36)),AO37),AO37)","v":""},{"$f":"IF(ISERROR((IF(AH37>Saisies!$C$7,\"\",IF(ISERROR(IF(AH37<Saisies!$B$7,\"\",AJ37)*AP37),IF(AH37<Saisies!$B$7,\"\",AJ37),\"\")))*(IF(ISERROR(AQ37+1),0,AQ37))*AR37*AS37*AT37),\"\",(IF(AH37>Saisies!$C$7,\"\",IF(ISERROR(IF(AH37<Saisies!$B$7,\"\",AJ37)*AP37),IF(AH37<Saisies!$B$7,\"\",AJ37),\"\")))*(IF(ISERROR(AQ37+1),0,AQ37))*AR37*AS37*AT37)","v":""},"","B",{"$f":"IF(AH37>Saisies!$C$25,1,(IF(AH37<Saisies!$B$25,1,IF(Saisies!$B$25=0,1,0))))","v":1},{"$f":"IF(AH37>Saisies!$E$25,1,(IF(AH37<Saisies!$D$25,1,IF(Saisies!$D$25=0,1,0))))","v":1},{"$f":"IF(AH37>Saisies!$G$25,1,(IF(AH37<Saisies!$F$25,1,IF(Saisies!$F$25<10,1,0))))","v":1},{"$f":"IF(AH37>Saisies!$C$10,\"\",(IF(AH37<Saisies!$B$10,\"\",AK37)))","v":""},{"$f":"IF(AH37>Saisies!$E$10,\"\",(IF(AH37<Saisies!$D$10,\"\",AK37)))","v":""},{"$f":"IF(AH37>Saisies!$G$10,\"\",(IF(AH37<Saisies!$F$10,\"\",AK37)))","v":""},"2016-04-25","L",7,7,0,{"$f":"IF(BB37>=Saisies!$E$4,(IF(BC36<=Saisies!$E$4,AX37,BC36)),0)","v":0},{"$f":"IF(AX37=Saisies!$C$7,MIN((ABS(Saisies!$E$4-BB36)),BE37),BE37)","v":""},{"$f":"IF(ISERROR((IF(AX37>Saisies!$C$7,\"\",IF(ISERROR(IF(AX37<Saisies!$B$7,\"\",AZ37)*BF37),IF(AX37<Saisies!$B$7,\"\",AZ37),\"\")))*(IF(ISERROR(BG37+1),0,BG37))*BH37*BI37*BJ37),\"\",(IF(AX37>Saisies!$C$7,\"\",IF(ISERROR(IF(AX37<Saisies!$B$7,\"\",AZ37)*BF37),IF(AX37<Saisies!$B$7,\"\",AZ37),\"\")))*(IF(ISERROR(BG37+1),0,BG37))*BH37*BI37*BJ37)","v":""},"",1,{"$f":"IF(AX37>Saisies!$C$25,1,(IF(AX37<Saisies!$B$25,1,IF(Saisies!$B$25=0,1,0))))","v":1},{"$f":"IF(AX37>Saisies!$E$25,1,(IF(AX37<Saisies!$D$25,1,IF(Saisies!$D$25=0,1,0))))","v":1},{"$f":"IF(AX37>Saisies!$G$25,1,(IF(AX37<Saisies!$F$25,1,IF(Saisies!$F$25<10,1,0))))","v":1},{"$f":"IF(AX37>Saisies!$C$10,\"\",(IF(AX37<Saisies!$B$10,\"\",BA37)))","v":""},{"$f":"IF(AX37>Saisies!$E$10,\"\",(IF(AX37<Saisies!$D$10,\"\",BA37)))","v":""},{"$f":"IF(AX37>Saisies!$G$10,\"\",(IF(AX37<Saisies!$F$10,\"\",BA37)))","v":""},"2016-05-25","M",8,7,0,{"$f":"IF(MAX(BR37,(BR36+BP37))>=Saisies!$E$4,(IF(BR36<=Saisies!$E$4,BN37,BS36)),0)","v":0},{"$f":"IF(BN37=Saisies!$C$7,MIN((ABS(Saisies!$E$4-BR36)),BU37),BU37)","v":""},{"$f":"IF(ISERROR((IF(BN37>Saisies!$C$7,\"\",IF(ISERROR(IF(BN37<Saisies!$B$7,\"\",BP37)*BV37),IF(BN37<Saisies!$B$7,\"\",BP37),\"\")))*(IF(ISERROR(BW37+1),0,BW37))*BX37*BY37*BZ37),\"\",(IF(BN37>Saisies!$C$7,\"\",IF(ISERROR(IF(BN37<Saisies!$B$7,\"\",BP37)*BV37),IF(BN37<Saisies!$B$7,\"\",BP37),\"\")))*(IF(ISERROR(BW37+1),0,BW37))*BX37*BY37*BZ37)","v":""},"",1,{"$f":"IF(BN37>Saisies!$C$25,1,(IF(BN37<Saisies!$B$25,1,IF(Saisies!$B$25=0,1,0))))","v":1},{"$f":"IF(BN37>Saisies!$E$25,1,(IF(BN37<Saisies!$D$25,1,IF(Saisies!$D$25=0,1,0))))","v":1},{"$f":"IF(BN37>Saisies!$G$25,1,(IF(BN37<Saisies!$F$25,1,IF(Saisies!$F$25<10,1,0))))","v":1},{"$f":"IF(BN37>Saisies!$C$10,\"\",(IF(BN37<Saisies!$B$10,\"\",BQ37)))","v":""},{"$f":"IF(BN37>Saisies!$E$10,\"\",(IF(BN37<Saisies!$D$10,\"\",BQ37)))","v":""},{"$f":"IF(BN37>Saisies!$G$10,\"\",(IF(BN37<Saisies!$F$10,\"\",BQ37)))","v":""},"2016-06-25","S",0,0,125,{"$f":"IF(MAX(CH37,(CH36+CF37))>=Saisies!$E$4,(IF(CH36<=Saisies!$E$4,CD37,CI36)),0)","v":0},{"$f":"IF(CD37=Saisies!$C$7,MIN((ABS(Saisies!$E$4-CH36)),CK37),CK37)","v":0},{"$f":"IF(ISERROR((IF(CD37>Saisies!$C$7,\"\",IF(ISERROR(IF(CD37<Saisies!$B$7,\"\",CF37)*CL37),IF(CD37<Saisies!$B$7,\"\",CF37),\"\")))*(IF(ISERROR(CM37+1),0,CM37))*CN37*CO37*CP37),\"\",(IF(CD37>Saisies!$C$7,\"\",IF(ISERROR(IF(CD37<Saisies!$B$7,\"\",CF37)*CL37),IF(CD37<Saisies!$B$7,\"\",CF37),\"\")))*(IF(ISERROR(CM37+1),0,CM37))*CN37*CO37*CP37)","v":0},"",1,{"$f":"IF(CD37>Saisies!$C$25,1,(IF(CD37<Saisies!$B$25,1,IF(Saisies!$B$25=0,1,0))))","v":1},{"$f":"IF(CD37>Saisies!$E$25,1,(IF(CD37<Saisies!$D$25,1,IF(Saisies!$D$25=0,1,0))))","v":1},{"$f":"IF(CD37>Saisies!$G$25,1,(IF(CD37<Saisies!$F$25,1,IF(Saisies!$F$25<10,1,0))))","v":1},{"$f":"IF(CD37>Saisies!$C$10,\"\",(IF(CD37<Saisies!$B$10,\"\",CG37)))","v":""},{"$f":"IF(CD37>Saisies!$E$10,\"\",(IF(CD37<Saisies!$D$10,\"\",CG37)))","v":""},{"$f":"IF(CD37>Saisies!$G$10,\"\",(IF(CD37<Saisies!$F$10,\"\",CG37)))","v":""},"2016-07-25","L",7,7,258,{"$f":"IF(MAX(CX37,(CX36+CV37))>=Saisies!$E$4,(IF(CX36<=Saisies!$E$4,CT37,CY36)),0)","v":0},{"$f":"IF(CT37=Saisies!$C$7,MIN((ABS(Saisies!$E$4-CX36)),DA37),DA37)","v":7},{"$f":"IF(ISERROR((IF(CT37>Saisies!$C$7,\"\",IF(ISERROR(IF(CT37<Saisies!$B$7,\"\",CV37)*DB37),IF(CT37<Saisies!$B$7,\"\",CV37),\"\")))*(IF(ISERROR(DC37+1),0,DC37))*DD37*DE37*DF37),\"\",(IF(CT37>Saisies!$C$7,\"\",IF(ISERROR(IF(CT37<Saisies!$B$7,\"\",CV37)*DB37),IF(CT37<Saisies!$B$7,\"\",CV37),\"\")))*(IF(ISERROR(DC37+1),0,DC37))*DD37*DE37*DF37)","v":7},"",1,{"$f":"IF(CT37>Saisies!$C$25,1,(IF(CT37<Saisies!$B$25,1,IF(Saisies!$B$25=0,1,0))))","v":1},{"$f":"IF(CT37>Saisies!$E$25,1,(IF(CT37<Saisies!$D$25,1,IF(Saisies!$D$25=0,1,0))))","v":1},{"$f":"IF(CT37>Saisies!$G$25,1,(IF(CT37<Saisies!$F$25,1,IF(Saisies!$F$25<10,1,0))))","v":1},{"$f":"IF(CT37>Saisies!$C$10,\"\",(IF(CT37<Saisies!$B$10,\"\",CW37)))","v":""},{"$f":"IF(CT37>Saisies!$E$10,\"\",(IF(CT37<Saisies!$D$10,\"\",CW37)))","v":""},{"$f":"IF(CT37>Saisies!$G$10,\"\",(IF(CT37<Saisies!$F$10,\"\",CW37)))","v":""},"2016-08-25","J",8,7,418,{"$f":"IF(DN37>=Saisies!$E$4,(IF(DO36<=Saisies!$E$4,DJ37,DO36)),0)","v":0},{"$f":"IF(DJ37=Saisies!$C$7,MIN((ABS(Saisies!$E$4-DN36)),DQ37),DQ37)","v":8},{"$f":"IF(ISERROR((IF(DJ37>Saisies!$C$7,\"\",IF(ISERROR(IF(DJ37<Saisies!$B$7,\"\",DL37)*DR37),IF(DJ37<Saisies!$B$7,\"\",DL37),\"\")))*(IF(ISERROR(DS37+1),0,DS37))*DT37*DU37*DV37),\"\",(IF(DJ37>Saisies!$C$7,\"\",IF(ISERROR(IF(DJ37<Saisies!$B$7,\"\",DL37)*DR37),IF(DJ37<Saisies!$B$7,\"\",DL37),\"\")))*(IF(ISERROR(DS37+1),0,DS37))*DT37*DU37*DV37)","v":8},"",1,{"$f":"IF(DJ37>Saisies!$C$25,1,(IF(DJ37<Saisies!$B$25,1,IF(Saisies!$B$25=0,1,0))))","v":1},{"$f":"IF(DJ37>Saisies!$E$25,1,(IF(DJ37<Saisies!$D$25,1,IF(Saisies!$D$25=0,1,0))))","v":1},{"$f":"IF(DJ37>Saisies!$G$25,1,(IF(DJ37<Saisies!$F$25,1,IF(Saisies!$F$25<10,1,0))))","v":1},{"$f":"IF(DJ37>Saisies!$C$10,\"\",(IF(DJ37<Saisies!$B$10,\"\",DM37)))","v":""},{"$f":"IF(DJ37>Saisies!$E$10,\"\",(IF(DJ37<Saisies!$D$10,\"\",DM37)))","v":""},{"$f":"IF(DJ37>Saisies!$G$10,\"\",(IF(DJ37<Saisies!$F$10,\"\",DM37)))","v":""},"2016-09-25","D",0,0,492,{"$f":"IF(ED37>=Saisies!$E$4,(IF(EE36<=Saisies!$E$4,DZ37,EE36)),0)","v":42622},{"$f":"IF(DZ37=Saisies!$C$7,MIN((ABS(Saisies!$E$4-ED36)),EG37),EG37)","v":""},{"$f":"IF(ISERROR((IF(DZ37>Saisies!$C$7,\"\",IF(ISERROR(IF(DZ37<Saisies!$B$7,\"\",EB37)*EH37),IF(DZ37<Saisies!$B$7,\"\",EB37),\"\")))*(IF(ISERROR(EI37+1),0,EI37))*EJ37*EK37*EL37),\"\",(IF(DZ37>Saisies!$C$7,\"\",IF(ISERROR(IF(DZ37<Saisies!$B$7,\"\",EB37)*EH37),IF(DZ37<Saisies!$B$7,\"\",EB37),\"\")))*(IF(ISERROR(EI37+1),0,EI37))*EJ37*EK37*EL37)","v":""},"",1,{"$f":"IF(DZ37>Saisies!$C$25,1,(IF(DZ37<Saisies!$B$25,1,IF(Saisies!$B$25=0,1,0))))","v":1},{"$f":"IF(DZ37>Saisies!$E$25,1,(IF(DZ37<Saisies!$D$25,1,IF(Saisies!$D$25=0,1,0))))","v":1},{"$f":"IF(DZ37>Saisies!$G$25,1,(IF(DZ37<Saisies!$F$25,1,IF(Saisies!$F$25<10,1,0))))","v":1},{"$f":"IF(DZ37>Saisies!$C$10,\"\",(IF(DZ37<Saisies!$B$10,\"\",EC37)))","v":""},{"$f":"IF(DZ37>Saisies!$E$10,\"\",(IF(DZ37<Saisies!$D$10,\"\",EC37)))","v":""},{"$f":"IF(DZ37>Saisies!$G$10,\"\",(IF(DZ37<Saisies!$F$10,\"\",EC37)))","v":""},"2016-10-25","M",8,7,492,{"$f":"IF(ET37>=Saisies!$E$4,(IF(EU36<=Saisies!$E$4,EP37,EU36)),0)","v":42622},{"$f":"IF(EP37=Saisies!$C$7,MIN((ABS(Saisies!$E$4-ET36)),EW37),EW37)","v":""},{"$f":"IF(ISERROR((IF(EP37>Saisies!$C$7,\"\",IF(ISERROR(IF(EP37<Saisies!$B$7,\"\",ER37)*EX37),IF(EP37<Saisies!$B$7,\"\",ER37),\"\")))*(IF(ISERROR(EY37+1),0,EY37))*EZ37*FA37*FB37),\"\",(IF(EP37>Saisies!$C$7,\"\",IF(ISERROR(IF(EP37<Saisies!$B$7,\"\",ER37)*EX37),IF(EP37<Saisies!$B$7,\"\",ER37),\"\")))*(IF(ISERROR(EY37+1),0,EY37))*EZ37*FA37*FB37)","v":""},"",1,{"$f":"IF(EP37>Saisies!$C$25,1,(IF(EP37<Saisies!$B$25,1,IF(Saisies!$B$25=0,1,0))))","v":1},{"$f":"IF(EP37>Saisies!$E$25,1,(IF(EP37<Saisies!$D$25,1,IF(Saisies!$D$25=0,1,0))))","v":1},{"$f":"IF(EP37>Saisies!$G$25,1,(IF(EP37<Saisies!$F$25,1,IF(Saisies!$F$25<10,1,0))))","v":1},{"$f":"IF(EP37>Saisies!$C$10,\"\",(IF(EP37<Saisies!$B$10,\"\",ES37)))","v":""},{"$f":"IF(EP37>Saisies!$E$10,\"\",(IF(EP37<Saisies!$D$10,\"\",ES37)))","v":""},{"$f":"IF(EP37>Saisies!$G$10,\"\",(IF(EP37<Saisies!$F$10,\"\",ES37)))","v":""},"2016-11-25","V",4,7,492,{"$f":"IF(FJ37>=Saisies!$E$4,(IF(FK36<=Saisies!$E$4,FF37,FK36)),0)","v":42622},{"$f":"IF(FF37=Saisies!$C$7,MIN((ABS(Saisies!$E$4-FJ36)),FM37),FM37)","v":""},{"$f":"IF(ISERROR((IF(FF37>Saisies!$C$7,\"\",IF(ISERROR(IF(FF37<Saisies!$B$7,\"\",FH37)*FN37),IF(FF37<Saisies!$B$7,\"\",FH37),\"\")))*(IF(ISERROR(FO37+1),0,FO37))*FP37*FQ37*FR37),\"\",(IF(FF37>Saisies!$C$7,\"\",IF(ISERROR(IF(FF37<Saisies!$B$7,\"\",FH37)*FN37),IF(FF37<Saisies!$B$7,\"\",FH37),\"\")))*(IF(ISERROR(FO37+1),0,FO37))*FP37*FQ37*FR37)","v":""},"",1,{"$f":"IF(FF37>Saisies!$C$25,1,(IF(FF37<Saisies!$B$25,1,IF(Saisies!$B$25=0,1,0))))","v":1},{"$f":"IF(FF37>Saisies!$E$25,1,(IF(FF37<Saisies!$D$25,1,IF(Saisies!$D$25=0,1,0))))","v":1},{"$f":"IF(FF37>Saisies!$G$25,1,(IF(FF37<Saisies!$F$25,1,IF(Saisies!$F$25<10,1,0))))","v":1},{"$f":"IF(FF37>Saisies!$C$10,\"\",(IF(FF37<Saisies!$B$10,\"\",FI37)))","v":""},{"$f":"IF(FF37>Saisies!$E$10,\"\",(IF(FF37<Saisies!$D$10,\"\",FI37)))","v":""},{"$f":"IF(FF37>Saisies!$G$10,\"\",(IF(FF37<Saisies!$F$10,\"\",FI37)))","v":""},"2016-12-25",{"$f":"UPPER(LEFT(TEXT(FV37,\"jjj\"),1))","v":"D"},0,0,492,{"$f":"IF(FZ37>=Saisies!$E$4,(IF(GA36<=Saisies!$E$4,FV37,GA36)),0)","v":42622},{"$f":"IF(FV37=Saisies!$C$7,MIN((ABS(Saisies!$E$4-FZ36)),GC37),GC37)","v":""},{"$f":"IF(ISERROR((IF(FV37>Saisies!$C$7,\"\",IF(ISERROR(IF(FV37<Saisies!$B$7,\"\",FX37)*GD37),IF(FV37<Saisies!$B$7,\"\",FX37),\"\")))*(IF(ISERROR(GE37+1),0,GE37))*GF37*GG37*GH37),\"\",(IF(FV37>Saisies!$C$7,\"\",IF(ISERROR(IF(FV37<Saisies!$B$7,\"\",FX37)*GD37),IF(FV37<Saisies!$B$7,\"\",FX37),\"\")))*(IF(ISERROR(GE37+1),0,GE37))*GF37*GG37*GH37)","v":""},{"$f":"IF((SUM(GI37:GK37)*(IF(ISERROR(GE37+1),0,GE37))*GF37*GG37*GH37)=0,\"\",SUM(GI37:GK37))","v":""},0,{"$f":"IF(FV37>Saisies!$C$25,1,(IF(FV37<Saisies!$B$25,1,IF(Saisies!$B$25=0,1,0))))","v":1},{"$f":"IF(FV37>Saisies!$E$25,1,(IF(FV37<Saisies!$D$25,1,IF(Saisies!$D$25=0,1,0))))","v":1},{"$f":"IF(FV37>Saisies!$G$25,1,(IF(FV37<Saisies!$F$25,1,IF(Saisies!$F$25<10,1,0))))","v":1},{"$f":"IF(FV37>Saisies!$C$10,\"\",(IF(FV37<Saisies!$B$10,\"\",FY37)))","v":""},{"$f":"IF(FV37>Saisies!$E$10,\"\",(IF(FV37<Saisies!$D$10,\"\",FY37)))","v":""},{"$f":"IF(FV37>Saisies!$G$10,\"\",(IF(FV37<Saisies!$F$10,\"\",FY37)))","v":""},null,null,0]
[null,"2016-01-26","M",8,7,0,{"$f":"IF(MAX(F38,(F37+D38))>=Saisies!$E$4,(IF(F37<=Saisies!$E$4,B38,G37)),0)","v":0},{"$f":"IF(B38=Saisies!$C$7,MIN((ABS(Saisies!$E$4-F37)),I38),I38)","v":""},{"$f":"IF(ISERROR((IF(B38>Saisies!$C$7,\"\",IF(ISERROR(IF(B38<Saisies!$B$7,\"\",D38)*J38),IF(B38<Saisies!$B$7,\"\",D38),\"\")))*(IF(ISERROR(K38+1),0,K38))*L38*M38*N38),\"\",(IF(B38>Saisies!$C$7,\"\",IF(ISERROR(IF(B38<Saisies!$B$7,\"\",D38)*J38),IF(B38<Saisies!$B$7,\"\",D38),\"\")))*(IF(ISERROR(K38+1),0,K38))*L38*M38*N38)","v":""},"",1,{"$f":"IF(B38>Saisies!$C$25,1,(IF(B38<Saisies!$B$25,1,IF(Saisies!$B$25=0,1,0))))","v":1},{"$f":"IF(B38>Saisies!$E$25,1,(IF(B38<Saisies!$D$25,1,IF(Saisies!$D$25=0,1,0))))","v":1},{"$f":"IF(B38>Saisies!$G$25,1,(IF(B38<Saisies!$F$25,1,IF(Saisies!$F$25<10,1,0))))","v":1},{"$f":"IF(B38>Saisies!$C$10,\"\",(IF(B38<Saisies!$B$10,\"\",E38)))","v":""},{"$f":"IF(B38>Saisies!$E$10,\"\",(IF(B38<Saisies!$D$10,\"\",E38)))","v":""},{"$f":"IF(B38>Saisies!$G$10,\"\",(IF(B38<Saisies!$F$10,\"\",E38)))","v":""},"2016-02-26","V",4,7,0,{"$f":"IF(MAX(V38,(V37+T38))>=Saisies!$E$4,(IF(V37<=Saisies!$E$4,R38,W37)),0)","v":0},{"$f":"IF(R38=Saisies!$C$7,MIN((ABS(Saisies!$E$4-V37)),Y38),Y38)","v":""},{"$f":"IF(ISERROR((IF(R38>Saisies!$C$7,\"\",IF(ISERROR(IF(R38<Saisies!$B$7,\"\",T38)*Z38),IF(R38<Saisies!$B$7,\"\",T38),\"\")))*(IF(ISERROR(AA38+1),0,AA38))*AB38*AC38*AD38),\"\",(IF(R38>Saisies!$C$7,\"\",IF(ISERROR(IF(R38<Saisies!$B$7,\"\",T38)*Z38),IF(R38<Saisies!$B$7,\"\",T38),\"\")))*(IF(ISERROR(AA38+1),0,AA38))*AB38*AC38*AD38)","v":""},"",1,{"$f":"IF(R38>Saisies!$C$25,1,(IF(R38<Saisies!$B$25,1,IF(Saisies!$B$25=0,1,0))))","v":1},{"$f":"IF(R38>Saisies!$E$25,1,(IF(R38<Saisies!$D$25,1,IF(Saisies!$D$25=0,1,0))))","v":1},{"$f":"IF(R38>Saisies!$G$25,1,(IF(R38<Saisies!$F$25,1,IF(Saisies!$F$25<10,1,0))))","v":1},{"$f":"IF(R38>Saisies!$C$10,\"\",(IF(R38<Saisies!$B$10,\"\",U38)))","v":""},{"$f":"IF(R38>Saisies!$E$10,\"\",(IF(R38<Saisies!$D$10,\"\",U38)))","v":""},{"$f":"IF(R38>Saisies!$G$10,\"\",(IF(R38<Saisies!$F$10,\"\",U38)))","v":""},"2016-03-26","S",0,0,0,{"$f":"IF(MAX(AL38,(AL37+AJ38))>=Saisies!$E$4,(IF(AL37<=Saisies!$E$4,AH38,AM37)),0)","v":0},{"$f":"IF(AH38=Saisies!$C$7,MIN((ABS(Saisies!$E$4-AL37)),AO38),AO38)","v":""},{"$f":"IF(ISERROR((IF(AH38>Saisies!$C$7,\"\",IF(ISERROR(IF(AH38<Saisies!$B$7,\"\",AJ38)*AP38),IF(AH38<Saisies!$B$7,\"\",AJ38),\"\")))*(IF(ISERROR(AQ38+1),0,AQ38))*AR38*AS38*AT38),\"\",(IF(AH38>Saisies!$C$7,\"\",IF(ISERROR(IF(AH38<Saisies!$B$7,\"\",AJ38)*AP38),IF(AH38<Saisies!$B$7,\"\",AJ38),\"\")))*(IF(ISERROR(AQ38+1),0,AQ38))*AR38*AS38*AT38)","v":""},"",1,{"$f":"IF(AH38>Saisies!$C$25,1,(IF(AH38<Saisies!$B$25,1,IF(Saisies!$B$25=0,1,0))))","v":1},{"$f":"IF(AH38>Saisies!$E$25,1,(IF(AH38<Saisies!$D$25,1,IF(Saisies!$D$25=0,1,0))))","v":1},{"$f":"IF(AH38>Saisies!$G$25,1,(IF(AH38<Saisies!$F$25,1,IF(Saisies!$F$25<10,1,0))))","v":1},{"$f":"IF(AH38>Saisies!$C$10,\"\",(IF(AH38<Saisies!$B$10,\"\",AK38)))","v":""},{"$f":"IF(AH38>Saisies!$E$10,\"\",(IF(AH38<Saisies!$D$10,\"\",AK38)))","v":""},{"$f":"IF(AH38>Saisies!$G$10,\"\",(IF(AH38<Saisies!$F$10,\"\",AK38)))","v":""},"2016-04-26","M",8,7,0,{"$f":"IF(BB38>=Saisies!$E$4,(IF(BC37<=Saisies!$E$4,AX38,BC37)),0)","v":0},{"$f":"IF(AX38=Saisies!$C$7,MIN((ABS(Saisies!$E$4-BB37)),BE38),BE38)","v":""},{"$f":"IF(ISERROR((IF(AX38>Saisies!$C$7,\"\",IF(ISERROR(IF(AX38<Saisies!$B$7,\"\",AZ38)*BF38),IF(AX38<Saisies!$B$7,\"\",AZ38),\"\")))*(IF(ISERROR(BG38+1),0,BG38))*BH38*BI38*BJ38),\"\",(IF(AX38>Saisies!$C$7,\"\",IF(ISERROR(IF(AX38<Saisies!$B$7,\"\",AZ38)*BF38),IF(AX38<Saisies!$B$7,\"\",AZ38),\"\")))*(IF(ISERROR(BG38+1),0,BG38))*BH38*BI38*BJ38)","v":""},"",1,{"$f":"IF(AX38>Saisies!$C$25,1,(IF(AX38<Saisies!$B$25,1,IF(Saisies!$B$25=0,1,0))))","v":1},{"$f":"IF(AX38>Saisies!$E$25,1,(IF(AX38<Saisies!$D$25,1,IF(Saisies!$D$25=0,1,0))))","v":1},{"$f":"IF(AX38>Saisies!$G$25,1,(IF(AX38<Saisies!$F$25,1,IF(Saisies!$F$25<10,1,0))))","v":1},{"$f":"IF(AX38>Saisies!$C$10,\"\",(IF(AX38<Saisies!$B$10,\"\",BA38)))","v":""},{"$f":"IF(AX38>Saisies!$E$10,\"\",(IF(AX38<Saisies!$D$10,\"\",BA38)))","v":""},{"$f":"IF(AX38>Saisies!$G$10,\"\",(IF(AX38<Saisies!$F$10,\"\",BA38)))","v":""},"2016-05-26","J",8,7,0,{"$f":"IF(MAX(BR38,(BR37+BP38))>=Saisies!$E$4,(IF(BR37<=Saisies!$E$4,BN38,BS37)),0)","v":0},{"$f":"IF(BN38=Saisies!$C$7,MIN((ABS(Saisies!$E$4-BR37)),BU38),BU38)","v":""},{"$f":"IF(ISERROR((IF(BN38>Saisies!$C$7,\"\",IF(ISERROR(IF(BN38<Saisies!$B$7,\"\",BP38)*BV38),IF(BN38<Saisies!$B$7,\"\",BP38),\"\")))*(IF(ISERROR(BW38+1),0,BW38))*BX38*BY38*BZ38),\"\",(IF(BN38>Saisies!$C$7,\"\",IF(ISERROR(IF(BN38<Saisies!$B$7,\"\",BP38)*BV38),IF(BN38<Saisies!$B$7,\"\",BP38),\"\")))*(IF(ISERROR(BW38+1),0,BW38))*BX38*BY38*BZ38)","v":""},"",1,{"$f":"IF(BN38>Saisies!$C$25,1,(IF(BN38<Saisies!$B$25,1,IF(Saisies!$B$25=0,1,0))))","v":1},{"$f":"IF(BN38>Saisies!$E$25,1,(IF(BN38<Saisies!$D$25,1,IF(Saisies!$D$25=0,1,0))))","v":1},{"$f":"IF(BN38>Saisies!$G$25,1,(IF(BN38<Saisies!$F$25,1,IF(Saisies!$F$25<10,1,0))))","v":1},{"$f":"IF(BN38>Saisies!$C$10,\"\",(IF(BN38<Saisies!$B$10,\"\",BQ38)))","v":""},{"$f":"IF(BN38>Saisies!$E$10,\"\",(IF(BN38<Saisies!$D$10,\"\",BQ38)))","v":""},{"$f":"IF(BN38>Saisies!$G$10,\"\",(IF(BN38<Saisies!$F$10,\"\",BQ38)))","v":""},"2016-06-26","D",0,0,125,{"$f":"IF(MAX(CH38,(CH37+CF38))>=Saisies!$E$4,(IF(CH37<=Saisies!$E$4,CD38,CI37)),0)","v":0},{"$f":"IF(CD38=Saisies!$C$7,MIN((ABS(Saisies!$E$4-CH37)),CK38),CK38)","v":0},{"$f":"IF(ISERROR((IF(CD38>Saisies!$C$7,\"\",IF(ISERROR(IF(CD38<Saisies!$B$7,\"\",CF38)*CL38),IF(CD38<Saisies!$B$7,\"\",CF38),\"\")))*(IF(ISERROR(CM38+1),0,CM38))*CN38*CO38*CP38),\"\",(IF(CD38>Saisies!$C$7,\"\",IF(ISERROR(IF(CD38<Saisies!$B$7,\"\",CF38)*CL38),IF(CD38<Saisies!$B$7,\"\",CF38),\"\")))*(IF(ISERROR(CM38+1),0,CM38))*CN38*CO38*CP38)","v":0},"",1,{"$f":"IF(CD38>Saisies!$C$25,1,(IF(CD38<Saisies!$B$25,1,IF(Saisies!$B$25=0,1,0))))","v":1},{"$f":"IF(CD38>Saisies!$E$25,1,(IF(CD38<Saisies!$D$25,1,IF(Saisies!$D$25=0,1,0))))","v":1},{"$f":"IF(CD38>Saisies!$G$25,1,(IF(CD38<Saisies!$F$25,1,IF(Saisies!$F$25<10,1,0))))","v":1},{"$f":"IF(CD38>Saisies!$C$10,\"\",(IF(CD38<Saisies!$B$10,\"\",CG38)))","v":""},{"$f":"IF(CD38>Saisies!$E$10,\"\",(IF(CD38<Saisies!$D$10,\"\",CG38)))","v":""},{"$f":"IF(CD38>Saisies!$G$10,\"\",(IF(CD38<Saisies!$F$10,\"\",CG38)))","v":""},"2016-07-26","M",8,7,266,{"$f":"IF(MAX(CX38,(CX37+CV38))>=Saisies!$E$4,(IF(CX37<=Saisies!$E$4,CT38,CY37)),0)","v":0},{"$f":"IF(CT38=Saisies!$C$7,MIN((ABS(Saisies!$E$4-CX37)),DA38),DA38)","v":8},{"$f":"IF(ISERROR((IF(CT38>Saisies!$C$7,\"\",IF(ISERROR(IF(CT38<Saisies!$B$7,\"\",CV38)*DB38),IF(CT38<Saisies!$B$7,\"\",CV38),\"\")))*(IF(ISERROR(DC38+1),0,DC38))*DD38*DE38*DF38),\"\",(IF(CT38>Saisies!$C$7,\"\",IF(ISERROR(IF(CT38<Saisies!$B$7,\"\",CV38)*DB38),IF(CT38<Saisies!$B$7,\"\",CV38),\"\")))*(IF(ISERROR(DC38+1),0,DC38))*DD38*DE38*DF38)","v":8},"",1,{"$f":"IF(CT38>Saisies!$C$25,1,(IF(CT38<Saisies!$B$25,1,IF(Saisies!$B$25=0,1,0))))","v":1},{"$f":"IF(CT38>Saisies!$E$25,1,(IF(CT38<Saisies!$D$25,1,IF(Saisies!$D$25=0,1,0))))","v":1},{"$f":"IF(CT38>Saisies!$G$25,1,(IF(CT38<Saisies!$F$25,1,IF(Saisies!$F$25<10,1,0))))","v":1},{"$f":"IF(CT38>Saisies!$C$10,\"\",(IF(CT38<Saisies!$B$10,\"\",CW38)))","v":""},{"$f":"IF(CT38>Saisies!$E$10,\"\",(IF(CT38<Saisies!$D$10,\"\",CW38)))","v":""},{"$f":"IF(CT38>Saisies!$G$10,\"\",(IF(CT38<Saisies!$F$10,\"\",CW38)))","v":""},"2016-08-26","V",4,7,422,{"$f":"IF(DN38>=Saisies!$E$4,(IF(DO37<=Saisies!$E$4,DJ38,DO37)),0)","v":0},{"$f":"IF(DJ38=Saisies!$C$7,MIN((ABS(Saisies!$E$4-DN37)),DQ38),DQ38)","v":4},{"$f":"IF(ISERROR((IF(DJ38>Saisies!$C$7,\"\",IF(ISERROR(IF(DJ38<Saisies!$B$7,\"\",DL38)*DR38),IF(DJ38<Saisies!$B$7,\"\",DL38),\"\")))*(IF(ISERROR(DS38+1),0,DS38))*DT38*DU38*DV38),\"\",(IF(DJ38>Saisies!$C$7,\"\",IF(ISERROR(IF(DJ38<Saisies!$B$7,\"\",DL38)*DR38),IF(DJ38<Saisies!$B$7,\"\",DL38),\"\")))*(IF(ISERROR(DS38+1),0,DS38))*DT38*DU38*DV38)","v":4},"",1,{"$f":"IF(DJ38>Saisies!$C$25,1,(IF(DJ38<Saisies!$B$25,1,IF(Saisies!$B$25=0,1,0))))","v":1},{"$f":"IF(DJ38>Saisies!$E$25,1,(IF(DJ38<Saisies!$D$25,1,IF(Saisies!$D$25=0,1,0))))","v":1},{"$f":"IF(DJ38>Saisies!$G$25,1,(IF(DJ38<Saisies!$F$25,1,IF(Saisies!$F$25<10,1,0))))","v":1},{"$f":"IF(DJ38>Saisies!$C$10,\"\",(IF(DJ38<Saisies!$B$10,\"\",DM38)))","v":""},{"$f":"IF(DJ38>Saisies!$E$10,\"\",(IF(DJ38<Saisies!$D$10,\"\",DM38)))","v":""},{"$f":"IF(DJ38>Saisies!$G$10,\"\",(IF(DJ38<Saisies!$F$10,\"\",DM38)))","v":""},"2016-09-26","L",7,7,492,{"$f":"IF(ED38>=Saisies!$E$4,(IF(EE37<=Saisies!$E$4,DZ38,EE37)),0)","v":42622},{"$f":"IF(DZ38=Saisies!$C$7,MIN((ABS(Saisies!$E$4-ED37)),EG38),EG38)","v":""},{"$f":"IF(ISERROR((IF(DZ38>Saisies!$C$7,\"\",IF(ISERROR(IF(DZ38<Saisies!$B$7,\"\",EB38)*EH38),IF(DZ38<Saisies!$B$7,\"\",EB38),\"\")))*(IF(ISERROR(EI38+1),0,EI38))*EJ38*EK38*EL38),\"\",(IF(DZ38>Saisies!$C$7,\"\",IF(ISERROR(IF(DZ38<Saisies!$B$7,\"\",EB38)*EH38),IF(DZ38<Saisies!$B$7,\"\",EB38),\"\")))*(IF(ISERROR(EI38+1),0,EI38))*EJ38*EK38*EL38)","v":""},"",1,{"$f":"IF(DZ38>Saisies!$C$25,1,(IF(DZ38<Saisies!$B$25,1,IF(Saisies!$B$25=0,1,0))))","v":1},{"$f":"IF(DZ38>Saisies!$E$25,1,(IF(DZ38<Saisies!$D$25,1,IF(Saisies!$D$25=0,1,0))))","v":1},{"$f":"IF(DZ38>Saisies!$G$25,1,(IF(DZ38<Saisies!$F$25,1,IF(Saisies!$F$25<10,1,0))))","v":1},{"$f":"IF(DZ38>Saisies!$C$10,\"\",(IF(DZ38<Saisies!$B$10,\"\",EC38)))","v":""},{"$f":"IF(DZ38>Saisies!$E$10,\"\",(IF(DZ38<Saisies!$D$10,\"\",EC38)))","v":""},{"$f":"IF(DZ38>Saisies!$G$10,\"\",(IF(DZ38<Saisies!$F$10,\"\",EC38)))","v":""},"2016-10-26","M",8,7,492,{"$f":"IF(ET38>=Saisies!$E$4,(IF(EU37<=Saisies!$E$4,EP38,EU37)),0)","v":42622},{"$f":"IF(EP38=Saisies!$C$7,MIN((ABS(Saisies!$E$4-ET37)),EW38),EW38)","v":""},{"$f":"IF(ISERROR((IF(EP38>Saisies!$C$7,\"\",IF(ISERROR(IF(EP38<Saisies!$B$7,\"\",ER38)*EX38),IF(EP38<Saisies!$B$7,\"\",ER38),\"\")))*(IF(ISERROR(EY38+1),0,EY38))*EZ38*FA38*FB38),\"\",(IF(EP38>Saisies!$C$7,\"\",IF(ISERROR(IF(EP38<Saisies!$B$7,\"\",ER38)*EX38),IF(EP38<Saisies!$B$7,\"\",ER38),\"\")))*(IF(ISERROR(EY38+1),0,EY38))*EZ38*FA38*FB38)","v":""},"",1,{"$f":"IF(EP38>Saisies!$C$25,1,(IF(EP38<Saisies!$B$25,1,IF(Saisies!$B$25=0,1,0))))","v":1},{"$f":"IF(EP38>Saisies!$E$25,1,(IF(EP38<Saisies!$D$25,1,IF(Saisies!$D$25=0,1,0))))","v":1},{"$f":"IF(EP38>Saisies!$G$25,1,(IF(EP38<Saisies!$F$25,1,IF(Saisies!$F$25<10,1,0))))","v":1},{"$f":"IF(EP38>Saisies!$C$10,\"\",(IF(EP38<Saisies!$B$10,\"\",ES38)))","v":""},{"$f":"IF(EP38>Saisies!$E$10,\"\",(IF(EP38<Saisies!$D$10,\"\",ES38)))","v":""},{"$f":"IF(EP38>Saisies!$G$10,\"\",(IF(EP38<Saisies!$F$10,\"\",ES38)))","v":""},"2016-11-26","S",0,0,492,{"$f":"IF(FJ38>=Saisies!$E$4,(IF(FK37<=Saisies!$E$4,FF38,FK37)),0)","v":42622},{"$f":"IF(FF38=Saisies!$C$7,MIN((ABS(Saisies!$E$4-FJ37)),FM38),FM38)","v":""},{"$f":"IF(ISERROR((IF(FF38>Saisies!$C$7,\"\",IF(ISERROR(IF(FF38<Saisies!$B$7,\"\",FH38)*FN38),IF(FF38<Saisies!$B$7,\"\",FH38),\"\")))*(IF(ISERROR(FO38+1),0,FO38))*FP38*FQ38*FR38),\"\",(IF(FF38>Saisies!$C$7,\"\",IF(ISERROR(IF(FF38<Saisies!$B$7,\"\",FH38)*FN38),IF(FF38<Saisies!$B$7,\"\",FH38),\"\")))*(IF(ISERROR(FO38+1),0,FO38))*FP38*FQ38*FR38)","v":""},"",1,{"$f":"IF(FF38>Saisies!$C$25,1,(IF(FF38<Saisies!$B$25,1,IF(Saisies!$B$25=0,1,0))))","v":1},{"$f":"IF(FF38>Saisies!$E$25,1,(IF(FF38<Saisies!$D$25,1,IF(Saisies!$D$25=0,1,0))))","v":1},{"$f":"IF(FF38>Saisies!$G$25,1,(IF(FF38<Saisies!$F$25,1,IF(Saisies!$F$25<10,1,0))))","v":1},{"$f":"IF(FF38>Saisies!$C$10,\"\",(IF(FF38<Saisies!$B$10,\"\",FI38)))","v":""},{"$f":"IF(FF38>Saisies!$E$10,\"\",(IF(FF38<Saisies!$D$10,\"\",FI38)))","v":""},{"$f":"IF(FF38>Saisies!$G$10,\"\",(IF(FF38<Saisies!$F$10,\"\",FI38)))","v":""},"2016-12-26","L",7,7,492,{"$f":"IF(FZ38>=Saisies!$E$4,(IF(GA37<=Saisies!$E$4,FV38,GA37)),0)","v":42622},{"$f":"IF(FV38=Saisies!$C$7,MIN((ABS(Saisies!$E$4-FZ37)),GC38),GC38)","v":""},{"$f":"IF(ISERROR((IF(FV38>Saisies!$C$7,\"\",IF(ISERROR(IF(FV38<Saisies!$B$7,\"\",FX38)*GD38),IF(FV38<Saisies!$B$7,\"\",FX38),\"\")))*(IF(ISERROR(GE38+1),0,GE38))*GF38*GG38*GH38),\"\",(IF(FV38>Saisies!$C$7,\"\",IF(ISERROR(IF(FV38<Saisies!$B$7,\"\",FX38)*GD38),IF(FV38<Saisies!$B$7,\"\",FX38),\"\")))*(IF(ISERROR(GE38+1),0,GE38))*GF38*GG38*GH38)","v":""},"",{"$f":"IF(ISERROR(IF(IF(ISERROR(VLOOKUP(FV38,Champs,2,FALSE)),1,0)=0,LOOKUP(FV38,general),1)),0,(IF(IF(ISERROR(VLOOKUP(FV38,Champs,2,FALSE)),1,0)=0,LOOKUP(FV38,general),1)))","v":"B"},{"$f":"IF(FV38>Saisies!$C$25,1,(IF(FV38<Saisies!$B$25,1,IF(Saisies!$B$25=0,1,0))))","v":1},{"$f":"IF(FV38>Saisies!$E$25,1,(IF(FV38<Saisies!$D$25,1,IF(Saisies!$D$25=0,1,0))))","v":1},{"$f":"IF(FV38>Saisies!$G$25,1,(IF(FV38<Saisies!$F$25,1,IF(Saisies!$F$25<10,1,0))))","v":1},{"$f":"IF(FV38>Saisies!$C$10,\"\",(IF(FV38<Saisies!$B$10,\"\",FY38)))","v":""},{"$f":"IF(FV38>Saisies!$E$10,\"\",(IF(FV38<Saisies!$D$10,\"\",FY38)))","v":""},{"$f":"IF(FV38>Saisies!$G$10,\"\",(IF(FV38<Saisies!$F$10,\"\",FY38)))","v":""},null,null,{"$f":"IF(ISERROR(GE38+1),0,GE38)","v":0}]
[null,"2016-01-27","M",8,7,0,{"$f":"IF(MAX(F39,(F38+D39))>=Saisies!$E$4,(IF(F38<=Saisies!$E$4,B39,G38)),0)","v":0},{"$f":"IF(B39=Saisies!$C$7,MIN((ABS(Saisies!$E$4-F38)),I39),I39)","v":""},{"$f":"IF(ISERROR((IF(B39>Saisies!$C$7,\"\",IF(ISERROR(IF(B39<Saisies!$B$7,\"\",D39)*J39),IF(B39<Saisies!$B$7,\"\",D39),\"\")))*(IF(ISERROR(K39+1),0,K39))*L39*M39*N39),\"\",(IF(B39>Saisies!$C$7,\"\",IF(ISERROR(IF(B39<Saisies!$B$7,\"\",D39)*J39),IF(B39<Saisies!$B$7,\"\",D39),\"\")))*(IF(ISERROR(K39+1),0,K39))*L39*M39*N39)","v":""},"",1,{"$f":"IF(B39>Saisies!$C$25,1,(IF(B39<Saisies!$B$25,1,IF(Saisies!$B$25=0,1,0))))","v":1},{"$f":"IF(B39>Saisies!$E$25,1,(IF(B39<Saisies!$D$25,1,IF(Saisies!$D$25=0,1,0))))","v":1},{"$f":"IF(B39>Saisies!$G$25,1,(IF(B39<Saisies!$F$25,1,IF(Saisies!$F$25<10,1,0))))","v":1},{"$f":"IF(B39>Saisies!$C$10,\"\",(IF(B39<Saisies!$B$10,\"\",E39)))","v":""},{"$f":"IF(B39>Saisies!$E$10,\"\",(IF(B39<Saisies!$D$10,\"\",E39)))","v":""},{"$f":"IF(B39>Saisies!$G$10,\"\",(IF(B39<Saisies!$F$10,\"\",E39)))","v":""},"2016-02-27","S",0,0,0,{"$f":"IF(MAX(V39,(V38+T39))>=Saisies!$E$4,(IF(V38<=Saisies!$E$4,R39,W38)),0)","v":0},{"$f":"IF(R39=Saisies!$C$7,MIN((ABS(Saisies!$E$4-V38)),Y39),Y39)","v":""},{"$f":"IF(ISERROR((IF(R39>Saisies!$C$7,\"\",IF(ISERROR(IF(R39<Saisies!$B$7,\"\",T39)*Z39),IF(R39<Saisies!$B$7,\"\",T39),\"\")))*(IF(ISERROR(AA39+1),0,AA39))*AB39*AC39*AD39),\"\",(IF(R39>Saisies!$C$7,\"\",IF(ISERROR(IF(R39<Saisies!$B$7,\"\",T39)*Z39),IF(R39<Saisies!$B$7,\"\",T39),\"\")))*(IF(ISERROR(AA39+1),0,AA39))*AB39*AC39*AD39)","v":""},"",1,{"$f":"IF(R39>Saisies!$C$25,1,(IF(R39<Saisies!$B$25,1,IF(Saisies!$B$25=0,1,0))))","v":1},{"$f":"IF(R39>Saisies!$E$25,1,(IF(R39<Saisies!$D$25,1,IF(Saisies!$D$25=0,1,0))))","v":1},{"$f":"IF(R39>Saisies!$G$25,1,(IF(R39<Saisies!$F$25,1,IF(Saisies!$F$25<10,1,0))))","v":1},{"$f":"IF(R39>Saisies!$C$10,\"\",(IF(R39<Saisies!$B$10,\"\",U39)))","v":""},{"$f":"IF(R39>Saisies!$E$10,\"\",(IF(R39<Saisies!$D$10,\"\",U39)))","v":""},{"$f":"IF(R39>Saisies!$G$10,\"\",(IF(R39<Saisies!$F$10,\"\",U39)))","v":""},"2016-03-27","D",0,0,0,{"$f":"IF(MAX(AL39,(AL38+AJ39))>=Saisies!$E$4,(IF(AL38<=Saisies!$E$4,AH39,AM38)),0)","v":0},{"$f":"IF(AH39=Saisies!$C$7,MIN((ABS(Saisies!$E$4-AL38)),AO39),AO39)","v":""},{"$f":"IF(ISERROR((IF(AH39>Saisies!$C$7,\"\",IF(ISERROR(IF(AH39<Saisies!$B$7,\"\",AJ39)*AP39),IF(AH39<Saisies!$B$7,\"\",AJ39),\"\")))*(IF(ISERROR(AQ39+1),0,AQ39))*AR39*AS39*AT39),\"\",(IF(AH39>Saisies!$C$7,\"\",IF(ISERROR(IF(AH39<Saisies!$B$7,\"\",AJ39)*AP39),IF(AH39<Saisies!$B$7,\"\",AJ39),\"\")))*(IF(ISERROR(AQ39+1),0,AQ39))*AR39*AS39*AT39)","v":""},"",1,{"$f":"IF(AH39>Saisies!$C$25,1,(IF(AH39<Saisies!$B$25,1,IF(Saisies!$B$25=0,1,0))))","v":1},{"$f":"IF(AH39>Saisies!$E$25,1,(IF(AH39<Saisies!$D$25,1,IF(Saisies!$D$25=0,1,0))))","v":1},{"$f":"IF(AH39>Saisies!$G$25,1,(IF(AH39<Saisies!$F$25,1,IF(Saisies!$F$25<10,1,0))))","v":1},{"$f":"IF(AH39>Saisies!$C$10,\"\",(IF(AH39<Saisies!$B$10,\"\",AK39)))","v":""},{"$f":"IF(AH39>Saisies!$E$10,\"\",(IF(AH39<Saisies!$D$10,\"\",AK39)))","v":""},{"$f":"IF(AH39>Saisies!$G$10,\"\",(IF(AH39<Saisies!$F$10,\"\",AK39)))","v":""},"2016-04-27","M",8,7,0,{"$f":"IF(BB39>=Saisies!$E$4,(IF(BC38<=Saisies!$E$4,AX39,BC38)),0)","v":0},{"$f":"IF(AX39=Saisies!$C$7,MIN((ABS(Saisies!$E$4-BB38)),BE39),BE39)","v":""},{"$f":"IF(ISERROR((IF(AX39>Saisies!$C$7,\"\",IF(ISERROR(IF(AX39<Saisies!$B$7,\"\",AZ39)*BF39),IF(AX39<Saisies!$B$7,\"\",AZ39),\"\")))*(IF(ISERROR(BG39+1),0,BG39))*BH39*BI39*BJ39),\"\",(IF(AX39>Saisies!$C$7,\"\",IF(ISERROR(IF(AX39<Saisies!$B$7,\"\",AZ39)*BF39),IF(AX39<Saisies!$B$7,\"\",AZ39),\"\")))*(IF(ISERROR(BG39+1),0,BG39))*BH39*BI39*BJ39)","v":""},"",1,{"$f":"IF(AX39>Saisies!$C$25,1,(IF(AX39<Saisies!$B$25,1,IF(Saisies!$B$25=0,1,0))))","v":1},{"$f":"IF(AX39>Saisies!$E$25,1,(IF(AX39<Saisies!$D$25,1,IF(Saisies!$D$25=0,1,0))))","v":1},{"$f":"IF(AX39>Saisies!$G$25,1,(IF(AX39<Saisies!$F$25,1,IF(Saisies!$F$25<10,1,0))))","v":1},{"$f":"IF(AX39>Saisies!$C$10,\"\",(IF(AX39<Saisies!$B$10,\"\",BA39)))","v":""},{"$f":"IF(AX39>Saisies!$E$10,\"\",(IF(AX39<Saisies!$D$10,\"\",BA39)))","v":""},{"$f":"IF(AX39>Saisies!$G$10,\"\",(IF(AX39<Saisies!$F$10,\"\",BA39)))","v":""},"2016-05-27","V",4,7,0,{"$f":"IF(MAX(BR39,(BR38+BP39))>=Saisies!$E$4,(IF(BR38<=Saisies!$E$4,BN39,BS38)),0)","v":0},{"$f":"IF(BN39=Saisies!$C$7,MIN((ABS(Saisies!$E$4-BR38)),BU39),BU39)","v":""},{"$f":"IF(ISERROR((IF(BN39>Saisies!$C$7,\"\",IF(ISERROR(IF(BN39<Saisies!$B$7,\"\",BP39)*BV39),IF(BN39<Saisies!$B$7,\"\",BP39),\"\")))*(IF(ISERROR(BW39+1),0,BW39))*BX39*BY39*BZ39),\"\",(IF(BN39>Saisies!$C$7,\"\",IF(ISERROR(IF(BN39<Saisies!$B$7,\"\",BP39)*BV39),IF(BN39<Saisies!$B$7,\"\",BP39),\"\")))*(IF(ISERROR(BW39+1),0,BW39))*BX39*BY39*BZ39)","v":""},"",1,{"$f":"IF(BN39>Saisies!$C$25,1,(IF(BN39<Saisies!$B$25,1,IF(Saisies!$B$25=0,1,0))))","v":1},{"$f":"IF(BN39>Saisies!$E$25,1,(IF(BN39<Saisies!$D$25,1,IF(Saisies!$D$25=0,1,0))))","v":1},{"$f":"IF(BN39>Saisies!$G$25,1,(IF(BN39<Saisies!$F$25,1,IF(Saisies!$F$25<10,1,0))))","v":1},{"$f":"IF(BN39>Saisies!$C$10,\"\",(IF(BN39<Saisies!$B$10,\"\",BQ39)))","v":""},{"$f":"IF(BN39>Saisies!$E$10,\"\",(IF(BN39<Saisies!$D$10,\"\",BQ39)))","v":""},{"$f":"IF(BN39>Saisies!$G$10,\"\",(IF(BN39<Saisies!$F$10,\"\",BQ39)))","v":""},"2016-06-27","L",7,7,132,{"$f":"IF(MAX(CH39,(CH38+CF39))>=Saisies!$E$4,(IF(CH38<=Saisies!$E$4,CD39,CI38)),0)","v":0},{"$f":"IF(CD39=Saisies!$C$7,MIN((ABS(Saisies!$E$4-CH38)),CK39),CK39)","v":7},{"$f":"IF(ISERROR((IF(CD39>Saisies!$C$7,\"\",IF(ISERROR(IF(CD39<Saisies!$B$7,\"\",CF39)*CL39),IF(CD39<Saisies!$B$7,\"\",CF39),\"\")))*(IF(ISERROR(CM39+1),0,CM39))*CN39*CO39*CP39),\"\",(IF(CD39>Saisies!$C$7,\"\",IF(ISERROR(IF(CD39<Saisies!$B$7,\"\",CF39)*CL39),IF(CD39<Saisies!$B$7,\"\",CF39),\"\")))*(IF(ISERROR(CM39+1),0,CM39))*CN39*CO39*CP39)","v":7},"",1,{"$f":"IF(CD39>Saisies!$C$25,1,(IF(CD39<Saisies!$B$25,1,IF(Saisies!$B$25=0,1,0))))","v":1},{"$f":"IF(CD39>Saisies!$E$25,1,(IF(CD39<Saisies!$D$25,1,IF(Saisies!$D$25=0,1,0))))","v":1},{"$f":"IF(CD39>Saisies!$G$25,1,(IF(CD39<Saisies!$F$25,1,IF(Saisies!$F$25<10,1,0))))","v":1},{"$f":"IF(CD39>Saisies!$C$10,\"\",(IF(CD39<Saisies!$B$10,\"\",CG39)))","v":""},{"$f":"IF(CD39>Saisies!$E$10,\"\",(IF(CD39<Saisies!$D$10,\"\",CG39)))","v":""},{"$f":"IF(CD39>Saisies!$G$10,\"\",(IF(CD39<Saisies!$F$10,\"\",CG39)))","v":""},"2016-07-27","M",8,7,274,{"$f":"IF(MAX(CX39,(CX38+CV39))>=Saisies!$E$4,(IF(CX38<=Saisies!$E$4,CT39,CY38)),0)","v":0},{"$f":"IF(CT39=Saisies!$C$7,MIN((ABS(Saisies!$E$4-CX38)),DA39),DA39)","v":8},{"$f":"IF(ISERROR((IF(CT39>Saisies!$C$7,\"\",IF(ISERROR(IF(CT39<Saisies!$B$7,\"\",CV39)*DB39),IF(CT39<Saisies!$B$7,\"\",CV39),\"\")))*(IF(ISERROR(DC39+1),0,DC39))*DD39*DE39*DF39),\"\",(IF(CT39>Saisies!$C$7,\"\",IF(ISERROR(IF(CT39<Saisies!$B$7,\"\",CV39)*DB39),IF(CT39<Saisies!$B$7,\"\",CV39),\"\")))*(IF(ISERROR(DC39+1),0,DC39))*DD39*DE39*DF39)","v":8},"",1,{"$f":"IF(CT39>Saisies!$C$25,1,(IF(CT39<Saisies!$B$25,1,IF(Saisies!$B$25=0,1,0))))","v":1},{"$f":"IF(CT39>Saisies!$E$25,1,(IF(CT39<Saisies!$D$25,1,IF(Saisies!$D$25=0,1,0))))","v":1},{"$f":"IF(CT39>Saisies!$G$25,1,(IF(CT39<Saisies!$F$25,1,IF(Saisies!$F$25<10,1,0))))","v":1},{"$f":"IF(CT39>Saisies!$C$10,\"\",(IF(CT39<Saisies!$B$10,\"\",CW39)))","v":""},{"$f":"IF(CT39>Saisies!$E$10,\"\",(IF(CT39<Saisies!$D$10,\"\",CW39)))","v":""},{"$f":"IF(CT39>Saisies!$G$10,\"\",(IF(CT39<Saisies!$F$10,\"\",CW39)))","v":""},"2016-08-27","S",0,0,422,{"$f":"IF(DN39>=Saisies!$E$4,(IF(DO38<=Saisies!$E$4,DJ39,DO38)),0)","v":0},{"$f":"IF(DJ39=Saisies!$C$7,MIN((ABS(Saisies!$E$4-DN38)),DQ39),DQ39)","v":0},{"$f":"IF(ISERROR((IF(DJ39>Saisies!$C$7,\"\",IF(ISERROR(IF(DJ39<Saisies!$B$7,\"\",DL39)*DR39),IF(DJ39<Saisies!$B$7,\"\",DL39),\"\")))*(IF(ISERROR(DS39+1),0,DS39))*DT39*DU39*DV39),\"\",(IF(DJ39>Saisies!$C$7,\"\",IF(ISERROR(IF(DJ39<Saisies!$B$7,\"\",DL39)*DR39),IF(DJ39<Saisies!$B$7,\"\",DL39),\"\")))*(IF(ISERROR(DS39+1),0,DS39))*DT39*DU39*DV39)","v":0},"",1,{"$f":"IF(DJ39>Saisies!$C$25,1,(IF(DJ39<Saisies!$B$25,1,IF(Saisies!$B$25=0,1,0))))","v":1},{"$f":"IF(DJ39>Saisies!$E$25,1,(IF(DJ39<Saisies!$D$25,1,IF(Saisies!$D$25=0,1,0))))","v":1},{"$f":"IF(DJ39>Saisies!$G$25,1,(IF(DJ39<Saisies!$F$25,1,IF(Saisies!$F$25<10,1,0))))","v":1},{"$f":"IF(DJ39>Saisies!$C$10,\"\",(IF(DJ39<Saisies!$B$10,\"\",DM39)))","v":""},{"$f":"IF(DJ39>Saisies!$E$10,\"\",(IF(DJ39<Saisies!$D$10,\"\",DM39)))","v":""},{"$f":"IF(DJ39>Saisies!$G$10,\"\",(IF(DJ39<Saisies!$F$10,\"\",DM39)))","v":""},"2016-09-27","M",8,7,492,{"$f":"IF(ED39>=Saisies!$E$4,(IF(EE38<=Saisies!$E$4,DZ39,EE38)),0)","v":42622},{"$f":"IF(DZ39=Saisies!$C$7,MIN((ABS(Saisies!$E$4-ED38)),EG39),EG39)","v":""},{"$f":"IF(ISERROR((IF(DZ39>Saisies!$C$7,\"\",IF(ISERROR(IF(DZ39<Saisies!$B$7,\"\",EB39)*EH39),IF(DZ39<Saisies!$B$7,\"\",EB39),\"\")))*(IF(ISERROR(EI39+1),0,EI39))*EJ39*EK39*EL39),\"\",(IF(DZ39>Saisies!$C$7,\"\",IF(ISERROR(IF(DZ39<Saisies!$B$7,\"\",EB39)*EH39),IF(DZ39<Saisies!$B$7,\"\",EB39),\"\")))*(IF(ISERROR(EI39+1),0,EI39))*EJ39*EK39*EL39)","v":""},"",1,{"$f":"IF(DZ39>Saisies!$C$25,1,(IF(DZ39<Saisies!$B$25,1,IF(Saisies!$B$25=0,1,0))))","v":1},{"$f":"IF(DZ39>Saisies!$E$25,1,(IF(DZ39<Saisies!$D$25,1,IF(Saisies!$D$25=0,1,0))))","v":1},{"$f":"IF(DZ39>Saisies!$G$25,1,(IF(DZ39<Saisies!$F$25,1,IF(Saisies!$F$25<10,1,0))))","v":1},{"$f":"IF(DZ39>Saisies!$C$10,\"\",(IF(DZ39<Saisies!$B$10,\"\",EC39)))","v":""},{"$f":"IF(DZ39>Saisies!$E$10,\"\",(IF(DZ39<Saisies!$D$10,\"\",EC39)))","v":""},{"$f":"IF(DZ39>Saisies!$G$10,\"\",(IF(DZ39<Saisies!$F$10,\"\",EC39)))","v":""},"2016-10-27","J",8,7,492,{"$f":"IF(ET39>=Saisies!$E$4,(IF(EU38<=Saisies!$E$4,EP39,EU38)),0)","v":42622},{"$f":"IF(EP39=Saisies!$C$7,MIN((ABS(Saisies!$E$4-ET38)),EW39),EW39)","v":""},{"$f":"IF(ISERROR((IF(EP39>Saisies!$C$7,\"\",IF(ISERROR(IF(EP39<Saisies!$B$7,\"\",ER39)*EX39),IF(EP39<Saisies!$B$7,\"\",ER39),\"\")))*(IF(ISERROR(EY39+1),0,EY39))*EZ39*FA39*FB39),\"\",(IF(EP39>Saisies!$C$7,\"\",IF(ISERROR(IF(EP39<Saisies!$B$7,\"\",ER39)*EX39),IF(EP39<Saisies!$B$7,\"\",ER39),\"\")))*(IF(ISERROR(EY39+1),0,EY39))*EZ39*FA39*FB39)","v":""},"",1,{"$f":"IF(EP39>Saisies!$C$25,1,(IF(EP39<Saisies!$B$25,1,IF(Saisies!$B$25=0,1,0))))","v":1},{"$f":"IF(EP39>Saisies!$E$25,1,(IF(EP39<Saisies!$D$25,1,IF(Saisies!$D$25=0,1,0))))","v":1},{"$f":"IF(EP39>Saisies!$G$25,1,(IF(EP39<Saisies!$F$25,1,IF(Saisies!$F$25<10,1,0))))","v":1},{"$f":"IF(EP39>Saisies!$C$10,\"\",(IF(EP39<Saisies!$B$10,\"\",ES39)))","v":""},{"$f":"IF(EP39>Saisies!$E$10,\"\",(IF(EP39<Saisies!$D$10,\"\",ES39)))","v":""},{"$f":"IF(EP39>Saisies!$G$10,\"\",(IF(EP39<Saisies!$F$10,\"\",ES39)))","v":""},"2016-11-27","D",0,0,492,{"$f":"IF(FJ39>=Saisies!$E$4,(IF(FK38<=Saisies!$E$4,FF39,FK38)),0)","v":42622},{"$f":"IF(FF39=Saisies!$C$7,MIN((ABS(Saisies!$E$4-FJ38)),FM39),FM39)","v":""},{"$f":"IF(ISERROR((IF(FF39>Saisies!$C$7,\"\",IF(ISERROR(IF(FF39<Saisies!$B$7,\"\",FH39)*FN39),IF(FF39<Saisies!$B$7,\"\",FH39),\"\")))*(IF(ISERROR(FO39+1),0,FO39))*FP39*FQ39*FR39),\"\",(IF(FF39>Saisies!$C$7,\"\",IF(ISERROR(IF(FF39<Saisies!$B$7,\"\",FH39)*FN39),IF(FF39<Saisies!$B$7,\"\",FH39),\"\")))*(IF(ISERROR(FO39+1),0,FO39))*FP39*FQ39*FR39)","v":""},"",1,{"$f":"IF(FF39>Saisies!$C$25,1,(IF(FF39<Saisies!$B$25,1,IF(Saisies!$B$25=0,1,0))))","v":1},{"$f":"IF(FF39>Saisies!$E$25,1,(IF(FF39<Saisies!$D$25,1,IF(Saisies!$D$25=0,1,0))))","v":1},{"$f":"IF(FF39>Saisies!$G$25,1,(IF(FF39<Saisies!$F$25,1,IF(Saisies!$F$25<10,1,0))))","v":1},{"$f":"IF(FF39>Saisies!$C$10,\"\",(IF(FF39<Saisies!$B$10,\"\",FI39)))","v":""},{"$f":"IF(FF39>Saisies!$E$10,\"\",(IF(FF39<Saisies!$D$10,\"\",FI39)))","v":""},{"$f":"IF(FF39>Saisies!$G$10,\"\",(IF(FF39<Saisies!$F$10,\"\",FI39)))","v":""},"2016-12-27","M",8,7,492,{"$f":"IF(FZ39>=Saisies!$E$4,(IF(GA38<=Saisies!$E$4,FV39,GA38)),0)","v":42622},{"$f":"IF(FV39=Saisies!$C$7,MIN((ABS(Saisies!$E$4-FZ38)),GC39),GC39)","v":""},{"$f":"IF(ISERROR((IF(FV39>Saisies!$C$7,\"\",IF(ISERROR(IF(FV39<Saisies!$B$7,\"\",FX39)*GD39),IF(FV39<Saisies!$B$7,\"\",FX39),\"\")))*(IF(ISERROR(GE39+1),0,GE39))*GF39*GG39*GH39),\"\",(IF(FV39>Saisies!$C$7,\"\",IF(ISERROR(IF(FV39<Saisies!$B$7,\"\",FX39)*GD39),IF(FV39<Saisies!$B$7,\"\",FX39),\"\")))*(IF(ISERROR(GE39+1),0,GE39))*GF39*GG39*GH39)","v":""},"","R",{"$f":"IF(FV39>Saisies!$C$25,1,(IF(FV39<Saisies!$B$25,1,IF(Saisies!$B$25=0,1,0))))","v":1},{"$f":"IF(FV39>Saisies!$E$25,1,(IF(FV39<Saisies!$D$25,1,IF(Saisies!$D$25=0,1,0))))","v":1},{"$f":"IF(FV39>Saisies!$G$25,1,(IF(FV39<Saisies!$F$25,1,IF(Saisies!$F$25<10,1,0))))","v":1},{"$f":"IF(FV39>Saisies!$C$10,\"\",(IF(FV39<Saisies!$B$10,\"\",FY39)))","v":""},{"$f":"IF(FV39>Saisies!$E$10,\"\",(IF(FV39<Saisies!$D$10,\"\",FY39)))","v":""},{"$f":"IF(FV39>Saisies!$G$10,\"\",(IF(FV39<Saisies!$F$10,\"\",FY39)))","v":""},null,null,0]
[null,"2016-01-28","J",8,7,0,{"$f":"IF(MAX(F40,(F39+D40))>=Saisies!$E$4,(IF(F39<=Saisies!$E$4,B40,G39)),0)","v":0},{"$f":"IF(B40=Saisies!$C$7,MIN((ABS(Saisies!$E$4-F39)),I40),I40)","v":""},{"$f":"IF(ISERROR((IF(B40>Saisies!$C$7,\"\",IF(ISERROR(IF(B40<Saisies!$B$7,\"\",D40)*J40),IF(B40<Saisies!$B$7,\"\",D40),\"\")))*(IF(ISERROR(K40+1),0,K40))*L40*M40*N40),\"\",(IF(B40>Saisies!$C$7,\"\",IF(ISERROR(IF(B40<Saisies!$B$7,\"\",D40)*J40),IF(B40<Saisies!$B$7,\"\",D40),\"\")))*(IF(ISERROR(K40+1),0,K40))*L40*M40*N40)","v":""},"",1,{"$f":"IF(B40>Saisies!$C$25,1,(IF(B40<Saisies!$B$25,1,IF(Saisies!$B$25=0,1,0))))","v":1},{"$f":"IF(B40>Saisies!$E$25,1,(IF(B40<Saisies!$D$25,1,IF(Saisies!$D$25=0,1,0))))","v":1},{"$f":"IF(B40>Saisies!$G$25,1,(IF(B40<Saisies!$F$25,1,IF(Saisies!$F$25<10,1,0))))","v":1},{"$f":"IF(B40>Saisies!$C$10,\"\",(IF(B40<Saisies!$B$10,\"\",E40)))","v":""},{"$f":"IF(B40>Saisies!$E$10,\"\",(IF(B40<Saisies!$D$10,\"\",E40)))","v":""},{"$f":"IF(B40>Saisies!$G$10,\"\",(IF(B40<Saisies!$F$10,\"\",E40)))","v":""},"2016-02-28","D",0,0,0,{"$f":"IF(MAX(V40,(V39+T40))>=Saisies!$E$4,(IF(V39<=Saisies!$E$4,R40,W39)),0)","v":0},{"$f":"IF(R40=Saisies!$C$7,MIN((ABS(Saisies!$E$4-V39)),Y40),Y40)","v":""},{"$f":"IF(ISERROR((IF(R40>Saisies!$C$7,\"\",IF(ISERROR(IF(R40<Saisies!$B$7,\"\",T40)*Z40),IF(R40<Saisies!$B$7,\"\",T40),\"\")))*(IF(ISERROR(AA40+1),0,AA40))*AB40*AC40*AD40),\"\",(IF(R40>Saisies!$C$7,\"\",IF(ISERROR(IF(R40<Saisies!$B$7,\"\",T40)*Z40),IF(R40<Saisies!$B$7,\"\",T40),\"\")))*(IF(ISERROR(AA40+1),0,AA40))*AB40*AC40*AD40)","v":""},"",1,{"$f":"IF(R40>Saisies!$C$25,1,(IF(R40<Saisies!$B$25,1,IF(Saisies!$B$25=0,1,0))))","v":1},{"$f":"IF(R40>Saisies!$E$25,1,(IF(R40<Saisies!$D$25,1,IF(Saisies!$D$25=0,1,0))))","v":1},{"$f":"IF(R40>Saisies!$G$25,1,(IF(R40<Saisies!$F$25,1,IF(Saisies!$F$25<10,1,0))))","v":1},{"$f":"IF(R40>Saisies!$C$10,\"\",(IF(R40<Saisies!$B$10,\"\",U40)))","v":""},{"$f":"IF(R40>Saisies!$E$10,\"\",(IF(R40<Saisies!$D$10,\"\",U40)))","v":""},{"$f":"IF(R40>Saisies!$G$10,\"\",(IF(R40<Saisies!$F$10,\"\",U40)))","v":""},"2016-03-28","L",7,7,0,{"$f":"IF(MAX(AL40,(AL39+AJ40))>=Saisies!$E$4,(IF(AL39<=Saisies!$E$4,AH40,AM39)),0)","v":0},{"$f":"IF(AH40=Saisies!$C$7,MIN((ABS(Saisies!$E$4-AL39)),AO40),AO40)","v":""},{"$f":"IF(ISERROR((IF(AH40>Saisies!$C$7,\"\",IF(ISERROR(IF(AH40<Saisies!$B$7,\"\",AJ40)*AP40),IF(AH40<Saisies!$B$7,\"\",AJ40),\"\")))*(IF(ISERROR(AQ40+1),0,AQ40))*AR40*AS40*AT40),\"\",(IF(AH40>Saisies!$C$7,\"\",IF(ISERROR(IF(AH40<Saisies!$B$7,\"\",AJ40)*AP40),IF(AH40<Saisies!$B$7,\"\",AJ40),\"\")))*(IF(ISERROR(AQ40+1),0,AQ40))*AR40*AS40*AT40)","v":""},"","B",{"$f":"IF(AH40>Saisies!$C$25,1,(IF(AH40<Saisies!$B$25,1,IF(Saisies!$B$25=0,1,0))))","v":1},{"$f":"IF(AH40>Saisies!$E$25,1,(IF(AH40<Saisies!$D$25,1,IF(Saisies!$D$25=0,1,0))))","v":1},{"$f":"IF(AH40>Saisies!$G$25,1,(IF(AH40<Saisies!$F$25,1,IF(Saisies!$F$25<10,1,0))))","v":1},{"$f":"IF(AH40>Saisies!$C$10,\"\",(IF(AH40<Saisies!$B$10,\"\",AK40)))","v":""},{"$f":"IF(AH40>Saisies!$E$10,\"\",(IF(AH40<Saisies!$D$10,\"\",AK40)))","v":""},{"$f":"IF(AH40>Saisies!$G$10,\"\",(IF(AH40<Saisies!$F$10,\"\",AK40)))","v":""},"2016-04-28","J",8,7,0,{"$f":"IF(BB40>=Saisies!$E$4,(IF(BC39<=Saisies!$E$4,AX40,BC39)),0)","v":0},{"$f":"IF(AX40=Saisies!$C$7,MIN((ABS(Saisies!$E$4-BB39)),BE40),BE40)","v":""},{"$f":"IF(ISERROR((IF(AX40>Saisies!$C$7,\"\",IF(ISERROR(IF(AX40<Saisies!$B$7,\"\",AZ40)*BF40),IF(AX40<Saisies!$B$7,\"\",AZ40),\"\")))*(IF(ISERROR(BG40+1),0,BG40))*BH40*BI40*BJ40),\"\",(IF(AX40>Saisies!$C$7,\"\",IF(ISERROR(IF(AX40<Saisies!$B$7,\"\",AZ40)*BF40),IF(AX40<Saisies!$B$7,\"\",AZ40),\"\")))*(IF(ISERROR(BG40+1),0,BG40))*BH40*BI40*BJ40)","v":""},"",1,{"$f":"IF(AX40>Saisies!$C$25,1,(IF(AX40<Saisies!$B$25,1,IF(Saisies!$B$25=0,1,0))))","v":1},{"$f":"IF(AX40>Saisies!$E$25,1,(IF(AX40<Saisies!$D$25,1,IF(Saisies!$D$25=0,1,0))))","v":1},{"$f":"IF(AX40>Saisies!$G$25,1,(IF(AX40<Saisies!$F$25,1,IF(Saisies!$F$25<10,1,0))))","v":1},{"$f":"IF(AX40>Saisies!$C$10,\"\",(IF(AX40<Saisies!$B$10,\"\",BA40)))","v":""},{"$f":"IF(AX40>Saisies!$E$10,\"\",(IF(AX40<Saisies!$D$10,\"\",BA40)))","v":""},{"$f":"IF(AX40>Saisies!$G$10,\"\",(IF(AX40<Saisies!$F$10,\"\",BA40)))","v":""},"2016-05-28","S",0,0,0,{"$f":"IF(MAX(BR40,(BR39+BP40))>=Saisies!$E$4,(IF(BR39<=Saisies!$E$4,BN40,BS39)),0)","v":0},{"$f":"IF(BN40=Saisies!$C$7,MIN((ABS(Saisies!$E$4-BR39)),BU40),BU40)","v":""},{"$f":"IF(ISERROR((IF(BN40>Saisies!$C$7,\"\",IF(ISERROR(IF(BN40<Saisies!$B$7,\"\",BP40)*BV40),IF(BN40<Saisies!$B$7,\"\",BP40),\"\")))*(IF(ISERROR(BW40+1),0,BW40))*BX40*BY40*BZ40),\"\",(IF(BN40>Saisies!$C$7,\"\",IF(ISERROR(IF(BN40<Saisies!$B$7,\"\",BP40)*BV40),IF(BN40<Saisies!$B$7,\"\",BP40),\"\")))*(IF(ISERROR(BW40+1),0,BW40))*BX40*BY40*BZ40)","v":""},"",1,{"$f":"IF(BN40>Saisies!$C$25,1,(IF(BN40<Saisies!$B$25,1,IF(Saisies!$B$25=0,1,0))))","v":1},{"$f":"IF(BN40>Saisies!$E$25,1,(IF(BN40<Saisies!$D$25,1,IF(Saisies!$D$25=0,1,0))))","v":1},{"$f":"IF(BN40>Saisies!$G$25,1,(IF(BN40<Saisies!$F$25,1,IF(Saisies!$F$25<10,1,0))))","v":1},{"$f":"IF(BN40>Saisies!$C$10,\"\",(IF(BN40<Saisies!$B$10,\"\",BQ40)))","v":""},{"$f":"IF(BN40>Saisies!$E$10,\"\",(IF(BN40<Saisies!$D$10,\"\",BQ40)))","v":""},{"$f":"IF(BN40>Saisies!$G$10,\"\",(IF(BN40<Saisies!$F$10,\"\",BQ40)))","v":""},"2016-06-28","M",8,7,140,{"$f":"IF(MAX(CH40,(CH39+CF40))>=Saisies!$E$4,(IF(CH39<=Saisies!$E$4,CD40,CI39)),0)","v":0},{"$f":"IF(CD40=Saisies!$C$7,MIN((ABS(Saisies!$E$4-CH39)),CK40),CK40)","v":8},{"$f":"IF(ISERROR((IF(CD40>Saisies!$C$7,\"\",IF(ISERROR(IF(CD40<Saisies!$B$7,\"\",CF40)*CL40),IF(CD40<Saisies!$B$7,\"\",CF40),\"\")))*(IF(ISERROR(CM40+1),0,CM40))*CN40*CO40*CP40),\"\",(IF(CD40>Saisies!$C$7,\"\",IF(ISERROR(IF(CD40<Saisies!$B$7,\"\",CF40)*CL40),IF(CD40<Saisies!$B$7,\"\",CF40),\"\")))*(IF(ISERROR(CM40+1),0,CM40))*CN40*CO40*CP40)","v":8},"",1,{"$f":"IF(CD40>Saisies!$C$25,1,(IF(CD40<Saisies!$B$25,1,IF(Saisies!$B$25=0,1,0))))","v":1},{"$f":"IF(CD40>Saisies!$E$25,1,(IF(CD40<Saisies!$D$25,1,IF(Saisies!$D$25=0,1,0))))","v":1},{"$f":"IF(CD40>Saisies!$G$25,1,(IF(CD40<Saisies!$F$25,1,IF(Saisies!$F$25<10,1,0))))","v":1},{"$f":"IF(CD40>Saisies!$C$10,\"\",(IF(CD40<Saisies!$B$10,\"\",CG40)))","v":""},{"$f":"IF(CD40>Saisies!$E$10,\"\",(IF(CD40<Saisies!$D$10,\"\",CG40)))","v":""},{"$f":"IF(CD40>Saisies!$G$10,\"\",(IF(CD40<Saisies!$F$10,\"\",CG40)))","v":""},"2016-07-28","J",8,7,282,{"$f":"IF(MAX(CX40,(CX39+CV40))>=Saisies!$E$4,(IF(CX39<=Saisies!$E$4,CT40,CY39)),0)","v":0},{"$f":"IF(CT40=Saisies!$C$7,MIN((ABS(Saisies!$E$4-CX39)),DA40),DA40)","v":8},{"$f":"IF(ISERROR((IF(CT40>Saisies!$C$7,\"\",IF(ISERROR(IF(CT40<Saisies!$B$7,\"\",CV40)*DB40),IF(CT40<Saisies!$B$7,\"\",CV40),\"\")))*(IF(ISERROR(DC40+1),0,DC40))*DD40*DE40*DF40),\"\",(IF(CT40>Saisies!$C$7,\"\",IF(ISERROR(IF(CT40<Saisies!$B$7,\"\",CV40)*DB40),IF(CT40<Saisies!$B$7,\"\",CV40),\"\")))*(IF(ISERROR(DC40+1),0,DC40))*DD40*DE40*DF40)","v":8},"",1,{"$f":"IF(CT40>Saisies!$C$25,1,(IF(CT40<Saisies!$B$25,1,IF(Saisies!$B$25=0,1,0))))","v":1},{"$f":"IF(CT40>Saisies!$E$25,1,(IF(CT40<Saisies!$D$25,1,IF(Saisies!$D$25=0,1,0))))","v":1},{"$f":"IF(CT40>Saisies!$G$25,1,(IF(CT40<Saisies!$F$25,1,IF(Saisies!$F$25<10,1,0))))","v":1},{"$f":"IF(CT40>Saisies!$C$10,\"\",(IF(CT40<Saisies!$B$10,\"\",CW40)))","v":""},{"$f":"IF(CT40>Saisies!$E$10,\"\",(IF(CT40<Saisies!$D$10,\"\",CW40)))","v":""},{"$f":"IF(CT40>Saisies!$G$10,\"\",(IF(CT40<Saisies!$F$10,\"\",CW40)))","v":""},"2016-08-28","D",0,0,422,{"$f":"IF(DN40>=Saisies!$E$4,(IF(DO39<=Saisies!$E$4,DJ40,DO39)),0)","v":0},{"$f":"IF(DJ40=Saisies!$C$7,MIN((ABS(Saisies!$E$4-DN39)),DQ40),DQ40)","v":0},{"$f":"IF(ISERROR((IF(DJ40>Saisies!$C$7,\"\",IF(ISERROR(IF(DJ40<Saisies!$B$7,\"\",DL40)*DR40),IF(DJ40<Saisies!$B$7,\"\",DL40),\"\")))*(IF(ISERROR(DS40+1),0,DS40))*DT40*DU40*DV40),\"\",(IF(DJ40>Saisies!$C$7,\"\",IF(ISERROR(IF(DJ40<Saisies!$B$7,\"\",DL40)*DR40),IF(DJ40<Saisies!$B$7,\"\",DL40),\"\")))*(IF(ISERROR(DS40+1),0,DS40))*DT40*DU40*DV40)","v":0},"",1,{"$f":"IF(DJ40>Saisies!$C$25,1,(IF(DJ40<Saisies!$B$25,1,IF(Saisies!$B$25=0,1,0))))","v":1},{"$f":"IF(DJ40>Saisies!$E$25,1,(IF(DJ40<Saisies!$D$25,1,IF(Saisies!$D$25=0,1,0))))","v":1},{"$f":"IF(DJ40>Saisies!$G$25,1,(IF(DJ40<Saisies!$F$25,1,IF(Saisies!$F$25<10,1,0))))","v":1},{"$f":"IF(DJ40>Saisies!$C$10,\"\",(IF(DJ40<Saisies!$B$10,\"\",DM40)))","v":""},{"$f":"IF(DJ40>Saisies!$E$10,\"\",(IF(DJ40<Saisies!$D$10,\"\",DM40)))","v":""},{"$f":"IF(DJ40>Saisies!$G$10,\"\",(IF(DJ40<Saisies!$F$10,\"\",DM40)))","v":""},"2016-09-28","M",8,7,492,{"$f":"IF(ED40>=Saisies!$E$4,(IF(EE39<=Saisies!$E$4,DZ40,EE39)),0)","v":42622},{"$f":"IF(DZ40=Saisies!$C$7,MIN((ABS(Saisies!$E$4-ED39)),EG40),EG40)","v":""},{"$f":"IF(ISERROR((IF(DZ40>Saisies!$C$7,\"\",IF(ISERROR(IF(DZ40<Saisies!$B$7,\"\",EB40)*EH40),IF(DZ40<Saisies!$B$7,\"\",EB40),\"\")))*(IF(ISERROR(EI40+1),0,EI40))*EJ40*EK40*EL40),\"\",(IF(DZ40>Saisies!$C$7,\"\",IF(ISERROR(IF(DZ40<Saisies!$B$7,\"\",EB40)*EH40),IF(DZ40<Saisies!$B$7,\"\",EB40),\"\")))*(IF(ISERROR(EI40+1),0,EI40))*EJ40*EK40*EL40)","v":""},"",1,{"$f":"IF(DZ40>Saisies!$C$25,1,(IF(DZ40<Saisies!$B$25,1,IF(Saisies!$B$25=0,1,0))))","v":1},{"$f":"IF(DZ40>Saisies!$E$25,1,(IF(DZ40<Saisies!$D$25,1,IF(Saisies!$D$25=0,1,0))))","v":1},{"$f":"IF(DZ40>Saisies!$G$25,1,(IF(DZ40<Saisies!$F$25,1,IF(Saisies!$F$25<10,1,0))))","v":1},{"$f":"IF(DZ40>Saisies!$C$10,\"\",(IF(DZ40<Saisies!$B$10,\"\",EC40)))","v":""},{"$f":"IF(DZ40>Saisies!$E$10,\"\",(IF(DZ40<Saisies!$D$10,\"\",EC40)))","v":""},{"$f":"IF(DZ40>Saisies!$G$10,\"\",(IF(DZ40<Saisies!$F$10,\"\",EC40)))","v":""},"2016-10-28","V",4,7,492,{"$f":"IF(ET40>=Saisies!$E$4,(IF(EU39<=Saisies!$E$4,EP40,EU39)),0)","v":42622},{"$f":"IF(EP40=Saisies!$C$7,MIN((ABS(Saisies!$E$4-ET39)),EW40),EW40)","v":""},{"$f":"IF(ISERROR((IF(EP40>Saisies!$C$7,\"\",IF(ISERROR(IF(EP40<Saisies!$B$7,\"\",ER40)*EX40),IF(EP40<Saisies!$B$7,\"\",ER40),\"\")))*(IF(ISERROR(EY40+1),0,EY40))*EZ40*FA40*FB40),\"\",(IF(EP40>Saisies!$C$7,\"\",IF(ISERROR(IF(EP40<Saisies!$B$7,\"\",ER40)*EX40),IF(EP40<Saisies!$B$7,\"\",ER40),\"\")))*(IF(ISERROR(EY40+1),0,EY40))*EZ40*FA40*FB40)","v":""},"",1,{"$f":"IF(EP40>Saisies!$C$25,1,(IF(EP40<Saisies!$B$25,1,IF(Saisies!$B$25=0,1,0))))","v":1},{"$f":"IF(EP40>Saisies!$E$25,1,(IF(EP40<Saisies!$D$25,1,IF(Saisies!$D$25=0,1,0))))","v":1},{"$f":"IF(EP40>Saisies!$G$25,1,(IF(EP40<Saisies!$F$25,1,IF(Saisies!$F$25<10,1,0))))","v":1},{"$f":"IF(EP40>Saisies!$C$10,\"\",(IF(EP40<Saisies!$B$10,\"\",ES40)))","v":""},{"$f":"IF(EP40>Saisies!$E$10,\"\",(IF(EP40<Saisies!$D$10,\"\",ES40)))","v":""},{"$f":"IF(EP40>Saisies!$G$10,\"\",(IF(EP40<Saisies!$F$10,\"\",ES40)))","v":""},"2016-11-28","L",7,7,492,{"$f":"IF(FJ40>=Saisies!$E$4,(IF(FK39<=Saisies!$E$4,FF40,FK39)),0)","v":42622},{"$f":"IF(FF40=Saisies!$C$7,MIN((ABS(Saisies!$E$4-FJ39)),FM40),FM40)","v":""},{"$f":"IF(ISERROR((IF(FF40>Saisies!$C$7,\"\",IF(ISERROR(IF(FF40<Saisies!$B$7,\"\",FH40)*FN40),IF(FF40<Saisies!$B$7,\"\",FH40),\"\")))*(IF(ISERROR(FO40+1),0,FO40))*FP40*FQ40*FR40),\"\",(IF(FF40>Saisies!$C$7,\"\",IF(ISERROR(IF(FF40<Saisies!$B$7,\"\",FH40)*FN40),IF(FF40<Saisies!$B$7,\"\",FH40),\"\")))*(IF(ISERROR(FO40+1),0,FO40))*FP40*FQ40*FR40)","v":""},"",1,{"$f":"IF(FF40>Saisies!$C$25,1,(IF(FF40<Saisies!$B$25,1,IF(Saisies!$B$25=0,1,0))))","v":1},{"$f":"IF(FF40>Saisies!$E$25,1,(IF(FF40<Saisies!$D$25,1,IF(Saisies!$D$25=0,1,0))))","v":1},{"$f":"IF(FF40>Saisies!$G$25,1,(IF(FF40<Saisies!$F$25,1,IF(Saisies!$F$25<10,1,0))))","v":1},{"$f":"IF(FF40>Saisies!$C$10,\"\",(IF(FF40<Saisies!$B$10,\"\",FI40)))","v":""},{"$f":"IF(FF40>Saisies!$E$10,\"\",(IF(FF40<Saisies!$D$10,\"\",FI40)))","v":""},{"$f":"IF(FF40>Saisies!$G$10,\"\",(IF(FF40<Saisies!$F$10,\"\",FI40)))","v":""},"2016-12-28","M",8,7,492,{"$f":"IF(FZ40>=Saisies!$E$4,(IF(GA39<=Saisies!$E$4,FV40,GA39)),0)","v":42622},{"$f":"IF(FV40=Saisies!$C$7,MIN((ABS(Saisies!$E$4-FZ39)),GC40),GC40)","v":""},{"$f":"IF(ISERROR((IF(FV40>Saisies!$C$7,\"\",IF(ISERROR(IF(FV40<Saisies!$B$7,\"\",FX40)*GD40),IF(FV40<Saisies!$B$7,\"\",FX40),\"\")))*(IF(ISERROR(GE40+1),0,GE40))*GF40*GG40*GH40),\"\",(IF(FV40>Saisies!$C$7,\"\",IF(ISERROR(IF(FV40<Saisies!$B$7,\"\",FX40)*GD40),IF(FV40<Saisies!$B$7,\"\",FX40),\"\")))*(IF(ISERROR(GE40+1),0,GE40))*GF40*GG40*GH40)","v":""},"","R",{"$f":"IF(FV40>Saisies!$C$25,1,(IF(FV40<Saisies!$B$25,1,IF(Saisies!$B$25=0,1,0))))","v":1},{"$f":"IF(FV40>Saisies!$E$25,1,(IF(FV40<Saisies!$D$25,1,IF(Saisies!$D$25=0,1,0))))","v":1},{"$f":"IF(FV40>Saisies!$G$25,1,(IF(FV40<Saisies!$F$25,1,IF(Saisies!$F$25<10,1,0))))","v":1},{"$f":"IF(FV40>Saisies!$C$10,\"\",(IF(FV40<Saisies!$B$10,\"\",FY40)))","v":""},{"$f":"IF(FV40>Saisies!$E$10,\"\",(IF(FV40<Saisies!$D$10,\"\",FY40)))","v":""},{"$f":"IF(FV40>Saisies!$G$10,\"\",(IF(FV40<Saisies!$F$10,\"\",FY40)))","v":""},null,null,0]
[null,"2016-01-29","V",4,7,0,{"$f":"IF(MAX(F41,(F40+D41))>=Saisies!$E$4,(IF(F40<=Saisies!$E$4,B41,G40)),0)","v":0},{"$f":"IF(B41=Saisies!$C$7,MIN((ABS(Saisies!$E$4-F40)),I41),I41)","v":""},{"$f":"IF(ISERROR((IF(B41>Saisies!$C$7,\"\",IF(ISERROR(IF(B41<Saisies!$B$7,\"\",D41)*J41),IF(B41<Saisies!$B$7,\"\",D41),\"\")))*(IF(ISERROR(K41+1),0,K41))*L41*M41*N41),\"\",(IF(B41>Saisies!$C$7,\"\",IF(ISERROR(IF(B41<Saisies!$B$7,\"\",D41)*J41),IF(B41<Saisies!$B$7,\"\",D41),\"\")))*(IF(ISERROR(K41+1),0,K41))*L41*M41*N41)","v":""},"",1,{"$f":"IF(B41>Saisies!$C$25,1,(IF(B41<Saisies!$B$25,1,IF(Saisies!$B$25=0,1,0))))","v":1},{"$f":"IF(B41>Saisies!$E$25,1,(IF(B41<Saisies!$D$25,1,IF(Saisies!$D$25=0,1,0))))","v":1},{"$f":"IF(B41>Saisies!$G$25,1,(IF(B41<Saisies!$F$25,1,IF(Saisies!$F$25<10,1,0))))","v":1},{"$f":"IF(B41>Saisies!$C$10,\"\",(IF(B41<Saisies!$B$10,\"\",E41)))","v":""},{"$f":"IF(B41>Saisies!$E$10,\"\",(IF(B41<Saisies!$D$10,\"\",E41)))","v":""},{"$f":"IF(B41>Saisies!$G$10,\"\",(IF(B41<Saisies!$F$10,\"\",E41)))","v":""},{"$f":"IF(B10=2016,R40+1,\"\")","v":"2016-02-29"},"L",{"$f":"IF(R41=\"\",0,LOOKUP(UPPER(LEFT(TEXT(R41,\"jjjj\"),2)),$GW$5:$GX$11))","v":7},{"$f":"IF(R41=\"\",0,LOOKUP(UPPER(LEFT(TEXT(R41,\"jjjj\"),2)),$GW$14:$GX$20))","v":7},0,{"$f":"IF(MAX(V41,(V40+T41))>=Saisies!$E$4,(IF(V40<=Saisies!$E$4,R41,W40)),0)","v":0},{"$f":"IF(R41=Saisies!$C$7,MIN((ABS(Saisies!$E$4-V40)),Y41),Y41)","v":""},{"$f":"IF(ISERROR((IF(R41>Saisies!$C$7,\"\",IF(ISERROR(IF(R41<Saisies!$B$7,\"\",T41)*Z41),IF(R41<Saisies!$B$7,\"\",T41),\"\")))*(IF(ISERROR(AA41+1),0,AA41))*AB41*AC41*AD41),\"\",(IF(R41>Saisies!$C$7,\"\",IF(ISERROR(IF(R41<Saisies!$B$7,\"\",T41)*Z41),IF(R41<Saisies!$B$7,\"\",T41),\"\")))*(IF(ISERROR(AA41+1),0,AA41))*AB41*AC41*AD41)","v":""},"",1,{"$f":"IF(R41>Saisies!$C$25,1,(IF(R41<Saisies!$B$25,1,IF(Saisies!$B$25=0,1,0))))","v":1},{"$f":"IF(R41>Saisies!$E$25,1,(IF(R41<Saisies!$D$25,1,IF(Saisies!$D$25=0,1,0))))","v":1},{"$f":"IF(R41>Saisies!$G$25,1,(IF(R41<Saisies!$F$25,1,IF(Saisies!$F$25<10,1,0))))","v":1},{"$f":"IF(R41>Saisies!$C$10,\"\",(IF(R41<Saisies!$B$10,\"\",U41)))","v":""},{"$f":"IF(R41>Saisies!$E$10,\"\",(IF(R41<Saisies!$D$10,\"\",U41)))","v":""},{"$f":"IF(R41>Saisies!$G$10,\"\",(IF(R41<Saisies!$F$10,\"\",U41)))","v":""},{"$f":"AH40+1","v":"2016-03-29"},"M",8,7,0,{"$f":"IF(MAX(AL41,(AL40+AJ41))>=Saisies!$E$4,(IF(AL40<=Saisies!$E$4,AH41,AM40)),0)","v":0},{"$f":"IF(AH41=Saisies!$C$7,MIN((ABS(Saisies!$E$4-AL40)),AO41),AO41)","v":""},{"$f":"IF(ISERROR((IF(AH41>Saisies!$C$7,\"\",IF(ISERROR(IF(AH41<Saisies!$B$7,\"\",AJ41)*AP41),IF(AH41<Saisies!$B$7,\"\",AJ41),\"\")))*(IF(ISERROR(AQ41+1),0,AQ41))*AR41*AS41*AT41),\"\",(IF(AH41>Saisies!$C$7,\"\",IF(ISERROR(IF(AH41<Saisies!$B$7,\"\",AJ41)*AP41),IF(AH41<Saisies!$B$7,\"\",AJ41),\"\")))*(IF(ISERROR(AQ41+1),0,AQ41))*AR41*AS41*AT41)","v":""},"",1,{"$f":"IF(AH41>Saisies!$C$25,1,(IF(AH41<Saisies!$B$25,1,IF(Saisies!$B$25=0,1,0))))","v":1},{"$f":"IF(AH41>Saisies!$E$25,1,(IF(AH41<Saisies!$D$25,1,IF(Saisies!$D$25=0,1,0))))","v":1},{"$f":"IF(AH41>Saisies!$G$25,1,(IF(AH41<Saisies!$F$25,1,IF(Saisies!$F$25<10,1,0))))","v":1},{"$f":"IF(AH41>Saisies!$C$10,\"\",(IF(AH41<Saisies!$B$10,\"\",AK41)))","v":""},{"$f":"IF(AH41>Saisies!$E$10,\"\",(IF(AH41<Saisies!$D$10,\"\",AK41)))","v":""},{"$f":"IF(AH41>Saisies!$G$10,\"\",(IF(AH41<Saisies!$F$10,\"\",AK41)))","v":""},"2016-04-29","V",4,7,0,{"$f":"IF(BB41>=Saisies!$E$4,(IF(BC40<=Saisies!$E$4,AX41,BC40)),0)","v":0},{"$f":"IF(AX41=Saisies!$C$7,MIN((ABS(Saisies!$E$4-BB40)),BE41),BE41)","v":""},{"$f":"IF(ISERROR((IF(AX41>Saisies!$C$7,\"\",IF(ISERROR(IF(AX41<Saisies!$B$7,\"\",AZ41)*BF41),IF(AX41<Saisies!$B$7,\"\",AZ41),\"\")))*(IF(ISERROR(BG41+1),0,BG41))*BH41*BI41*BJ41),\"\",(IF(AX41>Saisies!$C$7,\"\",IF(ISERROR(IF(AX41<Saisies!$B$7,\"\",AZ41)*BF41),IF(AX41<Saisies!$B$7,\"\",AZ41),\"\")))*(IF(ISERROR(BG41+1),0,BG41))*BH41*BI41*BJ41)","v":""},"",1,{"$f":"IF(AX41>Saisies!$C$25,1,(IF(AX41<Saisies!$B$25,1,IF(Saisies!$B$25=0,1,0))))","v":1},{"$f":"IF(AX41>Saisies!$E$25,1,(IF(AX41<Saisies!$D$25,1,IF(Saisies!$D$25=0,1,0))))","v":1},{"$f":"IF(AX41>Saisies!$G$25,1,(IF(AX41<Saisies!$F$25,1,IF(Saisies!$F$25<10,1,0))))","v":1},{"$f":"IF(AX41>Saisies!$C$10,\"\",(IF(AX41<Saisies!$B$10,\"\",BA41)))","v":""},{"$f":"IF(AX41>Saisies!$E$10,\"\",(IF(AX41<Saisies!$D$10,\"\",BA41)))","v":""},{"$f":"IF(AX41>Saisies!$G$10,\"\",(IF(AX41<Saisies!$F$10,\"\",BA41)))","v":""},"2016-05-29","D",0,0,0,{"$f":"IF(MAX(BR41,(BR40+BP41))>=Saisies!$E$4,(IF(BR40<=Saisies!$E$4,BN41,BS40)),0)","v":0},{"$f":"IF(BN41=Saisies!$C$7,MIN((ABS(Saisies!$E$4-BR40)),BU41),BU41)","v":""},{"$f":"IF(ISERROR((IF(BN41>Saisies!$C$7,\"\",IF(ISERROR(IF(BN41<Saisies!$B$7,\"\",BP41)*BV41),IF(BN41<Saisies!$B$7,\"\",BP41),\"\")))*(IF(ISERROR(BW41+1),0,BW41))*BX41*BY41*BZ41),\"\",(IF(BN41>Saisies!$C$7,\"\",IF(ISERROR(IF(BN41<Saisies!$B$7,\"\",BP41)*BV41),IF(BN41<Saisies!$B$7,\"\",BP41),\"\")))*(IF(ISERROR(BW41+1),0,BW41))*BX41*BY41*BZ41)","v":""},"",1,{"$f":"IF(BN41>Saisies!$C$25,1,(IF(BN41<Saisies!$B$25,1,IF(Saisies!$B$25=0,1,0))))","v":1},{"$f":"IF(BN41>Saisies!$E$25,1,(IF(BN41<Saisies!$D$25,1,IF(Saisies!$D$25=0,1,0))))","v":1},{"$f":"IF(BN41>Saisies!$G$25,1,(IF(BN41<Saisies!$F$25,1,IF(Saisies!$F$25<10,1,0))))","v":1},{"$f":"IF(BN41>Saisies!$C$10,\"\",(IF(BN41<Saisies!$B$10,\"\",BQ41)))","v":""},{"$f":"IF(BN41>Saisies!$E$10,\"\",(IF(BN41<Saisies!$D$10,\"\",BQ41)))","v":""},{"$f":"IF(BN41>Saisies!$G$10,\"\",(IF(BN41<Saisies!$F$10,\"\",BQ41)))","v":""},"2016-06-29","M",8,7,148,{"$f":"IF(MAX(CH41,(CH40+CF41))>=Saisies!$E$4,(IF(CH40<=Saisies!$E$4,CD41,CI40)),0)","v":0},{"$f":"IF(CD41=Saisies!$C$7,MIN((ABS(Saisies!$E$4-CH40)),CK41),CK41)","v":8},{"$f":"IF(ISERROR((IF(CD41>Saisies!$C$7,\"\",IF(ISERROR(IF(CD41<Saisies!$B$7,\"\",CF41)*CL41),IF(CD41<Saisies!$B$7,\"\",CF41),\"\")))*(IF(ISERROR(CM41+1),0,CM41))*CN41*CO41*CP41),\"\",(IF(CD41>Saisies!$C$7,\"\",IF(ISERROR(IF(CD41<Saisies!$B$7,\"\",CF41)*CL41),IF(CD41<Saisies!$B$7,\"\",CF41),\"\")))*(IF(ISERROR(CM41+1),0,CM41))*CN41*CO41*CP41)","v":8},"",1,{"$f":"IF(CD41>Saisies!$C$25,1,(IF(CD41<Saisies!$B$25,1,IF(Saisies!$B$25=0,1,0))))","v":1},{"$f":"IF(CD41>Saisies!$E$25,1,(IF(CD41<Saisies!$D$25,1,IF(Saisies!$D$25=0,1,0))))","v":1},{"$f":"IF(CD41>Saisies!$G$25,1,(IF(CD41<Saisies!$F$25,1,IF(Saisies!$F$25<10,1,0))))","v":1},{"$f":"IF(CD41>Saisies!$C$10,\"\",(IF(CD41<Saisies!$B$10,\"\",CG41)))","v":""},{"$f":"IF(CD41>Saisies!$E$10,\"\",(IF(CD41<Saisies!$D$10,\"\",CG41)))","v":""},{"$f":"IF(CD41>Saisies!$G$10,\"\",(IF(CD41<Saisies!$F$10,\"\",CG41)))","v":""},"2016-07-29","V",4,7,286,{"$f":"IF(MAX(CX41,(CX40+CV41))>=Saisies!$E$4,(IF(CX40<=Saisies!$E$4,CT41,CY40)),0)","v":0},{"$f":"IF(CT41=Saisies!$C$7,MIN((ABS(Saisies!$E$4-CX40)),DA41),DA41)","v":4},{"$f":"IF(ISERROR((IF(CT41>Saisies!$C$7,\"\",IF(ISERROR(IF(CT41<Saisies!$B$7,\"\",CV41)*DB41),IF(CT41<Saisies!$B$7,\"\",CV41),\"\")))*(IF(ISERROR(DC41+1),0,DC41))*DD41*DE41*DF41),\"\",(IF(CT41>Saisies!$C$7,\"\",IF(ISERROR(IF(CT41<Saisies!$B$7,\"\",CV41)*DB41),IF(CT41<Saisies!$B$7,\"\",CV41),\"\")))*(IF(ISERROR(DC41+1),0,DC41))*DD41*DE41*DF41)","v":4},"",1,{"$f":"IF(CT41>Saisies!$C$25,1,(IF(CT41<Saisies!$B$25,1,IF(Saisies!$B$25=0,1,0))))","v":1},{"$f":"IF(CT41>Saisies!$E$25,1,(IF(CT41<Saisies!$D$25,1,IF(Saisies!$D$25=0,1,0))))","v":1},{"$f":"IF(CT41>Saisies!$G$25,1,(IF(CT41<Saisies!$F$25,1,IF(Saisies!$F$25<10,1,0))))","v":1},{"$f":"IF(CT41>Saisies!$C$10,\"\",(IF(CT41<Saisies!$B$10,\"\",CW41)))","v":""},{"$f":"IF(CT41>Saisies!$E$10,\"\",(IF(CT41<Saisies!$D$10,\"\",CW41)))","v":""},{"$f":"IF(CT41>Saisies!$G$10,\"\",(IF(CT41<Saisies!$F$10,\"\",CW41)))","v":""},"2016-08-29","L",7,7,429,{"$f":"IF(DN41>=Saisies!$E$4,(IF(DO40<=Saisies!$E$4,DJ41,DO40)),0)","v":0},{"$f":"IF(DJ41=Saisies!$C$7,MIN((ABS(Saisies!$E$4-DN40)),DQ41),DQ41)","v":7},{"$f":"IF(ISERROR((IF(DJ41>Saisies!$C$7,\"\",IF(ISERROR(IF(DJ41<Saisies!$B$7,\"\",DL41)*DR41),IF(DJ41<Saisies!$B$7,\"\",DL41),\"\")))*(IF(ISERROR(DS41+1),0,DS41))*DT41*DU41*DV41),\"\",(IF(DJ41>Saisies!$C$7,\"\",IF(ISERROR(IF(DJ41<Saisies!$B$7,\"\",DL41)*DR41),IF(DJ41<Saisies!$B$7,\"\",DL41),\"\")))*(IF(ISERROR(DS41+1),0,DS41))*DT41*DU41*DV41)","v":7},"",1,{"$f":"IF(DJ41>Saisies!$C$25,1,(IF(DJ41<Saisies!$B$25,1,IF(Saisies!$B$25=0,1,0))))","v":1},{"$f":"IF(DJ41>Saisies!$E$25,1,(IF(DJ41<Saisies!$D$25,1,IF(Saisies!$D$25=0,1,0))))","v":1},{"$f":"IF(DJ41>Saisies!$G$25,1,(IF(DJ41<Saisies!$F$25,1,IF(Saisies!$F$25<10,1,0))))","v":1},{"$f":"IF(DJ41>Saisies!$C$10,\"\",(IF(DJ41<Saisies!$B$10,\"\",DM41)))","v":""},{"$f":"IF(DJ41>Saisies!$E$10,\"\",(IF(DJ41<Saisies!$D$10,\"\",DM41)))","v":""},{"$f":"IF(DJ41>Saisies!$G$10,\"\",(IF(DJ41<Saisies!$F$10,\"\",DM41)))","v":""},"2016-09-29","J",8,7,492,{"$f":"IF(ED41>=Saisies!$E$4,(IF(EE40<=Saisies!$E$4,DZ41,EE40)),0)","v":42622},{"$f":"IF(DZ41=Saisies!$C$7,MIN((ABS(Saisies!$E$4-ED40)),EG41),EG41)","v":""},{"$f":"IF(ISERROR((IF(DZ41>Saisies!$C$7,\"\",IF(ISERROR(IF(DZ41<Saisies!$B$7,\"\",EB41)*EH41),IF(DZ41<Saisies!$B$7,\"\",EB41),\"\")))*(IF(ISERROR(EI41+1),0,EI41))*EJ41*EK41*EL41),\"\",(IF(DZ41>Saisies!$C$7,\"\",IF(ISERROR(IF(DZ41<Saisies!$B$7,\"\",EB41)*EH41),IF(DZ41<Saisies!$B$7,\"\",EB41),\"\")))*(IF(ISERROR(EI41+1),0,EI41))*EJ41*EK41*EL41)","v":""},"",1,{"$f":"IF(DZ41>Saisies!$C$25,1,(IF(DZ41<Saisies!$B$25,1,IF(Saisies!$B$25=0,1,0))))","v":1},{"$f":"IF(DZ41>Saisies!$E$25,1,(IF(DZ41<Saisies!$D$25,1,IF(Saisies!$D$25=0,1,0))))","v":1},{"$f":"IF(DZ41>Saisies!$G$25,1,(IF(DZ41<Saisies!$F$25,1,IF(Saisies!$F$25<10,1,0))))","v":1},{"$f":"IF(DZ41>Saisies!$C$10,\"\",(IF(DZ41<Saisies!$B$10,\"\",EC41)))","v":""},{"$f":"IF(DZ41>Saisies!$E$10,\"\",(IF(DZ41<Saisies!$D$10,\"\",EC41)))","v":""},{"$f":"IF(DZ41>Saisies!$G$10,\"\",(IF(DZ41<Saisies!$F$10,\"\",EC41)))","v":""},"2016-10-29","S",0,0,492,{"$f":"IF(ET41>=Saisies!$E$4,(IF(EU40<=Saisies!$E$4,EP41,EU40)),0)","v":42622},{"$f":"IF(EP41=Saisies!$C$7,MIN((ABS(Saisies!$E$4-ET40)),EW41),EW41)","v":""},{"$f":"IF(ISERROR((IF(EP41>Saisies!$C$7,\"\",IF(ISERROR(IF(EP41<Saisies!$B$7,\"\",ER41)*EX41),IF(EP41<Saisies!$B$7,\"\",ER41),\"\")))*(IF(ISERROR(EY41+1),0,EY41))*EZ41*FA41*FB41),\"\",(IF(EP41>Saisies!$C$7,\"\",IF(ISERROR(IF(EP41<Saisies!$B$7,\"\",ER41)*EX41),IF(EP41<Saisies!$B$7,\"\",ER41),\"\")))*(IF(ISERROR(EY41+1),0,EY41))*EZ41*FA41*FB41)","v":""},"",1,{"$f":"IF(EP41>Saisies!$C$25,1,(IF(EP41<Saisies!$B$25,1,IF(Saisies!$B$25=0,1,0))))","v":1},{"$f":"IF(EP41>Saisies!$E$25,1,(IF(EP41<Saisies!$D$25,1,IF(Saisies!$D$25=0,1,0))))","v":1},{"$f":"IF(EP41>Saisies!$G$25,1,(IF(EP41<Saisies!$F$25,1,IF(Saisies!$F$25<10,1,0))))","v":1},{"$f":"IF(EP41>Saisies!$C$10,\"\",(IF(EP41<Saisies!$B$10,\"\",ES41)))","v":""},{"$f":"IF(EP41>Saisies!$E$10,\"\",(IF(EP41<Saisies!$D$10,\"\",ES41)))","v":""},{"$f":"IF(EP41>Saisies!$G$10,\"\",(IF(EP41<Saisies!$F$10,\"\",ES41)))","v":""},"2016-11-29","M",8,7,492,{"$f":"IF(FJ41>=Saisies!$E$4,(IF(FK40<=Saisies!$E$4,FF41,FK40)),0)","v":42622},{"$f":"IF(FF41=Saisies!$C$7,MIN((ABS(Saisies!$E$4-FJ40)),FM41),FM41)","v":""},{"$f":"IF(ISERROR((IF(FF41>Saisies!$C$7,\"\",IF(ISERROR(IF(FF41<Saisies!$B$7,\"\",FH41)*FN41),IF(FF41<Saisies!$B$7,\"\",FH41),\"\")))*(IF(ISERROR(FO41+1),0,FO41))*FP41*FQ41*FR41),\"\",(IF(FF41>Saisies!$C$7,\"\",IF(ISERROR(IF(FF41<Saisies!$B$7,\"\",FH41)*FN41),IF(FF41<Saisies!$B$7,\"\",FH41),\"\")))*(IF(ISERROR(FO41+1),0,FO41))*FP41*FQ41*FR41)","v":""},"",1,{"$f":"IF(FF41>Saisies!$C$25,1,(IF(FF41<Saisies!$B$25,1,IF(Saisies!$B$25=0,1,0))))","v":1},{"$f":"IF(FF41>Saisies!$E$25,1,(IF(FF41<Saisies!$D$25,1,IF(Saisies!$D$25=0,1,0))))","v":1},{"$f":"IF(FF41>Saisies!$G$25,1,(IF(FF41<Saisies!$F$25,1,IF(Saisies!$F$25<10,1,0))))","v":1},{"$f":"IF(FF41>Saisies!$C$10,\"\",(IF(FF41<Saisies!$B$10,\"\",FI41)))","v":""},{"$f":"IF(FF41>Saisies!$E$10,\"\",(IF(FF41<Saisies!$D$10,\"\",FI41)))","v":""},{"$f":"IF(FF41>Saisies!$G$10,\"\",(IF(FF41<Saisies!$F$10,\"\",FI41)))","v":""},"2016-12-29","J",8,7,492,{"$f":"IF(FZ41>=Saisies!$E$4,(IF(GA40<=Saisies!$E$4,FV41,GA40)),0)","v":42622},{"$f":"IF(FV41=Saisies!$C$7,MIN((ABS(Saisies!$E$4-FZ40)),GC41),GC41)","v":""},{"$f":"IF(ISERROR((IF(FV41>Saisies!$C$7,\"\",IF(ISERROR(IF(FV41<Saisies!$B$7,\"\",FX41)*GD41),IF(FV41<Saisies!$B$7,\"\",FX41),\"\")))*(IF(ISERROR(GE41+1),0,GE41))*GF41*GG41*GH41),\"\",(IF(FV41>Saisies!$C$7,\"\",IF(ISERROR(IF(FV41<Saisies!$B$7,\"\",FX41)*GD41),IF(FV41<Saisies!$B$7,\"\",FX41),\"\")))*(IF(ISERROR(GE41+1),0,GE41))*GF41*GG41*GH41)","v":""},"","R",{"$f":"IF(FV41>Saisies!$C$25,1,(IF(FV41<Saisies!$B$25,1,IF(Saisies!$B$25=0,1,0))))","v":1},{"$f":"IF(FV41>Saisies!$E$25,1,(IF(FV41<Saisies!$D$25,1,IF(Saisies!$D$25=0,1,0))))","v":1},{"$f":"IF(FV41>Saisies!$G$25,1,(IF(FV41<Saisies!$F$25,1,IF(Saisies!$F$25<10,1,0))))","v":1},{"$f":"IF(FV41>Saisies!$C$10,\"\",(IF(FV41<Saisies!$B$10,\"\",FY41)))","v":""},{"$f":"IF(FV41>Saisies!$E$10,\"\",(IF(FV41<Saisies!$D$10,\"\",FY41)))","v":""},{"$f":"IF(FV41>Saisies!$G$10,\"\",(IF(FV41<Saisies!$F$10,\"\",FY41)))","v":""},null,null,0]
[null,"2016-01-30","S",0,0,0,{"$f":"IF(MAX(F42,(F41+D42))>=Saisies!$E$4,(IF(F41<=Saisies!$E$4,B42,G41)),0)","v":0},{"$f":"IF(B42=Saisies!$C$7,MIN((ABS(Saisies!$E$4-F41)),I42),I42)","v":""},{"$f":"IF(ISERROR((IF(B42>Saisies!$C$7,\"\",IF(ISERROR(IF(B42<Saisies!$B$7,\"\",D42)*J42),IF(B42<Saisies!$B$7,\"\",D42),\"\")))*(IF(ISERROR(K42+1),0,K42))*L42*M42*N42),\"\",(IF(B42>Saisies!$C$7,\"\",IF(ISERROR(IF(B42<Saisies!$B$7,\"\",D42)*J42),IF(B42<Saisies!$B$7,\"\",D42),\"\")))*(IF(ISERROR(K42+1),0,K42))*L42*M42*N42)","v":""},"",1,{"$f":"IF(B42>Saisies!$C$25,1,(IF(B42<Saisies!$B$25,1,IF(Saisies!$B$25=0,1,0))))","v":1},{"$f":"IF(B42>Saisies!$E$25,1,(IF(B42<Saisies!$D$25,1,IF(Saisies!$D$25=0,1,0))))","v":1},{"$f":"IF(B42>Saisies!$G$25,1,(IF(B42<Saisies!$F$25,1,IF(Saisies!$F$25<10,1,0))))","v":1},{"$f":"IF(B42>Saisies!$C$10,\"\",(IF(B42<Saisies!$B$10,\"\",E42)))","v":""},{"$f":"IF(B42>Saisies!$E$10,\"\",(IF(B42<Saisies!$D$10,\"\",E42)))","v":""},{"$f":"IF(B42>Saisies!$G$10,\"\",(IF(B42<Saisies!$F$10,\"\",E42)))","v":""},null,null,null,null,0,{"$f":"IF(MAX(V42,(V41+T42))>=Saisies!$E$4,(IF(V41<=Saisies!$E$4,R42,W41)),0)","v":0},{"$f":"IF(R42=Saisies!$C$7,MIN((ABS(Saisies!$E$4-V41)),Y42),Y42)","v":""},{"$f":"IF(ISERROR((IF(R42>Saisies!$C$7,\"\",IF(ISERROR(IF(R42<Saisies!$B$7,\"\",T42)*Z42),IF(R42<Saisies!$B$7,\"\",T42),\"\")))*(IF(ISERROR(AA42+1),0,AA42))*AB42*AC42*AD42),\"\",(IF(R42>Saisies!$C$7,\"\",IF(ISERROR(IF(R42<Saisies!$B$7,\"\",T42)*Z42),IF(R42<Saisies!$B$7,\"\",T42),\"\")))*(IF(ISERROR(AA42+1),0,AA42))*AB42*AC42*AD42)","v":""},"",0,null,null,null,{"$f":"IF(R42>Saisies!$C$10,\"\",(IF(R42<Saisies!$B$10,\"\",U42)))","v":""},{"$f":"IF(R42>Saisies!$E$10,\"\",(IF(R42<Saisies!$D$10,\"\",U42)))","v":""},{"$f":"IF(R42>Saisies!$G$10,\"\",(IF(R42<Saisies!$F$10,\"\",U42)))","v":0},{"$f":"AH41+1","v":"2016-03-30"},"M",8,7,0,{"$f":"IF(MAX(AL42,(AL41+AJ42))>=Saisies!$E$4,(IF(AL41<=Saisies!$E$4,AH42,AM41)),0)","v":0},{"$f":"IF(AH42=Saisies!$C$7,MIN((ABS(Saisies!$E$4-AL41)),AO42),AO42)","v":""},{"$f":"IF(ISERROR((IF(AH42>Saisies!$C$7,\"\",IF(ISERROR(IF(AH42<Saisies!$B$7,\"\",AJ42)*AP42),IF(AH42<Saisies!$B$7,\"\",AJ42),\"\")))*(IF(ISERROR(AQ42+1),0,AQ42))*AR42*AS42*AT42),\"\",(IF(AH42>Saisies!$C$7,\"\",IF(ISERROR(IF(AH42<Saisies!$B$7,\"\",AJ42)*AP42),IF(AH42<Saisies!$B$7,\"\",AJ42),\"\")))*(IF(ISERROR(AQ42+1),0,AQ42))*AR42*AS42*AT42)","v":""},"",1,{"$f":"IF(AH42>Saisies!$C$25,1,(IF(AH42<Saisies!$B$25,1,IF(Saisies!$B$25=0,1,0))))","v":1},{"$f":"IF(AH42>Saisies!$E$25,1,(IF(AH42<Saisies!$D$25,1,IF(Saisies!$D$25=0,1,0))))","v":1},{"$f":"IF(AH42>Saisies!$G$25,1,(IF(AH42<Saisies!$F$25,1,IF(Saisies!$F$25<10,1,0))))","v":1},{"$f":"IF(AH42>Saisies!$C$10,\"\",(IF(AH42<Saisies!$B$10,\"\",AK42)))","v":""},{"$f":"IF(AH42>Saisies!$E$10,\"\",(IF(AH42<Saisies!$D$10,\"\",AK42)))","v":""},{"$f":"IF(AH42>Saisies!$G$10,\"\",(IF(AH42<Saisies!$F$10,\"\",AK42)))","v":""},"2016-04-30","S",0,0,0,{"$f":"IF(BB42>=Saisies!$E$4,(IF(BC41<=Saisies!$E$4,AX42,BC41)),0)","v":0},{"$f":"IF(AX42=Saisies!$C$7,MIN((ABS(Saisies!$E$4-BB41)),BE42),BE42)","v":""},{"$f":"IF(ISERROR((IF(AX42>Saisies!$C$7,\"\",IF(ISERROR(IF(AX42<Saisies!$B$7,\"\",AZ42)*BF42),IF(AX42<Saisies!$B$7,\"\",AZ42),\"\")))*(IF(ISERROR(BG42+1),0,BG42))*BH42*BI42*BJ42),\"\",(IF(AX42>Saisies!$C$7,\"\",IF(ISERROR(IF(AX42<Saisies!$B$7,\"\",AZ42)*BF42),IF(AX42<Saisies!$B$7,\"\",AZ42),\"\")))*(IF(ISERROR(BG42+1),0,BG42))*BH42*BI42*BJ42)","v":""},"",1,{"$f":"IF(AX42>Saisies!$C$25,1,(IF(AX42<Saisies!$B$25,1,IF(Saisies!$B$25=0,1,0))))","v":1},{"$f":"IF(AX42>Saisies!$E$25,1,(IF(AX42<Saisies!$D$25,1,IF(Saisies!$D$25=0,1,0))))","v":1},{"$f":"IF(AX42>Saisies!$G$25,1,(IF(AX42<Saisies!$F$25,1,IF(Saisies!$F$25<10,1,0))))","v":1},{"$f":"IF(AX42>Saisies!$C$10,\"\",(IF(AX42<Saisies!$B$10,\"\",BA42)))","v":""},{"$f":"IF(AX42>Saisies!$E$10,\"\",(IF(AX42<Saisies!$D$10,\"\",BA42)))","v":""},{"$f":"IF(AX42>Saisies!$G$10,\"\",(IF(AX42<Saisies!$F$10,\"\",BA42)))","v":""},"2016-05-30","L",7,7,0,{"$f":"IF(MAX(BR42,(BR41+BP42))>=Saisies!$E$4,(IF(BR41<=Saisies!$E$4,BN42,BS41)),0)","v":0},{"$f":"IF(BN42=Saisies!$C$7,MIN((ABS(Saisies!$E$4-BR41)),BU42),BU42)","v":""},{"$f":"IF(ISERROR((IF(BN42>Saisies!$C$7,\"\",IF(ISERROR(IF(BN42<Saisies!$B$7,\"\",BP42)*BV42),IF(BN42<Saisies!$B$7,\"\",BP42),\"\")))*(IF(ISERROR(BW42+1),0,BW42))*BX42*BY42*BZ42),\"\",(IF(BN42>Saisies!$C$7,\"\",IF(ISERROR(IF(BN42<Saisies!$B$7,\"\",BP42)*BV42),IF(BN42<Saisies!$B$7,\"\",BP42),\"\")))*(IF(ISERROR(BW42+1),0,BW42))*BX42*BY42*BZ42)","v":""},"",1,{"$f":"IF(BN42>Saisies!$C$25,1,(IF(BN42<Saisies!$B$25,1,IF(Saisies!$B$25=0,1,0))))","v":1},{"$f":"IF(BN42>Saisies!$E$25,1,(IF(BN42<Saisies!$D$25,1,IF(Saisies!$D$25=0,1,0))))","v":1},{"$f":"IF(BN42>Saisies!$G$25,1,(IF(BN42<Saisies!$F$25,1,IF(Saisies!$F$25<10,1,0))))","v":1},{"$f":"IF(BN42>Saisies!$C$10,\"\",(IF(BN42<Saisies!$B$10,\"\",BQ42)))","v":""},{"$f":"IF(BN42>Saisies!$E$10,\"\",(IF(BN42<Saisies!$D$10,\"\",BQ42)))","v":""},{"$f":"IF(BN42>Saisies!$G$10,\"\",(IF(BN42<Saisies!$F$10,\"\",BQ42)))","v":""},"2016-06-30","J",8,7,156,{"$f":"IF(MAX(CH42,(CH41+CF42))>=Saisies!$E$4,(IF(CH41<=Saisies!$E$4,CD42,CI41)),0)","v":0},{"$f":"IF(CD42=Saisies!$C$7,MIN((ABS(Saisies!$E$4-CH41)),CK42),CK42)","v":8},{"$f":"IF(ISERROR((IF(CD42>Saisies!$C$7,\"\",IF(ISERROR(IF(CD42<Saisies!$B$7,\"\",CF42)*CL42),IF(CD42<Saisies!$B$7,\"\",CF42),\"\")))*(IF(ISERROR(CM42+1),0,CM42))*CN42*CO42*CP42),\"\",(IF(CD42>Saisies!$C$7,\"\",IF(ISERROR(IF(CD42<Saisies!$B$7,\"\",CF42)*CL42),IF(CD42<Saisies!$B$7,\"\",CF42),\"\")))*(IF(ISERROR(CM42+1),0,CM42))*CN42*CO42*CP42)","v":8},"",1,{"$f":"IF(CD42>Saisies!$C$25,1,(IF(CD42<Saisies!$B$25,1,IF(Saisies!$B$25=0,1,0))))","v":1},{"$f":"IF(CD42>Saisies!$E$25,1,(IF(CD42<Saisies!$D$25,1,IF(Saisies!$D$25=0,1,0))))","v":1},{"$f":"IF(CD42>Saisies!$G$25,1,(IF(CD42<Saisies!$F$25,1,IF(Saisies!$F$25<10,1,0))))","v":1},{"$f":"IF(CD42>Saisies!$C$10,\"\",(IF(CD42<Saisies!$B$10,\"\",CG42)))","v":""},{"$f":"IF(CD42>Saisies!$E$10,\"\",(IF(CD42<Saisies!$D$10,\"\",CG42)))","v":""},{"$f":"IF(CD42>Saisies!$G$10,\"\",(IF(CD42<Saisies!$F$10,\"\",CG42)))","v":""},"2016-07-30","S",0,0,286,{"$f":"IF(MAX(CX42,(CX41+CV42))>=Saisies!$E$4,(IF(CX41<=Saisies!$E$4,CT42,CY41)),0)","v":0},{"$f":"IF(CT42=Saisies!$C$7,MIN((ABS(Saisies!$E$4-CX41)),DA42),DA42)","v":0},{"$f":"IF(ISERROR((IF(CT42>Saisies!$C$7,\"\",IF(ISERROR(IF(CT42<Saisies!$B$7,\"\",CV42)*DB42),IF(CT42<Saisies!$B$7,\"\",CV42),\"\")))*(IF(ISERROR(DC42+1),0,DC42))*DD42*DE42*DF42),\"\",(IF(CT42>Saisies!$C$7,\"\",IF(ISERROR(IF(CT42<Saisies!$B$7,\"\",CV42)*DB42),IF(CT42<Saisies!$B$7,\"\",CV42),\"\")))*(IF(ISERROR(DC42+1),0,DC42))*DD42*DE42*DF42)","v":0},"",1,{"$f":"IF(CT42>Saisies!$C$25,1,(IF(CT42<Saisies!$B$25,1,IF(Saisies!$B$25=0,1,0))))","v":1},{"$f":"IF(CT42>Saisies!$E$25,1,(IF(CT42<Saisies!$D$25,1,IF(Saisies!$D$25=0,1,0))))","v":1},{"$f":"IF(CT42>Saisies!$G$25,1,(IF(CT42<Saisies!$F$25,1,IF(Saisies!$F$25<10,1,0))))","v":1},{"$f":"IF(CT42>Saisies!$C$10,\"\",(IF(CT42<Saisies!$B$10,\"\",CW42)))","v":""},{"$f":"IF(CT42>Saisies!$E$10,\"\",(IF(CT42<Saisies!$D$10,\"\",CW42)))","v":""},{"$f":"IF(CT42>Saisies!$G$10,\"\",(IF(CT42<Saisies!$F$10,\"\",CW42)))","v":""},"2016-08-30","M",8,7,437,{"$f":"IF(DN42>=Saisies!$E$4,(IF(DO41<=Saisies!$E$4,DJ42,DO41)),0)","v":0},{"$f":"IF(DJ42=Saisies!$C$7,MIN((ABS(Saisies!$E$4-DN41)),DQ42),DQ42)","v":8},{"$f":"IF(ISERROR((IF(DJ42>Saisies!$C$7,\"\",IF(ISERROR(IF(DJ42<Saisies!$B$7,\"\",DL42)*DR42),IF(DJ42<Saisies!$B$7,\"\",DL42),\"\")))*(IF(ISERROR(DS42+1),0,DS42))*DT42*DU42*DV42),\"\",(IF(DJ42>Saisies!$C$7,\"\",IF(ISERROR(IF(DJ42<Saisies!$B$7,\"\",DL42)*DR42),IF(DJ42<Saisies!$B$7,\"\",DL42),\"\")))*(IF(ISERROR(DS42+1),0,DS42))*DT42*DU42*DV42)","v":8},"",1,{"$f":"IF(DJ42>Saisies!$C$25,1,(IF(DJ42<Saisies!$B$25,1,IF(Saisies!$B$25=0,1,0))))","v":1},{"$f":"IF(DJ42>Saisies!$E$25,1,(IF(DJ42<Saisies!$D$25,1,IF(Saisies!$D$25=0,1,0))))","v":1},{"$f":"IF(DJ42>Saisies!$G$25,1,(IF(DJ42<Saisies!$F$25,1,IF(Saisies!$F$25<10,1,0))))","v":1},{"$f":"IF(DJ42>Saisies!$C$10,\"\",(IF(DJ42<Saisies!$B$10,\"\",DM42)))","v":""},{"$f":"IF(DJ42>Saisies!$E$10,\"\",(IF(DJ42<Saisies!$D$10,\"\",DM42)))","v":""},{"$f":"IF(DJ42>Saisies!$G$10,\"\",(IF(DJ42<Saisies!$F$10,\"\",DM42)))","v":""},"2016-09-30","V",4,7,492,{"$f":"IF(ED42>=Saisies!$E$4,(IF(EE41<=Saisies!$E$4,DZ42,EE41)),0)","v":42622},{"$f":"IF(DZ42=Saisies!$C$7,MIN((ABS(Saisies!$E$4-ED41)),EG42),EG42)","v":""},{"$f":"IF(ISERROR((IF(DZ42>Saisies!$C$7,\"\",IF(ISERROR(IF(DZ42<Saisies!$B$7,\"\",EB42)*EH42),IF(DZ42<Saisies!$B$7,\"\",EB42),\"\")))*(IF(ISERROR(EI42+1),0,EI42))*EJ42*EK42*EL42),\"\",(IF(DZ42>Saisies!$C$7,\"\",IF(ISERROR(IF(DZ42<Saisies!$B$7,\"\",EB42)*EH42),IF(DZ42<Saisies!$B$7,\"\",EB42),\"\")))*(IF(ISERROR(EI42+1),0,EI42))*EJ42*EK42*EL42)","v":""},"",1,{"$f":"IF(DZ42>Saisies!$C$25,1,(IF(DZ42<Saisies!$B$25,1,IF(Saisies!$B$25=0,1,0))))","v":1},{"$f":"IF(DZ42>Saisies!$E$25,1,(IF(DZ42<Saisies!$D$25,1,IF(Saisies!$D$25=0,1,0))))","v":1},{"$f":"IF(DZ42>Saisies!$G$25,1,(IF(DZ42<Saisies!$F$25,1,IF(Saisies!$F$25<10,1,0))))","v":1},{"$f":"IF(DZ42>Saisies!$C$10,\"\",(IF(DZ42<Saisies!$B$10,\"\",EC42)))","v":""},{"$f":"IF(DZ42>Saisies!$E$10,\"\",(IF(DZ42<Saisies!$D$10,\"\",EC42)))","v":""},{"$f":"IF(DZ42>Saisies!$G$10,\"\",(IF(DZ42<Saisies!$F$10,\"\",EC42)))","v":""},"2016-10-30","D",0,0,492,{"$f":"IF(ET42>=Saisies!$E$4,(IF(EU41<=Saisies!$E$4,EP42,EU41)),0)","v":42622},{"$f":"IF(EP42=Saisies!$C$7,MIN((ABS(Saisies!$E$4-ET41)),EW42),EW42)","v":""},{"$f":"IF(ISERROR((IF(EP42>Saisies!$C$7,\"\",IF(ISERROR(IF(EP42<Saisies!$B$7,\"\",ER42)*EX42),IF(EP42<Saisies!$B$7,\"\",ER42),\"\")))*(IF(ISERROR(EY42+1),0,EY42))*EZ42*FA42*FB42),\"\",(IF(EP42>Saisies!$C$7,\"\",IF(ISERROR(IF(EP42<Saisies!$B$7,\"\",ER42)*EX42),IF(EP42<Saisies!$B$7,\"\",ER42),\"\")))*(IF(ISERROR(EY42+1),0,EY42))*EZ42*FA42*FB42)","v":""},"",1,{"$f":"IF(EP42>Saisies!$C$25,1,(IF(EP42<Saisies!$B$25,1,IF(Saisies!$B$25=0,1,0))))","v":1},{"$f":"IF(EP42>Saisies!$E$25,1,(IF(EP42<Saisies!$D$25,1,IF(Saisies!$D$25=0,1,0))))","v":1},{"$f":"IF(EP42>Saisies!$G$25,1,(IF(EP42<Saisies!$F$25,1,IF(Saisies!$F$25<10,1,0))))","v":1},{"$f":"IF(EP42>Saisies!$C$10,\"\",(IF(EP42<Saisies!$B$10,\"\",ES42)))","v":""},{"$f":"IF(EP42>Saisies!$E$10,\"\",(IF(EP42<Saisies!$D$10,\"\",ES42)))","v":""},{"$f":"IF(EP42>Saisies!$G$10,\"\",(IF(EP42<Saisies!$F$10,\"\",ES42)))","v":""},"2016-11-30","M",8,7,492,{"$f":"IF(FJ42>=Saisies!$E$4,(IF(FK41<=Saisies!$E$4,FF42,FK41)),0)","v":42622},{"$f":"IF(FF42=Saisies!$C$7,MIN((ABS(Saisies!$E$4-FJ41)),FM42),FM42)","v":""},{"$f":"IF(ISERROR((IF(FF42>Saisies!$C$7,\"\",IF(ISERROR(IF(FF42<Saisies!$B$7,\"\",FH42)*FN42),IF(FF42<Saisies!$B$7,\"\",FH42),\"\")))*(IF(ISERROR(FO42+1),0,FO42))*FP42*FQ42*FR42),\"\",(IF(FF42>Saisies!$C$7,\"\",IF(ISERROR(IF(FF42<Saisies!$B$7,\"\",FH42)*FN42),IF(FF42<Saisies!$B$7,\"\",FH42),\"\")))*(IF(ISERROR(FO42+1),0,FO42))*FP42*FQ42*FR42)","v":""},"",1,{"$f":"IF(FF42>Saisies!$C$25,1,(IF(FF42<Saisies!$B$25,1,IF(Saisies!$B$25=0,1,0))))","v":1},{"$f":"IF(FF42>Saisies!$E$25,1,(IF(FF42<Saisies!$D$25,1,IF(Saisies!$D$25=0,1,0))))","v":1},{"$f":"IF(FF42>Saisies!$G$25,1,(IF(FF42<Saisies!$F$25,1,IF(Saisies!$F$25<10,1,0))))","v":1},{"$f":"IF(FF42>Saisies!$C$10,\"\",(IF(FF42<Saisies!$B$10,\"\",FI42)))","v":""},{"$f":"IF(FF42>Saisies!$E$10,\"\",(IF(FF42<Saisies!$D$10,\"\",FI42)))","v":""},{"$f":"IF(FF42>Saisies!$G$10,\"\",(IF(FF42<Saisies!$F$10,\"\",FI42)))","v":""},"2016-12-30","V",4,7,492,{"$f":"IF(FZ42>=Saisies!$E$4,(IF(GA41<=Saisies!$E$4,FV42,GA41)),0)","v":42622},{"$f":"IF(FV42=Saisies!$C$7,MIN((ABS(Saisies!$E$4-FZ41)),GC42),GC42)","v":""},{"$f":"IF(ISERROR((IF(FV42>Saisies!$C$7,\"\",IF(ISERROR(IF(FV42<Saisies!$B$7,\"\",FX42)*GD42),IF(FV42<Saisies!$B$7,\"\",FX42),\"\")))*(IF(ISERROR(GE42+1),0,GE42))*GF42*GG42*GH42),\"\",(IF(FV42>Saisies!$C$7,\"\",IF(ISERROR(IF(FV42<Saisies!$B$7,\"\",FX42)*GD42),IF(FV42<Saisies!$B$7,\"\",FX42),\"\")))*(IF(ISERROR(GE42+1),0,GE42))*GF42*GG42*GH42)","v":""},"","R",{"$f":"IF(FV42>Saisies!$C$25,1,(IF(FV42<Saisies!$B$25,1,IF(Saisies!$B$25=0,1,0))))","v":1},{"$f":"IF(FV42>Saisies!$E$25,1,(IF(FV42<Saisies!$D$25,1,IF(Saisies!$D$25=0,1,0))))","v":1},{"$f":"IF(FV42>Saisies!$G$25,1,(IF(FV42<Saisies!$F$25,1,IF(Saisies!$F$25<10,1,0))))","v":1},{"$f":"IF(FV42>Saisies!$C$10,\"\",(IF(FV42<Saisies!$B$10,\"\",FY42)))","v":""},{"$f":"IF(FV42>Saisies!$E$10,\"\",(IF(FV42<Saisies!$D$10,\"\",FY42)))","v":""},{"$f":"IF(FV42>Saisies!$G$10,\"\",(IF(FV42<Saisies!$F$10,\"\",FY42)))","v":""},null,null,0]
[null,"2016-01-31","D",0,0,0,{"$f":"IF(MAX(F43,(F42+D43))>=Saisies!$E$4,(IF(F42<=Saisies!$E$4,B43,G42)),0)","v":0},{"$f":"IF(B43=Saisies!$C$7,MIN((ABS(Saisies!$E$4-F42)),I43),I43)","v":""},{"$f":"IF(ISERROR((IF(B43>Saisies!$C$7,\"\",IF(ISERROR(IF(B43<Saisies!$B$7,\"\",D43)*J43),IF(B43<Saisies!$B$7,\"\",D43),\"\")))*(IF(ISERROR(K43+1),0,K43))*L43*M43*N43),\"\",(IF(B43>Saisies!$C$7,\"\",IF(ISERROR(IF(B43<Saisies!$B$7,\"\",D43)*J43),IF(B43<Saisies!$B$7,\"\",D43),\"\")))*(IF(ISERROR(K43+1),0,K43))*L43*M43*N43)","v":""},"",1,{"$f":"IF(B43>Saisies!$C$25,1,(IF(B43<Saisies!$B$25,1,IF(Saisies!$B$25=0,1,0))))","v":1},{"$f":"IF(B43>Saisies!$E$25,1,(IF(B43<Saisies!$D$25,1,IF(Saisies!$D$25=0,1,0))))","v":1},{"$f":"IF(B43>Saisies!$G$25,1,(IF(B43<Saisies!$F$25,1,IF(Saisies!$F$25<10,1,0))))","v":1},{"$f":"IF(B43>Saisies!$C$10,\"\",(IF(B43<Saisies!$B$10,\"\",E43)))","v":""},{"$f":"IF(B43>Saisies!$E$10,\"\",(IF(B43<Saisies!$D$10,\"\",E43)))","v":""},{"$f":"IF(B43>Saisies!$G$10,\"\",(IF(B43<Saisies!$F$10,\"\",E43)))","v":""},null,null,null,null,0,{"$f":"IF(MAX(V43,(V42+T43))>=Saisies!$E$4,(IF(V42<=Saisies!$E$4,R43,W42)),0)","v":0},{"$f":"IF(R43=Saisies!$C$7,MIN((ABS(Saisies!$E$4-V42)),Y43),Y43)","v":""},{"$f":"IF(ISERROR((IF(R43>Saisies!$C$7,\"\",IF(ISERROR(IF(R43<Saisies!$B$7,\"\",T43)*Z43),IF(R43<Saisies!$B$7,\"\",T43),\"\")))*(IF(ISERROR(AA43+1),0,AA43))*AB43*AC43*AD43),\"\",(IF(R43>Saisies!$C$7,\"\",IF(ISERROR(IF(R43<Saisies!$B$7,\"\",T43)*Z43),IF(R43<Saisies!$B$7,\"\",T43),\"\")))*(IF(ISERROR(AA43+1),0,AA43))*AB43*AC43*AD43)","v":""},"",0,null,null,null,{"$f":"IF(R43>Saisies!$C$10,\"\",(IF(R43<Saisies!$B$10,\"\",U43)))","v":""},{"$f":"IF(R43>Saisies!$E$10,\"\",(IF(R43<Saisies!$D$10,\"\",U43)))","v":""},{"$f":"IF(R43>Saisies!$G$10,\"\",(IF(R43<Saisies!$F$10,\"\",U43)))","v":0},{"$f":"AH42+1","v":"2016-03-31"},"J",8,7,0,{"$f":"IF(MAX(AL43,(AL42+AJ43))>=Saisies!$E$4,(IF(AL42<=Saisies!$E$4,AH43,AM42)),0)","v":0},{"$f":"IF(AH43=Saisies!$C$7,MIN((ABS(Saisies!$E$4-AL42)),AO43),AO43)","v":""},{"$f":"IF(ISERROR((IF(AH43>Saisies!$C$7,\"\",IF(ISERROR(IF(AH43<Saisies!$B$7,\"\",AJ43)*AP43),IF(AH43<Saisies!$B$7,\"\",AJ43),\"\")))*(IF(ISERROR(AQ43+1),0,AQ43))*AR43*AS43*AT43),\"\",(IF(AH43>Saisies!$C$7,\"\",IF(ISERROR(IF(AH43<Saisies!$B$7,\"\",AJ43)*AP43),IF(AH43<Saisies!$B$7,\"\",AJ43),\"\")))*(IF(ISERROR(AQ43+1),0,AQ43))*AR43*AS43*AT43)","v":""},"",1,{"$f":"IF(AH43>Saisies!$C$25,1,(IF(AH43<Saisies!$B$25,1,IF(Saisies!$B$25=0,1,0))))","v":1},{"$f":"IF(AH43>Saisies!$E$25,1,(IF(AH43<Saisies!$D$25,1,IF(Saisies!$D$25=0,1,0))))","v":1},{"$f":"IF(AH43>Saisies!$G$25,1,(IF(AH43<Saisies!$F$25,1,IF(Saisies!$F$25<10,1,0))))","v":1},{"$f":"IF(AH43>Saisies!$C$10,\"\",(IF(AH43<Saisies!$B$10,\"\",AK43)))","v":""},{"$f":"IF(AH43>Saisies!$E$10,\"\",(IF(AH43<Saisies!$D$10,\"\",AK43)))","v":""},{"$f":"IF(AH43>Saisies!$G$10,\"\",(IF(AH43<Saisies!$F$10,\"\",AK43)))","v":""},null,null,null,null,0,{"$f":"IF(BB43>=Saisies!$E$4,(IF(BC42<=Saisies!$E$4,AX43,BC42)),0)","v":0},{"$f":"IF(AX43=Saisies!$C$7,MIN((ABS(Saisies!$E$4-BB42)),BE43),BE43)","v":""},{"$f":"IF(ISERROR((IF(AX43>Saisies!$C$7,\"\",IF(ISERROR(IF(AX43<Saisies!$B$7,\"\",AZ43)*BF43),IF(AX43<Saisies!$B$7,\"\",AZ43),\"\")))*(IF(ISERROR(BG43+1),0,BG43))*BH43*BI43*BJ43),\"\",(IF(AX43>Saisies!$C$7,\"\",IF(ISERROR(IF(AX43<Saisies!$B$7,\"\",AZ43)*BF43),IF(AX43<Saisies!$B$7,\"\",AZ43),\"\")))*(IF(ISERROR(BG43+1),0,BG43))*BH43*BI43*BJ43)","v":""},"",0,null,null,null,{"$f":"IF(AX43>Saisies!$C$10,\"\",(IF(AX43<Saisies!$B$10,\"\",BA43)))","v":""},{"$f":"IF(AX43>Saisies!$E$10,\"\",(IF(AX43<Saisies!$D$10,\"\",BA43)))","v":""},{"$f":"IF(AX43>Saisies!$G$10,\"\",(IF(AX43<Saisies!$F$10,\"\",BA43)))","v":0},"2016-05-31","M",8,7,0,{"$f":"IF(MAX(BR43,(BR42+BP43))>=Saisies!$E$4,(IF(BR42<=Saisies!$E$4,BN43,BS42)),0)","v":0},{"$f":"IF(BN43=Saisies!$C$7,MIN((ABS(Saisies!$E$4-BR42)),BU43),BU43)","v":""},{"$f":"IF(ISERROR((IF(BN43>Saisies!$C$7,\"\",IF(ISERROR(IF(BN43<Saisies!$B$7,\"\",BP43)*BV43),IF(BN43<Saisies!$B$7,\"\",BP43),\"\")))*(IF(ISERROR(BW43+1),0,BW43))*BX43*BY43*BZ43),\"\",(IF(BN43>Saisies!$C$7,\"\",IF(ISERROR(IF(BN43<Saisies!$B$7,\"\",BP43)*BV43),IF(BN43<Saisies!$B$7,\"\",BP43),\"\")))*(IF(ISERROR(BW43+1),0,BW43))*BX43*BY43*BZ43)","v":""},"",1,{"$f":"IF(BN43>Saisies!$C$25,1,(IF(BN43<Saisies!$B$25,1,IF(Saisies!$B$25=0,1,0))))","v":1},{"$f":"IF(BN43>Saisies!$E$25,1,(IF(BN43<Saisies!$D$25,1,IF(Saisies!$D$25=0,1,0))))","v":1},{"$f":"IF(BN43>Saisies!$G$25,1,(IF(BN43<Saisies!$F$25,1,IF(Saisies!$F$25<10,1,0))))","v":1},{"$f":"IF(BN43>Saisies!$C$10,\"\",(IF(BN43<Saisies!$B$10,\"\",BQ43)))","v":""},{"$f":"IF(BN43>Saisies!$E$10,\"\",(IF(BN43<Saisies!$D$10,\"\",BQ43)))","v":""},{"$f":"IF(BN43>Saisies!$G$10,\"\",(IF(BN43<Saisies!$F$10,\"\",BQ43)))","v":""},null,null,null,null,156,{"$f":"IF(MAX(CH43,(CH42+CF43))>=Saisies!$E$4,(IF(CH42<=Saisies!$E$4,CD43,CI42)),0)","v":0},{"$f":"IF(CD43=Saisies!$C$7,MIN((ABS(Saisies!$E$4-CH42)),CK43),CK43)","v":""},{"$f":"IF(ISERROR((IF(CD43>Saisies!$C$7,\"\",IF(ISERROR(IF(CD43<Saisies!$B$7,\"\",CF43)*CL43),IF(CD43<Saisies!$B$7,\"\",CF43),\"\")))*(IF(ISERROR(CM43+1),0,CM43))*CN43*CO43*CP43),\"\",(IF(CD43>Saisies!$C$7,\"\",IF(ISERROR(IF(CD43<Saisies!$B$7,\"\",CF43)*CL43),IF(CD43<Saisies!$B$7,\"\",CF43),\"\")))*(IF(ISERROR(CM43+1),0,CM43))*CN43*CO43*CP43)","v":""},"",0,null,null,null,{"$f":"IF(CD43>Saisies!$C$10,\"\",(IF(CD43<Saisies!$B$10,\"\",CG43)))","v":""},{"$f":"IF(CD43>Saisies!$E$10,\"\",(IF(CD43<Saisies!$D$10,\"\",CG43)))","v":""},{"$f":"IF(CD43>Saisies!$G$10,\"\",(IF(CD43<Saisies!$F$10,\"\",CG43)))","v":0},"2016-07-31","D",0,0,286,{"$f":"IF(MAX(CX43,(CX42+CV43))>=Saisies!$E$4,(IF(CX42<=Saisies!$E$4,CT43,CY42)),0)","v":0},{"$f":"IF(CT43=Saisies!$C$7,MIN((ABS(Saisies!$E$4-CX42)),DA43),DA43)","v":0},{"$f":"IF(ISERROR((IF(CT43>Saisies!$C$7,\"\",IF(ISERROR(IF(CT43<Saisies!$B$7,\"\",CV43)*DB43),IF(CT43<Saisies!$B$7,\"\",CV43),\"\")))*(IF(ISERROR(DC43+1),0,DC43))*DD43*DE43*DF43),\"\",(IF(CT43>Saisies!$C$7,\"\",IF(ISERROR(IF(CT43<Saisies!$B$7,\"\",CV43)*DB43),IF(CT43<Saisies!$B$7,\"\",CV43),\"\")))*(IF(ISERROR(DC43+1),0,DC43))*DD43*DE43*DF43)","v":0},"",1,{"$f":"IF(CT43>Saisies!$C$25,1,(IF(CT43<Saisies!$B$25,1,IF(Saisies!$B$25=0,1,0))))","v":1},{"$f":"IF(CT43>Saisies!$E$25,1,(IF(CT43<Saisies!$D$25,1,IF(Saisies!$D$25=0,1,0))))","v":1},{"$f":"IF(CT43>Saisies!$G$25,1,(IF(CT43<Saisies!$F$25,1,IF(Saisies!$F$25<10,1,0))))","v":1},{"$f":"IF(CT43>Saisies!$C$10,\"\",(IF(CT43<Saisies!$B$10,\"\",CW43)))","v":""},{"$f":"IF(CT43>Saisies!$E$10,\"\",(IF(CT43<Saisies!$D$10,\"\",CW43)))","v":""},{"$f":"IF(CT43>Saisies!$G$10,\"\",(IF(CT43<Saisies!$F$10,\"\",CW43)))","v":""},"2016-08-31","M",8,7,445,{"$f":"IF(DN43>=Saisies!$E$4,(IF(DO42<=Saisies!$E$4,DJ43,DO42)),0)","v":0},{"$f":"IF(DJ43=Saisies!$C$7,MIN((ABS(Saisies!$E$4-DN42)),DQ43),DQ43)","v":8},{"$f":"IF(ISERROR((IF(DJ43>Saisies!$C$7,\"\",IF(ISERROR(IF(DJ43<Saisies!$B$7,\"\",DL43)*DR43),IF(DJ43<Saisies!$B$7,\"\",DL43),\"\")))*(IF(ISERROR(DS43+1),0,DS43))*DT43*DU43*DV43),\"\",(IF(DJ43>Saisies!$C$7,\"\",IF(ISERROR(IF(DJ43<Saisies!$B$7,\"\",DL43)*DR43),IF(DJ43<Saisies!$B$7,\"\",DL43),\"\")))*(IF(ISERROR(DS43+1),0,DS43))*DT43*DU43*DV43)","v":8},"",1,{"$f":"IF(DJ43>Saisies!$C$25,1,(IF(DJ43<Saisies!$B$25,1,IF(Saisies!$B$25=0,1,0))))","v":1},{"$f":"IF(DJ43>Saisies!$E$25,1,(IF(DJ43<Saisies!$D$25,1,IF(Saisies!$D$25=0,1,0))))","v":1},{"$f":"IF(DJ43>Saisies!$G$25,1,(IF(DJ43<Saisies!$F$25,1,IF(Saisies!$F$25<10,1,0))))","v":1},{"$f":"IF(DJ43>Saisies!$C$10,\"\",(IF(DJ43<Saisies!$B$10,\"\",DM43)))","v":""},{"$f":"IF(DJ43>Saisies!$E$10,\"\",(IF(DJ43<Saisies!$D$10,\"\",DM43)))","v":""},{"$f":"IF(DJ43>Saisies!$G$10,\"\",(IF(DJ43<Saisies!$F$10,\"\",DM43)))","v":""},null,null,null,null,492,{"$f":"IF(ED43>=Saisies!$E$4,(IF(EE42<=Saisies!$E$4,DZ43,EE42)),0)","v":42622},{"$f":"IF(DZ43=Saisies!$C$7,MIN((ABS(Saisies!$E$4-ED42)),EG43),EG43)","v":""},{"$f":"IF(ISERROR((IF(DZ43>Saisies!$C$7,\"\",IF(ISERROR(IF(DZ43<Saisies!$B$7,\"\",EB43)*EH43),IF(DZ43<Saisies!$B$7,\"\",EB43),\"\")))*(IF(ISERROR(EI43+1),0,EI43))*EJ43*EK43*EL43),\"\",(IF(DZ43>Saisies!$C$7,\"\",IF(ISERROR(IF(DZ43<Saisies!$B$7,\"\",EB43)*EH43),IF(DZ43<Saisies!$B$7,\"\",EB43),\"\")))*(IF(ISERROR(EI43+1),0,EI43))*EJ43*EK43*EL43)","v":""},"",0,null,null,null,{"$f":"IF(DZ43>Saisies!$C$10,\"\",(IF(DZ43<Saisies!$B$10,\"\",EC43)))","v":""},{"$f":"IF(DZ43>Saisies!$E$10,\"\",(IF(DZ43<Saisies!$D$10,\"\",EC43)))","v":""},{"$f":"IF(DZ43>Saisies!$G$10,\"\",(IF(DZ43<Saisies!$F$10,\"\",EC43)))","v":0},"2016-10-31","L",7,7,492,{"$f":"IF(ET43>=Saisies!$E$4,(IF(EU42<=Saisies!$E$4,EP43,EU42)),0)","v":42622},{"$f":"IF(EP43=Saisies!$C$7,MIN((ABS(Saisies!$E$4-ET42)),EW43),EW43)","v":""},{"$f":"IF(ISERROR((IF(EP43>Saisies!$C$7,\"\",IF(ISERROR(IF(EP43<Saisies!$B$7,\"\",ER43)*EX43),IF(EP43<Saisies!$B$7,\"\",ER43),\"\")))*(IF(ISERROR(EY43+1),0,EY43))*EZ43*FA43*FB43),\"\",(IF(EP43>Saisies!$C$7,\"\",IF(ISERROR(IF(EP43<Saisies!$B$7,\"\",ER43)*EX43),IF(EP43<Saisies!$B$7,\"\",ER43),\"\")))*(IF(ISERROR(EY43+1),0,EY43))*EZ43*FA43*FB43)","v":""},"","R",{"$f":"IF(EP43>Saisies!$C$25,1,(IF(EP43<Saisies!$B$25,1,IF(Saisies!$B$25=0,1,0))))","v":1},{"$f":"IF(EP43>Saisies!$E$25,1,(IF(EP43<Saisies!$D$25,1,IF(Saisies!$D$25=0,1,0))))","v":1},{"$f":"IF(EP43>Saisies!$G$25,1,(IF(EP43<Saisies!$F$25,1,IF(Saisies!$F$25<10,1,0))))","v":1},{"$f":"IF(EP43>Saisies!$C$10,\"\",(IF(EP43<Saisies!$B$10,\"\",ES43)))","v":""},{"$f":"IF(EP43>Saisies!$E$10,\"\",(IF(EP43<Saisies!$D$10,\"\",ES43)))","v":""},{"$f":"IF(EP43>Saisies!$G$10,\"\",(IF(EP43<Saisies!$F$10,\"\",ES43)))","v":""},null,null,null,null,492,{"$f":"IF(FJ43>=Saisies!$E$4,(IF(FK42<=Saisies!$E$4,FF43,FK42)),0)","v":42622},{"$f":"IF(FF43=Saisies!$C$7,MIN((ABS(Saisies!$E$4-FJ42)),FM43),FM43)","v":""},{"$f":"IF(ISERROR((IF(FF43>Saisies!$C$7,\"\",IF(ISERROR(IF(FF43<Saisies!$B$7,\"\",FH43)*FN43),IF(FF43<Saisies!$B$7,\"\",FH43),\"\")))*(IF(ISERROR(FO43+1),0,FO43))*FP43*FQ43*FR43),\"\",(IF(FF43>Saisies!$C$7,\"\",IF(ISERROR(IF(FF43<Saisies!$B$7,\"\",FH43)*FN43),IF(FF43<Saisies!$B$7,\"\",FH43),\"\")))*(IF(ISERROR(FO43+1),0,FO43))*FP43*FQ43*FR43)","v":""},"",0,null,null,null,{"$f":"IF(FF43>Saisies!$C$10,\"\",(IF(FF43<Saisies!$B$10,\"\",FI43)))","v":""},{"$f":"IF(FF43>Saisies!$E$10,\"\",(IF(FF43<Saisies!$D$10,\"\",FI43)))","v":""},{"$f":"IF(FF43>Saisies!$G$10,\"\",(IF(FF43<Saisies!$F$10,\"\",FI43)))","v":0},"2016-12-31",{"$f":"UPPER(LEFT(TEXT(FV43,\"jjj\"),1))","v":"S"},{"$f":"LOOKUP(UPPER(LEFT(TEXT(FV43,\"jjjj\"),2)),$GW$5:$GX$11)","v":0},{"$f":"LOOKUP(UPPER(LEFT(TEXT(FV43,\"jjjj\"),2)),$GW$14:$GX$20)","v":0},{"$f":"IF(ISNUMBER(GC43),GC43,0)+IF(ISNUMBER(GD43),GD43,0)+FZ42","v":492},{"$f":"IF(FZ43>=Saisies!$E$4,(IF(GA42<=Saisies!$E$4,FV43,GA42)),0)","v":42622},{"$f":"IF(FV43=Saisies!$C$7,MIN((ABS(Saisies!$E$4-FZ42)),GC43),GC43)","v":""},{"$f":"IF(ISERROR((IF(FV43>Saisies!$C$7,\"\",IF(ISERROR(IF(FV43<Saisies!$B$7,\"\",FX43)*GD43),IF(FV43<Saisies!$B$7,\"\",FX43),\"\")))*(IF(ISERROR(GE43+1),0,GE43))*GF43*GG43*GH43),\"\",(IF(FV43>Saisies!$C$7,\"\",IF(ISERROR(IF(FV43<Saisies!$B$7,\"\",FX43)*GD43),IF(FV43<Saisies!$B$7,\"\",FX43),\"\")))*(IF(ISERROR(GE43+1),0,GE43))*GF43*GG43*GH43)","v":""},"","B",{"$f":"IF(FV43>Saisies!$C$25,1,(IF(FV43<Saisies!$B$25,1,IF(Saisies!$B$25=0,1,0))))","v":1},{"$f":"IF(FV43>Saisies!$E$25,1,(IF(FV43<Saisies!$D$25,1,IF(Saisies!$D$25=0,1,0))))","v":1},{"$f":"IF(FV43>Saisies!$G$25,1,(IF(FV43<Saisies!$F$25,1,IF(Saisies!$F$25<10,1,0))))","v":1},{"$f":"IF(FV43>Saisies!$C$10,\"\",(IF(FV43<Saisies!$B$10,\"\",FY43)))","v":""},{"$f":"IF(FV43>Saisies!$E$10,\"\",(IF(FV43<Saisies!$D$10,\"\",FY43)))","v":""},{"$f":"IF(FV43>Saisies!$G$10,\"\",(IF(FV43<Saisies!$F$10,\"\",FY43)))","v":""},null,null,0]
[]
[null,{"$f":"\"Total HE/HC \"&B10","v":"Total HE/HC 2016"}]
[null,{"$f":"B13","v":"2016-01-01"},null,null,null,null,null,{"$f":"SUM(H13:H43)","v":0},{"$f":"SUM(I13:I43)","v":0},{"$f":"SUM(J13:J43)","v":0},null,null,null,null,null,null,null,{"$f":"R13","v":"2016-02-01"},null,null,null,null,null,{"$f":"SUM(X13:X43)","v":0},{"$f":"SUM(Y13:Y43)","v":0},{"$f":"SUM(Z13:Z43)","v":0},null,null,null,null,null,null,null,{"$f":"AH13","v":"2016-03-01"},null,null,null,null,null,{"$f":"SUM(AN13:AN43)","v":0},{"$f":"SUM(AO13:AO43)","v":0},{"$f":"SUM(AP13:AP43)","v":0},null,null,null,null,null,null,null,{"$f":"AX13","v":"2016-04-01"},null,null,null,null,null,{"$f":"SUM(BD13:BD43)","v":0},{"$f":"SUM(BE13:BE43)","v":0},{"$f":"SUM(BF13:BF43)","v":0},null,null,null,null,null,null,null,{"$f":"BN13","v":"2016-05-01"},null,null,null,null,null,{"$f":"SUM(BT13:BT43)","v":0},{"$f":"SUM(BU13:BU43)","v":0},{"$f":"SUM(BV13:BV43)","v":0},null,null,null,null,null,null,null,{"$f":"CD13","v":"2016-06-01"},null,null,null,null,null,{"$f":"SUM(CJ13:CJ43)","v":156},{"$f":"SUM(CK13:CK43)","v":156},{"$f":"SUM(CL13:CL43)","v":0},null,null,null,null,null,null,null,{"$f":"CT13","v":"2016-07-01"},null,null,null,null,null,{"$f":"SUM(CZ13:CZ43)","v":67},{"$f":"SUM(DA13:DA43)","v":67},{"$f":"SUM(DB13:DB43)","v":63},null,null,null,null,null,null,null,{"$f":"DJ13","v":"2016-08-01"},null,null,null,null,null,{"$f":"SUM(DP13:DP43)","v":89},{"$f":"SUM(DQ13:DQ43)","v":89},{"$f":"SUM(DR13:DR43)","v":70},null,null,null,null,null,null,null,{"$f":"DZ13","v":"2016-09-01"},null,null,null,null,null,{"$f":"SUM(EF13:EF43)","v":45},{"$f":"SUM(EG13:EG43)","v":47},{"$f":"SUM(EH13:EH43)","v":0},null,null,null,null,null,null,null,{"$f":"EP13","v":"2016-10-01"},null,null,null,null,null,{"$f":"SUM(EV13:EV43)","v":0},{"$f":"SUM(EW13:EW43)","v":0},{"$f":"SUM(EX13:EX43)","v":0},null,null,null,null,null,null,null,{"$f":"FF13","v":"2016-11-01"},null,null,null,null,null,{"$f":"SUM(FL13:FL43)","v":0},{"$f":"SUM(FM13:FM43)","v":0},{"$f":"SUM(FN13:FN43)","v":0},null,null,null,null,null,null,null,{"$f":"FV13","v":"2016-12-01"},null,null,null,null,null,{"$f":"SUM(GB13:GB43)","v":0},{"$f":"SUM(GC13:GC43)","v":0},{"$f":"SUM(GD13:GD43)","v":0}]
[]
[]
[null,{"$f":"B10+1","v":2017}]
[null,"Janvier",null,null,null,null,null,null,null,null,null,null,null,null,null,null,null,"Février",null,null,null,null,null,null,null,null,null,null,null,null,null,null,null,"Mars",null,null,null,null,null,null,null,null,null,null,null,null,null,null,null,"Avril",null,null,null,null,null,null,null,null,null,null,null,null,null,null,null,"Mai",null,null,null,null,null,null,null,null,null,null,null,null,null,null,null,"Juin",null,null,null,null,null,null,null,null,null,null,null,null,null,null,null,"Juillet",null,null,null,null,null,null,null,null,null,null,null,null,null,null,null,"Août",null,null,null,null,null,null,null,null,null,null,null,null,null,null,null,"Septembre",null,null,null,null,null,null,null,null,null,null,null,null,null,null,null,"Octobre",null,null,null,null,null,null,null,null,null,null,null,null,null,null,null,"Novembre",null,null,null,null,null,null,null,null,null,null,null,null,null,null,null,"Décembre"]
[null,null,null,null,null,null,null,"HC",null,"HE",null,null,null,null,"HE1","HE2","HE3",null,null,null,null,null,null,"HC",null,"HE",null,null,null,null,"HE1","HE2","HE3",null,null,null,null,null,null,"HC",null,"HE",null,null,null,null,"HE1","HE2","HE3",null,null,null,null,null,null,"HC",null,"HE",null,null,null,null,"HE1","HE2","HE3",null,null,null,null,null,null,"HC",null,"HE",null,null,null,null,"HE1","HE2","HE3",null,null,null,null,null,null,"HC",null,"HE",null,null,null,null,"HE1","HE2","HE3",null,null,null,null,null,null,"HC",null,"HE",null,null,null,null,"HE1","HE2","HE3",null,null,null,null,null,null,"HC",null,"HE",null,null,null,null,"HE1","HE2","HE3",null,null,null,null,null,null,"HC",null,"HE",null,null,null,null,"HE1","HE2","HE3",null,null,null,null,null,null,"HC",null,"HE",null,null,null,null,"HE1","HE2","HE3",null,null,null,null,null,null,"HC",null,"HE",null,null,null,null,"HE1","HE2","HE3",null,null,null,null,null,null,"HC",null,"HE",null,null,null,null,"HE1","HE2","HE3"]
[null,{"$f":"EDATE(FV13,1)","v":"2017-01-01"},{"$f":"UPPER(LEFT(TEXT(B52,\"jjj\"),1))","v":"D"},{"$f":"LOOKUP(UPPER(LEFT(TEXT(B52,\"jjjj\"),2)),$GW$5:$GX$11)","v":0},{"$f":"LOOKUP(UPPER(LEFT(TEXT(B52,\"jjjj\"),2)),$GW$14:$GX$20)","v":0},{"$f":"IF(ISNUMBER(I52),I52,0)+IF(ISNUMBER(J52),J52,0)+FZ43","v":492},{"$f":"IF(F52>=Saisies!$E$4,(IF(GA43<=Saisies!$E$4,B52,GA43)),0)","v":42622},{"$f":"IF(B52=Saisies!$C$7,MIN((ABS(Saisies!$E$4-F51)),I52),I52)","v":""},{"$f":"IF(ISERROR((IF(B52>Saisies!$C$7,\"\",IF(ISERROR(IF(B52<Saisies!$B$7,\"\",D52)*J52),IF(B52<Saisies!$B$7,\"\",D52),\"\")))*K52*L52*M52*N52),\"\",(IF(B52>Saisies!$C$7,\"\",IF(ISERROR(IF(B52<Saisies!$B$7,\"\",D52)*J52),IF(B52<Saisies!$B$7,\"\",D52),\"\")))*K52*L52*M52*N52)","v":""},{"$f":"IF((SUM(O52:Q52)*K52*L52*M52*N52)=0,\"\",SUM(O52:Q52))","v":""},0,{"$f":"IF(B52>Saisies!$C$25,1,(IF(B52<Saisies!$B$25,1,IF(Saisies!$B$25=0,1,0))))","v":1},{"$f":"IF(B52>Saisies!$E$25,1,(IF(B52<Saisies!$D$25,1,IF(Saisies!$D$25=0,1,0))))","v":1},{"$f":"IF(B52>Saisies!$G$25,1,(IF(B52<Saisies!$F$25,1,IF(Saisies!$F$25<10,1,0))))","v":1},{"$f":"IF(B52>Saisies!$C$10,\"\",(IF(B52<Saisies!$B$10,\"\",E52)))","v":""},{"$f":"IF(B52>Saisies!$E$10,\"\",(IF(B52<Saisies!$D$10,\"\",E52)))","v":""},{"$f":"IF(B52>Saisies!$G$10,\"\",(IF(B52<Saisies!$F$10,\"\",E52)))","v":""},{"$f":"EDATE(B52,1)","v":"2017-02-01"},{"$f":"UPPER(LEFT(TEXT(R52,\"jjj\"),1))","v":"M"},{"$f":"LOOKUP(UPPER(LEFT(TEXT(R52,\"jjjj\"),2)),$GW$5:$GX$11)","v":8},{"$f":"LOOKUP(UPPER(LEFT(TEXT(R52,\"jjjj\"),2)),$GW$14:$GX$20)","v":7},{"$f":"IF(ISNUMBER(Y52),Y52,0)+IF(ISNUMBER(Z52),Z52,0)+F82","v":492},{"$f":"IF(V52>=Saisies!$E$4,(IF(G82<=Saisies!$E$4,R52,G82)),0)","v":42622},{"$f":"IF(R52=Saisies!$C$7,MIN((ABS(Saisies!$E$4-V51)),Y52),Y52)","v":""},{"$f":"IF(ISERROR((IF(R52>Saisies!$C$7,\"\",IF(ISERROR(IF(R52<Saisies!$B$7,\"\",T52)*Z52),IF(R52<Saisies!$B$7,\"\",T52),\"\")))*(IF(ISERROR(AA52+1),0,AA52))*AB52*AC52*AD52),\"\",(IF(R52>Saisies!$C$7,\"\",IF(ISERROR(IF(R52<Saisies!$B$7,\"\",T52)*Z52),IF(R52<Saisies!$B$7,\"\",T52),\"\")))*(IF(ISERROR(AA52+1),0,AA52))*AB52*AC52*AD52)","v":""},{"$f":"IF((SUM(AE52:AG52)*(IF(ISERROR(AA52+1),0,AA52))*AB52*AC52*AD52)=0,\"\",SUM(AE52:AG52))","v":""},{"$f":"IF(ISERROR(IF(IF(ISERROR(VLOOKUP(R52,Champs,2,FALSE)),1,0)=0,LOOKUP(R52,general),1)),0,(IF(IF(ISERROR(VLOOKUP(R52,Champs,2,FALSE)),1,0)=0,LOOKUP(R52,general),1)))","v":1},{"$f":"IF(R52>Saisies!$C$25,1,(IF(R52<Saisies!$B$25,1,IF(Saisies!$B$25=0,1,0))))","v":1},{"$f":"IF(R52>Saisies!$E$25,1,(IF(R52<Saisies!$D$25,1,IF(Saisies!$D$25=0,1,0))))","v":1},{"$f":"IF(R52>Saisies!$G$25,1,(IF(R52<Saisies!$F$25,1,IF(Saisies!$F$25<10,1,0))))","v":1},{"$f":"IF(R52>Saisies!$C$10,\"\",(IF(R52<Saisies!$B$10,\"\",U52)))","v":""},{"$f":"IF(R52>Saisies!$E$10,\"\",(IF(R52<Saisies!$D$10,\"\",U52)))","v":""},{"$f":"IF(R52>Saisies!$G$10,\"\",(IF(R52<Saisies!$F$10,\"\",U52)))","v":""},{"$f":"EDATE(R52,1)","v":"2017-03-01"},{"$f":"UPPER(LEFT(TEXT(AH52,\"jjj\"),1))","v":"M"},{"$f":"LOOKUP(UPPER(LEFT(TEXT(AH52,\"jjjj\"),2)),$GW$5:$GX$11)","v":8},{"$f":"LOOKUP(UPPER(LEFT(TEXT(AH52,\"jjjj\"),2)),$GW$14:$GX$20)","v":7},{"$f":"IF(ISNUMBER(AO52),AO52,0)+IF(ISNUMBER(AP52),AP52,0)+V82","v":492},{"$f":"IF(AL52>=Saisies!$E$4,(IF(W82<=Saisies!$E$4,AH52,W82)),0)","v":42622},{"$f":"IF(AH52=Saisies!$C$7,MIN((ABS(Saisies!$E$4-AL51)),AO52),AO52)","v":""},{"$f":"IF(ISERROR((IF(AH52>Saisies!$C$7,\"\",IF(ISERROR(IF(AH52<Saisies!$B$7,\"\",AJ52)*AP52),IF(AH52<Saisies!$B$7,\"\",AJ52),\"\")))*(IF(ISERROR(AQ52+1),0,AQ52))*AR52*AS52*AT52),\"\",(IF(AH52>Saisies!$C$7,\"\",IF(ISERROR(IF(AH52<Saisies!$B$7,\"\",AJ52)*AP52),IF(AH52<Saisies!$B$7,\"\",AJ52),\"\")))*(IF(ISERROR(AQ52+1),0,AQ52))*AR52*AS52*AT52)","v":""},{"$f":"IF((SUM(AU52:AW52)*(IF(ISERROR(AQ52+1),0,AQ52))*AR52*AS52*AT52)=0,\"\",SUM(AU52:AW52))","v":""},{"$f":"IF(ISERROR(IF(IF(ISERROR(VLOOKUP(AH52,Champs,2,FALSE)),1,0)=0,LOOKUP(AH52,general),1)),0,(IF(IF(ISERROR(VLOOKUP(AH52,Champs,2,FALSE)),1,0)=0,LOOKUP(AH52,general),1)))","v":1},{"$f":"IF(AH52>Saisies!$C$25,1,(IF(AH52<Saisies!$B$25,1,IF(Saisies!$B$25=0,1,0))))","v":1},{"$f":"IF(AH52>Saisies!$E$25,1,(IF(AH52<Saisies!$D$25,1,IF(Saisies!$D$25=0,1,0))))","v":1},{"$f":"IF(AH52>Saisies!$G$25,1,(IF(AH52<Saisies!$F$25,1,IF(Saisies!$F$25<10,1,0))))","v":1},{"$f":"IF(AH52>Saisies!$C$10,\"\",(IF(AH52<Saisies!$B$10,\"\",AK52)))","v":""},{"$f":"IF(AH52>Saisies!$E$10,\"\",(IF(AH52<Saisies!$D$10,\"\",AK52)))","v":""},{"$f":"IF(AH52>Saisies!$G$10,\"\",(IF(AH52<Saisies!$F$10,\"\",AK52)))","v":""},{"$f":"EDATE(AH52,1)","v":"2017-04-01"},{"$f":"UPPER(LEFT(TEXT(AX52,\"jjj\"),1))","v":"S"},{"$f":"LOOKUP(UPPER(LEFT(TEXT(AX52,\"jjjj\"),2)),$GW$5:$GX$11)","v":0},{"$f":"LOOKUP(UPPER(LEFT(TEXT(AX52,\"jjjj\"),2)),$GW$14:$GX$20)","v":0},{"$f":"IF(ISNUMBER(BE52),BE52,0)+IF(ISNUMBER(BF52),BF52,0)+AL82","v":492},{"$f":"IF(BB52>=Saisies!$E$4,(IF(AM82<=Saisies!$E$4,AX52,AM82)),0)","v":42622},{"$f":"IF(AX52=Saisies!$C$7,MIN((ABS(Saisies!$E$4-BB51)),BE52),BE52)","v":""},{"$f":"IF(ISERROR((IF(AX52>Saisies!$C$7,\"\",IF(ISERROR(IF(AX52<Saisies!$B$7,\"\",AZ52)*BF52),IF(AX52<Saisies!$B$7,\"\",AZ52),\"\")))*(IF(ISERROR(BG52+1),0,BG52))*BH52*BI52*BJ52),\"\",(IF(AX52>Saisies!$C$7,\"\",IF(ISERROR(IF(AX52<Saisies!$B$7,\"\",AZ52)*BF52),IF(AX52<Saisies!$B$7,\"\",AZ52),\"\")))*(IF(ISERROR(BG52+1),0,BG52))*BH52*BI52*BJ52)","v":""},{"$f":"IF((SUM(BK52:BM52)*(IF(ISERROR(BG52+1),0,BG52))*BH52*BI52*BJ52)=0,\"\",SUM(BK52:BM52))","v":""},{"$f":"IF(ISERROR(IF(IF(ISERROR(VLOOKUP(AX52,Champs,2,FALSE)),1,0)=0,LOOKUP(AX52,general),1)),0,(IF(IF(ISERROR(VLOOKUP(AX52,Champs,2,FALSE)),1,0)=0,LOOKUP(AX52,general),1)))","v":1},{"$f":"IF(AX52>Saisies!$C$25,1,(IF(AX52<Saisies!$B$25,1,IF(Saisies!$B$25=0,1,0))))","v":1},{"$f":"IF(AX52>Saisies!$E$25,1,(IF(AX52<Saisies!$D$25,1,IF(Saisies!$D$25=0,1,0))))","v":1},{"$f":"IF(AX52>Saisies!$G$25,1,(IF(AX52<Saisies!$F$25,1,IF(Saisies!$F$25<10,1,0))))","v":1},{"$f":"IF(AX52>Saisies!$C$10,\"\",(IF(AX52<Saisies!$B$10,\"\",BA52)))","v":""},{"$f":"IF(AX52>Saisies!$E$10,\"\",(IF(AX52<Saisies!$D$10,\"\",BA52)))","v":""},{"$f":"IF(AX52>Saisies!$G$10,\"\",(IF(AX52<Saisies!$F$10,\"\",BA52)))","v":""},{"$f":"EDATE(AX52,1)","v":"2017-05-01"},{"$f":"UPPER(LEFT(TEXT(BN52,\"jjj\"),1))","v":"L"},{"$f":"LOOKUP(UPPER(LEFT(TEXT(BN52,\"jjjj\"),2)),$GW$5:$GX$11)","v":7},{"$f":"LOOKUP(UPPER(LEFT(TEXT(BN52,\"jjjj\"),2)),$GW$14:$GX$20)","v":7},{"$f":"IF(ISNUMBER(BU52),BU52,0)+IF(ISNUMBER(BV52),BV52,0)+BB82","v":492},{"$f":"IF(BR52>=Saisies!$E$4,(IF(BC82<=Saisies!$E$4,BN52,BC82)),0)","v":42622},{"$f":"IF(BN52=Saisies!$C$7,MIN((ABS(Saisies!$E$4-BR51)),BU52),BU52)","v":""},{"$f":"IF(ISERROR((IF(BN52>Saisies!$C$7,\"\",IF(ISERROR(IF(BN52<Saisies!$B$7,\"\",BP52)*BV52),IF(BN52<Saisies!$B$7,\"\",BP52),\"\")))*BW52*BX52*BY52*BZ52),\"\",(IF(BN52>Saisies!$C$7,\"\",IF(ISERROR(IF(BN52<Saisies!$B$7,\"\",BP52)*BV52),IF(BN52<Saisies!$B$7,\"\",BP52),\"\")))*BW52*BX52*BY52*BZ52)","v":""},{"$f":"IF((SUM(CA52:CC52)*BW52*BX52*BY52*BZ52)=0,\"\",SUM(CA52:CC52))","v":""},0,{"$f":"IF(BN52>Saisies!$C$25,1,(IF(BN52<Saisies!$B$25,1,IF(Saisies!$B$25=0,1,0))))","v":1},{"$f":"IF(BN52>Saisies!$E$25,1,(IF(BN52<Saisies!$D$25,1,IF(Saisies!$D$25=0,1,0))))","v":1},{"$f":"IF(BN52>Saisies!$G$25,1,(IF(BN52<Saisies!$F$25,1,IF(Saisies!$F$25<10,1,0))))","v":1},{"$f":"IF(BN52>Saisies!$C$10,\"\",(IF(BN52<Saisies!$B$10,\"\",BQ52)))","v":""},{"$f":"IF(BN52>Saisies!$E$10,\"\",(IF(BN52<Saisies!$D$10,\"\",BQ52)))","v":""},{"$f":"IF(BN52>Saisies!$G$10,\"\",(IF(BN52<Saisies!$F$10,\"\",BQ52)))","v":""},{"$f":"EDATE(BN52,1)","v":"2017-06-01"},{"$f":"UPPER(LEFT(TEXT(CD52,\"jjj\"),1))","v":"J"},{"$f":"LOOKUP(UPPER(LEFT(TEXT(CD52,\"jjjj\"),2)),$GW$5:$GX$11)","v":8},{"$f":"LOOKUP(UPPER(LEFT(TEXT(CD52,\"jjjj\"),2)),$GW$14:$GX$20)","v":7},{"$f":"IF(ISNUMBER(CK52),CK52,0)+IF(ISNUMBER(CL52),CL52,0)+BR82","v":492},{"$f":"IF(CH52>=Saisies!$E$4,(IF(BS82<=Saisies!$E$4,CD52,BS82)),0)","v":42622},{"$f":"IF(CD52=Saisies!$C$7,MIN((ABS(Saisies!$E$4-CH51)),CK52),CK52)","v":""},{"$f":"IF(ISERROR((IF(CD52>Saisies!$C$7,\"\",IF(ISERROR(IF(CD52<Saisies!$B$7,\"\",CF52)*CL52),IF(CD52<Saisies!$B$7,\"\",CF52),\"\")))*(IF(ISERROR(CM52+1),0,CM52))*CN52*CO52*CP52),\"\",(IF(CD52>Saisies!$C$7,\"\",IF(ISERROR(IF(CD52<Saisies!$B$7,\"\",CF52)*CL52),IF(CD52<Saisies!$B$7,\"\",CF52),\"\")))*(IF(ISERROR(CM52+1),0,CM52))*CN52*CO52*CP52)","v":""},{"$f":"IF((SUM(CQ52:CS52)*(IF(ISERROR(CM52+1),0,CM52))*CN52*CO52*CP52)=0,\"\",SUM(CQ52:CS52))","v":""},{"$f":"IF(ISERROR(IF(IF(ISERROR(VLOOKUP(CD52,Champs,2,FALSE)),1,0)=0,LOOKUP(CD52,general),1)),0,(IF(IF(ISERROR(VLOOKUP(CD52,Champs,2,FALSE)),1,0)=0,LOOKUP(CD52,general),1)))","v":1},{"$f":"IF(CD52>Saisies!$C$25,1,(IF(CD52<Saisies!$B$25,1,IF(Saisies!$B$25=0,1,0))))","v":1},{"$f":"IF(CD52>Saisies!$E$25,1,(IF(CD52<Saisies!$D$25,1,IF(Saisies!$D$25=0,1,0))))","v":1},{"$f":"IF(CD52>Saisies!$G$25,1,(IF(CD52<Saisies!$F$25,1,IF(Saisies!$F$25<10,1,0))))","v":1},{"$f":"IF(CD52>Saisies!$C$10,\"\",(IF(CD52<Saisies!$B$10,\"\",CG52)))","v":""},{"$f":"IF(CD52>Saisies!$E$10,\"\",(IF(CD52<Saisies!$D$10,\"\",CG52)))","v":""},{"$f":"IF(CD52>Saisies!$G$10,\"\",(IF(CD52<Saisies!$F$10,\"\",CG52)))","v":""},{"$f":"EDATE(CD52,1)","v":"2017-07-01"},{"$f":"UPPER(LEFT(TEXT(CT52,\"jjj\"),1))","v":"S"},{"$f":"LOOKUP(UPPER(LEFT(TEXT(CT52,\"jjjj\"),2)),$GW$5:$GX$11)","v":0},{"$f":"LOOKUP(UPPER(LEFT(TEXT(CT52,\"jjjj\"),2)),$GW$14:$GX$20)","v":0},{"$f":"IF(ISNUMBER(DA52),DA52,0)+IF(ISNUMBER(DB52),DB52,0)+CH82","v":492},{"$f":"IF(CX52>=Saisies!$E$4,(IF(CI82<=Saisies!$E$4,CT52,CI82)),0)","v":42622},{"$f":"IF(CT52=Saisies!$C$7,MIN((ABS(Saisies!$E$4-CX51)),DA52),DA52)","v":""},{"$f":"IF(ISERROR((IF(CT52>Saisies!$C$7,\"\",IF(ISERROR(IF(CT52<Saisies!$B$7,\"\",CV52)*DB52),IF(CT52<Saisies!$B$7,\"\",CV52),\"\")))*(IF(ISERROR(DC52+1),0,DC52))*DD52*DE52*DF52),\"\",(IF(CT52>Saisies!$C$7,\"\",IF(ISERROR(IF(CT52<Saisies!$B$7,\"\",CV52)*DB52),IF(CT52<Saisies!$B$7,\"\",CV52),\"\")))*(IF(ISERROR(DC52+1),0,DC52))*DD52*DE52*DF52)","v":""},{"$f":"IF((SUM(DG52:DI52)*(IF(ISERROR(DC52+1),0,DC52))*DD52*DE52*DF52)=0,\"\",SUM(DG52:DI52))","v":""},{"$f":"IF(ISERROR(IF(IF(ISERROR(VLOOKUP(CT52,Champs,2,FALSE)),1,0)=0,LOOKUP(CT52,general),1)),0,(IF(IF(ISERROR(VLOOKUP(CT52,Champs,2,FALSE)),1,0)=0,LOOKUP(CT52,general),1)))","v":1},{"$f":"IF(CT52>Saisies!$C$25,1,(IF(CT52<Saisies!$B$25,1,IF(Saisies!$B$25=0,1,0))))","v":1},{"$f":"IF(CT52>Saisies!$E$25,1,(IF(CT52<Saisies!$D$25,1,IF(Saisies!$D$25=0,1,0))))","v":1},{"$f":"IF(CT52>Saisies!$G$25,1,(IF(CT52<Saisies!$F$25,1,IF(Saisies!$F$25<10,1,0))))","v":1},{"$f":"IF(CT52>Saisies!$C$10,\"\",(IF(CT52<Saisies!$B$10,\"\",CW52)))","v":""},{"$f":"IF(CT52>Saisies!$E$10,\"\",(IF(CT52<Saisies!$D$10,\"\",CW52)))","v":""},{"$f":"IF(CT52>Saisies!$G$10,\"\",(IF(CT52<Saisies!$F$10,\"\",CW52)))","v":""},{"$f":"EDATE(CT52,1)","v":"2017-08-01"},{"$f":"UPPER(LEFT(TEXT(DJ52,\"jjj\"),1))","v":"M"},{"$f":"LOOKUP(UPPER(LEFT(TEXT(DJ52,\"jjjj\"),2)),$GW$5:$GX$11)","v":8},{"$f":"LOOKUP(UPPER(LEFT(TEXT(DJ52,\"jjjj\"),2)),$GW$14:$GX$20)","v":7},{"$f":"IF(ISNUMBER(DQ52),DQ52,0)+IF(ISNUMBER(DR52),DR52,0)+CX82","v":492},{"$f":"IF(DN52>=Saisies!$E$4,(IF(CY82<=Saisies!$E$4,DJ52,CY82)),0)","v":42622},{"$f":"IF(DJ52=Saisies!$C$7,MIN((ABS(Saisies!$E$4-DN51)),DQ52),DQ52)","v":""},{"$f":"IF(ISERROR((IF(DJ52>Saisies!$C$7,\"\",IF(ISERROR(IF(DJ52<Saisies!$B$7,\"\",DL52)*DR52),IF(DJ52<Saisies!$B$7,\"\",DL52),\"\")))*(IF(ISERROR(DS52+1),0,DS52))*DT52*DU52*DV52),\"\",(IF(DJ52>Saisies!$C$7,\"\",IF(ISERROR(IF(DJ52<Saisies!$B$7,\"\",DL52)*DR52),IF(DJ52<Saisies!$B$7,\"\",DL52),\"\")))*(IF(ISERROR(DS52+1),0,DS52))*DT52*DU52*DV52)","v":""},{"$f":"IF((SUM(DW52:DY52)*(IF(ISERROR(DS52+1),0,DS52))*DT52*DU52*DV52)=0,\"\",SUM(DW52:DY52))","v":""},{"$f":"IF(ISERROR(IF(IF(ISERROR(VLOOKUP(DJ52,Champs,2,FALSE)),1,0)=0,LOOKUP(DJ52,general),1)),0,(IF(IF(ISERROR(VLOOKUP(DJ52,Champs,2,FALSE)),1,0)=0,LOOKUP(DJ52,general),1)))","v":1},{"$f":"IF(DJ52>Saisies!$C$25,1,(IF(DJ52<Saisies!$B$25,1,IF(Saisies!$B$25=0,1,0))))","v":1},{"$f":"IF(DJ52>Saisies!$E$25,1,(IF(DJ52<Saisies!$D$25,1,IF(Saisies!$D$25=0,1,0))))","v":1},{"$f":"IF(DJ52>Saisies!$G$25,1,(IF(DJ52<Saisies!$F$25,1,IF(Saisies!$F$25<10,1,0))))","v":1},{"$f":"IF(DJ52>Saisies!$C$10,\"\",(IF(DJ52<Saisies!$B$10,\"\",DM52)))","v":""},{"$f":"IF(DJ52>Saisies!$E$10,\"\",(IF(DJ52<Saisies!$D$10,\"\",DM52)))","v":""},{"$f":"IF(DJ52>Saisies!$G$10,\"\",(IF(DJ52<Saisies!$F$10,\"\",DM52)))","v":""},{"$f":"EDATE(DJ52,1)","v":"2017-09-01"},{"$f":"UPPER(LEFT(TEXT(DZ52,\"jjj\"),1))","v":"V"},{"$f":"LOOKUP(UPPER(LEFT(TEXT(DZ52,\"jjjj\"),2)),$GW$5:$GX$11)","v":4},{"$f":"LOOKUP(UPPER(LEFT(TEXT(DZ52,\"jjjj\"),2)),$GW$14:$GX$20)","v":7},{"$f":"IF(ISNUMBER(EG52),EG52,0)+IF(ISNUMBER(EH52),EH52,0)+DN82","v":492},{"$f":"IF(ED52>=Saisies!$E$4,(IF(DO82<=Saisies!$E$4,DZ52,DO82)),0)","v":42622},{"$f":"IF(DZ52=Saisies!$C$7,MIN((ABS(Saisies!$E$4-ED51)),EG52),EG52)","v":""},{"$f":"IF(ISERROR((IF(DZ52>Saisies!$C$7,\"\",IF(ISERROR(IF(DZ52<Saisies!$B$7,\"\",EB52)*EH52),IF(DZ52<Saisies!$B$7,\"\",EB52),\"\")))*(IF(ISERROR(EI52+1),0,EI52))*EJ52*EK52*EL52),\"\",(IF(DZ52>Saisies!$C$7,\"\",IF(ISERROR(IF(DZ52<Saisies!$B$7,\"\",EB52)*EH52),IF(DZ52<Saisies!$B$7,\"\",EB52),\"\")))*(IF(ISERROR(EI52+1),0,EI52))*EJ52*EK52*EL52)","v":""},{"$f":"IF((SUM(EM52:EO52)*(IF(ISERROR(EI52+1),0,EI52))*EJ52*EK52*EL52)=0,\"\",SUM(EM52:EO52))","v":""},{"$f":"IF(ISERROR(IF(IF(ISERROR(VLOOKUP(DZ52,Champs,2,FALSE)),1,0)=0,LOOKUP(DZ52,general),1)),0,(IF(IF(ISERROR(VLOOKUP(DZ52,Champs,2,FALSE)),1,0)=0,LOOKUP(DZ52,general),1)))","v":1},{"$f":"IF(DZ52>Saisies!$C$25,1,(IF(DZ52<Saisies!$B$25,1,IF(Saisies!$B$25=0,1,0))))","v":1},{"$f":"IF(DZ52>Saisies!$E$25,1,(IF(DZ52<Saisies!$D$25,1,IF(Saisies!$D$25=0,1,0))))","v":1},{"$f":"IF(DZ52>Saisies!$G$25,1,(IF(DZ52<Saisies!$F$25,1,IF(Saisies!$F$25<10,1,0))))","v":1},{"$f":"IF(DZ52>Saisies!$C$10,\"\",(IF(DZ52<Saisies!$B$10,\"\",EC52)))","v":""},{"$f":"IF(DZ52>Saisies!$E$10,\"\",(IF(DZ52<Saisies!$D$10,\"\",EC52)))","v":""},{"$f":"IF(DZ52>Saisies!$G$10,\"\",(IF(DZ52<Saisies!$F$10,\"\",EC52)))","v":""},{"$f":"EDATE(DZ52,1)","v":"2017-10-01"},{"$f":"UPPER(LEFT(TEXT(EP52,\"jjj\"),1))","v":"D"},{"$f":"LOOKUP(UPPER(LEFT(TEXT(EP52,\"jjjj\"),2)),$GW$5:$GX$11)","v":0},{"$f":"LOOKUP(UPPER(LEFT(TEXT(EP52,\"jjjj\"),2)),$GW$14:$GX$20)","v":0},{"$f":"IF(ISNUMBER(EW52),EW52,0)+IF(ISNUMBER(EX52),EX52,0)+ED82","v":492},{"$f":"IF(ET52>=Saisies!$E$4,(IF(EE82<=Saisies!$E$4,EP52,EE82)),0)","v":42622},{"$f":"IF(EP52=Saisies!$C$7,MIN((ABS(Saisies!$E$4-ET51)),EW52),EW52)","v":""},{"$f":"IF(ISERROR((IF(EP52>Saisies!$C$7,\"\",IF(ISERROR(IF(EP52<Saisies!$B$7,\"\",ER52)*EX52),IF(EP52<Saisies!$B$7,\"\",ER52),\"\")))*(IF(ISERROR(EY52+1),0,EY52))*EZ52*FA52*FB52),\"\",(IF(EP52>Saisies!$C$7,\"\",IF(ISERROR(IF(EP52<Saisies!$B$7,\"\",ER52)*EX52),IF(EP52<Saisies!$B$7,\"\",ER52),\"\")))*(IF(ISERROR(EY52+1),0,EY52))*EZ52*FA52*FB52)","v":""},{"$f":"IF((SUM(FC52:FE52)*(IF(ISERROR(EY52+1),0,EY52))*EZ52*FA52*FB52)=0,\"\",SUM(FC52:FE52))","v":""},{"$f":"IF(ISERROR(IF(IF(ISERROR(VLOOKUP(EP52,Champs,2,FALSE)),1,0)=0,LOOKUP(EP52,general),1)),0,(IF(IF(ISERROR(VLOOKUP(EP52,Champs,2,FALSE)),1,0)=0,LOOKUP(EP52,general),1)))","v":1},{"$f":"IF(EP52>Saisies!$C$25,1,(IF(EP52<Saisies!$B$25,1,IF(Saisies!$B$25=0,1,0))))","v":1},{"$f":"IF(EP52>Saisies!$E$25,1,(IF(EP52<Saisies!$D$25,1,IF(Saisies!$D$25=0,1,0))))","v":1},{"$f":"IF(EP52>Saisies!$G$25,1,(IF(EP52<Saisies!$F$25,1,IF(Saisies!$F$25<10,1,0))))","v":1},{"$f":"IF(EP52>Saisies!$C$10,\"\",(IF(EP52<Saisies!$B$10,\"\",ES52)))","v":""},{"$f":"IF(EP52>Saisies!$E$10,\"\",(IF(EP52<Saisies!$D$10,\"\",ES52)))","v":""},{"$f":"IF(EP52>Saisies!$G$10,\"\",(IF(EP52<Saisies!$F$10,\"\",ES52)))","v":""},{"$f":"EDATE(EP52,1)","v":"2017-11-01"},{"$f":"UPPER(LEFT(TEXT(FF52,\"jjj\"),1))","v":"M"},{"$f":"LOOKUP(UPPER(LEFT(TEXT(FF52,\"jjjj\"),2)),$GW$5:$GX$11)","v":8},{"$f":"LOOKUP(UPPER(LEFT(TEXT(FF52,\"jjjj\"),2)),$GW$14:$GX$20)","v":7},{"$f":"IF(ISNUMBER(FM52),FM52,0)+IF(ISNUMBER(FN52),FN52,0)+ET82","v":492},{"$f":"IF(FJ52>=Saisies!$E$4,(IF(EU82<=Saisies!$E$4,FF52,EU82)),0)","v":42622},{"$f":"IF(FF52=Saisies!$C$7,MIN((ABS(Saisies!$E$4-FJ51)),FM52),FM52)","v":""},{"$f":"IF(ISERROR((IF(FF52>Saisies!$C$7,\"\",IF(ISERROR(IF(FF52<Saisies!$B$7,\"\",FH52)*FN52),IF(FF52<Saisies!$B$7,\"\",FH52),\"\")))*FO52*FP52*FQ52*FR52),\"\",(IF(FF52>Saisies!$C$7,\"\",IF(ISERROR(IF(FF52<Saisies!$B$7,\"\",FH52)*FN52),IF(FF52<Saisies!$B$7,\"\",FH52),\"\")))*FO52*FP52*FQ52*FR52)","v":""},{"$f":"IF((SUM(FS52:FU52)*FO52*FP52*FQ52*FR52)=0,\"\",SUM(FS52:FU52))","v":""},0,{"$f":"IF(FF52>Saisies!$C$25,1,(IF(FF52<Saisies!$B$25,1,IF(Saisies!$B$25=0,1,0))))","v":1},{"$f":"IF(FF52>Saisies!$E$25,1,(IF(FF52<Saisies!$D$25,1,IF(Saisies!$D$25=0,1,0))))","v":1},{"$f":"IF(FF52>Saisies!$G$25,1,(IF(FF52<Saisies!$F$25,1,IF(Saisies!$F$25<10,1,0))))","v":1},{"$f":"IF(FF52>Saisies!$C$10,\"\",(IF(FF52<Saisies!$B$10,\"\",FI52)))","v":""},{"$f":"IF(FF52>Saisies!$E$10,\"\",(IF(FF52<Saisies!$D$10,\"\",FI52)))","v":""},{"$f":"IF(FF52>Saisies!$G$10,\"\",(IF(FF52<Saisies!$F$10,\"\",FI52)))","v":""},{"$f":"EDATE(FF52,1)","v":"2017-12-01"},{"$f":"UPPER(LEFT(TEXT(FV52,\"jjj\"),1))","v":"V"},{"$f":"LOOKUP(UPPER(LEFT(TEXT(FV52,\"jjjj\"),2)),$GW$5:$GX$11)","v":4},{"$f":"LOOKUP(UPPER(LEFT(TEXT(FV52,\"jjjj\"),2)),$GW$14:$GX$20)","v":7},{"$f":"IF(ISNUMBER(GC52),GC52,0)+IF(ISNUMBER(GD52),GD52,0)+FJ82","v":492},{"$f":"IF(FZ52>=Saisies!$E$4,(IF(FK82<=Saisies!$E$4,FV52,FK82)),0)","v":42622},{"$f":"IF(FV52=Saisies!$C$7,MIN((ABS(Saisies!$E$4-FZ51)),GC52),GC52)","v":""},{"$f":"IF(ISERROR((IF(FV52>Saisies!$C$7,\"\",IF(ISERROR(IF(FV52<Saisies!$B$7,\"\",FX52)*GD52),IF(FV52<Saisies!$B$7,\"\",FX52),\"\")))*(IF(ISERROR(GE52+1),0,GE52))*GF52*GG52*GH52),\"\",(IF(FV52>Saisies!$C$7,\"\",IF(ISERROR(IF(FV52<Saisies!$B$7,\"\",FX52)*GD52),IF(FV52<Saisies!$B$7,\"\",FX52),\"\")))*(IF(ISERROR(GE52+1),0,GE52))*GF52*GG52*GH52)","v":""},{"$f":"IF((SUM(GI52:GK52)*(IF(ISERROR(GE52+1),0,GE52))*GF52*GG52*GH52)=0,\"\",SUM(GI52:GK52))","v":""},{"$f":"IF(ISERROR(IF(IF(ISERROR(VLOOKUP(FV52,Champs,2,FALSE)),1,0)=0,LOOKUP(FV52,general),1)),0,(IF(IF(ISERROR(VLOOKUP(FV52,Champs,2,FALSE)),1,0)=0,LOOKUP(FV52,general),1)))","v":1},{"$f":"IF(FV52>Saisies!$C$25,1,(IF(FV52<Saisies!$B$25,1,IF(Saisies!$B$25=0,1,0))))","v":1},{"$f":"IF(FV52>Saisies!$E$25,1,(IF(FV52<Saisies!$D$25,1,IF(Saisies!$D$25=0,1,0))))","v":1},{"$f":"IF(FV52>Saisies!$G$25,1,(IF(FV52<Saisies!$F$25,1,IF(Saisies!$F$25<10,1,0))))","v":1},{"$f":"IF(FV52>Saisies!$C$10,\"\",(IF(FV52<Saisies!$B$10,\"\",FY52)))","v":""},{"$f":"IF(FV52>Saisies!$E$10,\"\",(IF(FV52<Saisies!$D$10,\"\",FY52)))","v":""},{"$f":"IF(FV52>Saisies!$G$10,\"\",(IF(FV52<Saisies!$F$10,\"\",FY52)))","v":""}]
[null,{"$f":"B52+1","v":"2017-01-02"},"L",7,7,{"$f":"IF(ISNUMBER(I53),I53,0)+IF(ISNUMBER(J53),J53,0)+F52","v":492},{"$f":"IF(F53>=Saisies!$E$4,(IF(G52<=Saisies!$E$4,B53,G52)),0)","v":42622},{"$f":"IF(B53=Saisies!$C$7,MIN((ABS(Saisies!$E$4-F52)),I53),I53)","v":""},{"$f":"IF(ISERROR((IF(B53>Saisies!$C$7,\"\",IF(ISERROR(IF(B53<Saisies!$B$7,\"\",D53)*J53),IF(B53<Saisies!$B$7,\"\",D53),\"\")))*(IF(ISERROR(K53+1),0,K53))*L53*M53*N53),\"\",(IF(B53>Saisies!$C$7,\"\",IF(ISERROR(IF(B53<Saisies!$B$7,\"\",D53)*J53),IF(B53<Saisies!$B$7,\"\",D53),\"\")))*(IF(ISERROR(K53+1),0,K53))*L53*M53*N53)","v":""},{"$f":"IF((SUM(O53:Q53)*(IF(ISERROR(K53+1),0,K53))*L53*M53*N53)=0,\"\",SUM(O53:Q53))","v":""},{"$f":"IF(ISERROR(IF(IF(ISERROR(VLOOKUP(B53,Champs,2,FALSE)),1,0)=0,LOOKUP(B53,general),1)),0,(IF(IF(ISERROR(VLOOKUP(B53,Champs,2,FALSE)),1,0)=0,LOOKUP(B53,general),1)))","v":1},{"$f":"IF(B53>Saisies!$C$25,1,(IF(B53<Saisies!$B$25,1,IF(Saisies!$B$25=0,1,0))))","v":1},{"$f":"IF(B53>Saisies!$E$25,1,(IF(B53<Saisies!$D$25,1,IF(Saisies!$D$25=0,1,0))))","v":1},{"$f":"IF(B53>Saisies!$G$25,1,(IF(B53<Saisies!$F$25,1,IF(Saisies!$F$25<10,1,0))))","v":1},{"$f":"IF(B53>Saisies!$C$10,\"\",(IF(B53<Saisies!$B$10,\"\",E53)))","v":""},{"$f":"IF(B53>Saisies!$E$10,\"\",(IF(B53<Saisies!$D$10,\"\",E53)))","v":""},{"$f":"IF(B53>Saisies!$G$10,\"\",(IF(B53<Saisies!$F$10,\"\",E53)))","v":""},{"$f":"R52+1","v":"2017-02-02"},"J",8,7,{"$f":"IF(ISNUMBER(Y53),Y53,0)+IF(ISNUMBER(Z53),Z53,0)+V52","v":492},{"$f":"IF(V53>=Saisies!$E$4,(IF(W52<=Saisies!$E$4,R53,W52)),0)","v":42622},{"$f":"IF(R53=Saisies!$C$7,MIN((ABS(Saisies!$E$4-V52)),Y53),Y53)","v":""},{"$f":"IF(ISERROR((IF(R53>Saisies!$C$7,\"\",IF(ISERROR(IF(R53<Saisies!$B$7,\"\",T53)*Z53),IF(R53<Saisies!$B$7,\"\",T53),\"\")))*(IF(ISERROR(AA53+1),0,AA53))*AB53*AC53*AD53),\"\",(IF(R53>Saisies!$C$7,\"\",IF(ISERROR(IF(R53<Saisies!$B$7,\"\",T53)*Z53),IF(R53<Saisies!$B$7,\"\",T53),\"\")))*(IF(ISERROR(AA53+1),0,AA53))*AB53*AC53*AD53)","v":""},"",1,{"$f":"IF(R53>Saisies!$C$25,1,(IF(R53<Saisies!$B$25,1,IF(Saisies!$B$25=0,1,0))))","v":1},{"$f":"IF(R53>Saisies!$E$25,1,(IF(R53<Saisies!$D$25,1,IF(Saisies!$D$25=0,1,0))))","v":1},{"$f":"IF(R53>Saisies!$G$25,1,(IF(R53<Saisies!$F$25,1,IF(Saisies!$F$25<10,1,0))))","v":1},{"$f":"IF(R53>Saisies!$C$10,\"\",(IF(R53<Saisies!$B$10,\"\",U53)))","v":""},{"$f":"IF(R53>Saisies!$E$10,\"\",(IF(R53<Saisies!$D$10,\"\",U53)))","v":""},{"$f":"IF(R53>Saisies!$G$10,\"\",(IF(R53<Saisies!$F$10,\"\",U53)))","v":""},{"$f":"AH52+1","v":"2017-03-02"},"J",8,7,{"$f":"IF(ISNUMBER(AO53),AO53,0)+IF(ISNUMBER(AP53),AP53,0)+AL52","v":492},{"$f":"IF(AL53>=Saisies!$E$4,(IF(AM52<=Saisies!$E$4,AH53,AM52)),0)","v":42622},{"$f":"IF(AH53=Saisies!$C$7,MIN((ABS(Saisies!$E$4-AL52)),AO53),AO53)","v":""},{"$f":"IF(ISERROR((IF(AH53>Saisies!$C$7,\"\",IF(ISERROR(IF(AH53<Saisies!$B$7,\"\",AJ53)*AP53),IF(AH53<Saisies!$B$7,\"\",AJ53),\"\")))*(IF(ISERROR(AQ53+1),0,AQ53))*AR53*AS53*AT53),\"\",(IF(AH53>Saisies!$C$7,\"\",IF(ISERROR(IF(AH53<Saisies!$B$7,\"\",AJ53)*AP53),IF(AH53<Saisies!$B$7,\"\",AJ53),\"\")))*(IF(ISERROR(AQ53+1),0,AQ53))*AR53*AS53*AT53)","v":""},"",1,{"$f":"IF(AH53>Saisies!$C$25,1,(IF(AH53<Saisies!$B$25,1,IF(Saisies!$B$25=0,1,0))))","v":1},{"$f":"IF(AH53>Saisies!$E$25,1,(IF(AH53<Saisies!$D$25,1,IF(Saisies!$D$25=0,1,0))))","v":1},{"$f":"IF(AH53>Saisies!$G$25,1,(IF(AH53<Saisies!$F$25,1,IF(Saisies!$F$25<10,1,0))))","v":1},{"$f":"IF(AH53>Saisies!$C$10,\"\",(IF(AH53<Saisies!$B$10,\"\",AK53)))","v":""},{"$f":"IF(AH53>Saisies!$E$10,\"\",(IF(AH53<Saisies!$D$10,\"\",AK53)))","v":""},{"$f":"IF(AH53>Saisies!$G$10,\"\",(IF(AH53<Saisies!$F$10,\"\",AK53)))","v":""},{"$f":"AX52+1","v":"2017-04-02"},"D",0,0,{"$f":"IF(ISNUMBER(BE53),BE53,0)+IF(ISNUMBER(BF53),BF53,0)+BB52","v":492},{"$f":"IF(BB53>=Saisies!$E$4,(IF(BC52<=Saisies!$E$4,AX53,BC52)),0)","v":42622},{"$f":"IF(AX53=Saisies!$C$7,MIN((ABS(Saisies!$E$4-BB52)),BE53),BE53)","v":""},{"$f":"IF(ISERROR((IF(AX53>Saisies!$C$7,\"\",IF(ISERROR(IF(AX53<Saisies!$B$7,\"\",AZ53)*BF53),IF(AX53<Saisies!$B$7,\"\",AZ53),\"\")))*(IF(ISERROR(BG53+1),0,BG53))*BH53*BI53*BJ53),\"\",(IF(AX53>Saisies!$C$7,\"\",IF(ISERROR(IF(AX53<Saisies!$B$7,\"\",AZ53)*BF53),IF(AX53<Saisies!$B$7,\"\",AZ53),\"\")))*(IF(ISERROR(BG53+1),0,BG53))*BH53*BI53*BJ53)","v":""},"",1,{"$f":"IF(AX53>Saisies!$C$25,1,(IF(AX53<Saisies!$B$25,1,IF(Saisies!$B$25=0,1,0))))","v":1},{"$f":"IF(AX53>Saisies!$E$25,1,(IF(AX53<Saisies!$D$25,1,IF(Saisies!$D$25=0,1,0))))","v":1},{"$f":"IF(AX53>Saisies!$G$25,1,(IF(AX53<Saisies!$F$25,1,IF(Saisies!$F$25<10,1,0))))","v":1},{"$f":"IF(AX53>Saisies!$C$10,\"\",(IF(AX53<Saisies!$B$10,\"\",BA53)))","v":""},{"$f":"IF(AX53>Saisies!$E$10,\"\",(IF(AX53<Saisies!$D$10,\"\",BA53)))","v":""},{"$f":"IF(AX53>Saisies!$G$10,\"\",(IF(AX53<Saisies!$F$10,\"\",BA53)))","v":""},{"$f":"BN52+1","v":"2017-05-02"},"M",8,7,{"$f":"IF(ISNUMBER(BU53),BU53,0)+IF(ISNUMBER(BV53),BV53,0)+BR52","v":492},{"$f":"IF(BR53>=Saisies!$E$4,(IF(BS52<=Saisies!$E$4,BN53,BS52)),0)","v":42622},{"$f":"IF(BN53=Saisies!$C$7,MIN((ABS(Saisies!$E$4-BR52)),BU53),BU53)","v":""},{"$f":"IF(ISERROR((IF(BN53>Saisies!$C$7,\"\",IF(ISERROR(IF(BN53<Saisies!$B$7,\"\",BP53)*BV53),IF(BN53<Saisies!$B$7,\"\",BP53),\"\")))*(IF(ISERROR(BW53+1),0,BW53))*BX53*BY53*BZ53),\"\",(IF(BN53>Saisies!$C$7,\"\",IF(ISERROR(IF(BN53<Saisies!$B$7,\"\",BP53)*BV53),IF(BN53<Saisies!$B$7,\"\",BP53),\"\")))*(IF(ISERROR(BW53+1),0,BW53))*BX53*BY53*BZ53)","v":""},{"$f":"IF((SUM(CA53:CC53)*(IF(ISERROR(BW53+1),0,BW53))*BX53*BY53*BZ53)=0,\"\",SUM(CA53:CC53))","v":""},{"$f":"IF(ISERROR(IF(IF(ISERROR(VLOOKUP(BN53,Champs,2,FALSE)),1,0)=0,LOOKUP(BN53,general),1)),0,(IF(IF(ISERROR(VLOOKUP(BN53,Champs,2,FALSE)),1,0)=0,LOOKUP(BN53,general),1)))","v":1},{"$f":"IF(BN53>Saisies!$C$25,1,(IF(BN53<Saisies!$B$25,1,IF(Saisies!$B$25=0,1,0))))","v":1},{"$f":"IF(BN53>Saisies!$E$25,1,(IF(BN53<Saisies!$D$25,1,IF(Saisies!$D$25=0,1,0))))","v":1},{"$f":"IF(BN53>Saisies!$G$25,1,(IF(BN53<Saisies!$F$25,1,IF(Saisies!$F$25<10,1,0))))","v":1},{"$f":"IF(BN53>Saisies!$C$10,\"\",(IF(BN53<Saisies!$B$10,\"\",BQ53)))","v":""},{"$f":"IF(BN53>Saisies!$E$10,\"\",(IF(BN53<Saisies!$D$10,\"\",BQ53)))","v":""},{"$f":"IF(BN53>Saisies!$G$10,\"\",(IF(BN53<Saisies!$F$10,\"\",BQ53)))","v":""},{"$f":"CD52+1","v":"2017-06-02"},"V",4,7,{"$f":"IF(ISNUMBER(CK53),CK53,0)+IF(ISNUMBER(CL53),CL53,0)+CH52","v":492},{"$f":"IF(CH53>=Saisies!$E$4,(IF(CI52<=Saisies!$E$4,CD53,CI52)),0)","v":42622},{"$f":"IF(CD53=Saisies!$C$7,MIN((ABS(Saisies!$E$4-CH52)),CK53),CK53)","v":""},{"$f":"IF(ISERROR((IF(CD53>Saisies!$C$7,\"\",IF(ISERROR(IF(CD53<Saisies!$B$7,\"\",CF53)*CL53),IF(CD53<Saisies!$B$7,\"\",CF53),\"\")))*(IF(ISERROR(CM53+1),0,CM53))*CN53*CO53*CP53),\"\",(IF(CD53>Saisies!$C$7,\"\",IF(ISERROR(IF(CD53<Saisies!$B$7,\"\",CF53)*CL53),IF(CD53<Saisies!$B$7,\"\",CF53),\"\")))*(IF(ISERROR(CM53+1),0,CM53))*CN53*CO53*CP53)","v":""},"",1,{"$f":"IF(CD53>Saisies!$C$25,1,(IF(CD53<Saisies!$B$25,1,IF(Saisies!$B$25=0,1,0))))","v":1},{"$f":"IF(CD53>Saisies!$E$25,1,(IF(CD53<Saisies!$D$25,1,IF(Saisies!$D$25=0,1,0))))","v":1},{"$f":"IF(CD53>Saisies!$G$25,1,(IF(CD53<Saisies!$F$25,1,IF(Saisies!$F$25<10,1,0))))","v":1},{"$f":"IF(CD53>Saisies!$C$10,\"\",(IF(CD53<Saisies!$B$10,\"\",CG53)))","v":""},{"$f":"IF(CD53>Saisies!$E$10,\"\",(IF(CD53<Saisies!$D$10,\"\",CG53)))","v":""},{"$f":"IF(CD53>Saisies!$G$10,\"\",(IF(CD53<Saisies!$F$10,\"\",CG53)))","v":""},{"$f":"CT52+1","v":"2017-07-02"},"D",0,0,{"$f":"IF(ISNUMBER(DA53),DA53,0)+IF(ISNUMBER(DB53),DB53,0)+CX52","v":492},{"$f":"IF(CX53>=Saisies!$E$4,(IF(CY52<=Saisies!$E$4,CT53,CY52)),0)","v":42622},{"$f":"IF(CT53=Saisies!$C$7,MIN((ABS(Saisies!$E$4-CX52)),DA53),DA53)","v":""},{"$f":"IF(ISERROR((IF(CT53>Saisies!$C$7,\"\",IF(ISERROR(IF(CT53<Saisies!$B$7,\"\",CV53)*DB53),IF(CT53<Saisies!$B$7,\"\",CV53),\"\")))*(IF(ISERROR(DC53+1),0,DC53))*DD53*DE53*DF53),\"\",(IF(CT53>Saisies!$C$7,\"\",IF(ISERROR(IF(CT53<Saisies!$B$7,\"\",CV53)*DB53),IF(CT53<Saisies!$B$7,\"\",CV53),\"\")))*(IF(ISERROR(DC53+1),0,DC53))*DD53*DE53*DF53)","v":""},"",1,{"$f":"IF(CT53>Saisies!$C$25,1,(IF(CT53<Saisies!$B$25,1,IF(Saisies!$B$25=0,1,0))))","v":1},{"$f":"IF(CT53>Saisies!$E$25,1,(IF(CT53<Saisies!$D$25,1,IF(Saisies!$D$25=0,1,0))))","v":1},{"$f":"IF(CT53>Saisies!$G$25,1,(IF(CT53<Saisies!$F$25,1,IF(Saisies!$F$25<10,1,0))))","v":1},{"$f":"IF(CT53>Saisies!$C$10,\"\",(IF(CT53<Saisies!$B$10,\"\",CW53)))","v":""},{"$f":"IF(CT53>Saisies!$E$10,\"\",(IF(CT53<Saisies!$D$10,\"\",CW53)))","v":""},{"$f":"IF(CT53>Saisies!$G$10,\"\",(IF(CT53<Saisies!$F$10,\"\",CW53)))","v":""},{"$f":"DJ52+1","v":"2017-08-02"},"M",8,7,{"$f":"IF(ISNUMBER(DQ53),DQ53,0)+IF(ISNUMBER(DR53),DR53,0)+DN52","v":492},{"$f":"IF(DN53>=Saisies!$E$4,(IF(DO52<=Saisies!$E$4,DJ53,DO52)),0)","v":42622},{"$f":"IF(DJ53=Saisies!$C$7,MIN((ABS(Saisies!$E$4-DN52)),DQ53),DQ53)","v":""},{"$f":"IF(ISERROR((IF(DJ53>Saisies!$C$7,\"\",IF(ISERROR(IF(DJ53<Saisies!$B$7,\"\",DL53)*DR53),IF(DJ53<Saisies!$B$7,\"\",DL53),\"\")))*(IF(ISERROR(DS53+1),0,DS53))*DT53*DU53*DV53),\"\",(IF(DJ53>Saisies!$C$7,\"\",IF(ISERROR(IF(DJ53<Saisies!$B$7,\"\",DL53)*DR53),IF(DJ53<Saisies!$B$7,\"\",DL53),\"\")))*(IF(ISERROR(DS53+1),0,DS53))*DT53*DU53*DV53)","v":""},"",1,{"$f":"IF(DJ53>Saisies!$C$25,1,(IF(DJ53<Saisies!$B$25,1,IF(Saisies!$B$25=0,1,0))))","v":1},{"$f":"IF(DJ53>Saisies!$E$25,1,(IF(DJ53<Saisies!$D$25,1,IF(Saisies!$D$25=0,1,0))))","v":1},{"$f":"IF(DJ53>Saisies!$G$25,1,(IF(DJ53<Saisies!$F$25,1,IF(Saisies!$F$25<10,1,0))))","v":1},{"$f":"IF(DJ53>Saisies!$C$10,\"\",(IF(DJ53<Saisies!$B$10,\"\",DM53)))","v":""},{"$f":"IF(DJ53>Saisies!$E$10,\"\",(IF(DJ53<Saisies!$D$10,\"\",DM53)))","v":""},{"$f":"IF(DJ53>Saisies!$G$10,\"\",(IF(DJ53<Saisies!$F$10,\"\",DM53)))","v":""},{"$f":"DZ52+1","v":"2017-09-02"},"S",0,0,{"$f":"IF(ISNUMBER(EG53),EG53,0)+IF(ISNUMBER(EH53),EH53,0)+ED52","v":492},{"$f":"IF(ED53>=Saisies!$E$4,(IF(EE52<=Saisies!$E$4,DZ53,EE52)),0)","v":42622},{"$f":"IF(DZ53=Saisies!$C$7,MIN((ABS(Saisies!$E$4-ED52)),EG53),EG53)","v":""},{"$f":"IF(ISERROR((IF(DZ53>Saisies!$C$7,\"\",IF(ISERROR(IF(DZ53<Saisies!$B$7,\"\",EB53)*EH53),IF(DZ53<Saisies!$B$7,\"\",EB53),\"\")))*(IF(ISERROR(EI53+1),0,EI53))*EJ53*EK53*EL53),\"\",(IF(DZ53>Saisies!$C$7,\"\",IF(ISERROR(IF(DZ53<Saisies!$B$7,\"\",EB53)*EH53),IF(DZ53<Saisies!$B$7,\"\",EB53),\"\")))*(IF(ISERROR(EI53+1),0,EI53))*EJ53*EK53*EL53)","v":""},"",1,{"$f":"IF(DZ53>Saisies!$C$25,1,(IF(DZ53<Saisies!$B$25,1,IF(Saisies!$B$25=0,1,0))))","v":1},{"$f":"IF(DZ53>Saisies!$E$25,1,(IF(DZ53<Saisies!$D$25,1,IF(Saisies!$D$25=0,1,0))))","v":1},{"$f":"IF(DZ53>Saisies!$G$25,1,(IF(DZ53<Saisies!$F$25,1,IF(Saisies!$F$25<10,1,0))))","v":1},{"$f":"IF(DZ53>Saisies!$C$10,\"\",(IF(DZ53<Saisies!$B$10,\"\",EC53)))","v":""},{"$f":"IF(DZ53>Saisies!$E$10,\"\",(IF(DZ53<Saisies!$D$10,\"\",EC53)))","v":""},{"$f":"IF(DZ53>Saisies!$G$10,\"\",(IF(DZ53<Saisies!$F$10,\"\",EC53)))","v":""},{"$f":"EP52+1","v":"2017-10-02"},"L",7,7,{"$f":"IF(ISNUMBER(EW53),EW53,0)+IF(ISNUMBER(EX53),EX53,0)+ET52","v":492},{"$f":"IF(ET53>=Saisies!$E$4,(IF(EU52<=Saisies!$E$4,EP53,EU52)),0)","v":42622},{"$f":"IF(EP53=Saisies!$C$7,MIN((ABS(Saisies!$E$4-ET52)),EW53),EW53)","v":""},{"$f":"IF(ISERROR((IF(EP53>Saisies!$C$7,\"\",IF(ISERROR(IF(EP53<Saisies!$B$7,\"\",ER53)*EX53),IF(EP53<Saisies!$B$7,\"\",ER53),\"\")))*(IF(ISERROR(EY53+1),0,EY53))*EZ53*FA53*FB53),\"\",(IF(EP53>Saisies!$C$7,\"\",IF(ISERROR(IF(EP53<Saisies!$B$7,\"\",ER53)*EX53),IF(EP53<Saisies!$B$7,\"\",ER53),\"\")))*(IF(ISERROR(EY53+1),0,EY53))*EZ53*FA53*FB53)","v":""},"",1,{"$f":"IF(EP53>Saisies!$C$25,1,(IF(EP53<Saisies!$B$25,1,IF(Saisies!$B$25=0,1,0))))","v":1},{"$f":"IF(EP53>Saisies!$E$25,1,(IF(EP53<Saisies!$D$25,1,IF(Saisies!$D$25=0,1,0))))","v":1},{"$f":"IF(EP53>Saisies!$G$25,1,(IF(EP53<Saisies!$F$25,1,IF(Saisies!$F$25<10,1,0))))","v":1},{"$f":"IF(EP53>Saisies!$C$10,\"\",(IF(EP53<Saisies!$B$10,\"\",ES53)))","v":""},{"$f":"IF(EP53>Saisies!$E$10,\"\",(IF(EP53<Saisies!$D$10,\"\",ES53)))","v":""},{"$f":"IF(EP53>Saisies!$G$10,\"\",(IF(EP53<Saisies!$F$10,\"\",ES53)))","v":""},{"$f":"FF52+1","v":"2017-11-02"},"J",8,7,{"$f":"IF(ISNUMBER(FM53),FM53,0)+IF(ISNUMBER(FN53),FN53,0)+FJ52","v":492},{"$f":"IF(FJ53>=Saisies!$E$4,(IF(FK52<=Saisies!$E$4,FF53,FK52)),0)","v":42622},{"$f":"IF(FF53=Saisies!$C$7,MIN((ABS(Saisies!$E$4-FJ52)),FM53),FM53)","v":""},{"$f":"IF(ISERROR((IF(FF53>Saisies!$C$7,\"\",IF(ISERROR(IF(FF53<Saisies!$B$7,\"\",FH53)*FN53),IF(FF53<Saisies!$B$7,\"\",FH53),\"\")))*(IF(ISERROR(FO53+1),0,FO53))*FP53*FQ53*FR53),\"\",(IF(FF53>Saisies!$C$7,\"\",IF(ISERROR(IF(FF53<Saisies!$B$7,\"\",FH53)*FN53),IF(FF53<Saisies!$B$7,\"\",FH53),\"\")))*(IF(ISERROR(FO53+1),0,FO53))*FP53*FQ53*FR53)","v":""},{"$f":"IF((SUM(FS53:FU53)*(IF(ISERROR(FO53+1),0,FO53))*FP53*FQ53*FR53)=0,\"\",SUM(FS53:FU53))","v":""},{"$f":"IF(ISERROR(IF(IF(ISERROR(VLOOKUP(FF53,Champs,2,FALSE)),1,0)=0,LOOKUP(FF53,general),1)),0,(IF(IF(ISERROR(VLOOKUP(FF53,Champs,2,FALSE)),1,0)=0,LOOKUP(FF53,general),1)))","v":1},{"$f":"IF(FF53>Saisies!$C$25,1,(IF(FF53<Saisies!$B$25,1,IF(Saisies!$B$25=0,1,0))))","v":1},{"$f":"IF(FF53>Saisies!$E$25,1,(IF(FF53<Saisies!$D$25,1,IF(Saisies!$D$25=0,1,0))))","v":1},{"$f":"IF(FF53>Saisies!$G$25,1,(IF(FF53<Saisies!$F$25,1,IF(Saisies!$F$25<10,1,0))))","v":1},{"$f":"IF(FF53>Saisies!$C$10,\"\",(IF(FF53<Saisies!$B$10,\"\",FI53)))","v":""},{"$f":"IF(FF53>Saisies!$E$10,\"\",(IF(FF53<Saisies!$D$10,\"\",FI53)))","v":""},{"$f":"IF(FF53>Saisies!$G$10,\"\",(IF(FF53<Saisies!$F$10,\"\",FI53)))","v":""},{"$f":"FV52+1","v":"2017-12-02"},"S",0,0,{"$f":"IF(ISNUMBER(GC53),GC53,0)+IF(ISNUMBER(GD53),GD53,0)+FZ52","v":492},{"$f":"IF(FZ53>=Saisies!$E$4,(IF(GA52<=Saisies!$E$4,FV53,GA52)),0)","v":42622},{"$f":"IF(FV53=Saisies!$C$7,MIN((ABS(Saisies!$E$4-FZ52)),GC53),GC53)","v":""},{"$f":"IF(ISERROR((IF(FV53>Saisies!$C$7,\"\",IF(ISERROR(IF(FV53<Saisies!$B$7,\"\",FX53)*GD53),IF(FV53<Saisies!$B$7,\"\",FX53),\"\")))*(IF(ISERROR(GE53+1),0,GE53))*GF53*GG53*GH53),\"\",(IF(FV53>Saisies!$C$7,\"\",IF(ISERROR(IF(FV53<Saisies!$B$7,\"\",FX53)*GD53),IF(FV53<Saisies!$B$7,\"\",FX53),\"\")))*(IF(ISERROR(GE53+1),0,GE53))*GF53*GG53*GH53)","v":""},"",1,{"$f":"IF(FV53>Saisies!$C$25,1,(IF(FV53<Saisies!$B$25,1,IF(Saisies!$B$25=0,1,0))))","v":1},{"$f":"IF(FV53>Saisies!$E$25,1,(IF(FV53<Saisies!$D$25,1,IF(Saisies!$D$25=0,1,0))))","v":1},{"$f":"IF(FV53>Saisies!$G$25,1,(IF(FV53<Saisies!$F$25,1,IF(Saisies!$F$25<10,1,0))))","v":1},{"$f":"IF(FV53>Saisies!$C$10,\"\",(IF(FV53<Saisies!$B$10,\"\",FY53)))","v":""},{"$f":"IF(FV53>Saisies!$E$10,\"\",(IF(FV53<Saisies!$D$10,\"\",FY53)))","v":""},{"$f":"IF(FV53>Saisies!$G$10,\"\",(IF(FV53<Saisies!$F$10,\"\",FY53)))","v":""}]
[null,"2017-01-03","M",8,7,{"$f":"IF(ISNUMBER(I54),I54,0)+IF(ISNUMBER(J54),J54,0)+F53","v":492},{"$f":"IF(F54>=Saisies!$E$4,(IF(G53<=Saisies!$E$4,B54,G53)),0)","v":42622},{"$f":"IF(B54=Saisies!$C$7,MIN((ABS(Saisies!$E$4-F53)),I54),I54)","v":""},{"$f":"IF(ISERROR((IF(B54>Saisies!$C$7,\"\",IF(ISERROR(IF(B54<Saisies!$B$7,\"\",D54)*J54),IF(B54<Saisies!$B$7,\"\",D54),\"\")))*(IF(ISERROR(K54+1),0,K54))*L54*M54*N54),\"\",(IF(B54>Saisies!$C$7,\"\",IF(ISERROR(IF(B54<Saisies!$B$7,\"\",D54)*J54),IF(B54<Saisies!$B$7,\"\",D54),\"\")))*(IF(ISERROR(K54+1),0,K54))*L54*M54*N54)","v":""},"",1,{"$f":"IF(B54>Saisies!$C$25,1,(IF(B54<Saisies!$B$25,1,IF(Saisies!$B$25=0,1,0))))","v":1},{"$f":"IF(B54>Saisies!$E$25,1,(IF(B54<Saisies!$D$25,1,IF(Saisies!$D$25=0,1,0))))","v":1},{"$f":"IF(B54>Saisies!$G$25,1,(IF(B54<Saisies!$F$25,1,IF(Saisies!$F$25<10,1,0))))","v":1},{"$f":"IF(B54>Saisies!$C$10,\"\",(IF(B54<Saisies!$B$10,\"\",E54)))","v":""},{"$f":"IF(B54>Saisies!$E$10,\"\",(IF(B54<Saisies!$D$10,\"\",E54)))","v":""},{"$f":"IF(B54>Saisies!$G$10,\"\",(IF(B54<Saisies!$F$10,\"\",E54)))","v":""},"2017-02-03","V",4,7,{"$f":"IF(ISNUMBER(Y54),Y54,0)+IF(ISNUMBER(Z54),Z54,0)+V53","v":492},{"$f":"IF(V54>=Saisies!$E$4,(IF(W53<=Saisies!$E$4,R54,W53)),0)","v":42622},{"$f":"IF(R54=Saisies!$C$7,MIN((ABS(Saisies!$E$4-V53)),Y54),Y54)","v":""},{"$f":"IF(ISERROR((IF(R54>Saisies!$C$7,\"\",IF(ISERROR(IF(R54<Saisies!$B$7,\"\",T54)*Z54),IF(R54<Saisies!$B$7,\"\",T54),\"\")))*(IF(ISERROR(AA54+1),0,AA54))*AB54*AC54*AD54),\"\",(IF(R54>Saisies!$C$7,\"\",IF(ISERROR(IF(R54<Saisies!$B$7,\"\",T54)*Z54),IF(R54<Saisies!$B$7,\"\",T54),\"\")))*(IF(ISERROR(AA54+1),0,AA54))*AB54*AC54*AD54)","v":""},"",1,{"$f":"IF(R54>Saisies!$C$25,1,(IF(R54<Saisies!$B$25,1,IF(Saisies!$B$25=0,1,0))))","v":1},{"$f":"IF(R54>Saisies!$E$25,1,(IF(R54<Saisies!$D$25,1,IF(Saisies!$D$25=0,1,0))))","v":1},{"$f":"IF(R54>Saisies!$G$25,1,(IF(R54<Saisies!$F$25,1,IF(Saisies!$F$25<10,1,0))))","v":1},{"$f":"IF(R54>Saisies!$C$10,\"\",(IF(R54<Saisies!$B$10,\"\",U54)))","v":""},{"$f":"IF(R54>Saisies!$E$10,\"\",(IF(R54<Saisies!$D$10,\"\",U54)))","v":""},{"$f":"IF(R54>Saisies!$G$10,\"\",(IF(R54<Saisies!$F$10,\"\",U54)))","v":""},"2017-03-03","V",4,7,{"$f":"IF(ISNUMBER(AO54),AO54,0)+IF(ISNUMBER(AP54),AP54,0)+AL53","v":492},{"$f":"IF(AL54>=Saisies!$E$4,(IF(AM53<=Saisies!$E$4,AH54,AM53)),0)","v":42622},{"$f":"IF(AH54=Saisies!$C$7,MIN((ABS(Saisies!$E$4-AL53)),AO54),AO54)","v":""},{"$f":"IF(ISERROR((IF(AH54>Saisies!$C$7,\"\",IF(ISERROR(IF(AH54<Saisies!$B$7,\"\",AJ54)*AP54),IF(AH54<Saisies!$B$7,\"\",AJ54),\"\")))*(IF(ISERROR(AQ54+1),0,AQ54))*AR54*AS54*AT54),\"\",(IF(AH54>Saisies!$C$7,\"\",IF(ISERROR(IF(AH54<Saisies!$B$7,\"\",AJ54)*AP54),IF(AH54<Saisies!$B$7,\"\",AJ54),\"\")))*(IF(ISERROR(AQ54+1),0,AQ54))*AR54*AS54*AT54)","v":""},"",1,{"$f":"IF(AH54>Saisies!$C$25,1,(IF(AH54<Saisies!$B$25,1,IF(Saisies!$B$25=0,1,0))))","v":1},{"$f":"IF(AH54>Saisies!$E$25,1,(IF(AH54<Saisies!$D$25,1,IF(Saisies!$D$25=0,1,0))))","v":1},{"$f":"IF(AH54>Saisies!$G$25,1,(IF(AH54<Saisies!$F$25,1,IF(Saisies!$F$25<10,1,0))))","v":1},{"$f":"IF(AH54>Saisies!$C$10,\"\",(IF(AH54<Saisies!$B$10,\"\",AK54)))","v":""},{"$f":"IF(AH54>Saisies!$E$10,\"\",(IF(AH54<Saisies!$D$10,\"\",AK54)))","v":""},{"$f":"IF(AH54>Saisies!$G$10,\"\",(IF(AH54<Saisies!$F$10,\"\",AK54)))","v":""},"2017-04-03","L",7,7,{"$f":"IF(ISNUMBER(BE54),BE54,0)+IF(ISNUMBER(BF54),BF54,0)+BB53","v":492},{"$f":"IF(BB54>=Saisies!$E$4,(IF(BC53<=Saisies!$E$4,AX54,BC53)),0)","v":42622},{"$f":"IF(AX54=Saisies!$C$7,MIN((ABS(Saisies!$E$4-BB53)),BE54),BE54)","v":""},{"$f":"IF(ISERROR((IF(AX54>Saisies!$C$7,\"\",IF(ISERROR(IF(AX54<Saisies!$B$7,\"\",AZ54)*BF54),IF(AX54<Saisies!$B$7,\"\",AZ54),\"\")))*(IF(ISERROR(BG54+1),0,BG54))*BH54*BI54*BJ54),\"\",(IF(AX54>Saisies!$C$7,\"\",IF(ISERROR(IF(AX54<Saisies!$B$7,\"\",AZ54)*BF54),IF(AX54<Saisies!$B$7,\"\",AZ54),\"\")))*(IF(ISERROR(BG54+1),0,BG54))*BH54*BI54*BJ54)","v":""},"",1,{"$f":"IF(AX54>Saisies!$C$25,1,(IF(AX54<Saisies!$B$25,1,IF(Saisies!$B$25=0,1,0))))","v":1},{"$f":"IF(AX54>Saisies!$E$25,1,(IF(AX54<Saisies!$D$25,1,IF(Saisies!$D$25=0,1,0))))","v":1},{"$f":"IF(AX54>Saisies!$G$25,1,(IF(AX54<Saisies!$F$25,1,IF(Saisies!$F$25<10,1,0))))","v":1},{"$f":"IF(AX54>Saisies!$C$10,\"\",(IF(AX54<Saisies!$B$10,\"\",BA54)))","v":""},{"$f":"IF(AX54>Saisies!$E$10,\"\",(IF(AX54<Saisies!$D$10,\"\",BA54)))","v":""},{"$f":"IF(AX54>Saisies!$G$10,\"\",(IF(AX54<Saisies!$F$10,\"\",BA54)))","v":""},"2017-05-03","M",8,7,{"$f":"IF(ISNUMBER(BU54),BU54,0)+IF(ISNUMBER(BV54),BV54,0)+BR53","v":492},{"$f":"IF(BR54>=Saisies!$E$4,(IF(BS53<=Saisies!$E$4,BN54,BS53)),0)","v":42622},{"$f":"IF(BN54=Saisies!$C$7,MIN((ABS(Saisies!$E$4-BR53)),BU54),BU54)","v":""},{"$f":"IF(ISERROR((IF(BN54>Saisies!$C$7,\"\",IF(ISERROR(IF(BN54<Saisies!$B$7,\"\",BP54)*BV54),IF(BN54<Saisies!$B$7,\"\",BP54),\"\")))*(IF(ISERROR(BW54+1),0,BW54))*BX54*BY54*BZ54),\"\",(IF(BN54>Saisies!$C$7,\"\",IF(ISERROR(IF(BN54<Saisies!$B$7,\"\",BP54)*BV54),IF(BN54<Saisies!$B$7,\"\",BP54),\"\")))*(IF(ISERROR(BW54+1),0,BW54))*BX54*BY54*BZ54)","v":""},"",1,{"$f":"IF(BN54>Saisies!$C$25,1,(IF(BN54<Saisies!$B$25,1,IF(Saisies!$B$25=0,1,0))))","v":1},{"$f":"IF(BN54>Saisies!$E$25,1,(IF(BN54<Saisies!$D$25,1,IF(Saisies!$D$25=0,1,0))))","v":1},{"$f":"IF(BN54>Saisies!$G$25,1,(IF(BN54<Saisies!$F$25,1,IF(Saisies!$F$25<10,1,0))))","v":1},{"$f":"IF(BN54>Saisies!$C$10,\"\",(IF(BN54<Saisies!$B$10,\"\",BQ54)))","v":""},{"$f":"IF(BN54>Saisies!$E$10,\"\",(IF(BN54<Saisies!$D$10,\"\",BQ54)))","v":""},{"$f":"IF(BN54>Saisies!$G$10,\"\",(IF(BN54<Saisies!$F$10,\"\",BQ54)))","v":""},"2017-06-03","S",0,0,{"$f":"IF(ISNUMBER(CK54),CK54,0)+IF(ISNUMBER(CL54),CL54,0)+CH53","v":492},{"$f":"IF(CH54>=Saisies!$E$4,(IF(CI53<=Saisies!$E$4,CD54,CI53)),0)","v":42622},{"$f":"IF(CD54=Saisies!$C$7,MIN((ABS(Saisies!$E$4-CH53)),CK54),CK54)","v":""},{"$f":"IF(ISERROR((IF(CD54>Saisies!$C$7,\"\",IF(ISERROR(IF(CD54<Saisies!$B$7,\"\",CF54)*CL54),IF(CD54<Saisies!$B$7,\"\",CF54),\"\")))*(IF(ISERROR(CM54+1),0,CM54))*CN54*CO54*CP54),\"\",(IF(CD54>Saisies!$C$7,\"\",IF(ISERROR(IF(CD54<Saisies!$B$7,\"\",CF54)*CL54),IF(CD54<Saisies!$B$7,\"\",CF54),\"\")))*(IF(ISERROR(CM54+1),0,CM54))*CN54*CO54*CP54)","v":""},"",1,{"$f":"IF(CD54>Saisies!$C$25,1,(IF(CD54<Saisies!$B$25,1,IF(Saisies!$B$25=0,1,0))))","v":1},{"$f":"IF(CD54>Saisies!$E$25,1,(IF(CD54<Saisies!$D$25,1,IF(Saisies!$D$25=0,1,0))))","v":1},{"$f":"IF(CD54>Saisies!$G$25,1,(IF(CD54<Saisies!$F$25,1,IF(Saisies!$F$25<10,1,0))))","v":1},{"$f":"IF(CD54>Saisies!$C$10,\"\",(IF(CD54<Saisies!$B$10,\"\",CG54)))","v":""},{"$f":"IF(CD54>Saisies!$E$10,\"\",(IF(CD54<Saisies!$D$10,\"\",CG54)))","v":""},{"$f":"IF(CD54>Saisies!$G$10,\"\",(IF(CD54<Saisies!$F$10,\"\",CG54)))","v":""},"2017-07-03","L",7,7,{"$f":"IF(ISNUMBER(DA54),DA54,0)+IF(ISNUMBER(DB54),DB54,0)+CX53","v":492},{"$f":"IF(CX54>=Saisies!$E$4,(IF(CY53<=Saisies!$E$4,CT54,CY53)),0)","v":42622},{"$f":"IF(CT54=Saisies!$C$7,MIN((ABS(Saisies!$E$4-CX53)),DA54),DA54)","v":""},{"$f":"IF(ISERROR((IF(CT54>Saisies!$C$7,\"\",IF(ISERROR(IF(CT54<Saisies!$B$7,\"\",CV54)*DB54),IF(CT54<Saisies!$B$7,\"\",CV54),\"\")))*(IF(ISERROR(DC54+1),0,DC54))*DD54*DE54*DF54),\"\",(IF(CT54>Saisies!$C$7,\"\",IF(ISERROR(IF(CT54<Saisies!$B$7,\"\",CV54)*DB54),IF(CT54<Saisies!$B$7,\"\",CV54),\"\")))*(IF(ISERROR(DC54+1),0,DC54))*DD54*DE54*DF54)","v":""},"",1,{"$f":"IF(CT54>Saisies!$C$25,1,(IF(CT54<Saisies!$B$25,1,IF(Saisies!$B$25=0,1,0))))","v":1},{"$f":"IF(CT54>Saisies!$E$25,1,(IF(CT54<Saisies!$D$25,1,IF(Saisies!$D$25=0,1,0))))","v":1},{"$f":"IF(CT54>Saisies!$G$25,1,(IF(CT54<Saisies!$F$25,1,IF(Saisies!$F$25<10,1,0))))","v":1},{"$f":"IF(CT54>Saisies!$C$10,\"\",(IF(CT54<Saisies!$B$10,\"\",CW54)))","v":""},{"$f":"IF(CT54>Saisies!$E$10,\"\",(IF(CT54<Saisies!$D$10,\"\",CW54)))","v":""},{"$f":"IF(CT54>Saisies!$G$10,\"\",(IF(CT54<Saisies!$F$10,\"\",CW54)))","v":""},"2017-08-03","J",8,7,{"$f":"IF(ISNUMBER(DQ54),DQ54,0)+IF(ISNUMBER(DR54),DR54,0)+DN53","v":492},{"$f":"IF(DN54>=Saisies!$E$4,(IF(DO53<=Saisies!$E$4,DJ54,DO53)),0)","v":42622},{"$f":"IF(DJ54=Saisies!$C$7,MIN((ABS(Saisies!$E$4-DN53)),DQ54),DQ54)","v":""},{"$f":"IF(ISERROR((IF(DJ54>Saisies!$C$7,\"\",IF(ISERROR(IF(DJ54<Saisies!$B$7,\"\",DL54)*DR54),IF(DJ54<Saisies!$B$7,\"\",DL54),\"\")))*(IF(ISERROR(DS54+1),0,DS54))*DT54*DU54*DV54),\"\",(IF(DJ54>Saisies!$C$7,\"\",IF(ISERROR(IF(DJ54<Saisies!$B$7,\"\",DL54)*DR54),IF(DJ54<Saisies!$B$7,\"\",DL54),\"\")))*(IF(ISERROR(DS54+1),0,DS54))*DT54*DU54*DV54)","v":""},"",1,{"$f":"IF(DJ54>Saisies!$C$25,1,(IF(DJ54<Saisies!$B$25,1,IF(Saisies!$B$25=0,1,0))))","v":1},{"$f":"IF(DJ54>Saisies!$E$25,1,(IF(DJ54<Saisies!$D$25,1,IF(Saisies!$D$25=0,1,0))))","v":1},{"$f":"IF(DJ54>Saisies!$G$25,1,(IF(DJ54<Saisies!$F$25,1,IF(Saisies!$F$25<10,1,0))))","v":1},{"$f":"IF(DJ54>Saisies!$C$10,\"\",(IF(DJ54<Saisies!$B$10,\"\",DM54)))","v":""},{"$f":"IF(DJ54>Saisies!$E$10,\"\",(IF(DJ54<Saisies!$D$10,\"\",DM54)))","v":""},{"$f":"IF(DJ54>Saisies!$G$10,\"\",(IF(DJ54<Saisies!$F$10,\"\",DM54)))","v":""},"2017-09-03","D",0,0,{"$f":"IF(ISNUMBER(EG54),EG54,0)+IF(ISNUMBER(EH54),EH54,0)+ED53","v":492},{"$f":"IF(ED54>=Saisies!$E$4,(IF(EE53<=Saisies!$E$4,DZ54,EE53)),0)","v":42622},{"$f":"IF(DZ54=Saisies!$C$7,MIN((ABS(Saisies!$E$4-ED53)),EG54),EG54)","v":""},{"$f":"IF(ISERROR((IF(DZ54>Saisies!$C$7,\"\",IF(ISERROR(IF(DZ54<Saisies!$B$7,\"\",EB54)*EH54),IF(DZ54<Saisies!$B$7,\"\",EB54),\"\")))*(IF(ISERROR(EI54+1),0,EI54))*EJ54*EK54*EL54),\"\",(IF(DZ54>Saisies!$C$7,\"\",IF(ISERROR(IF(DZ54<Saisies!$B$7,\"\",EB54)*EH54),IF(DZ54<Saisies!$B$7,\"\",EB54),\"\")))*(IF(ISERROR(EI54+1),0,EI54))*EJ54*EK54*EL54)","v":""},"",1,{"$f":"IF(DZ54>Saisies!$C$25,1,(IF(DZ54<Saisies!$B$25,1,IF(Saisies!$B$25=0,1,0))))","v":1},{"$f":"IF(DZ54>Saisies!$E$25,1,(IF(DZ54<Saisies!$D$25,1,IF(Saisies!$D$25=0,1,0))))","v":1},{"$f":"IF(DZ54>Saisies!$G$25,1,(IF(DZ54<Saisies!$F$25,1,IF(Saisies!$F$25<10,1,0))))","v":1},{"$f":"IF(DZ54>Saisies!$C$10,\"\",(IF(DZ54<Saisies!$B$10,\"\",EC54)))","v":""},{"$f":"IF(DZ54>Saisies!$E$10,\"\",(IF(DZ54<Saisies!$D$10,\"\",EC54)))","v":""},{"$f":"IF(DZ54>Saisies!$G$10,\"\",(IF(DZ54<Saisies!$F$10,\"\",EC54)))","v":""},"2017-10-03","M",8,7,{"$f":"IF(ISNUMBER(EW54),EW54,0)+IF(ISNUMBER(EX54),EX54,0)+ET53","v":492},{"$f":"IF(ET54>=Saisies!$E$4,(IF(EU53<=Saisies!$E$4,EP54,EU53)),0)","v":42622},{"$f":"IF(EP54=Saisies!$C$7,MIN((ABS(Saisies!$E$4-ET53)),EW54),EW54)","v":""},{"$f":"IF(ISERROR((IF(EP54>Saisies!$C$7,\"\",IF(ISERROR(IF(EP54<Saisies!$B$7,\"\",ER54)*EX54),IF(EP54<Saisies!$B$7,\"\",ER54),\"\")))*(IF(ISERROR(EY54+1),0,EY54))*EZ54*FA54*FB54),\"\",(IF(EP54>Saisies!$C$7,\"\",IF(ISERROR(IF(EP54<Saisies!$B$7,\"\",ER54)*EX54),IF(EP54<Saisies!$B$7,\"\",ER54),\"\")))*(IF(ISERROR(EY54+1),0,EY54))*EZ54*FA54*FB54)","v":""},"",1,{"$f":"IF(EP54>Saisies!$C$25,1,(IF(EP54<Saisies!$B$25,1,IF(Saisies!$B$25=0,1,0))))","v":1},{"$f":"IF(EP54>Saisies!$E$25,1,(IF(EP54<Saisies!$D$25,1,IF(Saisies!$D$25=0,1,0))))","v":1},{"$f":"IF(EP54>Saisies!$G$25,1,(IF(EP54<Saisies!$F$25,1,IF(Saisies!$F$25<10,1,0))))","v":1},{"$f":"IF(EP54>Saisies!$C$10,\"\",(IF(EP54<Saisies!$B$10,\"\",ES54)))","v":""},{"$f":"IF(EP54>Saisies!$E$10,\"\",(IF(EP54<Saisies!$D$10,\"\",ES54)))","v":""},{"$f":"IF(EP54>Saisies!$G$10,\"\",(IF(EP54<Saisies!$F$10,\"\",ES54)))","v":""},"2017-11-03","V",4,7,{"$f":"IF(ISNUMBER(FM54),FM54,0)+IF(ISNUMBER(FN54),FN54,0)+FJ53","v":492},{"$f":"IF(FJ54>=Saisies!$E$4,(IF(FK53<=Saisies!$E$4,FF54,FK53)),0)","v":42622},{"$f":"IF(FF54=Saisies!$C$7,MIN((ABS(Saisies!$E$4-FJ53)),FM54),FM54)","v":""},{"$f":"IF(ISERROR((IF(FF54>Saisies!$C$7,\"\",IF(ISERROR(IF(FF54<Saisies!$B$7,\"\",FH54)*FN54),IF(FF54<Saisies!$B$7,\"\",FH54),\"\")))*(IF(ISERROR(FO54+1),0,FO54))*FP54*FQ54*FR54),\"\",(IF(FF54>Saisies!$C$7,\"\",IF(ISERROR(IF(FF54<Saisies!$B$7,\"\",FH54)*FN54),IF(FF54<Saisies!$B$7,\"\",FH54),\"\")))*(IF(ISERROR(FO54+1),0,FO54))*FP54*FQ54*FR54)","v":""},"",1,{"$f":"IF(FF54>Saisies!$C$25,1,(IF(FF54<Saisies!$B$25,1,IF(Saisies!$B$25=0,1,0))))","v":1},{"$f":"IF(FF54>Saisies!$E$25,1,(IF(FF54<Saisies!$D$25,1,IF(Saisies!$D$25=0,1,0))))","v":1},{"$f":"IF(FF54>Saisies!$G$25,1,(IF(FF54<Saisies!$F$25,1,IF(Saisies!$F$25<10,1,0))))","v":1},{"$f":"IF(FF54>Saisies!$C$10,\"\",(IF(FF54<Saisies!$B$10,\"\",FI54)))","v":""},{"$f":"IF(FF54>Saisies!$E$10,\"\",(IF(FF54<Saisies!$D$10,\"\",FI54)))","v":""},{"$f":"IF(FF54>Saisies!$G$10,\"\",(IF(FF54<Saisies!$F$10,\"\",FI54)))","v":""},"2017-12-03","D",0,0,{"$f":"IF(ISNUMBER(GC54),GC54,0)+IF(ISNUMBER(GD54),GD54,0)+FZ53","v":492},{"$f":"IF(FZ54>=Saisies!$E$4,(IF(GA53<=Saisies!$E$4,FV54,GA53)),0)","v":42622},{"$f":"IF(FV54=Saisies!$C$7,MIN((ABS(Saisies!$E$4-FZ53)),GC54),GC54)","v":""},{"$f":"IF(ISERROR((IF(FV54>Saisies!$C$7,\"\",IF(ISERROR(IF(FV54<Saisies!$B$7,\"\",FX54)*GD54),IF(FV54<Saisies!$B$7,\"\",FX54),\"\")))*(IF(ISERROR(GE54+1),0,GE54))*GF54*GG54*GH54),\"\",(IF(FV54>Saisies!$C$7,\"\",IF(ISERROR(IF(FV54<Saisies!$B$7,\"\",FX54)*GD54),IF(FV54<Saisies!$B$7,\"\",FX54),\"\")))*(IF(ISERROR(GE54+1),0,GE54))*GF54*GG54*GH54)","v":""},"",1,{"$f":"IF(FV54>Saisies!$C$25,1,(IF(FV54<Saisies!$B$25,1,IF(Saisies!$B$25=0,1,0))))","v":1},{"$f":"IF(FV54>Saisies!$E$25,1,(IF(FV54<Saisies!$D$25,1,IF(Saisies!$D$25=0,1,0))))","v":1},{"$f":"IF(FV54>Saisies!$G$25,1,(IF(FV54<Saisies!$F$25,1,IF(Saisies!$F$25<10,1,0))))","v":1},{"$f":"IF(FV54>Saisies!$C$10,\"\",(IF(FV54<Saisies!$B$10,\"\",FY54)))","v":""},{"$f":"IF(FV54>Saisies!$E$10,\"\",(IF(FV54<Saisies!$D$10,\"\",FY54)))","v":""},{"$f":"IF(FV54>Saisies!$G$10,\"\",(IF(FV54<Saisies!$F$10,\"\",FY54)))","v":""}]
[null,"2017-01-04","M",8,7,492,{"$f":"IF(F55>=Saisies!$E$4,(IF(G54<=Saisies!$E$4,B55,G54)),0)","v":42622},{"$f":"IF(B55=Saisies!$C$7,MIN((ABS(Saisies!$E$4-F54)),I55),I55)","v":""},{"$f":"IF(ISERROR((IF(B55>Saisies!$C$7,\"\",IF(ISERROR(IF(B55<Saisies!$B$7,\"\",D55)*J55),IF(B55<Saisies!$B$7,\"\",D55),\"\")))*(IF(ISERROR(K55+1),0,K55))*L55*M55*N55),\"\",(IF(B55>Saisies!$C$7,\"\",IF(ISERROR(IF(B55<Saisies!$B$7,\"\",D55)*J55),IF(B55<Saisies!$B$7,\"\",D55),\"\")))*(IF(ISERROR(K55+1),0,K55))*L55*M55*N55)","v":""},"",1,{"$f":"IF(B55>Saisies!$C$25,1,(IF(B55<Saisies!$B$25,1,IF(Saisies!$B$25=0,1,0))))","v":1},{"$f":"IF(B55>Saisies!$E$25,1,(IF(B55<Saisies!$D$25,1,IF(Saisies!$D$25=0,1,0))))","v":1},{"$f":"IF(B55>Saisies!$G$25,1,(IF(B55<Saisies!$F$25,1,IF(Saisies!$F$25<10,1,0))))","v":1},{"$f":"IF(B55>Saisies!$C$10,\"\",(IF(B55<Saisies!$B$10,\"\",E55)))","v":""},{"$f":"IF(B55>Saisies!$E$10,\"\",(IF(B55<Saisies!$D$10,\"\",E55)))","v":""},{"$f":"IF(B55>Saisies!$G$10,\"\",(IF(B55<Saisies!$F$10,\"\",E55)))","v":""},"2017-02-04","S",0,0,492,{"$f":"IF(V55>=Saisies!$E$4,(IF(W54<=Saisies!$E$4,R55,W54)),0)","v":42622},{"$f":"IF(R55=Saisies!$C$7,MIN((ABS(Saisies!$E$4-V54)),Y55),Y55)","v":""},{"$f":"IF(ISERROR((IF(R55>Saisies!$C$7,\"\",IF(ISERROR(IF(R55<Saisies!$B$7,\"\",T55)*Z55),IF(R55<Saisies!$B$7,\"\",T55),\"\")))*(IF(ISERROR(AA55+1),0,AA55))*AB55*AC55*AD55),\"\",(IF(R55>Saisies!$C$7,\"\",IF(ISERROR(IF(R55<Saisies!$B$7,\"\",T55)*Z55),IF(R55<Saisies!$B$7,\"\",T55),\"\")))*(IF(ISERROR(AA55+1),0,AA55))*AB55*AC55*AD55)","v":""},"",1,{"$f":"IF(R55>Saisies!$C$25,1,(IF(R55<Saisies!$B$25,1,IF(Saisies!$B$25=0,1,0))))","v":1},{"$f":"IF(R55>Saisies!$E$25,1,(IF(R55<Saisies!$D$25,1,IF(Saisies!$D$25=0,1,0))))","v":1},{"$f":"IF(R55>Saisies!$G$25,1,(IF(R55<Saisies!$F$25,1,IF(Saisies!$F$25<10,1,0))))","v":1},{"$f":"IF(R55>Saisies!$C$10,\"\",(IF(R55<Saisies!$B$10,\"\",U55)))","v":""},{"$f":"IF(R55>Saisies!$E$10,\"\",(IF(R55<Saisies!$D$10,\"\",U55)))","v":""},{"$f":"IF(R55>Saisies!$G$10,\"\",(IF(R55<Saisies!$F$10,\"\",U55)))","v":""},"2017-03-04","S",0,0,492,{"$f":"IF(AL55>=Saisies!$E$4,(IF(AM54<=Saisies!$E$4,AH55,AM54)),0)","v":42622},{"$f":"IF(AH55=Saisies!$C$7,MIN((ABS(Saisies!$E$4-AL54)),AO55),AO55)","v":""},{"$f":"IF(ISERROR((IF(AH55>Saisies!$C$7,\"\",IF(ISERROR(IF(AH55<Saisies!$B$7,\"\",AJ55)*AP55),IF(AH55<Saisies!$B$7,\"\",AJ55),\"\")))*(IF(ISERROR(AQ55+1),0,AQ55))*AR55*AS55*AT55),\"\",(IF(AH55>Saisies!$C$7,\"\",IF(ISERROR(IF(AH55<Saisies!$B$7,\"\",AJ55)*AP55),IF(AH55<Saisies!$B$7,\"\",AJ55),\"\")))*(IF(ISERROR(AQ55+1),0,AQ55))*AR55*AS55*AT55)","v":""},"",1,{"$f":"IF(AH55>Saisies!$C$25,1,(IF(AH55<Saisies!$B$25,1,IF(Saisies!$B$25=0,1,0))))","v":1},{"$f":"IF(AH55>Saisies!$E$25,1,(IF(AH55<Saisies!$D$25,1,IF(Saisies!$D$25=0,1,0))))","v":1},{"$f":"IF(AH55>Saisies!$G$25,1,(IF(AH55<Saisies!$F$25,1,IF(Saisies!$F$25<10,1,0))))","v":1},{"$f":"IF(AH55>Saisies!$C$10,\"\",(IF(AH55<Saisies!$B$10,\"\",AK55)))","v":""},{"$f":"IF(AH55>Saisies!$E$10,\"\",(IF(AH55<Saisies!$D$10,\"\",AK55)))","v":""},{"$f":"IF(AH55>Saisies!$G$10,\"\",(IF(AH55<Saisies!$F$10,\"\",AK55)))","v":""},"2017-04-04","M",8,7,492,{"$f":"IF(BB55>=Saisies!$E$4,(IF(BC54<=Saisies!$E$4,AX55,BC54)),0)","v":42622},{"$f":"IF(AX55=Saisies!$C$7,MIN((ABS(Saisies!$E$4-BB54)),BE55),BE55)","v":""},{"$f":"IF(ISERROR((IF(AX55>Saisies!$C$7,\"\",IF(ISERROR(IF(AX55<Saisies!$B$7,\"\",AZ55)*BF55),IF(AX55<Saisies!$B$7,\"\",AZ55),\"\")))*(IF(ISERROR(BG55+1),0,BG55))*BH55*BI55*BJ55),\"\",(IF(AX55>Saisies!$C$7,\"\",IF(ISERROR(IF(AX55<Saisies!$B$7,\"\",AZ55)*BF55),IF(AX55<Saisies!$B$7,\"\",AZ55),\"\")))*(IF(ISERROR(BG55+1),0,BG55))*BH55*BI55*BJ55)","v":""},"",1,{"$f":"IF(AX55>Saisies!$C$25,1,(IF(AX55<Saisies!$B$25,1,IF(Saisies!$B$25=0,1,0))))","v":1},{"$f":"IF(AX55>Saisies!$E$25,1,(IF(AX55<Saisies!$D$25,1,IF(Saisies!$D$25=0,1,0))))","v":1},{"$f":"IF(AX55>Saisies!$G$25,1,(IF(AX55<Saisies!$F$25,1,IF(Saisies!$F$25<10,1,0))))","v":1},{"$f":"IF(AX55>Saisies!$C$10,\"\",(IF(AX55<Saisies!$B$10,\"\",BA55)))","v":""},{"$f":"IF(AX55>Saisies!$E$10,\"\",(IF(AX55<Saisies!$D$10,\"\",BA55)))","v":""},{"$f":"IF(AX55>Saisies!$G$10,\"\",(IF(AX55<Saisies!$F$10,\"\",BA55)))","v":""},"2017-05-04","J",8,7,492,{"$f":"IF(BR55>=Saisies!$E$4,(IF(BS54<=Saisies!$E$4,BN55,BS54)),0)","v":42622},{"$f":"IF(BN55=Saisies!$C$7,MIN((ABS(Saisies!$E$4-BR54)),BU55),BU55)","v":""},{"$f":"IF(ISERROR((IF(BN55>Saisies!$C$7,\"\",IF(ISERROR(IF(BN55<Saisies!$B$7,\"\",BP55)*BV55),IF(BN55<Saisies!$B$7,\"\",BP55),\"\")))*(IF(ISERROR(BW55+1),0,BW55))*BX55*BY55*BZ55),\"\",(IF(BN55>Saisies!$C$7,\"\",IF(ISERROR(IF(BN55<Saisies!$B$7,\"\",BP55)*BV55),IF(BN55<Saisies!$B$7,\"\",BP55),\"\")))*(IF(ISERROR(BW55+1),0,BW55))*BX55*BY55*BZ55)","v":""},"",1,{"$f":"IF(BN55>Saisies!$C$25,1,(IF(BN55<Saisies!$B$25,1,IF(Saisies!$B$25=0,1,0))))","v":1},{"$f":"IF(BN55>Saisies!$E$25,1,(IF(BN55<Saisies!$D$25,1,IF(Saisies!$D$25=0,1,0))))","v":1},{"$f":"IF(BN55>Saisies!$G$25,1,(IF(BN55<Saisies!$F$25,1,IF(Saisies!$F$25<10,1,0))))","v":1},{"$f":"IF(BN55>Saisies!$C$10,\"\",(IF(BN55<Saisies!$B$10,\"\",BQ55)))","v":""},{"$f":"IF(BN55>Saisies!$E$10,\"\",(IF(BN55<Saisies!$D$10,\"\",BQ55)))","v":""},{"$f":"IF(BN55>Saisies!$G$10,\"\",(IF(BN55<Saisies!$F$10,\"\",BQ55)))","v":""},"2017-06-04","D",0,0,492,{"$f":"IF(CH55>=Saisies!$E$4,(IF(CI54<=Saisies!$E$4,CD55,CI54)),0)","v":42622},{"$f":"IF(CD55=Saisies!$C$7,MIN((ABS(Saisies!$E$4-CH54)),CK55),CK55)","v":""},{"$f":"IF(ISERROR((IF(CD55>Saisies!$C$7,\"\",IF(ISERROR(IF(CD55<Saisies!$B$7,\"\",CF55)*CL55),IF(CD55<Saisies!$B$7,\"\",CF55),\"\")))*(IF(ISERROR(CM55+1),0,CM55))*CN55*CO55*CP55),\"\",(IF(CD55>Saisies!$C$7,\"\",IF(ISERROR(IF(CD55<Saisies!$B$7,\"\",CF55)*CL55),IF(CD55<Saisies!$B$7,\"\",CF55),\"\")))*(IF(ISERROR(CM55+1),0,CM55))*CN55*CO55*CP55)","v":""},"","B",{"$f":"IF(CD55>Saisies!$C$25,1,(IF(CD55<Saisies!$B$25,1,IF(Saisies!$B$25=0,1,0))))","v":1},{"$f":"IF(CD55>Saisies!$E$25,1,(IF(CD55<Saisies!$D$25,1,IF(Saisies!$D$25=0,1,0))))","v":1},{"$f":"IF(CD55>Saisies!$G$25,1,(IF(CD55<Saisies!$F$25,1,IF(Saisies!$F$25<10,1,0))))","v":1},{"$f":"IF(CD55>Saisies!$C$10,\"\",(IF(CD55<Saisies!$B$10,\"\",CG55)))","v":""},{"$f":"IF(CD55>Saisies!$E$10,\"\",(IF(CD55<Saisies!$D$10,\"\",CG55)))","v":""},{"$f":"IF(CD55>Saisies!$G$10,\"\",(IF(CD55<Saisies!$F$10,\"\",CG55)))","v":""},"2017-07-04","M",8,7,492,{"$f":"IF(CX55>=Saisies!$E$4,(IF(CY54<=Saisies!$E$4,CT55,CY54)),0)","v":42622},{"$f":"IF(CT55=Saisies!$C$7,MIN((ABS(Saisies!$E$4-CX54)),DA55),DA55)","v":""},{"$f":"IF(ISERROR((IF(CT55>Saisies!$C$7,\"\",IF(ISERROR(IF(CT55<Saisies!$B$7,\"\",CV55)*DB55),IF(CT55<Saisies!$B$7,\"\",CV55),\"\")))*(IF(ISERROR(DC55+1),0,DC55))*DD55*DE55*DF55),\"\",(IF(CT55>Saisies!$C$7,\"\",IF(ISERROR(IF(CT55<Saisies!$B$7,\"\",CV55)*DB55),IF(CT55<Saisies!$B$7,\"\",CV55),\"\")))*(IF(ISERROR(DC55+1),0,DC55))*DD55*DE55*DF55)","v":""},"",1,{"$f":"IF(CT55>Saisies!$C$25,1,(IF(CT55<Saisies!$B$25,1,IF(Saisies!$B$25=0,1,0))))","v":1},{"$f":"IF(CT55>Saisies!$E$25,1,(IF(CT55<Saisies!$D$25,1,IF(Saisies!$D$25=0,1,0))))","v":1},{"$f":"IF(CT55>Saisies!$G$25,1,(IF(CT55<Saisies!$F$25,1,IF(Saisies!$F$25<10,1,0))))","v":1},{"$f":"IF(CT55>Saisies!$C$10,\"\",(IF(CT55<Saisies!$B$10,\"\",CW55)))","v":""},{"$f":"IF(CT55>Saisies!$E$10,\"\",(IF(CT55<Saisies!$D$10,\"\",CW55)))","v":""},{"$f":"IF(CT55>Saisies!$G$10,\"\",(IF(CT55<Saisies!$F$10,\"\",CW55)))","v":""},"2017-08-04","V",4,7,492,{"$f":"IF(DN55>=Saisies!$E$4,(IF(DO54<=Saisies!$E$4,DJ55,DO54)),0)","v":42622},{"$f":"IF(DJ55=Saisies!$C$7,MIN((ABS(Saisies!$E$4-DN54)),DQ55),DQ55)","v":""},{"$f":"IF(ISERROR((IF(DJ55>Saisies!$C$7,\"\",IF(ISERROR(IF(DJ55<Saisies!$B$7,\"\",DL55)*DR55),IF(DJ55<Saisies!$B$7,\"\",DL55),\"\")))*(IF(ISERROR(DS55+1),0,DS55))*DT55*DU55*DV55),\"\",(IF(DJ55>Saisies!$C$7,\"\",IF(ISERROR(IF(DJ55<Saisies!$B$7,\"\",DL55)*DR55),IF(DJ55<Saisies!$B$7,\"\",DL55),\"\")))*(IF(ISERROR(DS55+1),0,DS55))*DT55*DU55*DV55)","v":""},"",1,{"$f":"IF(DJ55>Saisies!$C$25,1,(IF(DJ55<Saisies!$B$25,1,IF(Saisies!$B$25=0,1,0))))","v":1},{"$f":"IF(DJ55>Saisies!$E$25,1,(IF(DJ55<Saisies!$D$25,1,IF(Saisies!$D$25=0,1,0))))","v":1},{"$f":"IF(DJ55>Saisies!$G$25,1,(IF(DJ55<Saisies!$F$25,1,IF(Saisies!$F$25<10,1,0))))","v":1},{"$f":"IF(DJ55>Saisies!$C$10,\"\",(IF(DJ55<Saisies!$B$10,\"\",DM55)))","v":""},{"$f":"IF(DJ55>Saisies!$E$10,\"\",(IF(DJ55<Saisies!$D$10,\"\",DM55)))","v":""},{"$f":"IF(DJ55>Saisies!$G$10,\"\",(IF(DJ55<Saisies!$F$10,\"\",DM55)))","v":""},"2017-09-04","L",7,7,492,{"$f":"IF(ED55>=Saisies!$E$4,(IF(EE54<=Saisies!$E$4,DZ55,EE54)),0)","v":42622},{"$f":"IF(DZ55=Saisies!$C$7,MIN((ABS(Saisies!$E$4-ED54)),EG55),EG55)","v":""},{"$f":"IF(ISERROR((IF(DZ55>Saisies!$C$7,\"\",IF(ISERROR(IF(DZ55<Saisies!$B$7,\"\",EB55)*EH55),IF(DZ55<Saisies!$B$7,\"\",EB55),\"\")))*(IF(ISERROR(EI55+1),0,EI55))*EJ55*EK55*EL55),\"\",(IF(DZ55>Saisies!$C$7,\"\",IF(ISERROR(IF(DZ55<Saisies!$B$7,\"\",EB55)*EH55),IF(DZ55<Saisies!$B$7,\"\",EB55),\"\")))*(IF(ISERROR(EI55+1),0,EI55))*EJ55*EK55*EL55)","v":""},"",1,{"$f":"IF(DZ55>Saisies!$C$25,1,(IF(DZ55<Saisies!$B$25,1,IF(Saisies!$B$25=0,1,0))))","v":1},{"$f":"IF(DZ55>Saisies!$E$25,1,(IF(DZ55<Saisies!$D$25,1,IF(Saisies!$D$25=0,1,0))))","v":1},{"$f":"IF(DZ55>Saisies!$G$25,1,(IF(DZ55<Saisies!$F$25,1,IF(Saisies!$F$25<10,1,0))))","v":1},{"$f":"IF(DZ55>Saisies!$C$10,\"\",(IF(DZ55<Saisies!$B$10,\"\",EC55)))","v":""},{"$f":"IF(DZ55>Saisies!$E$10,\"\",(IF(DZ55<Saisies!$D$10,\"\",EC55)))","v":""},{"$f":"IF(DZ55>Saisies!$G$10,\"\",(IF(DZ55<Saisies!$F$10,\"\",EC55)))","v":""},"2017-10-04","M",8,7,492,{"$f":"IF(ET55>=Saisies!$E$4,(IF(EU54<=Saisies!$E$4,EP55,EU54)),0)","v":42622},{"$f":"IF(EP55=Saisies!$C$7,MIN((ABS(Saisies!$E$4-ET54)),EW55),EW55)","v":""},{"$f":"IF(ISERROR((IF(EP55>Saisies!$C$7,\"\",IF(ISERROR(IF(EP55<Saisies!$B$7,\"\",ER55)*EX55),IF(EP55<Saisies!$B$7,\"\",ER55),\"\")))*(IF(ISERROR(EY55+1),0,EY55))*EZ55*FA55*FB55),\"\",(IF(EP55>Saisies!$C$7,\"\",IF(ISERROR(IF(EP55<Saisies!$B$7,\"\",ER55)*EX55),IF(EP55<Saisies!$B$7,\"\",ER55),\"\")))*(IF(ISERROR(EY55+1),0,EY55))*EZ55*FA55*FB55)","v":""},"",1,{"$f":"IF(EP55>Saisies!$C$25,1,(IF(EP55<Saisies!$B$25,1,IF(Saisies!$B$25=0,1,0))))","v":1},{"$f":"IF(EP55>Saisies!$E$25,1,(IF(EP55<Saisies!$D$25,1,IF(Saisies!$D$25=0,1,0))))","v":1},{"$f":"IF(EP55>Saisies!$G$25,1,(IF(EP55<Saisies!$F$25,1,IF(Saisies!$F$25<10,1,0))))","v":1},{"$f":"IF(EP55>Saisies!$C$10,\"\",(IF(EP55<Saisies!$B$10,\"\",ES55)))","v":""},{"$f":"IF(EP55>Saisies!$E$10,\"\",(IF(EP55<Saisies!$D$10,\"\",ES55)))","v":""},{"$f":"IF(EP55>Saisies!$G$10,\"\",(IF(EP55<Saisies!$F$10,\"\",ES55)))","v":""},"2017-11-04","S",0,0,492,{"$f":"IF(FJ55>=Saisies!$E$4,(IF(FK54<=Saisies!$E$4,FF55,FK54)),0)","v":42622},{"$f":"IF(FF55=Saisies!$C$7,MIN((ABS(Saisies!$E$4-FJ54)),FM55),FM55)","v":""},{"$f":"IF(ISERROR((IF(FF55>Saisies!$C$7,\"\",IF(ISERROR(IF(FF55<Saisies!$B$7,\"\",FH55)*FN55),IF(FF55<Saisies!$B$7,\"\",FH55),\"\")))*(IF(ISERROR(FO55+1),0,FO55))*FP55*FQ55*FR55),\"\",(IF(FF55>Saisies!$C$7,\"\",IF(ISERROR(IF(FF55<Saisies!$B$7,\"\",FH55)*FN55),IF(FF55<Saisies!$B$7,\"\",FH55),\"\")))*(IF(ISERROR(FO55+1),0,FO55))*FP55*FQ55*FR55)","v":""},"",1,{"$f":"IF(FF55>Saisies!$C$25,1,(IF(FF55<Saisies!$B$25,1,IF(Saisies!$B$25=0,1,0))))","v":1},{"$f":"IF(FF55>Saisies!$E$25,1,(IF(FF55<Saisies!$D$25,1,IF(Saisies!$D$25=0,1,0))))","v":1},{"$f":"IF(FF55>Saisies!$G$25,1,(IF(FF55<Saisies!$F$25,1,IF(Saisies!$F$25<10,1,0))))","v":1},{"$f":"IF(FF55>Saisies!$C$10,\"\",(IF(FF55<Saisies!$B$10,\"\",FI55)))","v":""},{"$f":"IF(FF55>Saisies!$E$10,\"\",(IF(FF55<Saisies!$D$10,\"\",FI55)))","v":""},{"$f":"IF(FF55>Saisies!$G$10,\"\",(IF(FF55<Saisies!$F$10,\"\",FI55)))","v":""},"2017-12-04","L",7,7,492,{"$f":"IF(FZ55>=Saisies!$E$4,(IF(GA54<=Saisies!$E$4,FV55,GA54)),0)","v":42622},{"$f":"IF(FV55=Saisies!$C$7,MIN((ABS(Saisies!$E$4-FZ54)),GC55),GC55)","v":""},{"$f":"IF(ISERROR((IF(FV55>Saisies!$C$7,\"\",IF(ISERROR(IF(FV55<Saisies!$B$7,\"\",FX55)*GD55),IF(FV55<Saisies!$B$7,\"\",FX55),\"\")))*(IF(ISERROR(GE55+1),0,GE55))*GF55*GG55*GH55),\"\",(IF(FV55>Saisies!$C$7,\"\",IF(ISERROR(IF(FV55<Saisies!$B$7,\"\",FX55)*GD55),IF(FV55<Saisies!$B$7,\"\",FX55),\"\")))*(IF(ISERROR(GE55+1),0,GE55))*GF55*GG55*GH55)","v":""},"",1,{"$f":"IF(FV55>Saisies!$C$25,1,(IF(FV55<Saisies!$B$25,1,IF(Saisies!$B$25=0,1,0))))","v":1},{"$f":"IF(FV55>Saisies!$E$25,1,(IF(FV55<Saisies!$D$25,1,IF(Saisies!$D$25=0,1,0))))","v":1},{"$f":"IF(FV55>Saisies!$G$25,1,(IF(FV55<Saisies!$F$25,1,IF(Saisies!$F$25<10,1,0))))","v":1},{"$f":"IF(FV55>Saisies!$C$10,\"\",(IF(FV55<Saisies!$B$10,\"\",FY55)))","v":""},{"$f":"IF(FV55>Saisies!$E$10,\"\",(IF(FV55<Saisies!$D$10,\"\",FY55)))","v":""},{"$f":"IF(FV55>Saisies!$G$10,\"\",(IF(FV55<Saisies!$F$10,\"\",FY55)))","v":""}]
[null,"2017-01-05","J",8,7,492,{"$f":"IF(F56>=Saisies!$E$4,(IF(G55<=Saisies!$E$4,B56,G55)),0)","v":42622},{"$f":"IF(B56=Saisies!$C$7,MIN((ABS(Saisies!$E$4-F55)),I56),I56)","v":""},{"$f":"IF(ISERROR((IF(B56>Saisies!$C$7,\"\",IF(ISERROR(IF(B56<Saisies!$B$7,\"\",D56)*J56),IF(B56<Saisies!$B$7,\"\",D56),\"\")))*(IF(ISERROR(K56+1),0,K56))*L56*M56*N56),\"\",(IF(B56>Saisies!$C$7,\"\",IF(ISERROR(IF(B56<Saisies!$B$7,\"\",D56)*J56),IF(B56<Saisies!$B$7,\"\",D56),\"\")))*(IF(ISERROR(K56+1),0,K56))*L56*M56*N56)","v":""},"",1,{"$f":"IF(B56>Saisies!$C$25,1,(IF(B56<Saisies!$B$25,1,IF(Saisies!$B$25=0,1,0))))","v":1},{"$f":"IF(B56>Saisies!$E$25,1,(IF(B56<Saisies!$D$25,1,IF(Saisies!$D$25=0,1,0))))","v":1},{"$f":"IF(B56>Saisies!$G$25,1,(IF(B56<Saisies!$F$25,1,IF(Saisies!$F$25<10,1,0))))","v":1},{"$f":"IF(B56>Saisies!$C$10,\"\",(IF(B56<Saisies!$B$10,\"\",E56)))","v":""},{"$f":"IF(B56>Saisies!$E$10,\"\",(IF(B56<Saisies!$D$10,\"\",E56)))","v":""},{"$f":"IF(B56>Saisies!$G$10,\"\",(IF(B56<Saisies!$F$10,\"\",E56)))","v":""},"2017-02-05","D",0,0,492,{"$f":"IF(V56>=Saisies!$E$4,(IF(W55<=Saisies!$E$4,R56,W55)),0)","v":42622},{"$f":"IF(R56=Saisies!$C$7,MIN((ABS(Saisies!$E$4-V55)),Y56),Y56)","v":""},{"$f":"IF(ISERROR((IF(R56>Saisies!$C$7,\"\",IF(ISERROR(IF(R56<Saisies!$B$7,\"\",T56)*Z56),IF(R56<Saisies!$B$7,\"\",T56),\"\")))*(IF(ISERROR(AA56+1),0,AA56))*AB56*AC56*AD56),\"\",(IF(R56>Saisies!$C$7,\"\",IF(ISERROR(IF(R56<Saisies!$B$7,\"\",T56)*Z56),IF(R56<Saisies!$B$7,\"\",T56),\"\")))*(IF(ISERROR(AA56+1),0,AA56))*AB56*AC56*AD56)","v":""},"",1,{"$f":"IF(R56>Saisies!$C$25,1,(IF(R56<Saisies!$B$25,1,IF(Saisies!$B$25=0,1,0))))","v":1},{"$f":"IF(R56>Saisies!$E$25,1,(IF(R56<Saisies!$D$25,1,IF(Saisies!$D$25=0,1,0))))","v":1},{"$f":"IF(R56>Saisies!$G$25,1,(IF(R56<Saisies!$F$25,1,IF(Saisies!$F$25<10,1,0))))","v":1},{"$f":"IF(R56>Saisies!$C$10,\"\",(IF(R56<Saisies!$B$10,\"\",U56)))","v":""},{"$f":"IF(R56>Saisies!$E$10,\"\",(IF(R56<Saisies!$D$10,\"\",U56)))","v":""},{"$f":"IF(R56>Saisies!$G$10,\"\",(IF(R56<Saisies!$F$10,\"\",U56)))","v":""},"2017-03-05","D",0,0,492,{"$f":"IF(AL56>=Saisies!$E$4,(IF(AM55<=Saisies!$E$4,AH56,AM55)),0)","v":42622},{"$f":"IF(AH56=Saisies!$C$7,MIN((ABS(Saisies!$E$4-AL55)),AO56),AO56)","v":""},{"$f":"IF(ISERROR((IF(AH56>Saisies!$C$7,\"\",IF(ISERROR(IF(AH56<Saisies!$B$7,\"\",AJ56)*AP56),IF(AH56<Saisies!$B$7,\"\",AJ56),\"\")))*(IF(ISERROR(AQ56+1),0,AQ56))*AR56*AS56*AT56),\"\",(IF(AH56>Saisies!$C$7,\"\",IF(ISERROR(IF(AH56<Saisies!$B$7,\"\",AJ56)*AP56),IF(AH56<Saisies!$B$7,\"\",AJ56),\"\")))*(IF(ISERROR(AQ56+1),0,AQ56))*AR56*AS56*AT56)","v":""},"",1,{"$f":"IF(AH56>Saisies!$C$25,1,(IF(AH56<Saisies!$B$25,1,IF(Saisies!$B$25=0,1,0))))","v":1},{"$f":"IF(AH56>Saisies!$E$25,1,(IF(AH56<Saisies!$D$25,1,IF(Saisies!$D$25=0,1,0))))","v":1},{"$f":"IF(AH56>Saisies!$G$25,1,(IF(AH56<Saisies!$F$25,1,IF(Saisies!$F$25<10,1,0))))","v":1},{"$f":"IF(AH56>Saisies!$C$10,\"\",(IF(AH56<Saisies!$B$10,\"\",AK56)))","v":""},{"$f":"IF(AH56>Saisies!$E$10,\"\",(IF(AH56<Saisies!$D$10,\"\",AK56)))","v":""},{"$f":"IF(AH56>Saisies!$G$10,\"\",(IF(AH56<Saisies!$F$10,\"\",AK56)))","v":""},"2017-04-05","M",8,7,492,{"$f":"IF(BB56>=Saisies!$E$4,(IF(BC55<=Saisies!$E$4,AX56,BC55)),0)","v":42622},{"$f":"IF(AX56=Saisies!$C$7,MIN((ABS(Saisies!$E$4-BB55)),BE56),BE56)","v":""},{"$f":"IF(ISERROR((IF(AX56>Saisies!$C$7,\"\",IF(ISERROR(IF(AX56<Saisies!$B$7,\"\",AZ56)*BF56),IF(AX56<Saisies!$B$7,\"\",AZ56),\"\")))*(IF(ISERROR(BG56+1),0,BG56))*BH56*BI56*BJ56),\"\",(IF(AX56>Saisies!$C$7,\"\",IF(ISERROR(IF(AX56<Saisies!$B$7,\"\",AZ56)*BF56),IF(AX56<Saisies!$B$7,\"\",AZ56),\"\")))*(IF(ISERROR(BG56+1),0,BG56))*BH56*BI56*BJ56)","v":""},"",1,{"$f":"IF(AX56>Saisies!$C$25,1,(IF(AX56<Saisies!$B$25,1,IF(Saisies!$B$25=0,1,0))))","v":1},{"$f":"IF(AX56>Saisies!$E$25,1,(IF(AX56<Saisies!$D$25,1,IF(Saisies!$D$25=0,1,0))))","v":1},{"$f":"IF(AX56>Saisies!$G$25,1,(IF(AX56<Saisies!$F$25,1,IF(Saisies!$F$25<10,1,0))))","v":1},{"$f":"IF(AX56>Saisies!$C$10,\"\",(IF(AX56<Saisies!$B$10,\"\",BA56)))","v":""},{"$f":"IF(AX56>Saisies!$E$10,\"\",(IF(AX56<Saisies!$D$10,\"\",BA56)))","v":""},{"$f":"IF(AX56>Saisies!$G$10,\"\",(IF(AX56<Saisies!$F$10,\"\",BA56)))","v":""},"2017-05-05","V",4,7,492,{"$f":"IF(BR56>=Saisies!$E$4,(IF(BS55<=Saisies!$E$4,BN56,BS55)),0)","v":42622},{"$f":"IF(BN56=Saisies!$C$7,MIN((ABS(Saisies!$E$4-BR55)),BU56),BU56)","v":""},{"$f":"IF(ISERROR((IF(BN56>Saisies!$C$7,\"\",IF(ISERROR(IF(BN56<Saisies!$B$7,\"\",BP56)*BV56),IF(BN56<Saisies!$B$7,\"\",BP56),\"\")))*(IF(ISERROR(BW56+1),0,BW56))*BX56*BY56*BZ56),\"\",(IF(BN56>Saisies!$C$7,\"\",IF(ISERROR(IF(BN56<Saisies!$B$7,\"\",BP56)*BV56),IF(BN56<Saisies!$B$7,\"\",BP56),\"\")))*(IF(ISERROR(BW56+1),0,BW56))*BX56*BY56*BZ56)","v":""},"",1,{"$f":"IF(BN56>Saisies!$C$25,1,(IF(BN56<Saisies!$B$25,1,IF(Saisies!$B$25=0,1,0))))","v":1},{"$f":"IF(BN56>Saisies!$E$25,1,(IF(BN56<Saisies!$D$25,1,IF(Saisies!$D$25=0,1,0))))","v":1},{"$f":"IF(BN56>Saisies!$G$25,1,(IF(BN56<Saisies!$F$25,1,IF(Saisies!$F$25<10,1,0))))","v":1},{"$f":"IF(BN56>Saisies!$C$10,\"\",(IF(BN56<Saisies!$B$10,\"\",BQ56)))","v":""},{"$f":"IF(BN56>Saisies!$E$10,\"\",(IF(BN56<Saisies!$D$10,\"\",BQ56)))","v":""},{"$f":"IF(BN56>Saisies!$G$10,\"\",(IF(BN56<Saisies!$F$10,\"\",BQ56)))","v":""},"2017-06-05","L",7,7,492,{"$f":"IF(CH56>=Saisies!$E$4,(IF(CI55<=Saisies!$E$4,CD56,CI55)),0)","v":42622},{"$f":"IF(CD56=Saisies!$C$7,MIN((ABS(Saisies!$E$4-CH55)),CK56),CK56)","v":""},{"$f":"IF(ISERROR((IF(CD56>Saisies!$C$7,\"\",IF(ISERROR(IF(CD56<Saisies!$B$7,\"\",CF56)*CL56),IF(CD56<Saisies!$B$7,\"\",CF56),\"\")))*(IF(ISERROR(CM56+1),0,CM56))*CN56*CO56*CP56),\"\",(IF(CD56>Saisies!$C$7,\"\",IF(ISERROR(IF(CD56<Saisies!$B$7,\"\",CF56)*CL56),IF(CD56<Saisies!$B$7,\"\",CF56),\"\")))*(IF(ISERROR(CM56+1),0,CM56))*CN56*CO56*CP56)","v":""},"",1,{"$f":"IF(CD56>Saisies!$C$25,1,(IF(CD56<Saisies!$B$25,1,IF(Saisies!$B$25=0,1,0))))","v":1},{"$f":"IF(CD56>Saisies!$E$25,1,(IF(CD56<Saisies!$D$25,1,IF(Saisies!$D$25=0,1,0))))","v":1},{"$f":"IF(CD56>Saisies!$G$25,1,(IF(CD56<Saisies!$F$25,1,IF(Saisies!$F$25<10,1,0))))","v":1},{"$f":"IF(CD56>Saisies!$C$10,\"\",(IF(CD56<Saisies!$B$10,\"\",CG56)))","v":""},{"$f":"IF(CD56>Saisies!$E$10,\"\",(IF(CD56<Saisies!$D$10,\"\",CG56)))","v":""},{"$f":"IF(CD56>Saisies!$G$10,\"\",(IF(CD56<Saisies!$F$10,\"\",CG56)))","v":""},"2017-07-05","M",8,7,492,{"$f":"IF(CX56>=Saisies!$E$4,(IF(CY55<=Saisies!$E$4,CT56,CY55)),0)","v":42622},{"$f":"IF(CT56=Saisies!$C$7,MIN((ABS(Saisies!$E$4-CX55)),DA56),DA56)","v":""},{"$f":"IF(ISERROR((IF(CT56>Saisies!$C$7,\"\",IF(ISERROR(IF(CT56<Saisies!$B$7,\"\",CV56)*DB56),IF(CT56<Saisies!$B$7,\"\",CV56),\"\")))*(IF(ISERROR(DC56+1),0,DC56))*DD56*DE56*DF56),\"\",(IF(CT56>Saisies!$C$7,\"\",IF(ISERROR(IF(CT56<Saisies!$B$7,\"\",CV56)*DB56),IF(CT56<Saisies!$B$7,\"\",CV56),\"\")))*(IF(ISERROR(DC56+1),0,DC56))*DD56*DE56*DF56)","v":""},"",1,{"$f":"IF(CT56>Saisies!$C$25,1,(IF(CT56<Saisies!$B$25,1,IF(Saisies!$B$25=0,1,0))))","v":1},{"$f":"IF(CT56>Saisies!$E$25,1,(IF(CT56<Saisies!$D$25,1,IF(Saisies!$D$25=0,1,0))))","v":1},{"$f":"IF(CT56>Saisies!$G$25,1,(IF(CT56<Saisies!$F$25,1,IF(Saisies!$F$25<10,1,0))))","v":1},{"$f":"IF(CT56>Saisies!$C$10,\"\",(IF(CT56<Saisies!$B$10,\"\",CW56)))","v":""},{"$f":"IF(CT56>Saisies!$E$10,\"\",(IF(CT56<Saisies!$D$10,\"\",CW56)))","v":""},{"$f":"IF(CT56>Saisies!$G$10,\"\",(IF(CT56<Saisies!$F$10,\"\",CW56)))","v":""},"2017-08-05","S",0,0,492,{"$f":"IF(DN56>=Saisies!$E$4,(IF(DO55<=Saisies!$E$4,DJ56,DO55)),0)","v":42622},{"$f":"IF(DJ56=Saisies!$C$7,MIN((ABS(Saisies!$E$4-DN55)),DQ56),DQ56)","v":""},{"$f":"IF(ISERROR((IF(DJ56>Saisies!$C$7,\"\",IF(ISERROR(IF(DJ56<Saisies!$B$7,\"\",DL56)*DR56),IF(DJ56<Saisies!$B$7,\"\",DL56),\"\")))*(IF(ISERROR(DS56+1),0,DS56))*DT56*DU56*DV56),\"\",(IF(DJ56>Saisies!$C$7,\"\",IF(ISERROR(IF(DJ56<Saisies!$B$7,\"\",DL56)*DR56),IF(DJ56<Saisies!$B$7,\"\",DL56),\"\")))*(IF(ISERROR(DS56+1),0,DS56))*DT56*DU56*DV56)","v":""},"",1,{"$f":"IF(DJ56>Saisies!$C$25,1,(IF(DJ56<Saisies!$B$25,1,IF(Saisies!$B$25=0,1,0))))","v":1},{"$f":"IF(DJ56>Saisies!$E$25,1,(IF(DJ56<Saisies!$D$25,1,IF(Saisies!$D$25=0,1,0))))","v":1},{"$f":"IF(DJ56>Saisies!$G$25,1,(IF(DJ56<Saisies!$F$25,1,IF(Saisies!$F$25<10,1,0))))","v":1},{"$f":"IF(DJ56>Saisies!$C$10,\"\",(IF(DJ56<Saisies!$B$10,\"\",DM56)))","v":""},{"$f":"IF(DJ56>Saisies!$E$10,\"\",(IF(DJ56<Saisies!$D$10,\"\",DM56)))","v":""},{"$f":"IF(DJ56>Saisies!$G$10,\"\",(IF(DJ56<Saisies!$F$10,\"\",DM56)))","v":""},"2017-09-05","M",8,7,492,{"$f":"IF(ED56>=Saisies!$E$4,(IF(EE55<=Saisies!$E$4,DZ56,EE55)),0)","v":42622},{"$f":"IF(DZ56=Saisies!$C$7,MIN((ABS(Saisies!$E$4-ED55)),EG56),EG56)","v":""},{"$f":"IF(ISERROR((IF(DZ56>Saisies!$C$7,\"\",IF(ISERROR(IF(DZ56<Saisies!$B$7,\"\",EB56)*EH56),IF(DZ56<Saisies!$B$7,\"\",EB56),\"\")))*(IF(ISERROR(EI56+1),0,EI56))*EJ56*EK56*EL56),\"\",(IF(DZ56>Saisies!$C$7,\"\",IF(ISERROR(IF(DZ56<Saisies!$B$7,\"\",EB56)*EH56),IF(DZ56<Saisies!$B$7,\"\",EB56),\"\")))*(IF(ISERROR(EI56+1),0,EI56))*EJ56*EK56*EL56)","v":""},"",1,{"$f":"IF(DZ56>Saisies!$C$25,1,(IF(DZ56<Saisies!$B$25,1,IF(Saisies!$B$25=0,1,0))))","v":1},{"$f":"IF(DZ56>Saisies!$E$25,1,(IF(DZ56<Saisies!$D$25,1,IF(Saisies!$D$25=0,1,0))))","v":1},{"$f":"IF(DZ56>Saisies!$G$25,1,(IF(DZ56<Saisies!$F$25,1,IF(Saisies!$F$25<10,1,0))))","v":1},{"$f":"IF(DZ56>Saisies!$C$10,\"\",(IF(DZ56<Saisies!$B$10,\"\",EC56)))","v":""},{"$f":"IF(DZ56>Saisies!$E$10,\"\",(IF(DZ56<Saisies!$D$10,\"\",EC56)))","v":""},{"$f":"IF(DZ56>Saisies!$G$10,\"\",(IF(DZ56<Saisies!$F$10,\"\",EC56)))","v":""},"2017-10-05","J",8,7,492,{"$f":"IF(ET56>=Saisies!$E$4,(IF(EU55<=Saisies!$E$4,EP56,EU55)),0)","v":42622},{"$f":"IF(EP56=Saisies!$C$7,MIN((ABS(Saisies!$E$4-ET55)),EW56),EW56)","v":""},{"$f":"IF(ISERROR((IF(EP56>Saisies!$C$7,\"\",IF(ISERROR(IF(EP56<Saisies!$B$7,\"\",ER56)*EX56),IF(EP56<Saisies!$B$7,\"\",ER56),\"\")))*(IF(ISERROR(EY56+1),0,EY56))*EZ56*FA56*FB56),\"\",(IF(EP56>Saisies!$C$7,\"\",IF(ISERROR(IF(EP56<Saisies!$B$7,\"\",ER56)*EX56),IF(EP56<Saisies!$B$7,\"\",ER56),\"\")))*(IF(ISERROR(EY56+1),0,EY56))*EZ56*FA56*FB56)","v":""},"",1,{"$f":"IF(EP56>Saisies!$C$25,1,(IF(EP56<Saisies!$B$25,1,IF(Saisies!$B$25=0,1,0))))","v":1},{"$f":"IF(EP56>Saisies!$E$25,1,(IF(EP56<Saisies!$D$25,1,IF(Saisies!$D$25=0,1,0))))","v":1},{"$f":"IF(EP56>Saisies!$G$25,1,(IF(EP56<Saisies!$F$25,1,IF(Saisies!$F$25<10,1,0))))","v":1},{"$f":"IF(EP56>Saisies!$C$10,\"\",(IF(EP56<Saisies!$B$10,\"\",ES56)))","v":""},{"$f":"IF(EP56>Saisies!$E$10,\"\",(IF(EP56<Saisies!$D$10,\"\",ES56)))","v":""},{"$f":"IF(EP56>Saisies!$G$10,\"\",(IF(EP56<Saisies!$F$10,\"\",ES56)))","v":""},"2017-11-05","D",0,0,492,{"$f":"IF(FJ56>=Saisies!$E$4,(IF(FK55<=Saisies!$E$4,FF56,FK55)),0)","v":42622},{"$f":"IF(FF56=Saisies!$C$7,MIN((ABS(Saisies!$E$4-FJ55)),FM56),FM56)","v":""},{"$f":"IF(ISERROR((IF(FF56>Saisies!$C$7,\"\",IF(ISERROR(IF(FF56<Saisies!$B$7,\"\",FH56)*FN56),IF(FF56<Saisies!$B$7,\"\",FH56),\"\")))*(IF(ISERROR(FO56+1),0,FO56))*FP56*FQ56*FR56),\"\",(IF(FF56>Saisies!$C$7,\"\",IF(ISERROR(IF(FF56<Saisies!$B$7,\"\",FH56)*FN56),IF(FF56<Saisies!$B$7,\"\",FH56),\"\")))*(IF(ISERROR(FO56+1),0,FO56))*FP56*FQ56*FR56)","v":""},"",1,{"$f":"IF(FF56>Saisies!$C$25,1,(IF(FF56<Saisies!$B$25,1,IF(Saisies!$B$25=0,1,0))))","v":1},{"$f":"IF(FF56>Saisies!$E$25,1,(IF(FF56<Saisies!$D$25,1,IF(Saisies!$D$25=0,1,0))))","v":1},{"$f":"IF(FF56>Saisies!$G$25,1,(IF(FF56<Saisies!$F$25,1,IF(Saisies!$F$25<10,1,0))))","v":1},{"$f":"IF(FF56>Saisies!$C$10,\"\",(IF(FF56<Saisies!$B$10,\"\",FI56)))","v":""},{"$f":"IF(FF56>Saisies!$E$10,\"\",(IF(FF56<Saisies!$D$10,\"\",FI56)))","v":""},{"$f":"IF(FF56>Saisies!$G$10,\"\",(IF(FF56<Saisies!$F$10,\"\",FI56)))","v":""},"2017-12-05","M",8,7,492,{"$f":"IF(FZ56>=Saisies!$E$4,(IF(GA55<=Saisies!$E$4,FV56,GA55)),0)","v":42622},{"$f":"IF(FV56=Saisies!$C$7,MIN((ABS(Saisies!$E$4-FZ55)),GC56),GC56)","v":""},{"$f":"IF(ISERROR((IF(FV56>Saisies!$C$7,\"\",IF(ISERROR(IF(FV56<Saisies!$B$7,\"\",FX56)*GD56),IF(FV56<Saisies!$B$7,\"\",FX56),\"\")))*(IF(ISERROR(GE56+1),0,GE56))*GF56*GG56*GH56),\"\",(IF(FV56>Saisies!$C$7,\"\",IF(ISERROR(IF(FV56<Saisies!$B$7,\"\",FX56)*GD56),IF(FV56<Saisies!$B$7,\"\",FX56),\"\")))*(IF(ISERROR(GE56+1),0,GE56))*GF56*GG56*GH56)","v":""},"",1,{"$f":"IF(FV56>Saisies!$C$25,1,(IF(FV56<Saisies!$B$25,1,IF(Saisies!$B$25=0,1,0))))","v":1},{"$f":"IF(FV56>Saisies!$E$25,1,(IF(FV56<Saisies!$D$25,1,IF(Saisies!$D$25=0,1,0))))","v":1},{"$f":"IF(FV56>Saisies!$G$25,1,(IF(FV56<Saisies!$F$25,1,IF(Saisies!$F$25<10,1,0))))","v":1},{"$f":"IF(FV56>Saisies!$C$10,\"\",(IF(FV56<Saisies!$B$10,\"\",FY56)))","v":""},{"$f":"IF(FV56>Saisies!$E$10,\"\",(IF(FV56<Saisies!$D$10,\"\",FY56)))","v":""},{"$f":"IF(FV56>Saisies!$G$10,\"\",(IF(FV56<Saisies!$F$10,\"\",FY56)))","v":""}]
[null,"2017-01-06","V",4,7,492,{"$f":"IF(F57>=Saisies!$E$4,(IF(G56<=Saisies!$E$4,B57,G56)),0)","v":42622},{"$f":"IF(B57=Saisies!$C$7,MIN((ABS(Saisies!$E$4-F56)),I57),I57)","v":""},{"$f":"IF(ISERROR((IF(B57>Saisies!$C$7,\"\",IF(ISERROR(IF(B57<Saisies!$B$7,\"\",D57)*J57),IF(B57<Saisies!$B$7,\"\",D57),\"\")))*(IF(ISERROR(K57+1),0,K57))*L57*M57*N57),\"\",(IF(B57>Saisies!$C$7,\"\",IF(ISERROR(IF(B57<Saisies!$B$7,\"\",D57)*J57),IF(B57<Saisies!$B$7,\"\",D57),\"\")))*(IF(ISERROR(K57+1),0,K57))*L57*M57*N57)","v":""},"",1,{"$f":"IF(B57>Saisies!$C$25,1,(IF(B57<Saisies!$B$25,1,IF(Saisies!$B$25=0,1,0))))","v":1},{"$f":"IF(B57>Saisies!$E$25,1,(IF(B57<Saisies!$D$25,1,IF(Saisies!$D$25=0,1,0))))","v":1},{"$f":"IF(B57>Saisies!$G$25,1,(IF(B57<Saisies!$F$25,1,IF(Saisies!$F$25<10,1,0))))","v":1},{"$f":"IF(B57>Saisies!$C$10,\"\",(IF(B57<Saisies!$B$10,\"\",E57)))","v":""},{"$f":"IF(B57>Saisies!$E$10,\"\",(IF(B57<Saisies!$D$10,\"\",E57)))","v":""},{"$f":"IF(B57>Saisies!$G$10,\"\",(IF(B57<Saisies!$F$10,\"\",E57)))","v":""},"2017-02-06","L",7,7,492,{"$f":"IF(V57>=Saisies!$E$4,(IF(W56<=Saisies!$E$4,R57,W56)),0)","v":42622},{"$f":"IF(R57=Saisies!$C$7,MIN((ABS(Saisies!$E$4-V56)),Y57),Y57)","v":""},{"$f":"IF(ISERROR((IF(R57>Saisies!$C$7,\"\",IF(ISERROR(IF(R57<Saisies!$B$7,\"\",T57)*Z57),IF(R57<Saisies!$B$7,\"\",T57),\"\")))*(IF(ISERROR(AA57+1),0,AA57))*AB57*AC57*AD57),\"\",(IF(R57>Saisies!$C$7,\"\",IF(ISERROR(IF(R57<Saisies!$B$7,\"\",T57)*Z57),IF(R57<Saisies!$B$7,\"\",T57),\"\")))*(IF(ISERROR(AA57+1),0,AA57))*AB57*AC57*AD57)","v":""},"",1,{"$f":"IF(R57>Saisies!$C$25,1,(IF(R57<Saisies!$B$25,1,IF(Saisies!$B$25=0,1,0))))","v":1},{"$f":"IF(R57>Saisies!$E$25,1,(IF(R57<Saisies!$D$25,1,IF(Saisies!$D$25=0,1,0))))","v":1},{"$f":"IF(R57>Saisies!$G$25,1,(IF(R57<Saisies!$F$25,1,IF(Saisies!$F$25<10,1,0))))","v":1},{"$f":"IF(R57>Saisies!$C$10,\"\",(IF(R57<Saisies!$B$10,\"\",U57)))","v":""},{"$f":"IF(R57>Saisies!$E$10,\"\",(IF(R57<Saisies!$D$10,\"\",U57)))","v":""},{"$f":"IF(R57>Saisies!$G$10,\"\",(IF(R57<Saisies!$F$10,\"\",U57)))","v":""},"2017-03-06","L",7,7,492,{"$f":"IF(AL57>=Saisies!$E$4,(IF(AM56<=Saisies!$E$4,AH57,AM56)),0)","v":42622},{"$f":"IF(AH57=Saisies!$C$7,MIN((ABS(Saisies!$E$4-AL56)),AO57),AO57)","v":""},{"$f":"IF(ISERROR((IF(AH57>Saisies!$C$7,\"\",IF(ISERROR(IF(AH57<Saisies!$B$7,\"\",AJ57)*AP57),IF(AH57<Saisies!$B$7,\"\",AJ57),\"\")))*(IF(ISERROR(AQ57+1),0,AQ57))*AR57*AS57*AT57),\"\",(IF(AH57>Saisies!$C$7,\"\",IF(ISERROR(IF(AH57<Saisies!$B$7,\"\",AJ57)*AP57),IF(AH57<Saisies!$B$7,\"\",AJ57),\"\")))*(IF(ISERROR(AQ57+1),0,AQ57))*AR57*AS57*AT57)","v":""},"",1,{"$f":"IF(AH57>Saisies!$C$25,1,(IF(AH57<Saisies!$B$25,1,IF(Saisies!$B$25=0,1,0))))","v":1},{"$f":"IF(AH57>Saisies!$E$25,1,(IF(AH57<Saisies!$D$25,1,IF(Saisies!$D$25=0,1,0))))","v":1},{"$f":"IF(AH57>Saisies!$G$25,1,(IF(AH57<Saisies!$F$25,1,IF(Saisies!$F$25<10,1,0))))","v":1},{"$f":"IF(AH57>Saisies!$C$10,\"\",(IF(AH57<Saisies!$B$10,\"\",AK57)))","v":""},{"$f":"IF(AH57>Saisies!$E$10,\"\",(IF(AH57<Saisies!$D$10,\"\",AK57)))","v":""},{"$f":"IF(AH57>Saisies!$G$10,\"\",(IF(AH57<Saisies!$F$10,\"\",AK57)))","v":""},"2017-04-06","J",8,7,492,{"$f":"IF(BB57>=Saisies!$E$4,(IF(BC56<=Saisies!$E$4,AX57,BC56)),0)","v":42622},{"$f":"IF(AX57=Saisies!$C$7,MIN((ABS(Saisies!$E$4-BB56)),BE57),BE57)","v":""},{"$f":"IF(ISERROR((IF(AX57>Saisies!$C$7,\"\",IF(ISERROR(IF(AX57<Saisies!$B$7,\"\",AZ57)*BF57),IF(AX57<Saisies!$B$7,\"\",AZ57),\"\")))*(IF(ISERROR(BG57+1),0,BG57))*BH57*BI57*BJ57),\"\",(IF(AX57>Saisies!$C$7,\"\",IF(ISERROR(IF(AX57<Saisies!$B$7,\"\",AZ57)*BF57),IF(AX57<Saisies!$B$7,\"\",AZ57),\"\")))*(IF(ISERROR(BG57+1),0,BG57))*BH57*BI57*BJ57)","v":""},"",1,{"$f":"IF(AX57>Saisies!$C$25,1,(IF(AX57<Saisies!$B$25,1,IF(Saisies!$B$25=0,1,0))))","v":1},{"$f":"IF(AX57>Saisies!$E$25,1,(IF(AX57<Saisies!$D$25,1,IF(Saisies!$D$25=0,1,0))))","v":1},{"$f":"IF(AX57>Saisies!$G$25,1,(IF(AX57<Saisies!$F$25,1,IF(Saisies!$F$25<10,1,0))))","v":1},{"$f":"IF(AX57>Saisies!$C$10,\"\",(IF(AX57<Saisies!$B$10,\"\",BA57)))","v":""},{"$f":"IF(AX57>Saisies!$E$10,\"\",(IF(AX57<Saisies!$D$10,\"\",BA57)))","v":""},{"$f":"IF(AX57>Saisies!$G$10,\"\",(IF(AX57<Saisies!$F$10,\"\",BA57)))","v":""},"2017-05-06","S",0,0,492,{"$f":"IF(BR57>=Saisies!$E$4,(IF(BS56<=Saisies!$E$4,BN57,BS56)),0)","v":42622},{"$f":"IF(BN57=Saisies!$C$7,MIN((ABS(Saisies!$E$4-BR56)),BU57),BU57)","v":""},{"$f":"IF(ISERROR((IF(BN57>Saisies!$C$7,\"\",IF(ISERROR(IF(BN57<Saisies!$B$7,\"\",BP57)*BV57),IF(BN57<Saisies!$B$7,\"\",BP57),\"\")))*(IF(ISERROR(BW57+1),0,BW57))*BX57*BY57*BZ57),\"\",(IF(BN57>Saisies!$C$7,\"\",IF(ISERROR(IF(BN57<Saisies!$B$7,\"\",BP57)*BV57),IF(BN57<Saisies!$B$7,\"\",BP57),\"\")))*(IF(ISERROR(BW57+1),0,BW57))*BX57*BY57*BZ57)","v":""},"",1,{"$f":"IF(BN57>Saisies!$C$25,1,(IF(BN57<Saisies!$B$25,1,IF(Saisies!$B$25=0,1,0))))","v":1},{"$f":"IF(BN57>Saisies!$E$25,1,(IF(BN57<Saisies!$D$25,1,IF(Saisies!$D$25=0,1,0))))","v":1},{"$f":"IF(BN57>Saisies!$G$25,1,(IF(BN57<Saisies!$F$25,1,IF(Saisies!$F$25<10,1,0))))","v":1},{"$f":"IF(BN57>Saisies!$C$10,\"\",(IF(BN57<Saisies!$B$10,\"\",BQ57)))","v":""},{"$f":"IF(BN57>Saisies!$E$10,\"\",(IF(BN57<Saisies!$D$10,\"\",BQ57)))","v":""},{"$f":"IF(BN57>Saisies!$G$10,\"\",(IF(BN57<Saisies!$F$10,\"\",BQ57)))","v":""},"2017-06-06","M",8,7,492,{"$f":"IF(CH57>=Saisies!$E$4,(IF(CI56<=Saisies!$E$4,CD57,CI56)),0)","v":42622},{"$f":"IF(CD57=Saisies!$C$7,MIN((ABS(Saisies!$E$4-CH56)),CK57),CK57)","v":""},{"$f":"IF(ISERROR((IF(CD57>Saisies!$C$7,\"\",IF(ISERROR(IF(CD57<Saisies!$B$7,\"\",CF57)*CL57),IF(CD57<Saisies!$B$7,\"\",CF57),\"\")))*(IF(ISERROR(CM57+1),0,CM57))*CN57*CO57*CP57),\"\",(IF(CD57>Saisies!$C$7,\"\",IF(ISERROR(IF(CD57<Saisies!$B$7,\"\",CF57)*CL57),IF(CD57<Saisies!$B$7,\"\",CF57),\"\")))*(IF(ISERROR(CM57+1),0,CM57))*CN57*CO57*CP57)","v":""},"",1,{"$f":"IF(CD57>Saisies!$C$25,1,(IF(CD57<Saisies!$B$25,1,IF(Saisies!$B$25=0,1,0))))","v":1},{"$f":"IF(CD57>Saisies!$E$25,1,(IF(CD57<Saisies!$D$25,1,IF(Saisies!$D$25=0,1,0))))","v":1},{"$f":"IF(CD57>Saisies!$G$25,1,(IF(CD57<Saisies!$F$25,1,IF(Saisies!$F$25<10,1,0))))","v":1},{"$f":"IF(CD57>Saisies!$C$10,\"\",(IF(CD57<Saisies!$B$10,\"\",CG57)))","v":""},{"$f":"IF(CD57>Saisies!$E$10,\"\",(IF(CD57<Saisies!$D$10,\"\",CG57)))","v":""},{"$f":"IF(CD57>Saisies!$G$10,\"\",(IF(CD57<Saisies!$F$10,\"\",CG57)))","v":""},"2017-07-06","J",8,7,492,{"$f":"IF(CX57>=Saisies!$E$4,(IF(CY56<=Saisies!$E$4,CT57,CY56)),0)","v":42622},{"$f":"IF(CT57=Saisies!$C$7,MIN((ABS(Saisies!$E$4-CX56)),DA57),DA57)","v":""},{"$f":"IF(ISERROR((IF(CT57>Saisies!$C$7,\"\",IF(ISERROR(IF(CT57<Saisies!$B$7,\"\",CV57)*DB57),IF(CT57<Saisies!$B$7,\"\",CV57),\"\")))*(IF(ISERROR(DC57+1),0,DC57))*DD57*DE57*DF57),\"\",(IF(CT57>Saisies!$C$7,\"\",IF(ISERROR(IF(CT57<Saisies!$B$7,\"\",CV57)*DB57),IF(CT57<Saisies!$B$7,\"\",CV57),\"\")))*(IF(ISERROR(DC57+1),0,DC57))*DD57*DE57*DF57)","v":""},"",1,{"$f":"IF(CT57>Saisies!$C$25,1,(IF(CT57<Saisies!$B$25,1,IF(Saisies!$B$25=0,1,0))))","v":1},{"$f":"IF(CT57>Saisies!$E$25,1,(IF(CT57<Saisies!$D$25,1,IF(Saisies!$D$25=0,1,0))))","v":1},{"$f":"IF(CT57>Saisies!$G$25,1,(IF(CT57<Saisies!$F$25,1,IF(Saisies!$F$25<10,1,0))))","v":1},{"$f":"IF(CT57>Saisies!$C$10,\"\",(IF(CT57<Saisies!$B$10,\"\",CW57)))","v":""},{"$f":"IF(CT57>Saisies!$E$10,\"\",(IF(CT57<Saisies!$D$10,\"\",CW57)))","v":""},{"$f":"IF(CT57>Saisies!$G$10,\"\",(IF(CT57<Saisies!$F$10,\"\",CW57)))","v":""},"2017-08-06","D",0,0,492,{"$f":"IF(DN57>=Saisies!$E$4,(IF(DO56<=Saisies!$E$4,DJ57,DO56)),0)","v":42622},{"$f":"IF(DJ57=Saisies!$C$7,MIN((ABS(Saisies!$E$4-DN56)),DQ57),DQ57)","v":""},{"$f":"IF(ISERROR((IF(DJ57>Saisies!$C$7,\"\",IF(ISERROR(IF(DJ57<Saisies!$B$7,\"\",DL57)*DR57),IF(DJ57<Saisies!$B$7,\"\",DL57),\"\")))*(IF(ISERROR(DS57+1),0,DS57))*DT57*DU57*DV57),\"\",(IF(DJ57>Saisies!$C$7,\"\",IF(ISERROR(IF(DJ57<Saisies!$B$7,\"\",DL57)*DR57),IF(DJ57<Saisies!$B$7,\"\",DL57),\"\")))*(IF(ISERROR(DS57+1),0,DS57))*DT57*DU57*DV57)","v":""},"",1,{"$f":"IF(DJ57>Saisies!$C$25,1,(IF(DJ57<Saisies!$B$25,1,IF(Saisies!$B$25=0,1,0))))","v":1},{"$f":"IF(DJ57>Saisies!$E$25,1,(IF(DJ57<Saisies!$D$25,1,IF(Saisies!$D$25=0,1,0))))","v":1},{"$f":"IF(DJ57>Saisies!$G$25,1,(IF(DJ57<Saisies!$F$25,1,IF(Saisies!$F$25<10,1,0))))","v":1},{"$f":"IF(DJ57>Saisies!$C$10,\"\",(IF(DJ57<Saisies!$B$10,\"\",DM57)))","v":""},{"$f":"IF(DJ57>Saisies!$E$10,\"\",(IF(DJ57<Saisies!$D$10,\"\",DM57)))","v":""},{"$f":"IF(DJ57>Saisies!$G$10,\"\",(IF(DJ57<Saisies!$F$10,\"\",DM57)))","v":""},"2017-09-06","M",8,7,492,{"$f":"IF(ED57>=Saisies!$E$4,(IF(EE56<=Saisies!$E$4,DZ57,EE56)),0)","v":42622},{"$f":"IF(DZ57=Saisies!$C$7,MIN((ABS(Saisies!$E$4-ED56)),EG57),EG57)","v":""},{"$f":"IF(ISERROR((IF(DZ57>Saisies!$C$7,\"\",IF(ISERROR(IF(DZ57<Saisies!$B$7,\"\",EB57)*EH57),IF(DZ57<Saisies!$B$7,\"\",EB57),\"\")))*(IF(ISERROR(EI57+1),0,EI57))*EJ57*EK57*EL57),\"\",(IF(DZ57>Saisies!$C$7,\"\",IF(ISERROR(IF(DZ57<Saisies!$B$7,\"\",EB57)*EH57),IF(DZ57<Saisies!$B$7,\"\",EB57),\"\")))*(IF(ISERROR(EI57+1),0,EI57))*EJ57*EK57*EL57)","v":""},"",1,{"$f":"IF(DZ57>Saisies!$C$25,1,(IF(DZ57<Saisies!$B$25,1,IF(Saisies!$B$25=0,1,0))))","v":1},{"$f":"IF(DZ57>Saisies!$E$25,1,(IF(DZ57<Saisies!$D$25,1,IF(Saisies!$D$25=0,1,0))))","v":1},{"$f":"IF(DZ57>Saisies!$G$25,1,(IF(DZ57<Saisies!$F$25,1,IF(Saisies!$F$25<10,1,0))))","v":1},{"$f":"IF(DZ57>Saisies!$C$10,\"\",(IF(DZ57<Saisies!$B$10,\"\",EC57)))","v":""},{"$f":"IF(DZ57>Saisies!$E$10,\"\",(IF(DZ57<Saisies!$D$10,\"\",EC57)))","v":""},{"$f":"IF(DZ57>Saisies!$G$10,\"\",(IF(DZ57<Saisies!$F$10,\"\",EC57)))","v":""},"2017-10-06","V",4,7,492,{"$f":"IF(ET57>=Saisies!$E$4,(IF(EU56<=Saisies!$E$4,EP57,EU56)),0)","v":42622},{"$f":"IF(EP57=Saisies!$C$7,MIN((ABS(Saisies!$E$4-ET56)),EW57),EW57)","v":""},{"$f":"IF(ISERROR((IF(EP57>Saisies!$C$7,\"\",IF(ISERROR(IF(EP57<Saisies!$B$7,\"\",ER57)*EX57),IF(EP57<Saisies!$B$7,\"\",ER57),\"\")))*(IF(ISERROR(EY57+1),0,EY57))*EZ57*FA57*FB57),\"\",(IF(EP57>Saisies!$C$7,\"\",IF(ISERROR(IF(EP57<Saisies!$B$7,\"\",ER57)*EX57),IF(EP57<Saisies!$B$7,\"\",ER57),\"\")))*(IF(ISERROR(EY57+1),0,EY57))*EZ57*FA57*FB57)","v":""},"",1,{"$f":"IF(EP57>Saisies!$C$25,1,(IF(EP57<Saisies!$B$25,1,IF(Saisies!$B$25=0,1,0))))","v":1},{"$f":"IF(EP57>Saisies!$E$25,1,(IF(EP57<Saisies!$D$25,1,IF(Saisies!$D$25=0,1,0))))","v":1},{"$f":"IF(EP57>Saisies!$G$25,1,(IF(EP57<Saisies!$F$25,1,IF(Saisies!$F$25<10,1,0))))","v":1},{"$f":"IF(EP57>Saisies!$C$10,\"\",(IF(EP57<Saisies!$B$10,\"\",ES57)))","v":""},{"$f":"IF(EP57>Saisies!$E$10,\"\",(IF(EP57<Saisies!$D$10,\"\",ES57)))","v":""},{"$f":"IF(EP57>Saisies!$G$10,\"\",(IF(EP57<Saisies!$F$10,\"\",ES57)))","v":""},"2017-11-06","L",7,7,492,{"$f":"IF(FJ57>=Saisies!$E$4,(IF(FK56<=Saisies!$E$4,FF57,FK56)),0)","v":42622},{"$f":"IF(FF57=Saisies!$C$7,MIN((ABS(Saisies!$E$4-FJ56)),FM57),FM57)","v":""},{"$f":"IF(ISERROR((IF(FF57>Saisies!$C$7,\"\",IF(ISERROR(IF(FF57<Saisies!$B$7,\"\",FH57)*FN57),IF(FF57<Saisies!$B$7,\"\",FH57),\"\")))*(IF(ISERROR(FO57+1),0,FO57))*FP57*FQ57*FR57),\"\",(IF(FF57>Saisies!$C$7,\"\",IF(ISERROR(IF(FF57<Saisies!$B$7,\"\",FH57)*FN57),IF(FF57<Saisies!$B$7,\"\",FH57),\"\")))*(IF(ISERROR(FO57+1),0,FO57))*FP57*FQ57*FR57)","v":""},"",1,{"$f":"IF(FF57>Saisies!$C$25,1,(IF(FF57<Saisies!$B$25,1,IF(Saisies!$B$25=0,1,0))))","v":1},{"$f":"IF(FF57>Saisies!$E$25,1,(IF(FF57<Saisies!$D$25,1,IF(Saisies!$D$25=0,1,0))))","v":1},{"$f":"IF(FF57>Saisies!$G$25,1,(IF(FF57<Saisies!$F$25,1,IF(Saisies!$F$25<10,1,0))))","v":1},{"$f":"IF(FF57>Saisies!$C$10,\"\",(IF(FF57<Saisies!$B$10,\"\",FI57)))","v":""},{"$f":"IF(FF57>Saisies!$E$10,\"\",(IF(FF57<Saisies!$D$10,\"\",FI57)))","v":""},{"$f":"IF(FF57>Saisies!$G$10,\"\",(IF(FF57<Saisies!$F$10,\"\",FI57)))","v":""},"2017-12-06","M",8,7,492,{"$f":"IF(FZ57>=Saisies!$E$4,(IF(GA56<=Saisies!$E$4,FV57,GA56)),0)","v":42622},{"$f":"IF(FV57=Saisies!$C$7,MIN((ABS(Saisies!$E$4-FZ56)),GC57),GC57)","v":""},{"$f":"IF(ISERROR((IF(FV57>Saisies!$C$7,\"\",IF(ISERROR(IF(FV57<Saisies!$B$7,\"\",FX57)*GD57),IF(FV57<Saisies!$B$7,\"\",FX57),\"\")))*(IF(ISERROR(GE57+1),0,GE57))*GF57*GG57*GH57),\"\",(IF(FV57>Saisies!$C$7,\"\",IF(ISERROR(IF(FV57<Saisies!$B$7,\"\",FX57)*GD57),IF(FV57<Saisies!$B$7,\"\",FX57),\"\")))*(IF(ISERROR(GE57+1),0,GE57))*GF57*GG57*GH57)","v":""},"",1,{"$f":"IF(FV57>Saisies!$C$25,1,(IF(FV57<Saisies!$B$25,1,IF(Saisies!$B$25=0,1,0))))","v":1},{"$f":"IF(FV57>Saisies!$E$25,1,(IF(FV57<Saisies!$D$25,1,IF(Saisies!$D$25=0,1,0))))","v":1},{"$f":"IF(FV57>Saisies!$G$25,1,(IF(FV57<Saisies!$F$25,1,IF(Saisies!$F$25<10,1,0))))","v":1},{"$f":"IF(FV57>Saisies!$C$10,\"\",(IF(FV57<Saisies!$B$10,\"\",FY57)))","v":""},{"$f":"IF(FV57>Saisies!$E$10,\"\",(IF(FV57<Saisies!$D$10,\"\",FY57)))","v":""},{"$f":"IF(FV57>Saisies!$G$10,\"\",(IF(FV57<Saisies!$F$10,\"\",FY57)))","v":""}]
[null,"2017-01-07","S",0,0,492,{"$f":"IF(F58>=Saisies!$E$4,(IF(G57<=Saisies!$E$4,B58,G57)),0)","v":42622},{"$f":"IF(B58=Saisies!$C$7,MIN((ABS(Saisies!$E$4-F57)),I58),I58)","v":""},{"$f":"IF(ISERROR((IF(B58>Saisies!$C$7,\"\",IF(ISERROR(IF(B58<Saisies!$B$7,\"\",D58)*J58),IF(B58<Saisies!$B$7,\"\",D58),\"\")))*(IF(ISERROR(K58+1),0,K58))*L58*M58*N58),\"\",(IF(B58>Saisies!$C$7,\"\",IF(ISERROR(IF(B58<Saisies!$B$7,\"\",D58)*J58),IF(B58<Saisies!$B$7,\"\",D58),\"\")))*(IF(ISERROR(K58+1),0,K58))*L58*M58*N58)","v":""},"",1,{"$f":"IF(B58>Saisies!$C$25,1,(IF(B58<Saisies!$B$25,1,IF(Saisies!$B$25=0,1,0))))","v":1},{"$f":"IF(B58>Saisies!$E$25,1,(IF(B58<Saisies!$D$25,1,IF(Saisies!$D$25=0,1,0))))","v":1},{"$f":"IF(B58>Saisies!$G$25,1,(IF(B58<Saisies!$F$25,1,IF(Saisies!$F$25<10,1,0))))","v":1},{"$f":"IF(B58>Saisies!$C$10,\"\",(IF(B58<Saisies!$B$10,\"\",E58)))","v":""},{"$f":"IF(B58>Saisies!$E$10,\"\",(IF(B58<Saisies!$D$10,\"\",E58)))","v":""},{"$f":"IF(B58>Saisies!$G$10,\"\",(IF(B58<Saisies!$F$10,\"\",E58)))","v":""},"2017-02-07","M",8,7,492,{"$f":"IF(V58>=Saisies!$E$4,(IF(W57<=Saisies!$E$4,R58,W57)),0)","v":42622},{"$f":"IF(R58=Saisies!$C$7,MIN((ABS(Saisies!$E$4-V57)),Y58),Y58)","v":""},{"$f":"IF(ISERROR((IF(R58>Saisies!$C$7,\"\",IF(ISERROR(IF(R58<Saisies!$B$7,\"\",T58)*Z58),IF(R58<Saisies!$B$7,\"\",T58),\"\")))*(IF(ISERROR(AA58+1),0,AA58))*AB58*AC58*AD58),\"\",(IF(R58>Saisies!$C$7,\"\",IF(ISERROR(IF(R58<Saisies!$B$7,\"\",T58)*Z58),IF(R58<Saisies!$B$7,\"\",T58),\"\")))*(IF(ISERROR(AA58+1),0,AA58))*AB58*AC58*AD58)","v":""},"",1,{"$f":"IF(R58>Saisies!$C$25,1,(IF(R58<Saisies!$B$25,1,IF(Saisies!$B$25=0,1,0))))","v":1},{"$f":"IF(R58>Saisies!$E$25,1,(IF(R58<Saisies!$D$25,1,IF(Saisies!$D$25=0,1,0))))","v":1},{"$f":"IF(R58>Saisies!$G$25,1,(IF(R58<Saisies!$F$25,1,IF(Saisies!$F$25<10,1,0))))","v":1},{"$f":"IF(R58>Saisies!$C$10,\"\",(IF(R58<Saisies!$B$10,\"\",U58)))","v":""},{"$f":"IF(R58>Saisies!$E$10,\"\",(IF(R58<Saisies!$D$10,\"\",U58)))","v":""},{"$f":"IF(R58>Saisies!$G$10,\"\",(IF(R58<Saisies!$F$10,\"\",U58)))","v":""},"2017-03-07","M",8,7,492,{"$f":"IF(AL58>=Saisies!$E$4,(IF(AM57<=Saisies!$E$4,AH58,AM57)),0)","v":42622},{"$f":"IF(AH58=Saisies!$C$7,MIN((ABS(Saisies!$E$4-AL57)),AO58),AO58)","v":""},{"$f":"IF(ISERROR((IF(AH58>Saisies!$C$7,\"\",IF(ISERROR(IF(AH58<Saisies!$B$7,\"\",AJ58)*AP58),IF(AH58<Saisies!$B$7,\"\",AJ58),\"\")))*(IF(ISERROR(AQ58+1),0,AQ58))*AR58*AS58*AT58),\"\",(IF(AH58>Saisies!$C$7,\"\",IF(ISERROR(IF(AH58<Saisies!$B$7,\"\",AJ58)*AP58),IF(AH58<Saisies!$B$7,\"\",AJ58),\"\")))*(IF(ISERROR(AQ58+1),0,AQ58))*AR58*AS58*AT58)","v":""},"",1,{"$f":"IF(AH58>Saisies!$C$25,1,(IF(AH58<Saisies!$B$25,1,IF(Saisies!$B$25=0,1,0))))","v":1},{"$f":"IF(AH58>Saisies!$E$25,1,(IF(AH58<Saisies!$D$25,1,IF(Saisies!$D$25=0,1,0))))","v":1},{"$f":"IF(AH58>Saisies!$G$25,1,(IF(AH58<Saisies!$F$25,1,IF(Saisies!$F$25<10,1,0))))","v":1},{"$f":"IF(AH58>Saisies!$C$10,\"\",(IF(AH58<Saisies!$B$10,\"\",AK58)))","v":""},{"$f":"IF(AH58>Saisies!$E$10,\"\",(IF(AH58<Saisies!$D$10,\"\",AK58)))","v":""},{"$f":"IF(AH58>Saisies!$G$10,\"\",(IF(AH58<Saisies!$F$10,\"\",AK58)))","v":""},"2017-04-07","V",4,7,492,{"$f":"IF(BB58>=Saisies!$E$4,(IF(BC57<=Saisies!$E$4,AX58,BC57)),0)","v":42622},{"$f":"IF(AX58=Saisies!$C$7,MIN((ABS(Saisies!$E$4-BB57)),BE58),BE58)","v":""},{"$f":"IF(ISERROR((IF(AX58>Saisies!$C$7,\"\",IF(ISERROR(IF(AX58<Saisies!$B$7,\"\",AZ58)*BF58),IF(AX58<Saisies!$B$7,\"\",AZ58),\"\")))*(IF(ISERROR(BG58+1),0,BG58))*BH58*BI58*BJ58),\"\",(IF(AX58>Saisies!$C$7,\"\",IF(ISERROR(IF(AX58<Saisies!$B$7,\"\",AZ58)*BF58),IF(AX58<Saisies!$B$7,\"\",AZ58),\"\")))*(IF(ISERROR(BG58+1),0,BG58))*BH58*BI58*BJ58)","v":""},"",1,{"$f":"IF(AX58>Saisies!$C$25,1,(IF(AX58<Saisies!$B$25,1,IF(Saisies!$B$25=0,1,0))))","v":1},{"$f":"IF(AX58>Saisies!$E$25,1,(IF(AX58<Saisies!$D$25,1,IF(Saisies!$D$25=0,1,0))))","v":1},{"$f":"IF(AX58>Saisies!$G$25,1,(IF(AX58<Saisies!$F$25,1,IF(Saisies!$F$25<10,1,0))))","v":1},{"$f":"IF(AX58>Saisies!$C$10,\"\",(IF(AX58<Saisies!$B$10,\"\",BA58)))","v":""},{"$f":"IF(AX58>Saisies!$E$10,\"\",(IF(AX58<Saisies!$D$10,\"\",BA58)))","v":""},{"$f":"IF(AX58>Saisies!$G$10,\"\",(IF(AX58<Saisies!$F$10,\"\",BA58)))","v":""},"2017-05-07","D",0,0,492,{"$f":"IF(BR58>=Saisies!$E$4,(IF(BS57<=Saisies!$E$4,BN58,BS57)),0)","v":42622},{"$f":"IF(BN58=Saisies!$C$7,MIN((ABS(Saisies!$E$4-BR57)),BU58),BU58)","v":""},{"$f":"IF(ISERROR((IF(BN58>Saisies!$C$7,\"\",IF(ISERROR(IF(BN58<Saisies!$B$7,\"\",BP58)*BV58),IF(BN58<Saisies!$B$7,\"\",BP58),\"\")))*(IF(ISERROR(BW58+1),0,BW58))*BX58*BY58*BZ58),\"\",(IF(BN58>Saisies!$C$7,\"\",IF(ISERROR(IF(BN58<Saisies!$B$7,\"\",BP58)*BV58),IF(BN58<Saisies!$B$7,\"\",BP58),\"\")))*(IF(ISERROR(BW58+1),0,BW58))*BX58*BY58*BZ58)","v":""},"",1,{"$f":"IF(BN58>Saisies!$C$25,1,(IF(BN58<Saisies!$B$25,1,IF(Saisies!$B$25=0,1,0))))","v":1},{"$f":"IF(BN58>Saisies!$E$25,1,(IF(BN58<Saisies!$D$25,1,IF(Saisies!$D$25=0,1,0))))","v":1},{"$f":"IF(BN58>Saisies!$G$25,1,(IF(BN58<Saisies!$F$25,1,IF(Saisies!$F$25<10,1,0))))","v":1},{"$f":"IF(BN58>Saisies!$C$10,\"\",(IF(BN58<Saisies!$B$10,\"\",BQ58)))","v":""},{"$f":"IF(BN58>Saisies!$E$10,\"\",(IF(BN58<Saisies!$D$10,\"\",BQ58)))","v":""},{"$f":"IF(BN58>Saisies!$G$10,\"\",(IF(BN58<Saisies!$F$10,\"\",BQ58)))","v":""},"2017-06-07","M",8,7,492,{"$f":"IF(CH58>=Saisies!$E$4,(IF(CI57<=Saisies!$E$4,CD58,CI57)),0)","v":42622},{"$f":"IF(CD58=Saisies!$C$7,MIN((ABS(Saisies!$E$4-CH57)),CK58),CK58)","v":""},{"$f":"IF(ISERROR((IF(CD58>Saisies!$C$7,\"\",IF(ISERROR(IF(CD58<Saisies!$B$7,\"\",CF58)*CL58),IF(CD58<Saisies!$B$7,\"\",CF58),\"\")))*(IF(ISERROR(CM58+1),0,CM58))*CN58*CO58*CP58),\"\",(IF(CD58>Saisies!$C$7,\"\",IF(ISERROR(IF(CD58<Saisies!$B$7,\"\",CF58)*CL58),IF(CD58<Saisies!$B$7,\"\",CF58),\"\")))*(IF(ISERROR(CM58+1),0,CM58))*CN58*CO58*CP58)","v":""},"",1,{"$f":"IF(CD58>Saisies!$C$25,1,(IF(CD58<Saisies!$B$25,1,IF(Saisies!$B$25=0,1,0))))","v":1},{"$f":"IF(CD58>Saisies!$E$25,1,(IF(CD58<Saisies!$D$25,1,IF(Saisies!$D$25=0,1,0))))","v":1},{"$f":"IF(CD58>Saisies!$G$25,1,(IF(CD58<Saisies!$F$25,1,IF(Saisies!$F$25<10,1,0))))","v":1},{"$f":"IF(CD58>Saisies!$C$10,\"\",(IF(CD58<Saisies!$B$10,\"\",CG58)))","v":""},{"$f":"IF(CD58>Saisies!$E$10,\"\",(IF(CD58<Saisies!$D$10,\"\",CG58)))","v":""},{"$f":"IF(CD58>Saisies!$G$10,\"\",(IF(CD58<Saisies!$F$10,\"\",CG58)))","v":""},"2017-07-07","V",4,7,492,{"$f":"IF(CX58>=Saisies!$E$4,(IF(CY57<=Saisies!$E$4,CT58,CY57)),0)","v":42622},{"$f":"IF(CT58=Saisies!$C$7,MIN((ABS(Saisies!$E$4-CX57)),DA58),DA58)","v":""},{"$f":"IF(ISERROR((IF(CT58>Saisies!$C$7,\"\",IF(ISERROR(IF(CT58<Saisies!$B$7,\"\",CV58)*DB58),IF(CT58<Saisies!$B$7,\"\",CV58),\"\")))*(IF(ISERROR(DC58+1),0,DC58))*DD58*DE58*DF58),\"\",(IF(CT58>Saisies!$C$7,\"\",IF(ISERROR(IF(CT58<Saisies!$B$7,\"\",CV58)*DB58),IF(CT58<Saisies!$B$7,\"\",CV58),\"\")))*(IF(ISERROR(DC58+1),0,DC58))*DD58*DE58*DF58)","v":""},"",1,{"$f":"IF(CT58>Saisies!$C$25,1,(IF(CT58<Saisies!$B$25,1,IF(Saisies!$B$25=0,1,0))))","v":1},{"$f":"IF(CT58>Saisies!$E$25,1,(IF(CT58<Saisies!$D$25,1,IF(Saisies!$D$25=0,1,0))))","v":1},{"$f":"IF(CT58>Saisies!$G$25,1,(IF(CT58<Saisies!$F$25,1,IF(Saisies!$F$25<10,1,0))))","v":1},{"$f":"IF(CT58>Saisies!$C$10,\"\",(IF(CT58<Saisies!$B$10,\"\",CW58)))","v":""},{"$f":"IF(CT58>Saisies!$E$10,\"\",(IF(CT58<Saisies!$D$10,\"\",CW58)))","v":""},{"$f":"IF(CT58>Saisies!$G$10,\"\",(IF(CT58<Saisies!$F$10,\"\",CW58)))","v":""},"2017-08-07","L",7,7,492,{"$f":"IF(DN58>=Saisies!$E$4,(IF(DO57<=Saisies!$E$4,DJ58,DO57)),0)","v":42622},{"$f":"IF(DJ58=Saisies!$C$7,MIN((ABS(Saisies!$E$4-DN57)),DQ58),DQ58)","v":""},{"$f":"IF(ISERROR((IF(DJ58>Saisies!$C$7,\"\",IF(ISERROR(IF(DJ58<Saisies!$B$7,\"\",DL58)*DR58),IF(DJ58<Saisies!$B$7,\"\",DL58),\"\")))*(IF(ISERROR(DS58+1),0,DS58))*DT58*DU58*DV58),\"\",(IF(DJ58>Saisies!$C$7,\"\",IF(ISERROR(IF(DJ58<Saisies!$B$7,\"\",DL58)*DR58),IF(DJ58<Saisies!$B$7,\"\",DL58),\"\")))*(IF(ISERROR(DS58+1),0,DS58))*DT58*DU58*DV58)","v":""},"",1,{"$f":"IF(DJ58>Saisies!$C$25,1,(IF(DJ58<Saisies!$B$25,1,IF(Saisies!$B$25=0,1,0))))","v":1},{"$f":"IF(DJ58>Saisies!$E$25,1,(IF(DJ58<Saisies!$D$25,1,IF(Saisies!$D$25=0,1,0))))","v":1},{"$f":"IF(DJ58>Saisies!$G$25,1,(IF(DJ58<Saisies!$F$25,1,IF(Saisies!$F$25<10,1,0))))","v":1},{"$f":"IF(DJ58>Saisies!$C$10,\"\",(IF(DJ58<Saisies!$B$10,\"\",DM58)))","v":""},{"$f":"IF(DJ58>Saisies!$E$10,\"\",(IF(DJ58<Saisies!$D$10,\"\",DM58)))","v":""},{"$f":"IF(DJ58>Saisies!$G$10,\"\",(IF(DJ58<Saisies!$F$10,\"\",DM58)))","v":""},"2017-09-07","J",8,7,492,{"$f":"IF(ED58>=Saisies!$E$4,(IF(EE57<=Saisies!$E$4,DZ58,EE57)),0)","v":42622},{"$f":"IF(DZ58=Saisies!$C$7,MIN((ABS(Saisies!$E$4-ED57)),EG58),EG58)","v":""},{"$f":"IF(ISERROR((IF(DZ58>Saisies!$C$7,\"\",IF(ISERROR(IF(DZ58<Saisies!$B$7,\"\",EB58)*EH58),IF(DZ58<Saisies!$B$7,\"\",EB58),\"\")))*(IF(ISERROR(EI58+1),0,EI58))*EJ58*EK58*EL58),\"\",(IF(DZ58>Saisies!$C$7,\"\",IF(ISERROR(IF(DZ58<Saisies!$B$7,\"\",EB58)*EH58),IF(DZ58<Saisies!$B$7,\"\",EB58),\"\")))*(IF(ISERROR(EI58+1),0,EI58))*EJ58*EK58*EL58)","v":""},"",1,{"$f":"IF(DZ58>Saisies!$C$25,1,(IF(DZ58<Saisies!$B$25,1,IF(Saisies!$B$25=0,1,0))))","v":1},{"$f":"IF(DZ58>Saisies!$E$25,1,(IF(DZ58<Saisies!$D$25,1,IF(Saisies!$D$25=0,1,0))))","v":1},{"$f":"IF(DZ58>Saisies!$G$25,1,(IF(DZ58<Saisies!$F$25,1,IF(Saisies!$F$25<10,1,0))))","v":1},{"$f":"IF(DZ58>Saisies!$C$10,\"\",(IF(DZ58<Saisies!$B$10,\"\",EC58)))","v":""},{"$f":"IF(DZ58>Saisies!$E$10,\"\",(IF(DZ58<Saisies!$D$10,\"\",EC58)))","v":""},{"$f":"IF(DZ58>Saisies!$G$10,\"\",(IF(DZ58<Saisies!$F$10,\"\",EC58)))","v":""},"2017-10-07","S",0,0,492,{"$f":"IF(ET58>=Saisies!$E$4,(IF(EU57<=Saisies!$E$4,EP58,EU57)),0)","v":42622},{"$f":"IF(EP58=Saisies!$C$7,MIN((ABS(Saisies!$E$4-ET57)),EW58),EW58)","v":""},{"$f":"IF(ISERROR((IF(EP58>Saisies!$C$7,\"\",IF(ISERROR(IF(EP58<Saisies!$B$7,\"\",ER58)*EX58),IF(EP58<Saisies!$B$7,\"\",ER58),\"\")))*(IF(ISERROR(EY58+1),0,EY58))*EZ58*FA58*FB58),\"\",(IF(EP58>Saisies!$C$7,\"\",IF(ISERROR(IF(EP58<Saisies!$B$7,\"\",ER58)*EX58),IF(EP58<Saisies!$B$7,\"\",ER58),\"\")))*(IF(ISERROR(EY58+1),0,EY58))*EZ58*FA58*FB58)","v":""},"",1,{"$f":"IF(EP58>Saisies!$C$25,1,(IF(EP58<Saisies!$B$25,1,IF(Saisies!$B$25=0,1,0))))","v":1},{"$f":"IF(EP58>Saisies!$E$25,1,(IF(EP58<Saisies!$D$25,1,IF(Saisies!$D$25=0,1,0))))","v":1},{"$f":"IF(EP58>Saisies!$G$25,1,(IF(EP58<Saisies!$F$25,1,IF(Saisies!$F$25<10,1,0))))","v":1},{"$f":"IF(EP58>Saisies!$C$10,\"\",(IF(EP58<Saisies!$B$10,\"\",ES58)))","v":""},{"$f":"IF(EP58>Saisies!$E$10,\"\",(IF(EP58<Saisies!$D$10,\"\",ES58)))","v":""},{"$f":"IF(EP58>Saisies!$G$10,\"\",(IF(EP58<Saisies!$F$10,\"\",ES58)))","v":""},"2017-11-07","M",8,7,492,{"$f":"IF(FJ58>=Saisies!$E$4,(IF(FK57<=Saisies!$E$4,FF58,FK57)),0)","v":42622},{"$f":"IF(FF58=Saisies!$C$7,MIN((ABS(Saisies!$E$4-FJ57)),FM58),FM58)","v":""},{"$f":"IF(ISERROR((IF(FF58>Saisies!$C$7,\"\",IF(ISERROR(IF(FF58<Saisies!$B$7,\"\",FH58)*FN58),IF(FF58<Saisies!$B$7,\"\",FH58),\"\")))*(IF(ISERROR(FO58+1),0,FO58))*FP58*FQ58*FR58),\"\",(IF(FF58>Saisies!$C$7,\"\",IF(ISERROR(IF(FF58<Saisies!$B$7,\"\",FH58)*FN58),IF(FF58<Saisies!$B$7,\"\",FH58),\"\")))*(IF(ISERROR(FO58+1),0,FO58))*FP58*FQ58*FR58)","v":""},"",1,{"$f":"IF(FF58>Saisies!$C$25,1,(IF(FF58<Saisies!$B$25,1,IF(Saisies!$B$25=0,1,0))))","v":1},{"$f":"IF(FF58>Saisies!$E$25,1,(IF(FF58<Saisies!$D$25,1,IF(Saisies!$D$25=0,1,0))))","v":1},{"$f":"IF(FF58>Saisies!$G$25,1,(IF(FF58<Saisies!$F$25,1,IF(Saisies!$F$25<10,1,0))))","v":1},{"$f":"IF(FF58>Saisies!$C$10,\"\",(IF(FF58<Saisies!$B$10,\"\",FI58)))","v":""},{"$f":"IF(FF58>Saisies!$E$10,\"\",(IF(FF58<Saisies!$D$10,\"\",FI58)))","v":""},{"$f":"IF(FF58>Saisies!$G$10,\"\",(IF(FF58<Saisies!$F$10,\"\",FI58)))","v":""},"2017-12-07","J",8,7,492,{"$f":"IF(FZ58>=Saisies!$E$4,(IF(GA57<=Saisies!$E$4,FV58,GA57)),0)","v":42622},{"$f":"IF(FV58=Saisies!$C$7,MIN((ABS(Saisies!$E$4-FZ57)),GC58),GC58)","v":""},{"$f":"IF(ISERROR((IF(FV58>Saisies!$C$7,\"\",IF(ISERROR(IF(FV58<Saisies!$B$7,\"\",FX58)*GD58),IF(FV58<Saisies!$B$7,\"\",FX58),\"\")))*(IF(ISERROR(GE58+1),0,GE58))*GF58*GG58*GH58),\"\",(IF(FV58>Saisies!$C$7,\"\",IF(ISERROR(IF(FV58<Saisies!$B$7,\"\",FX58)*GD58),IF(FV58<Saisies!$B$7,\"\",FX58),\"\")))*(IF(ISERROR(GE58+1),0,GE58))*GF58*GG58*GH58)","v":""},"",1,{"$f":"IF(FV58>Saisies!$C$25,1,(IF(FV58<Saisies!$B$25,1,IF(Saisies!$B$25=0,1,0))))","v":1},{"$f":"IF(FV58>Saisies!$E$25,1,(IF(FV58<Saisies!$D$25,1,IF(Saisies!$D$25=0,1,0))))","v":1},{"$f":"IF(FV58>Saisies!$G$25,1,(IF(FV58<Saisies!$F$25,1,IF(Saisies!$F$25<10,1,0))))","v":1},{"$f":"IF(FV58>Saisies!$C$10,\"\",(IF(FV58<Saisies!$B$10,\"\",FY58)))","v":""},{"$f":"IF(FV58>Saisies!$E$10,\"\",(IF(FV58<Saisies!$D$10,\"\",FY58)))","v":""},{"$f":"IF(FV58>Saisies!$G$10,\"\",(IF(FV58<Saisies!$F$10,\"\",FY58)))","v":""}]
[null,"2017-01-08","D",0,0,492,{"$f":"IF(F59>=Saisies!$E$4,(IF(G58<=Saisies!$E$4,B59,G58)),0)","v":42622},{"$f":"IF(B59=Saisies!$C$7,MIN((ABS(Saisies!$E$4-F58)),I59),I59)","v":""},{"$f":"IF(ISERROR((IF(B59>Saisies!$C$7,\"\",IF(ISERROR(IF(B59<Saisies!$B$7,\"\",D59)*J59),IF(B59<Saisies!$B$7,\"\",D59),\"\")))*(IF(ISERROR(K59+1),0,K59))*L59*M59*N59),\"\",(IF(B59>Saisies!$C$7,\"\",IF(ISERROR(IF(B59<Saisies!$B$7,\"\",D59)*J59),IF(B59<Saisies!$B$7,\"\",D59),\"\")))*(IF(ISERROR(K59+1),0,K59))*L59*M59*N59)","v":""},"",1,{"$f":"IF(B59>Saisies!$C$25,1,(IF(B59<Saisies!$B$25,1,IF(Saisies!$B$25=0,1,0))))","v":1},{"$f":"IF(B59>Saisies!$E$25,1,(IF(B59<Saisies!$D$25,1,IF(Saisies!$D$25=0,1,0))))","v":1},{"$f":"IF(B59>Saisies!$G$25,1,(IF(B59<Saisies!$F$25,1,IF(Saisies!$F$25<10,1,0))))","v":1},{"$f":"IF(B59>Saisies!$C$10,\"\",(IF(B59<Saisies!$B$10,\"\",E59)))","v":""},{"$f":"IF(B59>Saisies!$E$10,\"\",(IF(B59<Saisies!$D$10,\"\",E59)))","v":""},{"$f":"IF(B59>Saisies!$G$10,\"\",(IF(B59<Saisies!$F$10,\"\",E59)))","v":""},"2017-02-08","M",8,7,492,{"$f":"IF(V59>=Saisies!$E$4,(IF(W58<=Saisies!$E$4,R59,W58)),0)","v":42622},{"$f":"IF(R59=Saisies!$C$7,MIN((ABS(Saisies!$E$4-V58)),Y59),Y59)","v":""},{"$f":"IF(ISERROR((IF(R59>Saisies!$C$7,\"\",IF(ISERROR(IF(R59<Saisies!$B$7,\"\",T59)*Z59),IF(R59<Saisies!$B$7,\"\",T59),\"\")))*(IF(ISERROR(AA59+1),0,AA59))*AB59*AC59*AD59),\"\",(IF(R59>Saisies!$C$7,\"\",IF(ISERROR(IF(R59<Saisies!$B$7,\"\",T59)*Z59),IF(R59<Saisies!$B$7,\"\",T59),\"\")))*(IF(ISERROR(AA59+1),0,AA59))*AB59*AC59*AD59)","v":""},"",1,{"$f":"IF(R59>Saisies!$C$25,1,(IF(R59<Saisies!$B$25,1,IF(Saisies!$B$25=0,1,0))))","v":1},{"$f":"IF(R59>Saisies!$E$25,1,(IF(R59<Saisies!$D$25,1,IF(Saisies!$D$25=0,1,0))))","v":1},{"$f":"IF(R59>Saisies!$G$25,1,(IF(R59<Saisies!$F$25,1,IF(Saisies!$F$25<10,1,0))))","v":1},{"$f":"IF(R59>Saisies!$C$10,\"\",(IF(R59<Saisies!$B$10,\"\",U59)))","v":""},{"$f":"IF(R59>Saisies!$E$10,\"\",(IF(R59<Saisies!$D$10,\"\",U59)))","v":""},{"$f":"IF(R59>Saisies!$G$10,\"\",(IF(R59<Saisies!$F$10,\"\",U59)))","v":""},"2017-03-08","M",8,7,492,{"$f":"IF(AL59>=Saisies!$E$4,(IF(AM58<=Saisies!$E$4,AH59,AM58)),0)","v":42622},{"$f":"IF(AH59=Saisies!$C$7,MIN((ABS(Saisies!$E$4-AL58)),AO59),AO59)","v":""},{"$f":"IF(ISERROR((IF(AH59>Saisies!$C$7,\"\",IF(ISERROR(IF(AH59<Saisies!$B$7,\"\",AJ59)*AP59),IF(AH59<Saisies!$B$7,\"\",AJ59),\"\")))*(IF(ISERROR(AQ59+1),0,AQ59))*AR59*AS59*AT59),\"\",(IF(AH59>Saisies!$C$7,\"\",IF(ISERROR(IF(AH59<Saisies!$B$7,\"\",AJ59)*AP59),IF(AH59<Saisies!$B$7,\"\",AJ59),\"\")))*(IF(ISERROR(AQ59+1),0,AQ59))*AR59*AS59*AT59)","v":""},"",1,{"$f":"IF(AH59>Saisies!$C$25,1,(IF(AH59<Saisies!$B$25,1,IF(Saisies!$B$25=0,1,0))))","v":1},{"$f":"IF(AH59>Saisies!$E$25,1,(IF(AH59<Saisies!$D$25,1,IF(Saisies!$D$25=0,1,0))))","v":1},{"$f":"IF(AH59>Saisies!$G$25,1,(IF(AH59<Saisies!$F$25,1,IF(Saisies!$F$25<10,1,0))))","v":1},{"$f":"IF(AH59>Saisies!$C$10,\"\",(IF(AH59<Saisies!$B$10,\"\",AK59)))","v":""},{"$f":"IF(AH59>Saisies!$E$10,\"\",(IF(AH59<Saisies!$D$10,\"\",AK59)))","v":""},{"$f":"IF(AH59>Saisies!$G$10,\"\",(IF(AH59<Saisies!$F$10,\"\",AK59)))","v":""},"2017-04-08","S",0,0,492,{"$f":"IF(BB59>=Saisies!$E$4,(IF(BC58<=Saisies!$E$4,AX59,BC58)),0)","v":42622},{"$f":"IF(AX59=Saisies!$C$7,MIN((ABS(Saisies!$E$4-BB58)),BE59),BE59)","v":""},{"$f":"IF(ISERROR((IF(AX59>Saisies!$C$7,\"\",IF(ISERROR(IF(AX59<Saisies!$B$7,\"\",AZ59)*BF59),IF(AX59<Saisies!$B$7,\"\",AZ59),\"\")))*(IF(ISERROR(BG59+1),0,BG59))*BH59*BI59*BJ59),\"\",(IF(AX59>Saisies!$C$7,\"\",IF(ISERROR(IF(AX59<Saisies!$B$7,\"\",AZ59)*BF59),IF(AX59<Saisies!$B$7,\"\",AZ59),\"\")))*(IF(ISERROR(BG59+1),0,BG59))*BH59*BI59*BJ59)","v":""},"",1,{"$f":"IF(AX59>Saisies!$C$25,1,(IF(AX59<Saisies!$B$25,1,IF(Saisies!$B$25=0,1,0))))","v":1},{"$f":"IF(AX59>Saisies!$E$25,1,(IF(AX59<Saisies!$D$25,1,IF(Saisies!$D$25=0,1,0))))","v":1},{"$f":"IF(AX59>Saisies!$G$25,1,(IF(AX59<Saisies!$F$25,1,IF(Saisies!$F$25<10,1,0))))","v":1},{"$f":"IF(AX59>Saisies!$C$10,\"\",(IF(AX59<Saisies!$B$10,\"\",BA59)))","v":""},{"$f":"IF(AX59>Saisies!$E$10,\"\",(IF(AX59<Saisies!$D$10,\"\",BA59)))","v":""},{"$f":"IF(AX59>Saisies!$G$10,\"\",(IF(AX59<Saisies!$F$10,\"\",BA59)))","v":""},"2017-05-08","L",7,7,492,{"$f":"IF(BR59>=Saisies!$E$4,(IF(BS58<=Saisies!$E$4,BN59,BS58)),0)","v":42622},{"$f":"IF(BN59=Saisies!$C$7,MIN((ABS(Saisies!$E$4-BR58)),BU59),BU59)","v":""},{"$f":"IF(ISERROR((IF(BN59>Saisies!$C$7,\"\",IF(ISERROR(IF(BN59<Saisies!$B$7,\"\",BP59)*BV59),IF(BN59<Saisies!$B$7,\"\",BP59),\"\")))*BW59*BX59*BY59*BZ59),\"\",(IF(BN59>Saisies!$C$7,\"\",IF(ISERROR(IF(BN59<Saisies!$B$7,\"\",BP59)*BV59),IF(BN59<Saisies!$B$7,\"\",BP59),\"\")))*BW59*BX59*BY59*BZ59)","v":""},{"$f":"IF((SUM(CA59:CC59)*BW59*BX59*BY59*BZ59)=0,\"\",SUM(CA59:CC59))","v":""},0,{"$f":"IF(BN59>Saisies!$C$25,1,(IF(BN59<Saisies!$B$25,1,IF(Saisies!$B$25=0,1,0))))","v":1},{"$f":"IF(BN59>Saisies!$E$25,1,(IF(BN59<Saisies!$D$25,1,IF(Saisies!$D$25=0,1,0))))","v":1},{"$f":"IF(BN59>Saisies!$G$25,1,(IF(BN59<Saisies!$F$25,1,IF(Saisies!$F$25<10,1,0))))","v":1},{"$f":"IF(BN59>Saisies!$C$10,\"\",(IF(BN59<Saisies!$B$10,\"\",BQ59)))","v":""},{"$f":"IF(BN59>Saisies!$E$10,\"\",(IF(BN59<Saisies!$D$10,\"\",BQ59)))","v":""},{"$f":"IF(BN59>Saisies!$G$10,\"\",(IF(BN59<Saisies!$F$10,\"\",BQ59)))","v":""},"2017-06-08","J",8,7,492,{"$f":"IF(CH59>=Saisies!$E$4,(IF(CI58<=Saisies!$E$4,CD59,CI58)),0)","v":42622},{"$f":"IF(CD59=Saisies!$C$7,MIN((ABS(Saisies!$E$4-CH58)),CK59),CK59)","v":""},{"$f":"IF(ISERROR((IF(CD59>Saisies!$C$7,\"\",IF(ISERROR(IF(CD59<Saisies!$B$7,\"\",CF59)*CL59),IF(CD59<Saisies!$B$7,\"\",CF59),\"\")))*(IF(ISERROR(CM59+1),0,CM59))*CN59*CO59*CP59),\"\",(IF(CD59>Saisies!$C$7,\"\",IF(ISERROR(IF(CD59<Saisies!$B$7,\"\",CF59)*CL59),IF(CD59<Saisies!$B$7,\"\",CF59),\"\")))*(IF(ISERROR(CM59+1),0,CM59))*CN59*CO59*CP59)","v":""},"",1,{"$f":"IF(CD59>Saisies!$C$25,1,(IF(CD59<Saisies!$B$25,1,IF(Saisies!$B$25=0,1,0))))","v":1},{"$f":"IF(CD59>Saisies!$E$25,1,(IF(CD59<Saisies!$D$25,1,IF(Saisies!$D$25=0,1,0))))","v":1},{"$f":"IF(CD59>Saisies!$G$25,1,(IF(CD59<Saisies!$F$25,1,IF(Saisies!$F$25<10,1,0))))","v":1},{"$f":"IF(CD59>Saisies!$C$10,\"\",(IF(CD59<Saisies!$B$10,\"\",CG59)))","v":""},{"$f":"IF(CD59>Saisies!$E$10,\"\",(IF(CD59<Saisies!$D$10,\"\",CG59)))","v":""},{"$f":"IF(CD59>Saisies!$G$10,\"\",(IF(CD59<Saisies!$F$10,\"\",CG59)))","v":""},"2017-07-08","S",0,0,492,{"$f":"IF(CX59>=Saisies!$E$4,(IF(CY58<=Saisies!$E$4,CT59,CY58)),0)","v":42622},{"$f":"IF(CT59=Saisies!$C$7,MIN((ABS(Saisies!$E$4-CX58)),DA59),DA59)","v":""},{"$f":"IF(ISERROR((IF(CT59>Saisies!$C$7,\"\",IF(ISERROR(IF(CT59<Saisies!$B$7,\"\",CV59)*DB59),IF(CT59<Saisies!$B$7,\"\",CV59),\"\")))*(IF(ISERROR(DC59+1),0,DC59))*DD59*DE59*DF59),\"\",(IF(CT59>Saisies!$C$7,\"\",IF(ISERROR(IF(CT59<Saisies!$B$7,\"\",CV59)*DB59),IF(CT59<Saisies!$B$7,\"\",CV59),\"\")))*(IF(ISERROR(DC59+1),0,DC59))*DD59*DE59*DF59)","v":""},"",1,{"$f":"IF(CT59>Saisies!$C$25,1,(IF(CT59<Saisies!$B$25,1,IF(Saisies!$B$25=0,1,0))))","v":1},{"$f":"IF(CT59>Saisies!$E$25,1,(IF(CT59<Saisies!$D$25,1,IF(Saisies!$D$25=0,1,0))))","v":1},{"$f":"IF(CT59>Saisies!$G$25,1,(IF(CT59<Saisies!$F$25,1,IF(Saisies!$F$25<10,1,0))))","v":1},{"$f":"IF(CT59>Saisies!$C$10,\"\",(IF(CT59<Saisies!$B$10,\"\",CW59)))","v":""},{"$f":"IF(CT59>Saisies!$E$10,\"\",(IF(CT59<Saisies!$D$10,\"\",CW59)))","v":""},{"$f":"IF(CT59>Saisies!$G$10,\"\",(IF(CT59<Saisies!$F$10,\"\",CW59)))","v":""},"2017-08-08","M",8,7,492,{"$f":"IF(DN59>=Saisies!$E$4,(IF(DO58<=Saisies!$E$4,DJ59,DO58)),0)","v":42622},{"$f":"IF(DJ59=Saisies!$C$7,MIN((ABS(Saisies!$E$4-DN58)),DQ59),DQ59)","v":""},{"$f":"IF(ISERROR((IF(DJ59>Saisies!$C$7,\"\",IF(ISERROR(IF(DJ59<Saisies!$B$7,\"\",DL59)*DR59),IF(DJ59<Saisies!$B$7,\"\",DL59),\"\")))*(IF(ISERROR(DS59+1),0,DS59))*DT59*DU59*DV59),\"\",(IF(DJ59>Saisies!$C$7,\"\",IF(ISERROR(IF(DJ59<Saisies!$B$7,\"\",DL59)*DR59),IF(DJ59<Saisies!$B$7,\"\",DL59),\"\")))*(IF(ISERROR(DS59+1),0,DS59))*DT59*DU59*DV59)","v":""},"",1,{"$f":"IF(DJ59>Saisies!$C$25,1,(IF(DJ59<Saisies!$B$25,1,IF(Saisies!$B$25=0,1,0))))","v":1},{"$f":"IF(DJ59>Saisies!$E$25,1,(IF(DJ59<Saisies!$D$25,1,IF(Saisies!$D$25=0,1,0))))","v":1},{"$f":"IF(DJ59>Saisies!$G$25,1,(IF(DJ59<Saisies!$F$25,1,IF(Saisies!$F$25<10,1,0))))","v":1},{"$f":"IF(DJ59>Saisies!$C$10,\"\",(IF(DJ59<Saisies!$B$10,\"\",DM59)))","v":""},{"$f":"IF(DJ59>Saisies!$E$10,\"\",(IF(DJ59<Saisies!$D$10,\"\",DM59)))","v":""},{"$f":"IF(DJ59>Saisies!$G$10,\"\",(IF(DJ59<Saisies!$F$10,\"\",DM59)))","v":""},"2017-09-08","V",4,7,492,{"$f":"IF(ED59>=Saisies!$E$4,(IF(EE58<=Saisies!$E$4,DZ59,EE58)),0)","v":42622},{"$f":"IF(DZ59=Saisies!$C$7,MIN((ABS(Saisies!$E$4-ED58)),EG59),EG59)","v":""},{"$f":"IF(ISERROR((IF(DZ59>Saisies!$C$7,\"\",IF(ISERROR(IF(DZ59<Saisies!$B$7,\"\",EB59)*EH59),IF(DZ59<Saisies!$B$7,\"\",EB59),\"\")))*(IF(ISERROR(EI59+1),0,EI59))*EJ59*EK59*EL59),\"\",(IF(DZ59>Saisies!$C$7,\"\",IF(ISERROR(IF(DZ59<Saisies!$B$7,\"\",EB59)*EH59),IF(DZ59<Saisies!$B$7,\"\",EB59),\"\")))*(IF(ISERROR(EI59+1),0,EI59))*EJ59*EK59*EL59)","v":""},"",1,{"$f":"IF(DZ59>Saisies!$C$25,1,(IF(DZ59<Saisies!$B$25,1,IF(Saisies!$B$25=0,1,0))))","v":1},{"$f":"IF(DZ59>Saisies!$E$25,1,(IF(DZ59<Saisies!$D$25,1,IF(Saisies!$D$25=0,1,0))))","v":1},{"$f":"IF(DZ59>Saisies!$G$25,1,(IF(DZ59<Saisies!$F$25,1,IF(Saisies!$F$25<10,1,0))))","v":1},{"$f":"IF(DZ59>Saisies!$C$10,\"\",(IF(DZ59<Saisies!$B$10,\"\",EC59)))","v":""},{"$f":"IF(DZ59>Saisies!$E$10,\"\",(IF(DZ59<Saisies!$D$10,\"\",EC59)))","v":""},{"$f":"IF(DZ59>Saisies!$G$10,\"\",(IF(DZ59<Saisies!$F$10,\"\",EC59)))","v":""},"2017-10-08","D",0,0,492,{"$f":"IF(ET59>=Saisies!$E$4,(IF(EU58<=Saisies!$E$4,EP59,EU58)),0)","v":42622},{"$f":"IF(EP59=Saisies!$C$7,MIN((ABS(Saisies!$E$4-ET58)),EW59),EW59)","v":""},{"$f":"IF(ISERROR((IF(EP59>Saisies!$C$7,\"\",IF(ISERROR(IF(EP59<Saisies!$B$7,\"\",ER59)*EX59),IF(EP59<Saisies!$B$7,\"\",ER59),\"\")))*(IF(ISERROR(EY59+1),0,EY59))*EZ59*FA59*FB59),\"\",(IF(EP59>Saisies!$C$7,\"\",IF(ISERROR(IF(EP59<Saisies!$B$7,\"\",ER59)*EX59),IF(EP59<Saisies!$B$7,\"\",ER59),\"\")))*(IF(ISERROR(EY59+1),0,EY59))*EZ59*FA59*FB59)","v":""},"",1,{"$f":"IF(EP59>Saisies!$C$25,1,(IF(EP59<Saisies!$B$25,1,IF(Saisies!$B$25=0,1,0))))","v":1},{"$f":"IF(EP59>Saisies!$E$25,1,(IF(EP59<Saisies!$D$25,1,IF(Saisies!$D$25=0,1,0))))","v":1},{"$f":"IF(EP59>Saisies!$G$25,1,(IF(EP59<Saisies!$F$25,1,IF(Saisies!$F$25<10,1,0))))","v":1},{"$f":"IF(EP59>Saisies!$C$10,\"\",(IF(EP59<Saisies!$B$10,\"\",ES59)))","v":""},{"$f":"IF(EP59>Saisies!$E$10,\"\",(IF(EP59<Saisies!$D$10,\"\",ES59)))","v":""},{"$f":"IF(EP59>Saisies!$G$10,\"\",(IF(EP59<Saisies!$F$10,\"\",ES59)))","v":""},"2017-11-08","M",8,7,492,{"$f":"IF(FJ59>=Saisies!$E$4,(IF(FK58<=Saisies!$E$4,FF59,FK58)),0)","v":42622},{"$f":"IF(FF59=Saisies!$C$7,MIN((ABS(Saisies!$E$4-FJ58)),FM59),FM59)","v":""},{"$f":"IF(ISERROR((IF(FF59>Saisies!$C$7,\"\",IF(ISERROR(IF(FF59<Saisies!$B$7,\"\",FH59)*FN59),IF(FF59<Saisies!$B$7,\"\",FH59),\"\")))*(IF(ISERROR(FO59+1),0,FO59))*FP59*FQ59*FR59),\"\",(IF(FF59>Saisies!$C$7,\"\",IF(ISERROR(IF(FF59<Saisies!$B$7,\"\",FH59)*FN59),IF(FF59<Saisies!$B$7,\"\",FH59),\"\")))*(IF(ISERROR(FO59+1),0,FO59))*FP59*FQ59*FR59)","v":""},"",1,{"$f":"IF(FF59>Saisies!$C$25,1,(IF(FF59<Saisies!$B$25,1,IF(Saisies!$B$25=0,1,0))))","v":1},{"$f":"IF(FF59>Saisies!$E$25,1,(IF(FF59<Saisies!$D$25,1,IF(Saisies!$D$25=0,1,0))))","v":1},{"$f":"IF(FF59>Saisies!$G$25,1,(IF(FF59<Saisies!$F$25,1,IF(Saisies!$F$25<10,1,0))))","v":1},{"$f":"IF(FF59>Saisies!$C$10,\"\",(IF(FF59<Saisies!$B$10,\"\",FI59)))","v":""},{"$f":"IF(FF59>Saisies!$E$10,\"\",(IF(FF59<Saisies!$D$10,\"\",FI59)))","v":""},{"$f":"IF(FF59>Saisies!$G$10,\"\",(IF(FF59<Saisies!$F$10,\"\",FI59)))","v":""},"2017-12-08","V",4,7,492,{"$f":"IF(FZ59>=Saisies!$E$4,(IF(GA58<=Saisies!$E$4,FV59,GA58)),0)","v":42622},{"$f":"IF(FV59=Saisies!$C$7,MIN((ABS(Saisies!$E$4-FZ58)),GC59),GC59)","v":""},{"$f":"IF(ISERROR((IF(FV59>Saisies!$C$7,\"\",IF(ISERROR(IF(FV59<Saisies!$B$7,\"\",FX59)*GD59),IF(FV59<Saisies!$B$7,\"\",FX59),\"\")))*(IF(ISERROR(GE59+1),0,GE59))*GF59*GG59*GH59),\"\",(IF(FV59>Saisies!$C$7,\"\",IF(ISERROR(IF(FV59<Saisies!$B$7,\"\",FX59)*GD59),IF(FV59<Saisies!$B$7,\"\",FX59),\"\")))*(IF(ISERROR(GE59+1),0,GE59))*GF59*GG59*GH59)","v":""},"",1,{"$f":"IF(FV59>Saisies!$C$25,1,(IF(FV59<Saisies!$B$25,1,IF(Saisies!$B$25=0,1,0))))","v":1},{"$f":"IF(FV59>Saisies!$E$25,1,(IF(FV59<Saisies!$D$25,1,IF(Saisies!$D$25=0,1,0))))","v":1},{"$f":"IF(FV59>Saisies!$G$25,1,(IF(FV59<Saisies!$F$25,1,IF(Saisies!$F$25<10,1,0))))","v":1},{"$f":"IF(FV59>Saisies!$C$10,\"\",(IF(FV59<Saisies!$B$10,\"\",FY59)))","v":""},{"$f":"IF(FV59>Saisies!$E$10,\"\",(IF(FV59<Saisies!$D$10,\"\",FY59)))","v":""},{"$f":"IF(FV59>Saisies!$G$10,\"\",(IF(FV59<Saisies!$F$10,\"\",FY59)))","v":""}]
[null,"2017-01-09","L",7,7,492,{"$f":"IF(F60>=Saisies!$E$4,(IF(G59<=Saisies!$E$4,B60,G59)),0)","v":42622},{"$f":"IF(B60=Saisies!$C$7,MIN((ABS(Saisies!$E$4-F59)),I60),I60)","v":""},{"$f":"IF(ISERROR((IF(B60>Saisies!$C$7,\"\",IF(ISERROR(IF(B60<Saisies!$B$7,\"\",D60)*J60),IF(B60<Saisies!$B$7,\"\",D60),\"\")))*(IF(ISERROR(K60+1),0,K60))*L60*M60*N60),\"\",(IF(B60>Saisies!$C$7,\"\",IF(ISERROR(IF(B60<Saisies!$B$7,\"\",D60)*J60),IF(B60<Saisies!$B$7,\"\",D60),\"\")))*(IF(ISERROR(K60+1),0,K60))*L60*M60*N60)","v":""},"",1,{"$f":"IF(B60>Saisies!$C$25,1,(IF(B60<Saisies!$B$25,1,IF(Saisies!$B$25=0,1,0))))","v":1},{"$f":"IF(B60>Saisies!$E$25,1,(IF(B60<Saisies!$D$25,1,IF(Saisies!$D$25=0,1,0))))","v":1},{"$f":"IF(B60>Saisies!$G$25,1,(IF(B60<Saisies!$F$25,1,IF(Saisies!$F$25<10,1,0))))","v":1},{"$f":"IF(B60>Saisies!$C$10,\"\",(IF(B60<Saisies!$B$10,\"\",E60)))","v":""},{"$f":"IF(B60>Saisies!$E$10,\"\",(IF(B60<Saisies!$D$10,\"\",E60)))","v":""},{"$f":"IF(B60>Saisies!$G$10,\"\",(IF(B60<Saisies!$F$10,\"\",E60)))","v":""},"2017-02-09","J",8,7,492,{"$f":"IF(V60>=Saisies!$E$4,(IF(W59<=Saisies!$E$4,R60,W59)),0)","v":42622},{"$f":"IF(R60=Saisies!$C$7,MIN((ABS(Saisies!$E$4-V59)),Y60),Y60)","v":""},{"$f":"IF(ISERROR((IF(R60>Saisies!$C$7,\"\",IF(ISERROR(IF(R60<Saisies!$B$7,\"\",T60)*Z60),IF(R60<Saisies!$B$7,\"\",T60),\"\")))*(IF(ISERROR(AA60+1),0,AA60))*AB60*AC60*AD60),\"\",(IF(R60>Saisies!$C$7,\"\",IF(ISERROR(IF(R60<Saisies!$B$7,\"\",T60)*Z60),IF(R60<Saisies!$B$7,\"\",T60),\"\")))*(IF(ISERROR(AA60+1),0,AA60))*AB60*AC60*AD60)","v":""},"",1,{"$f":"IF(R60>Saisies!$C$25,1,(IF(R60<Saisies!$B$25,1,IF(Saisies!$B$25=0,1,0))))","v":1},{"$f":"IF(R60>Saisies!$E$25,1,(IF(R60<Saisies!$D$25,1,IF(Saisies!$D$25=0,1,0))))","v":1},{"$f":"IF(R60>Saisies!$G$25,1,(IF(R60<Saisies!$F$25,1,IF(Saisies!$F$25<10,1,0))))","v":1},{"$f":"IF(R60>Saisies!$C$10,\"\",(IF(R60<Saisies!$B$10,\"\",U60)))","v":""},{"$f":"IF(R60>Saisies!$E$10,\"\",(IF(R60<Saisies!$D$10,\"\",U60)))","v":""},{"$f":"IF(R60>Saisies!$G$10,\"\",(IF(R60<Saisies!$F$10,\"\",U60)))","v":""},"2017-03-09","J",8,7,492,{"$f":"IF(AL60>=Saisies!$E$4,(IF(AM59<=Saisies!$E$4,AH60,AM59)),0)","v":42622},{"$f":"IF(AH60=Saisies!$C$7,MIN((ABS(Saisies!$E$4-AL59)),AO60),AO60)","v":""},{"$f":"IF(ISERROR((IF(AH60>Saisies!$C$7,\"\",IF(ISERROR(IF(AH60<Saisies!$B$7,\"\",AJ60)*AP60),IF(AH60<Saisies!$B$7,\"\",AJ60),\"\")))*(IF(ISERROR(AQ60+1),0,AQ60))*AR60*AS60*AT60),\"\",(IF(AH60>Saisies!$C$7,\"\",IF(ISERROR(IF(AH60<Saisies!$B$7,\"\",AJ60)*AP60),IF(AH60<Saisies!$B$7,\"\",AJ60),\"\")))*(IF(ISERROR(AQ60+1),0,AQ60))*AR60*AS60*AT60)","v":""},"",1,{"$f":"IF(AH60>Saisies!$C$25,1,(IF(AH60<Saisies!$B$25,1,IF(Saisies!$B$25=0,1,0))))","v":1},{"$f":"IF(AH60>Saisies!$E$25,1,(IF(AH60<Saisies!$D$25,1,IF(Saisies!$D$25=0,1,0))))","v":1},{"$f":"IF(AH60>Saisies!$G$25,1,(IF(AH60<Saisies!$F$25,1,IF(Saisies!$F$25<10,1,0))))","v":1},{"$f":"IF(AH60>Saisies!$C$10,\"\",(IF(AH60<Saisies!$B$10,\"\",AK60)))","v":""},{"$f":"IF(AH60>Saisies!$E$10,\"\",(IF(AH60<Saisies!$D$10,\"\",AK60)))","v":""},{"$f":"IF(AH60>Saisies!$G$10,\"\",(IF(AH60<Saisies!$F$10,\"\",AK60)))","v":""},"2017-04-09","D",0,0,492,{"$f":"IF(BB60>=Saisies!$E$4,(IF(BC59<=Saisies!$E$4,AX60,BC59)),0)","v":42622},{"$f":"IF(AX60=Saisies!$C$7,MIN((ABS(Saisies!$E$4-BB59)),BE60),BE60)","v":""},{"$f":"IF(ISERROR((IF(AX60>Saisies!$C$7,\"\",IF(ISERROR(IF(AX60<Saisies!$B$7,\"\",AZ60)*BF60),IF(AX60<Saisies!$B$7,\"\",AZ60),\"\")))*(IF(ISERROR(BG60+1),0,BG60))*BH60*BI60*BJ60),\"\",(IF(AX60>Saisies!$C$7,\"\",IF(ISERROR(IF(AX60<Saisies!$B$7,\"\",AZ60)*BF60),IF(AX60<Saisies!$B$7,\"\",AZ60),\"\")))*(IF(ISERROR(BG60+1),0,BG60))*BH60*BI60*BJ60)","v":""},"",1,{"$f":"IF(AX60>Saisies!$C$25,1,(IF(AX60<Saisies!$B$25,1,IF(Saisies!$B$25=0,1,0))))","v":1},{"$f":"IF(AX60>Saisies!$E$25,1,(IF(AX60<Saisies!$D$25,1,IF(Saisies!$D$25=0,1,0))))","v":1},{"$f":"IF(AX60>Saisies!$G$25,1,(IF(AX60<Saisies!$F$25,1,IF(Saisies!$F$25<10,1,0))))","v":1},{"$f":"IF(AX60>Saisies!$C$10,\"\",(IF(AX60<Saisies!$B$10,\"\",BA60)))","v":""},{"$f":"IF(AX60>Saisies!$E$10,\"\",(IF(AX60<Saisies!$D$10,\"\",BA60)))","v":""},{"$f":"IF(AX60>Saisies!$G$10,\"\",(IF(AX60<Saisies!$F$10,\"\",BA60)))","v":""},"2017-05-09","M",8,7,492,{"$f":"IF(BR60>=Saisies!$E$4,(IF(BS59<=Saisies!$E$4,BN60,BS59)),0)","v":42622},{"$f":"IF(BN60=Saisies!$C$7,MIN((ABS(Saisies!$E$4-BR59)),BU60),BU60)","v":""},{"$f":"IF(ISERROR((IF(BN60>Saisies!$C$7,\"\",IF(ISERROR(IF(BN60<Saisies!$B$7,\"\",BP60)*BV60),IF(BN60<Saisies!$B$7,\"\",BP60),\"\")))*(IF(ISERROR(BW60+1),0,BW60))*BX60*BY60*BZ60),\"\",(IF(BN60>Saisies!$C$7,\"\",IF(ISERROR(IF(BN60<Saisies!$B$7,\"\",BP60)*BV60),IF(BN60<Saisies!$B$7,\"\",BP60),\"\")))*(IF(ISERROR(BW60+1),0,BW60))*BX60*BY60*BZ60)","v":""},{"$f":"IF((SUM(CA60:CC60)*(IF(ISERROR(BW60+1),0,BW60))*BX60*BY60*BZ60)=0,\"\",SUM(CA60:CC60))","v":""},{"$f":"IF(ISERROR(IF(IF(ISERROR(VLOOKUP(BN60,Champs,2,FALSE)),1,0)=0,LOOKUP(BN60,general),1)),0,(IF(IF(ISERROR(VLOOKUP(BN60,Champs,2,FALSE)),1,0)=0,LOOKUP(BN60,general),1)))","v":1},{"$f":"IF(BN60>Saisies!$C$25,1,(IF(BN60<Saisies!$B$25,1,IF(Saisies!$B$25=0,1,0))))","v":1},{"$f":"IF(BN60>Saisies!$E$25,1,(IF(BN60<Saisies!$D$25,1,IF(Saisies!$D$25=0,1,0))))","v":1},{"$f":"IF(BN60>Saisies!$G$25,1,(IF(BN60<Saisies!$F$25,1,IF(Saisies!$F$25<10,1,0))))","v":1},{"$f":"IF(BN60>Saisies!$C$10,\"\",(IF(BN60<Saisies!$B$10,\"\",BQ60)))","v":""},{"$f":"IF(BN60>Saisies!$E$10,\"\",(IF(BN60<Saisies!$D$10,\"\",BQ60)))","v":""},{"$f":"IF(BN60>Saisies!$G$10,\"\",(IF(BN60<Saisies!$F$10,\"\",BQ60)))","v":""},"2017-06-09","V",4,7,492,{"$f":"IF(CH60>=Saisies!$E$4,(IF(CI59<=Saisies!$E$4,CD60,CI59)),0)","v":42622},{"$f":"IF(CD60=Saisies!$C$7,MIN((ABS(Saisies!$E$4-CH59)),CK60),CK60)","v":""},{"$f":"IF(ISERROR((IF(CD60>Saisies!$C$7,\"\",IF(ISERROR(IF(CD60<Saisies!$B$7,\"\",CF60)*CL60),IF(CD60<Saisies!$B$7,\"\",CF60),\"\")))*(IF(ISERROR(CM60+1),0,CM60))*CN60*CO60*CP60),\"\",(IF(CD60>Saisies!$C$7,\"\",IF(ISERROR(IF(CD60<Saisies!$B$7,\"\",CF60)*CL60),IF(CD60<Saisies!$B$7,\"\",CF60),\"\")))*(IF(ISERROR(CM60+1),0,CM60))*CN60*CO60*CP60)","v":""},"",1,{"$f":"IF(CD60>Saisies!$C$25,1,(IF(CD60<Saisies!$B$25,1,IF(Saisies!$B$25=0,1,0))))","v":1},{"$f":"IF(CD60>Saisies!$E$25,1,(IF(CD60<Saisies!$D$25,1,IF(Saisies!$D$25=0,1,0))))","v":1},{"$f":"IF(CD60>Saisies!$G$25,1,(IF(CD60<Saisies!$F$25,1,IF(Saisies!$F$25<10,1,0))))","v":1},{"$f":"IF(CD60>Saisies!$C$10,\"\",(IF(CD60<Saisies!$B$10,\"\",CG60)))","v":""},{"$f":"IF(CD60>Saisies!$E$10,\"\",(IF(CD60<Saisies!$D$10,\"\",CG60)))","v":""},{"$f":"IF(CD60>Saisies!$G$10,\"\",(IF(CD60<Saisies!$F$10,\"\",CG60)))","v":""},"2017-07-09","D",0,0,492,{"$f":"IF(CX60>=Saisies!$E$4,(IF(CY59<=Saisies!$E$4,CT60,CY59)),0)","v":42622},{"$f":"IF(CT60=Saisies!$C$7,MIN((ABS(Saisies!$E$4-CX59)),DA60),DA60)","v":""},{"$f":"IF(ISERROR((IF(CT60>Saisies!$C$7,\"\",IF(ISERROR(IF(CT60<Saisies!$B$7,\"\",CV60)*DB60),IF(CT60<Saisies!$B$7,\"\",CV60),\"\")))*(IF(ISERROR(DC60+1),0,DC60))*DD60*DE60*DF60),\"\",(IF(CT60>Saisies!$C$7,\"\",IF(ISERROR(IF(CT60<Saisies!$B$7,\"\",CV60)*DB60),IF(CT60<Saisies!$B$7,\"\",CV60),\"\")))*(IF(ISERROR(DC60+1),0,DC60))*DD60*DE60*DF60)","v":""},"",1,{"$f":"IF(CT60>Saisies!$C$25,1,(IF(CT60<Saisies!$B$25,1,IF(Saisies!$B$25=0,1,0))))","v":1},{"$f":"IF(CT60>Saisies!$E$25,1,(IF(CT60<Saisies!$D$25,1,IF(Saisies!$D$25=0,1,0))))","v":1},{"$f":"IF(CT60>Saisies!$G$25,1,(IF(CT60<Saisies!$F$25,1,IF(Saisies!$F$25<10,1,0))))","v":1},{"$f":"IF(CT60>Saisies!$C$10,\"\",(IF(CT60<Saisies!$B$10,\"\",CW60)))","v":""},{"$f":"IF(CT60>Saisies!$E$10,\"\",(IF(CT60<Saisies!$D$10,\"\",CW60)))","v":""},{"$f":"IF(CT60>Saisies!$G$10,\"\",(IF(CT60<Saisies!$F$10,\"\",CW60)))","v":""},"2017-08-09","M",8,7,492,{"$f":"IF(DN60>=Saisies!$E$4,(IF(DO59<=Saisies!$E$4,DJ60,DO59)),0)","v":42622},{"$f":"IF(DJ60=Saisies!$C$7,MIN((ABS(Saisies!$E$4-DN59)),DQ60),DQ60)","v":""},{"$f":"IF(ISERROR((IF(DJ60>Saisies!$C$7,\"\",IF(ISERROR(IF(DJ60<Saisies!$B$7,\"\",DL60)*DR60),IF(DJ60<Saisies!$B$7,\"\",DL60),\"\")))*(IF(ISERROR(DS60+1),0,DS60))*DT60*DU60*DV60),\"\",(IF(DJ60>Saisies!$C$7,\"\",IF(ISERROR(IF(DJ60<Saisies!$B$7,\"\",DL60)*DR60),IF(DJ60<Saisies!$B$7,\"\",DL60),\"\")))*(IF(ISERROR(DS60+1),0,DS60))*DT60*DU60*DV60)","v":""},"",1,{"$f":"IF(DJ60>Saisies!$C$25,1,(IF(DJ60<Saisies!$B$25,1,IF(Saisies!$B$25=0,1,0))))","v":1},{"$f":"IF(DJ60>Saisies!$E$25,1,(IF(DJ60<Saisies!$D$25,1,IF(Saisies!$D$25=0,1,0))))","v":1},{"$f":"IF(DJ60>Saisies!$G$25,1,(IF(DJ60<Saisies!$F$25,1,IF(Saisies!$F$25<10,1,0))))","v":1},{"$f":"IF(DJ60>Saisies!$C$10,\"\",(IF(DJ60<Saisies!$B$10,\"\",DM60)))","v":""},{"$f":"IF(DJ60>Saisies!$E$10,\"\",(IF(DJ60<Saisies!$D$10,\"\",DM60)))","v":""},{"$f":"IF(DJ60>Saisies!$G$10,\"\",(IF(DJ60<Saisies!$F$10,\"\",DM60)))","v":""},"2017-09-09","S",0,0,492,{"$f":"IF(ED60>=Saisies!$E$4,(IF(EE59<=Saisies!$E$4,DZ60,EE59)),0)","v":42622},{"$f":"IF(DZ60=Saisies!$C$7,MIN((ABS(Saisies!$E$4-ED59)),EG60),EG60)","v":""},{"$f":"IF(ISERROR((IF(DZ60>Saisies!$C$7,\"\",IF(ISERROR(IF(DZ60<Saisies!$B$7,\"\",EB60)*EH60),IF(DZ60<Saisies!$B$7,\"\",EB60),\"\")))*(IF(ISERROR(EI60+1),0,EI60))*EJ60*EK60*EL60),\"\",(IF(DZ60>Saisies!$C$7,\"\",IF(ISERROR(IF(DZ60<Saisies!$B$7,\"\",EB60)*EH60),IF(DZ60<Saisies!$B$7,\"\",EB60),\"\")))*(IF(ISERROR(EI60+1),0,EI60))*EJ60*EK60*EL60)","v":""},"",1,{"$f":"IF(DZ60>Saisies!$C$25,1,(IF(DZ60<Saisies!$B$25,1,IF(Saisies!$B$25=0,1,0))))","v":1},{"$f":"IF(DZ60>Saisies!$E$25,1,(IF(DZ60<Saisies!$D$25,1,IF(Saisies!$D$25=0,1,0))))","v":1},{"$f":"IF(DZ60>Saisies!$G$25,1,(IF(DZ60<Saisies!$F$25,1,IF(Saisies!$F$25<10,1,0))))","v":1},{"$f":"IF(DZ60>Saisies!$C$10,\"\",(IF(DZ60<Saisies!$B$10,\"\",EC60)))","v":""},{"$f":"IF(DZ60>Saisies!$E$10,\"\",(IF(DZ60<Saisies!$D$10,\"\",EC60)))","v":""},{"$f":"IF(DZ60>Saisies!$G$10,\"\",(IF(DZ60<Saisies!$F$10,\"\",EC60)))","v":""},"2017-10-09","L",7,7,492,{"$f":"IF(ET60>=Saisies!$E$4,(IF(EU59<=Saisies!$E$4,EP60,EU59)),0)","v":42622},{"$f":"IF(EP60=Saisies!$C$7,MIN((ABS(Saisies!$E$4-ET59)),EW60),EW60)","v":""},{"$f":"IF(ISERROR((IF(EP60>Saisies!$C$7,\"\",IF(ISERROR(IF(EP60<Saisies!$B$7,\"\",ER60)*EX60),IF(EP60<Saisies!$B$7,\"\",ER60),\"\")))*(IF(ISERROR(EY60+1),0,EY60))*EZ60*FA60*FB60),\"\",(IF(EP60>Saisies!$C$7,\"\",IF(ISERROR(IF(EP60<Saisies!$B$7,\"\",ER60)*EX60),IF(EP60<Saisies!$B$7,\"\",ER60),\"\")))*(IF(ISERROR(EY60+1),0,EY60))*EZ60*FA60*FB60)","v":""},"",1,{"$f":"IF(EP60>Saisies!$C$25,1,(IF(EP60<Saisies!$B$25,1,IF(Saisies!$B$25=0,1,0))))","v":1},{"$f":"IF(EP60>Saisies!$E$25,1,(IF(EP60<Saisies!$D$25,1,IF(Saisies!$D$25=0,1,0))))","v":1},{"$f":"IF(EP60>Saisies!$G$25,1,(IF(EP60<Saisies!$F$25,1,IF(Saisies!$F$25<10,1,0))))","v":1},{"$f":"IF(EP60>Saisies!$C$10,\"\",(IF(EP60<Saisies!$B$10,\"\",ES60)))","v":""},{"$f":"IF(EP60>Saisies!$E$10,\"\",(IF(EP60<Saisies!$D$10,\"\",ES60)))","v":""},{"$f":"IF(EP60>Saisies!$G$10,\"\",(IF(EP60<Saisies!$F$10,\"\",ES60)))","v":""},"2017-11-09","J",8,7,492,{"$f":"IF(FJ60>=Saisies!$E$4,(IF(FK59<=Saisies!$E$4,FF60,FK59)),0)","v":42622},{"$f":"IF(FF60=Saisies!$C$7,MIN((ABS(Saisies!$E$4-FJ59)),FM60),FM60)","v":""},{"$f":"IF(ISERROR((IF(FF60>Saisies!$C$7,\"\",IF(ISERROR(IF(FF60<Saisies!$B$7,\"\",FH60)*FN60),IF(FF60<Saisies!$B$7,\"\",FH60),\"\")))*(IF(ISERROR(FO60+1),0,FO60))*FP60*FQ60*FR60),\"\",(IF(FF60>Saisies!$C$7,\"\",IF(ISERROR(IF(FF60<Saisies!$B$7,\"\",FH60)*FN60),IF(FF60<Saisies!$B$7,\"\",FH60),\"\")))*(IF(ISERROR(FO60+1),0,FO60))*FP60*FQ60*FR60)","v":""},"",1,{"$f":"IF(FF60>Saisies!$C$25,1,(IF(FF60<Saisies!$B$25,1,IF(Saisies!$B$25=0,1,0))))","v":1},{"$f":"IF(FF60>Saisies!$E$25,1,(IF(FF60<Saisies!$D$25,1,IF(Saisies!$D$25=0,1,0))))","v":1},{"$f":"IF(FF60>Saisies!$G$25,1,(IF(FF60<Saisies!$F$25,1,IF(Saisies!$F$25<10,1,0))))","v":1},{"$f":"IF(FF60>Saisies!$C$10,\"\",(IF(FF60<Saisies!$B$10,\"\",FI60)))","v":""},{"$f":"IF(FF60>Saisies!$E$10,\"\",(IF(FF60<Saisies!$D$10,\"\",FI60)))","v":""},{"$f":"IF(FF60>Saisies!$G$10,\"\",(IF(FF60<Saisies!$F$10,\"\",FI60)))","v":""},"2017-12-09","S",0,0,492,{"$f":"IF(FZ60>=Saisies!$E$4,(IF(GA59<=Saisies!$E$4,FV60,GA59)),0)","v":42622},{"$f":"IF(FV60=Saisies!$C$7,MIN((ABS(Saisies!$E$4-FZ59)),GC60),GC60)","v":""},{"$f":"IF(ISERROR((IF(FV60>Saisies!$C$7,\"\",IF(ISERROR(IF(FV60<Saisies!$B$7,\"\",FX60)*GD60),IF(FV60<Saisies!$B$7,\"\",FX60),\"\")))*(IF(ISERROR(GE60+1),0,GE60))*GF60*GG60*GH60),\"\",(IF(FV60>Saisies!$C$7,\"\",IF(ISERROR(IF(FV60<Saisies!$B$7,\"\",FX60)*GD60),IF(FV60<Saisies!$B$7,\"\",FX60),\"\")))*(IF(ISERROR(GE60+1),0,GE60))*GF60*GG60*GH60)","v":""},"",1,{"$f":"IF(FV60>Saisies!$C$25,1,(IF(FV60<Saisies!$B$25,1,IF(Saisies!$B$25=0,1,0))))","v":1},{"$f":"IF(FV60>Saisies!$E$25,1,(IF(FV60<Saisies!$D$25,1,IF(Saisies!$D$25=0,1,0))))","v":1},{"$f":"IF(FV60>Saisies!$G$25,1,(IF(FV60<Saisies!$F$25,1,IF(Saisies!$F$25<10,1,0))))","v":1},{"$f":"IF(FV60>Saisies!$C$10,\"\",(IF(FV60<Saisies!$B$10,\"\",FY60)))","v":""},{"$f":"IF(FV60>Saisies!$E$10,\"\",(IF(FV60<Saisies!$D$10,\"\",FY60)))","v":""},{"$f":"IF(FV60>Saisies!$G$10,\"\",(IF(FV60<Saisies!$F$10,\"\",FY60)))","v":""}]
[null,"2017-01-10","M",8,7,492,{"$f":"IF(F61>=Saisies!$E$4,(IF(G60<=Saisies!$E$4,B61,G60)),0)","v":42622},{"$f":"IF(B61=Saisies!$C$7,MIN((ABS(Saisies!$E$4-F60)),I61),I61)","v":""},{"$f":"IF(ISERROR((IF(B61>Saisies!$C$7,\"\",IF(ISERROR(IF(B61<Saisies!$B$7,\"\",D61)*J61),IF(B61<Saisies!$B$7,\"\",D61),\"\")))*(IF(ISERROR(K61+1),0,K61))*L61*M61*N61),\"\",(IF(B61>Saisies!$C$7,\"\",IF(ISERROR(IF(B61<Saisies!$B$7,\"\",D61)*J61),IF(B61<Saisies!$B$7,\"\",D61),\"\")))*(IF(ISERROR(K61+1),0,K61))*L61*M61*N61)","v":""},"",1,{"$f":"IF(B61>Saisies!$C$25,1,(IF(B61<Saisies!$B$25,1,IF(Saisies!$B$25=0,1,0))))","v":1},{"$f":"IF(B61>Saisies!$E$25,1,(IF(B61<Saisies!$D$25,1,IF(Saisies!$D$25=0,1,0))))","v":1},{"$f":"IF(B61>Saisies!$G$25,1,(IF(B61<Saisies!$F$25,1,IF(Saisies!$F$25<10,1,0))))","v":1},{"$f":"IF(B61>Saisies!$C$10,\"\",(IF(B61<Saisies!$B$10,\"\",E61)))","v":""},{"$f":"IF(B61>Saisies!$E$10,\"\",(IF(B61<Saisies!$D$10,\"\",E61)))","v":""},{"$f":"IF(B61>Saisies!$G$10,\"\",(IF(B61<Saisies!$F$10,\"\",E61)))","v":""},"2017-02-10","V",4,7,492,{"$f":"IF(V61>=Saisies!$E$4,(IF(W60<=Saisies!$E$4,R61,W60)),0)","v":42622},{"$f":"IF(R61=Saisies!$C$7,MIN((ABS(Saisies!$E$4-V60)),Y61),Y61)","v":""},{"$f":"IF(ISERROR((IF(R61>Saisies!$C$7,\"\",IF(ISERROR(IF(R61<Saisies!$B$7,\"\",T61)*Z61),IF(R61<Saisies!$B$7,\"\",T61),\"\")))*(IF(ISERROR(AA61+1),0,AA61))*AB61*AC61*AD61),\"\",(IF(R61>Saisies!$C$7,\"\",IF(ISERROR(IF(R61<Saisies!$B$7,\"\",T61)*Z61),IF(R61<Saisies!$B$7,\"\",T61),\"\")))*(IF(ISERROR(AA61+1),0,AA61))*AB61*AC61*AD61)","v":""},"",1,{"$f":"IF(R61>Saisies!$C$25,1,(IF(R61<Saisies!$B$25,1,IF(Saisies!$B$25=0,1,0))))","v":1},{"$f":"IF(R61>Saisies!$E$25,1,(IF(R61<Saisies!$D$25,1,IF(Saisies!$D$25=0,1,0))))","v":1},{"$f":"IF(R61>Saisies!$G$25,1,(IF(R61<Saisies!$F$25,1,IF(Saisies!$F$25<10,1,0))))","v":1},{"$f":"IF(R61>Saisies!$C$10,\"\",(IF(R61<Saisies!$B$10,\"\",U61)))","v":""},{"$f":"IF(R61>Saisies!$E$10,\"\",(IF(R61<Saisies!$D$10,\"\",U61)))","v":""},{"$f":"IF(R61>Saisies!$G$10,\"\",(IF(R61<Saisies!$F$10,\"\",U61)))","v":""},"2017-03-10","V",4,7,492,{"$f":"IF(AL61>=Saisies!$E$4,(IF(AM60<=Saisies!$E$4,AH61,AM60)),0)","v":42622},{"$f":"IF(AH61=Saisies!$C$7,MIN((ABS(Saisies!$E$4-AL60)),AO61),AO61)","v":""},{"$f":"IF(ISERROR((IF(AH61>Saisies!$C$7,\"\",IF(ISERROR(IF(AH61<Saisies!$B$7,\"\",AJ61)*AP61),IF(AH61<Saisies!$B$7,\"\",AJ61),\"\")))*(IF(ISERROR(AQ61+1),0,AQ61))*AR61*AS61*AT61),\"\",(IF(AH61>Saisies!$C$7,\"\",IF(ISERROR(IF(AH61<Saisies!$B$7,\"\",AJ61)*AP61),IF(AH61<Saisies!$B$7,\"\",AJ61),\"\")))*(IF(ISERROR(AQ61+1),0,AQ61))*AR61*AS61*AT61)","v":""},"",1,{"$f":"IF(AH61>Saisies!$C$25,1,(IF(AH61<Saisies!$B$25,1,IF(Saisies!$B$25=0,1,0))))","v":1},{"$f":"IF(AH61>Saisies!$E$25,1,(IF(AH61<Saisies!$D$25,1,IF(Saisies!$D$25=0,1,0))))","v":1},{"$f":"IF(AH61>Saisies!$G$25,1,(IF(AH61<Saisies!$F$25,1,IF(Saisies!$F$25<10,1,0))))","v":1},{"$f":"IF(AH61>Saisies!$C$10,\"\",(IF(AH61<Saisies!$B$10,\"\",AK61)))","v":""},{"$f":"IF(AH61>Saisies!$E$10,\"\",(IF(AH61<Saisies!$D$10,\"\",AK61)))","v":""},{"$f":"IF(AH61>Saisies!$G$10,\"\",(IF(AH61<Saisies!$F$10,\"\",AK61)))","v":""},"2017-04-10","L",7,7,492,{"$f":"IF(BB61>=Saisies!$E$4,(IF(BC60<=Saisies!$E$4,AX61,BC60)),0)","v":42622},{"$f":"IF(AX61=Saisies!$C$7,MIN((ABS(Saisies!$E$4-BB60)),BE61),BE61)","v":""},{"$f":"IF(ISERROR((IF(AX61>Saisies!$C$7,\"\",IF(ISERROR(IF(AX61<Saisies!$B$7,\"\",AZ61)*BF61),IF(AX61<Saisies!$B$7,\"\",AZ61),\"\")))*(IF(ISERROR(BG61+1),0,BG61))*BH61*BI61*BJ61),\"\",(IF(AX61>Saisies!$C$7,\"\",IF(ISERROR(IF(AX61<Saisies!$B$7,\"\",AZ61)*BF61),IF(AX61<Saisies!$B$7,\"\",AZ61),\"\")))*(IF(ISERROR(BG61+1),0,BG61))*BH61*BI61*BJ61)","v":""},"",1,{"$f":"IF(AX61>Saisies!$C$25,1,(IF(AX61<Saisies!$B$25,1,IF(Saisies!$B$25=0,1,0))))","v":1},{"$f":"IF(AX61>Saisies!$E$25,1,(IF(AX61<Saisies!$D$25,1,IF(Saisies!$D$25=0,1,0))))","v":1},{"$f":"IF(AX61>Saisies!$G$25,1,(IF(AX61<Saisies!$F$25,1,IF(Saisies!$F$25<10,1,0))))","v":1},{"$f":"IF(AX61>Saisies!$C$10,\"\",(IF(AX61<Saisies!$B$10,\"\",BA61)))","v":""},{"$f":"IF(AX61>Saisies!$E$10,\"\",(IF(AX61<Saisies!$D$10,\"\",BA61)))","v":""},{"$f":"IF(AX61>Saisies!$G$10,\"\",(IF(AX61<Saisies!$F$10,\"\",BA61)))","v":""},"2017-05-10","M",8,7,492,{"$f":"IF(BR61>=Saisies!$E$4,(IF(BS60<=Saisies!$E$4,BN61,BS60)),0)","v":42622},{"$f":"IF(BN61=Saisies!$C$7,MIN((ABS(Saisies!$E$4-BR60)),BU61),BU61)","v":""},{"$f":"IF(ISERROR((IF(BN61>Saisies!$C$7,\"\",IF(ISERROR(IF(BN61<Saisies!$B$7,\"\",BP61)*BV61),IF(BN61<Saisies!$B$7,\"\",BP61),\"\")))*(IF(ISERROR(BW61+1),0,BW61))*BX61*BY61*BZ61),\"\",(IF(BN61>Saisies!$C$7,\"\",IF(ISERROR(IF(BN61<Saisies!$B$7,\"\",BP61)*BV61),IF(BN61<Saisies!$B$7,\"\",BP61),\"\")))*(IF(ISERROR(BW61+1),0,BW61))*BX61*BY61*BZ61)","v":""},"",1,{"$f":"IF(BN61>Saisies!$C$25,1,(IF(BN61<Saisies!$B$25,1,IF(Saisies!$B$25=0,1,0))))","v":1},{"$f":"IF(BN61>Saisies!$E$25,1,(IF(BN61<Saisies!$D$25,1,IF(Saisies!$D$25=0,1,0))))","v":1},{"$f":"IF(BN61>Saisies!$G$25,1,(IF(BN61<Saisies!$F$25,1,IF(Saisies!$F$25<10,1,0))))","v":1},{"$f":"IF(BN61>Saisies!$C$10,\"\",(IF(BN61<Saisies!$B$10,\"\",BQ61)))","v":""},{"$f":"IF(BN61>Saisies!$E$10,\"\",(IF(BN61<Saisies!$D$10,\"\",BQ61)))","v":""},{"$f":"IF(BN61>Saisies!$G$10,\"\",(IF(BN61<Saisies!$F$10,\"\",BQ61)))","v":""},"2017-06-10","S",0,0,492,{"$f":"IF(CH61>=Saisies!$E$4,(IF(CI60<=Saisies!$E$4,CD61,CI60)),0)","v":42622},{"$f":"IF(CD61=Saisies!$C$7,MIN((ABS(Saisies!$E$4-CH60)),CK61),CK61)","v":""},{"$f":"IF(ISERROR((IF(CD61>Saisies!$C$7,\"\",IF(ISERROR(IF(CD61<Saisies!$B$7,\"\",CF61)*CL61),IF(CD61<Saisies!$B$7,\"\",CF61),\"\")))*(IF(ISERROR(CM61+1),0,CM61))*CN61*CO61*CP61),\"\",(IF(CD61>Saisies!$C$7,\"\",IF(ISERROR(IF(CD61<Saisies!$B$7,\"\",CF61)*CL61),IF(CD61<Saisies!$B$7,\"\",CF61),\"\")))*(IF(ISERROR(CM61+1),0,CM61))*CN61*CO61*CP61)","v":""},"",1,{"$f":"IF(CD61>Saisies!$C$25,1,(IF(CD61<Saisies!$B$25,1,IF(Saisies!$B$25=0,1,0))))","v":1},{"$f":"IF(CD61>Saisies!$E$25,1,(IF(CD61<Saisies!$D$25,1,IF(Saisies!$D$25=0,1,0))))","v":1},{"$f":"IF(CD61>Saisies!$G$25,1,(IF(CD61<Saisies!$F$25,1,IF(Saisies!$F$25<10,1,0))))","v":1},{"$f":"IF(CD61>Saisies!$C$10,\"\",(IF(CD61<Saisies!$B$10,\"\",CG61)))","v":""},{"$f":"IF(CD61>Saisies!$E$10,\"\",(IF(CD61<Saisies!$D$10,\"\",CG61)))","v":""},{"$f":"IF(CD61>Saisies!$G$10,\"\",(IF(CD61<Saisies!$F$10,\"\",CG61)))","v":""},"2017-07-10","L",7,7,492,{"$f":"IF(CX61>=Saisies!$E$4,(IF(CY60<=Saisies!$E$4,CT61,CY60)),0)","v":42622},{"$f":"IF(CT61=Saisies!$C$7,MIN((ABS(Saisies!$E$4-CX60)),DA61),DA61)","v":""},{"$f":"IF(ISERROR((IF(CT61>Saisies!$C$7,\"\",IF(ISERROR(IF(CT61<Saisies!$B$7,\"\",CV61)*DB61),IF(CT61<Saisies!$B$7,\"\",CV61),\"\")))*(IF(ISERROR(DC61+1),0,DC61))*DD61*DE61*DF61),\"\",(IF(CT61>Saisies!$C$7,\"\",IF(ISERROR(IF(CT61<Saisies!$B$7,\"\",CV61)*DB61),IF(CT61<Saisies!$B$7,\"\",CV61),\"\")))*(IF(ISERROR(DC61+1),0,DC61))*DD61*DE61*DF61)","v":""},"",1,{"$f":"IF(CT61>Saisies!$C$25,1,(IF(CT61<Saisies!$B$25,1,IF(Saisies!$B$25=0,1,0))))","v":1},{"$f":"IF(CT61>Saisies!$E$25,1,(IF(CT61<Saisies!$D$25,1,IF(Saisies!$D$25=0,1,0))))","v":1},{"$f":"IF(CT61>Saisies!$G$25,1,(IF(CT61<Saisies!$F$25,1,IF(Saisies!$F$25<10,1,0))))","v":1},{"$f":"IF(CT61>Saisies!$C$10,\"\",(IF(CT61<Saisies!$B$10,\"\",CW61)))","v":""},{"$f":"IF(CT61>Saisies!$E$10,\"\",(IF(CT61<Saisies!$D$10,\"\",CW61)))","v":""},{"$f":"IF(CT61>Saisies!$G$10,\"\",(IF(CT61<Saisies!$F$10,\"\",CW61)))","v":""},"2017-08-10","J",8,7,492,{"$f":"IF(DN61>=Saisies!$E$4,(IF(DO60<=Saisies!$E$4,DJ61,DO60)),0)","v":42622},{"$f":"IF(DJ61=Saisies!$C$7,MIN((ABS(Saisies!$E$4-DN60)),DQ61),DQ61)","v":""},{"$f":"IF(ISERROR((IF(DJ61>Saisies!$C$7,\"\",IF(ISERROR(IF(DJ61<Saisies!$B$7,\"\",DL61)*DR61),IF(DJ61<Saisies!$B$7,\"\",DL61),\"\")))*(IF(ISERROR(DS61+1),0,DS61))*DT61*DU61*DV61),\"\",(IF(DJ61>Saisies!$C$7,\"\",IF(ISERROR(IF(DJ61<Saisies!$B$7,\"\",DL61)*DR61),IF(DJ61<Saisies!$B$7,\"\",DL61),\"\")))*(IF(ISERROR(DS61+1),0,DS61))*DT61*DU61*DV61)","v":""},"",1,{"$f":"IF(DJ61>Saisies!$C$25,1,(IF(DJ61<Saisies!$B$25,1,IF(Saisies!$B$25=0,1,0))))","v":1},{"$f":"IF(DJ61>Saisies!$E$25,1,(IF(DJ61<Saisies!$D$25,1,IF(Saisies!$D$25=0,1,0))))","v":1},{"$f":"IF(DJ61>Saisies!$G$25,1,(IF(DJ61<Saisies!$F$25,1,IF(Saisies!$F$25<10,1,0))))","v":1},{"$f":"IF(DJ61>Saisies!$C$10,\"\",(IF(DJ61<Saisies!$B$10,\"\",DM61)))","v":""},{"$f":"IF(DJ61>Saisies!$E$10,\"\",(IF(DJ61<Saisies!$D$10,\"\",DM61)))","v":""},{"$f":"IF(DJ61>Saisies!$G$10,\"\",(IF(DJ61<Saisies!$F$10,\"\",DM61)))","v":""},"2017-09-10","D",0,0,492,{"$f":"IF(ED61>=Saisies!$E$4,(IF(EE60<=Saisies!$E$4,DZ61,EE60)),0)","v":42622},{"$f":"IF(DZ61=Saisies!$C$7,MIN((ABS(Saisies!$E$4-ED60)),EG61),EG61)","v":""},{"$f":"IF(ISERROR((IF(DZ61>Saisies!$C$7,\"\",IF(ISERROR(IF(DZ61<Saisies!$B$7,\"\",EB61)*EH61),IF(DZ61<Saisies!$B$7,\"\",EB61),\"\")))*(IF(ISERROR(EI61+1),0,EI61))*EJ61*EK61*EL61),\"\",(IF(DZ61>Saisies!$C$7,\"\",IF(ISERROR(IF(DZ61<Saisies!$B$7,\"\",EB61)*EH61),IF(DZ61<Saisies!$B$7,\"\",EB61),\"\")))*(IF(ISERROR(EI61+1),0,EI61))*EJ61*EK61*EL61)","v":""},"",1,{"$f":"IF(DZ61>Saisies!$C$25,1,(IF(DZ61<Saisies!$B$25,1,IF(Saisies!$B$25=0,1,0))))","v":1},{"$f":"IF(DZ61>Saisies!$E$25,1,(IF(DZ61<Saisies!$D$25,1,IF(Saisies!$D$25=0,1,0))))","v":1},{"$f":"IF(DZ61>Saisies!$G$25,1,(IF(DZ61<Saisies!$F$25,1,IF(Saisies!$F$25<10,1,0))))","v":1},{"$f":"IF(DZ61>Saisies!$C$10,\"\",(IF(DZ61<Saisies!$B$10,\"\",EC61)))","v":""},{"$f":"IF(DZ61>Saisies!$E$10,\"\",(IF(DZ61<Saisies!$D$10,\"\",EC61)))","v":""},{"$f":"IF(DZ61>Saisies!$G$10,\"\",(IF(DZ61<Saisies!$F$10,\"\",EC61)))","v":""},"2017-10-10","M",8,7,492,{"$f":"IF(ET61>=Saisies!$E$4,(IF(EU60<=Saisies!$E$4,EP61,EU60)),0)","v":42622},{"$f":"IF(EP61=Saisies!$C$7,MIN((ABS(Saisies!$E$4-ET60)),EW61),EW61)","v":""},{"$f":"IF(ISERROR((IF(EP61>Saisies!$C$7,\"\",IF(ISERROR(IF(EP61<Saisies!$B$7,\"\",ER61)*EX61),IF(EP61<Saisies!$B$7,\"\",ER61),\"\")))*(IF(ISERROR(EY61+1),0,EY61))*EZ61*FA61*FB61),\"\",(IF(EP61>Saisies!$C$7,\"\",IF(ISERROR(IF(EP61<Saisies!$B$7,\"\",ER61)*EX61),IF(EP61<Saisies!$B$7,\"\",ER61),\"\")))*(IF(ISERROR(EY61+1),0,EY61))*EZ61*FA61*FB61)","v":""},"",1,{"$f":"IF(EP61>Saisies!$C$25,1,(IF(EP61<Saisies!$B$25,1,IF(Saisies!$B$25=0,1,0))))","v":1},{"$f":"IF(EP61>Saisies!$E$25,1,(IF(EP61<Saisies!$D$25,1,IF(Saisies!$D$25=0,1,0))))","v":1},{"$f":"IF(EP61>Saisies!$G$25,1,(IF(EP61<Saisies!$F$25,1,IF(Saisies!$F$25<10,1,0))))","v":1},{"$f":"IF(EP61>Saisies!$C$10,\"\",(IF(EP61<Saisies!$B$10,\"\",ES61)))","v":""},{"$f":"IF(EP61>Saisies!$E$10,\"\",(IF(EP61<Saisies!$D$10,\"\",ES61)))","v":""},{"$f":"IF(EP61>Saisies!$G$10,\"\",(IF(EP61<Saisies!$F$10,\"\",ES61)))","v":""},"2017-11-10","V",4,7,492,{"$f":"IF(FJ61>=Saisies!$E$4,(IF(FK60<=Saisies!$E$4,FF61,FK60)),0)","v":42622},{"$f":"IF(FF61=Saisies!$C$7,MIN((ABS(Saisies!$E$4-FJ60)),FM61),FM61)","v":""},{"$f":"IF(ISERROR((IF(FF61>Saisies!$C$7,\"\",IF(ISERROR(IF(FF61<Saisies!$B$7,\"\",FH61)*FN61),IF(FF61<Saisies!$B$7,\"\",FH61),\"\")))*(IF(ISERROR(FO61+1),0,FO61))*FP61*FQ61*FR61),\"\",(IF(FF61>Saisies!$C$7,\"\",IF(ISERROR(IF(FF61<Saisies!$B$7,\"\",FH61)*FN61),IF(FF61<Saisies!$B$7,\"\",FH61),\"\")))*(IF(ISERROR(FO61+1),0,FO61))*FP61*FQ61*FR61)","v":""},"",1,{"$f":"IF(FF61>Saisies!$C$25,1,(IF(FF61<Saisies!$B$25,1,IF(Saisies!$B$25=0,1,0))))","v":1},{"$f":"IF(FF61>Saisies!$E$25,1,(IF(FF61<Saisies!$D$25,1,IF(Saisies!$D$25=0,1,0))))","v":1},{"$f":"IF(FF61>Saisies!$G$25,1,(IF(FF61<Saisies!$F$25,1,IF(Saisies!$F$25<10,1,0))))","v":1},{"$f":"IF(FF61>Saisies!$C$10,\"\",(IF(FF61<Saisies!$B$10,\"\",FI61)))","v":""},{"$f":"IF(FF61>Saisies!$E$10,\"\",(IF(FF61<Saisies!$D$10,\"\",FI61)))","v":""},{"$f":"IF(FF61>Saisies!$G$10,\"\",(IF(FF61<Saisies!$F$10,\"\",FI61)))","v":""},"2017-12-10","D",0,0,492,{"$f":"IF(FZ61>=Saisies!$E$4,(IF(GA60<=Saisies!$E$4,FV61,GA60)),0)","v":42622},{"$f":"IF(FV61=Saisies!$C$7,MIN((ABS(Saisies!$E$4-FZ60)),GC61),GC61)","v":""},{"$f":"IF(ISERROR((IF(FV61>Saisies!$C$7,\"\",IF(ISERROR(IF(FV61<Saisies!$B$7,\"\",FX61)*GD61),IF(FV61<Saisies!$B$7,\"\",FX61),\"\")))*(IF(ISERROR(GE61+1),0,GE61))*GF61*GG61*GH61),\"\",(IF(FV61>Saisies!$C$7,\"\",IF(ISERROR(IF(FV61<Saisies!$B$7,\"\",FX61)*GD61),IF(FV61<Saisies!$B$7,\"\",FX61),\"\")))*(IF(ISERROR(GE61+1),0,GE61))*GF61*GG61*GH61)","v":""},"",1,{"$f":"IF(FV61>Saisies!$C$25,1,(IF(FV61<Saisies!$B$25,1,IF(Saisies!$B$25=0,1,0))))","v":1},{"$f":"IF(FV61>Saisies!$E$25,1,(IF(FV61<Saisies!$D$25,1,IF(Saisies!$D$25=0,1,0))))","v":1},{"$f":"IF(FV61>Saisies!$G$25,1,(IF(FV61<Saisies!$F$25,1,IF(Saisies!$F$25<10,1,0))))","v":1},{"$f":"IF(FV61>Saisies!$C$10,\"\",(IF(FV61<Saisies!$B$10,\"\",FY61)))","v":""},{"$f":"IF(FV61>Saisies!$E$10,\"\",(IF(FV61<Saisies!$D$10,\"\",FY61)))","v":""},{"$f":"IF(FV61>Saisies!$G$10,\"\",(IF(FV61<Saisies!$F$10,\"\",FY61)))","v":""}]
[null,"2017-01-11","M",8,7,492,{"$f":"IF(F62>=Saisies!$E$4,(IF(G61<=Saisies!$E$4,B62,G61)),0)","v":42622},{"$f":"IF(B62=Saisies!$C$7,MIN((ABS(Saisies!$E$4-F61)),I62),I62)","v":""},{"$f":"IF(ISERROR((IF(B62>Saisies!$C$7,\"\",IF(ISERROR(IF(B62<Saisies!$B$7,\"\",D62)*J62),IF(B62<Saisies!$B$7,\"\",D62),\"\")))*(IF(ISERROR(K62+1),0,K62))*L62*M62*N62),\"\",(IF(B62>Saisies!$C$7,\"\",IF(ISERROR(IF(B62<Saisies!$B$7,\"\",D62)*J62),IF(B62<Saisies!$B$7,\"\",D62),\"\")))*(IF(ISERROR(K62+1),0,K62))*L62*M62*N62)","v":""},"",1,{"$f":"IF(B62>Saisies!$C$25,1,(IF(B62<Saisies!$B$25,1,IF(Saisies!$B$25=0,1,0))))","v":1},{"$f":"IF(B62>Saisies!$E$25,1,(IF(B62<Saisies!$D$25,1,IF(Saisies!$D$25=0,1,0))))","v":1},{"$f":"IF(B62>Saisies!$G$25,1,(IF(B62<Saisies!$F$25,1,IF(Saisies!$F$25<10,1,0))))","v":1},{"$f":"IF(B62>Saisies!$C$10,\"\",(IF(B62<Saisies!$B$10,\"\",E62)))","v":""},{"$f":"IF(B62>Saisies!$E$10,\"\",(IF(B62<Saisies!$D$10,\"\",E62)))","v":""},{"$f":"IF(B62>Saisies!$G$10,\"\",(IF(B62<Saisies!$F$10,\"\",E62)))","v":""},"2017-02-11","S",0,0,492,{"$f":"IF(V62>=Saisies!$E$4,(IF(W61<=Saisies!$E$4,R62,W61)),0)","v":42622},{"$f":"IF(R62=Saisies!$C$7,MIN((ABS(Saisies!$E$4-V61)),Y62),Y62)","v":""},{"$f":"IF(ISERROR((IF(R62>Saisies!$C$7,\"\",IF(ISERROR(IF(R62<Saisies!$B$7,\"\",T62)*Z62),IF(R62<Saisies!$B$7,\"\",T62),\"\")))*(IF(ISERROR(AA62+1),0,AA62))*AB62*AC62*AD62),\"\",(IF(R62>Saisies!$C$7,\"\",IF(ISERROR(IF(R62<Saisies!$B$7,\"\",T62)*Z62),IF(R62<Saisies!$B$7,\"\",T62),\"\")))*(IF(ISERROR(AA62+1),0,AA62))*AB62*AC62*AD62)","v":""},"",1,{"$f":"IF(R62>Saisies!$C$25,1,(IF(R62<Saisies!$B$25,1,IF(Saisies!$B$25=0,1,0))))","v":1},{"$f":"IF(R62>Saisies!$E$25,1,(IF(R62<Saisies!$D$25,1,IF(Saisies!$D$25=0,1,0))))","v":1},{"$f":"IF(R62>Saisies!$G$25,1,(IF(R62<Saisies!$F$25,1,IF(Saisies!$F$25<10,1,0))))","v":1},{"$f":"IF(R62>Saisies!$C$10,\"\",(IF(R62<Saisies!$B$10,\"\",U62)))","v":""},{"$f":"IF(R62>Saisies!$E$10,\"\",(IF(R62<Saisies!$D$10,\"\",U62)))","v":""},{"$f":"IF(R62>Saisies!$G$10,\"\",(IF(R62<Saisies!$F$10,\"\",U62)))","v":""},"2017-03-11","S",0,0,492,{"$f":"IF(AL62>=Saisies!$E$4,(IF(AM61<=Saisies!$E$4,AH62,AM61)),0)","v":42622},{"$f":"IF(AH62=Saisies!$C$7,MIN((ABS(Saisies!$E$4-AL61)),AO62),AO62)","v":""},{"$f":"IF(ISERROR((IF(AH62>Saisies!$C$7,\"\",IF(ISERROR(IF(AH62<Saisies!$B$7,\"\",AJ62)*AP62),IF(AH62<Saisies!$B$7,\"\",AJ62),\"\")))*(IF(ISERROR(AQ62+1),0,AQ62))*AR62*AS62*AT62),\"\",(IF(AH62>Saisies!$C$7,\"\",IF(ISERROR(IF(AH62<Saisies!$B$7,\"\",AJ62)*AP62),IF(AH62<Saisies!$B$7,\"\",AJ62),\"\")))*(IF(ISERROR(AQ62+1),0,AQ62))*AR62*AS62*AT62)","v":""},"",1,{"$f":"IF(AH62>Saisies!$C$25,1,(IF(AH62<Saisies!$B$25,1,IF(Saisies!$B$25=0,1,0))))","v":1},{"$f":"IF(AH62>Saisies!$E$25,1,(IF(AH62<Saisies!$D$25,1,IF(Saisies!$D$25=0,1,0))))","v":1},{"$f":"IF(AH62>Saisies!$G$25,1,(IF(AH62<Saisies!$F$25,1,IF(Saisies!$F$25<10,1,0))))","v":1},{"$f":"IF(AH62>Saisies!$C$10,\"\",(IF(AH62<Saisies!$B$10,\"\",AK62)))","v":""},{"$f":"IF(AH62>Saisies!$E$10,\"\",(IF(AH62<Saisies!$D$10,\"\",AK62)))","v":""},{"$f":"IF(AH62>Saisies!$G$10,\"\",(IF(AH62<Saisies!$F$10,\"\",AK62)))","v":""},"2017-04-11","M",8,7,492,{"$f":"IF(BB62>=Saisies!$E$4,(IF(BC61<=Saisies!$E$4,AX62,BC61)),0)","v":42622},{"$f":"IF(AX62=Saisies!$C$7,MIN((ABS(Saisies!$E$4-BB61)),BE62),BE62)","v":""},{"$f":"IF(ISERROR((IF(AX62>Saisies!$C$7,\"\",IF(ISERROR(IF(AX62<Saisies!$B$7,\"\",AZ62)*BF62),IF(AX62<Saisies!$B$7,\"\",AZ62),\"\")))*(IF(ISERROR(BG62+1),0,BG62))*BH62*BI62*BJ62),\"\",(IF(AX62>Saisies!$C$7,\"\",IF(ISERROR(IF(AX62<Saisies!$B$7,\"\",AZ62)*BF62),IF(AX62<Saisies!$B$7,\"\",AZ62),\"\")))*(IF(ISERROR(BG62+1),0,BG62))*BH62*BI62*BJ62)","v":""},"",1,{"$f":"IF(AX62>Saisies!$C$25,1,(IF(AX62<Saisies!$B$25,1,IF(Saisies!$B$25=0,1,0))))","v":1},{"$f":"IF(AX62>Saisies!$E$25,1,(IF(AX62<Saisies!$D$25,1,IF(Saisies!$D$25=0,1,0))))","v":1},{"$f":"IF(AX62>Saisies!$G$25,1,(IF(AX62<Saisies!$F$25,1,IF(Saisies!$F$25<10,1,0))))","v":1},{"$f":"IF(AX62>Saisies!$C$10,\"\",(IF(AX62<Saisies!$B$10,\"\",BA62)))","v":""},{"$f":"IF(AX62>Saisies!$E$10,\"\",(IF(AX62<Saisies!$D$10,\"\",BA62)))","v":""},{"$f":"IF(AX62>Saisies!$G$10,\"\",(IF(AX62<Saisies!$F$10,\"\",BA62)))","v":""},"2017-05-11","J",8,7,492,{"$f":"IF(BR62>=Saisies!$E$4,(IF(BS61<=Saisies!$E$4,BN62,BS61)),0)","v":42622},{"$f":"IF(BN62=Saisies!$C$7,MIN((ABS(Saisies!$E$4-BR61)),BU62),BU62)","v":""},{"$f":"IF(ISERROR((IF(BN62>Saisies!$C$7,\"\",IF(ISERROR(IF(BN62<Saisies!$B$7,\"\",BP62)*BV62),IF(BN62<Saisies!$B$7,\"\",BP62),\"\")))*(IF(ISERROR(BW62+1),0,BW62))*BX62*BY62*BZ62),\"\",(IF(BN62>Saisies!$C$7,\"\",IF(ISERROR(IF(BN62<Saisies!$B$7,\"\",BP62)*BV62),IF(BN62<Saisies!$B$7,\"\",BP62),\"\")))*(IF(ISERROR(BW62+1),0,BW62))*BX62*BY62*BZ62)","v":""},"",1,{"$f":"IF(BN62>Saisies!$C$25,1,(IF(BN62<Saisies!$B$25,1,IF(Saisies!$B$25=0,1,0))))","v":1},{"$f":"IF(BN62>Saisies!$E$25,1,(IF(BN62<Saisies!$D$25,1,IF(Saisies!$D$25=0,1,0))))","v":1},{"$f":"IF(BN62>Saisies!$G$25,1,(IF(BN62<Saisies!$F$25,1,IF(Saisies!$F$25<10,1,0))))","v":1},{"$f":"IF(BN62>Saisies!$C$10,\"\",(IF(BN62<Saisies!$B$10,\"\",BQ62)))","v":""},{"$f":"IF(BN62>Saisies!$E$10,\"\",(IF(BN62<Saisies!$D$10,\"\",BQ62)))","v":""},{"$f":"IF(BN62>Saisies!$G$10,\"\",(IF(BN62<Saisies!$F$10,\"\",BQ62)))","v":""},"2017-06-11","D",0,0,492,{"$f":"IF(CH62>=Saisies!$E$4,(IF(CI61<=Saisies!$E$4,CD62,CI61)),0)","v":42622},{"$f":"IF(CD62=Saisies!$C$7,MIN((ABS(Saisies!$E$4-CH61)),CK62),CK62)","v":""},{"$f":"IF(ISERROR((IF(CD62>Saisies!$C$7,\"\",IF(ISERROR(IF(CD62<Saisies!$B$7,\"\",CF62)*CL62),IF(CD62<Saisies!$B$7,\"\",CF62),\"\")))*(IF(ISERROR(CM62+1),0,CM62))*CN62*CO62*CP62),\"\",(IF(CD62>Saisies!$C$7,\"\",IF(ISERROR(IF(CD62<Saisies!$B$7,\"\",CF62)*CL62),IF(CD62<Saisies!$B$7,\"\",CF62),\"\")))*(IF(ISERROR(CM62+1),0,CM62))*CN62*CO62*CP62)","v":""},"",1,{"$f":"IF(CD62>Saisies!$C$25,1,(IF(CD62<Saisies!$B$25,1,IF(Saisies!$B$25=0,1,0))))","v":1},{"$f":"IF(CD62>Saisies!$E$25,1,(IF(CD62<Saisies!$D$25,1,IF(Saisies!$D$25=0,1,0))))","v":1},{"$f":"IF(CD62>Saisies!$G$25,1,(IF(CD62<Saisies!$F$25,1,IF(Saisies!$F$25<10,1,0))))","v":1},{"$f":"IF(CD62>Saisies!$C$10,\"\",(IF(CD62<Saisies!$B$10,\"\",CG62)))","v":""},{"$f":"IF(CD62>Saisies!$E$10,\"\",(IF(CD62<Saisies!$D$10,\"\",CG62)))","v":""},{"$f":"IF(CD62>Saisies!$G$10,\"\",(IF(CD62<Saisies!$F$10,\"\",CG62)))","v":""},"2017-07-11","M",8,7,492,{"$f":"IF(CX62>=Saisies!$E$4,(IF(CY61<=Saisies!$E$4,CT62,CY61)),0)","v":42622},{"$f":"IF(CT62=Saisies!$C$7,MIN((ABS(Saisies!$E$4-CX61)),DA62),DA62)","v":""},{"$f":"IF(ISERROR((IF(CT62>Saisies!$C$7,\"\",IF(ISERROR(IF(CT62<Saisies!$B$7,\"\",CV62)*DB62),IF(CT62<Saisies!$B$7,\"\",CV62),\"\")))*(IF(ISERROR(DC62+1),0,DC62))*DD62*DE62*DF62),\"\",(IF(CT62>Saisies!$C$7,\"\",IF(ISERROR(IF(CT62<Saisies!$B$7,\"\",CV62)*DB62),IF(CT62<Saisies!$B$7,\"\",CV62),\"\")))*(IF(ISERROR(DC62+1),0,DC62))*DD62*DE62*DF62)","v":""},"",1,{"$f":"IF(CT62>Saisies!$C$25,1,(IF(CT62<Saisies!$B$25,1,IF(Saisies!$B$25=0,1,0))))","v":1},{"$f":"IF(CT62>Saisies!$E$25,1,(IF(CT62<Saisies!$D$25,1,IF(Saisies!$D$25=0,1,0))))","v":1},{"$f":"IF(CT62>Saisies!$G$25,1,(IF(CT62<Saisies!$F$25,1,IF(Saisies!$F$25<10,1,0))))","v":1},{"$f":"IF(CT62>Saisies!$C$10,\"\",(IF(CT62<Saisies!$B$10,\"\",CW62)))","v":""},{"$f":"IF(CT62>Saisies!$E$10,\"\",(IF(CT62<Saisies!$D$10,\"\",CW62)))","v":""},{"$f":"IF(CT62>Saisies!$G$10,\"\",(IF(CT62<Saisies!$F$10,\"\",CW62)))","v":""},"2017-08-11","V",4,7,492,{"$f":"IF(DN62>=Saisies!$E$4,(IF(DO61<=Saisies!$E$4,DJ62,DO61)),0)","v":42622},{"$f":"IF(DJ62=Saisies!$C$7,MIN((ABS(Saisies!$E$4-DN61)),DQ62),DQ62)","v":""},{"$f":"IF(ISERROR((IF(DJ62>Saisies!$C$7,\"\",IF(ISERROR(IF(DJ62<Saisies!$B$7,\"\",DL62)*DR62),IF(DJ62<Saisies!$B$7,\"\",DL62),\"\")))*(IF(ISERROR(DS62+1),0,DS62))*DT62*DU62*DV62),\"\",(IF(DJ62>Saisies!$C$7,\"\",IF(ISERROR(IF(DJ62<Saisies!$B$7,\"\",DL62)*DR62),IF(DJ62<Saisies!$B$7,\"\",DL62),\"\")))*(IF(ISERROR(DS62+1),0,DS62))*DT62*DU62*DV62)","v":""},"",1,{"$f":"IF(DJ62>Saisies!$C$25,1,(IF(DJ62<Saisies!$B$25,1,IF(Saisies!$B$25=0,1,0))))","v":1},{"$f":"IF(DJ62>Saisies!$E$25,1,(IF(DJ62<Saisies!$D$25,1,IF(Saisies!$D$25=0,1,0))))","v":1},{"$f":"IF(DJ62>Saisies!$G$25,1,(IF(DJ62<Saisies!$F$25,1,IF(Saisies!$F$25<10,1,0))))","v":1},{"$f":"IF(DJ62>Saisies!$C$10,\"\",(IF(DJ62<Saisies!$B$10,\"\",DM62)))","v":""},{"$f":"IF(DJ62>Saisies!$E$10,\"\",(IF(DJ62<Saisies!$D$10,\"\",DM62)))","v":""},{"$f":"IF(DJ62>Saisies!$G$10,\"\",(IF(DJ62<Saisies!$F$10,\"\",DM62)))","v":""},"2017-09-11","L",7,7,492,{"$f":"IF(ED62>=Saisies!$E$4,(IF(EE61<=Saisies!$E$4,DZ62,EE61)),0)","v":42622},{"$f":"IF(DZ62=Saisies!$C$7,MIN((ABS(Saisies!$E$4-ED61)),EG62),EG62)","v":""},{"$f":"IF(ISERROR((IF(DZ62>Saisies!$C$7,\"\",IF(ISERROR(IF(DZ62<Saisies!$B$7,\"\",EB62)*EH62),IF(DZ62<Saisies!$B$7,\"\",EB62),\"\")))*(IF(ISERROR(EI62+1),0,EI62))*EJ62*EK62*EL62),\"\",(IF(DZ62>Saisies!$C$7,\"\",IF(ISERROR(IF(DZ62<Saisies!$B$7,\"\",EB62)*EH62),IF(DZ62<Saisies!$B$7,\"\",EB62),\"\")))*(IF(ISERROR(EI62+1),0,EI62))*EJ62*EK62*EL62)","v":""},"",1,{"$f":"IF(DZ62>Saisies!$C$25,1,(IF(DZ62<Saisies!$B$25,1,IF(Saisies!$B$25=0,1,0))))","v":1},{"$f":"IF(DZ62>Saisies!$E$25,1,(IF(DZ62<Saisies!$D$25,1,IF(Saisies!$D$25=0,1,0))))","v":1},{"$f":"IF(DZ62>Saisies!$G$25,1,(IF(DZ62<Saisies!$F$25,1,IF(Saisies!$F$25<10,1,0))))","v":1},{"$f":"IF(DZ62>Saisies!$C$10,\"\",(IF(DZ62<Saisies!$B$10,\"\",EC62)))","v":""},{"$f":"IF(DZ62>Saisies!$E$10,\"\",(IF(DZ62<Saisies!$D$10,\"\",EC62)))","v":""},{"$f":"IF(DZ62>Saisies!$G$10,\"\",(IF(DZ62<Saisies!$F$10,\"\",EC62)))","v":""},"2017-10-11","M",8,7,492,{"$f":"IF(ET62>=Saisies!$E$4,(IF(EU61<=Saisies!$E$4,EP62,EU61)),0)","v":42622},{"$f":"IF(EP62=Saisies!$C$7,MIN((ABS(Saisies!$E$4-ET61)),EW62),EW62)","v":""},{"$f":"IF(ISERROR((IF(EP62>Saisies!$C$7,\"\",IF(ISERROR(IF(EP62<Saisies!$B$7,\"\",ER62)*EX62),IF(EP62<Saisies!$B$7,\"\",ER62),\"\")))*(IF(ISERROR(EY62+1),0,EY62))*EZ62*FA62*FB62),\"\",(IF(EP62>Saisies!$C$7,\"\",IF(ISERROR(IF(EP62<Saisies!$B$7,\"\",ER62)*EX62),IF(EP62<Saisies!$B$7,\"\",ER62),\"\")))*(IF(ISERROR(EY62+1),0,EY62))*EZ62*FA62*FB62)","v":""},"",1,{"$f":"IF(EP62>Saisies!$C$25,1,(IF(EP62<Saisies!$B$25,1,IF(Saisies!$B$25=0,1,0))))","v":1},{"$f":"IF(EP62>Saisies!$E$25,1,(IF(EP62<Saisies!$D$25,1,IF(Saisies!$D$25=0,1,0))))","v":1},{"$f":"IF(EP62>Saisies!$G$25,1,(IF(EP62<Saisies!$F$25,1,IF(Saisies!$F$25<10,1,0))))","v":1},{"$f":"IF(EP62>Saisies!$C$10,\"\",(IF(EP62<Saisies!$B$10,\"\",ES62)))","v":""},{"$f":"IF(EP62>Saisies!$E$10,\"\",(IF(EP62<Saisies!$D$10,\"\",ES62)))","v":""},{"$f":"IF(EP62>Saisies!$G$10,\"\",(IF(EP62<Saisies!$F$10,\"\",ES62)))","v":""},"2017-11-11","S",0,0,492,{"$f":"IF(FJ62>=Saisies!$E$4,(IF(FK61<=Saisies!$E$4,FF62,FK61)),0)","v":42622},{"$f":"IF(FF62=Saisies!$C$7,MIN((ABS(Saisies!$E$4-FJ61)),FM62),FM62)","v":""},{"$f":"IF(ISERROR((IF(FF62>Saisies!$C$7,\"\",IF(ISERROR(IF(FF62<Saisies!$B$7,\"\",FH62)*FN62),IF(FF62<Saisies!$B$7,\"\",FH62),\"\")))*FO62*FP62*FQ62*FR62),\"\",(IF(FF62>Saisies!$C$7,\"\",IF(ISERROR(IF(FF62<Saisies!$B$7,\"\",FH62)*FN62),IF(FF62<Saisies!$B$7,\"\",FH62),\"\")))*FO62*FP62*FQ62*FR62)","v":""},{"$f":"IF((SUM(FS62:FU62)*FO62*FP62*FQ62*FR62)=0,\"\",SUM(FS62:FU62))","v":""},0,{"$f":"IF(FF62>Saisies!$C$25,1,(IF(FF62<Saisies!$B$25,1,IF(Saisies!$B$25=0,1,0))))","v":1},{"$f":"IF(FF62>Saisies!$E$25,1,(IF(FF62<Saisies!$D$25,1,IF(Saisies!$D$25=0,1,0))))","v":1},{"$f":"IF(FF62>Saisies!$G$25,1,(IF(FF62<Saisies!$F$25,1,IF(Saisies!$F$25<10,1,0))))","v":1},{"$f":"IF(FF62>Saisies!$C$10,\"\",(IF(FF62<Saisies!$B$10,\"\",FI62)))","v":""},{"$f":"IF(FF62>Saisies!$E$10,\"\",(IF(FF62<Saisies!$D$10,\"\",FI62)))","v":""},{"$f":"IF(FF62>Saisies!$G$10,\"\",(IF(FF62<Saisies!$F$10,\"\",FI62)))","v":""},"2017-12-11","L",7,7,492,{"$f":"IF(FZ62>=Saisies!$E$4,(IF(GA61<=Saisies!$E$4,FV62,GA61)),0)","v":42622},{"$f":"IF(FV62=Saisies!$C$7,MIN((ABS(Saisies!$E$4-FZ61)),GC62),GC62)","v":""},{"$f":"IF(ISERROR((IF(FV62>Saisies!$C$7,\"\",IF(ISERROR(IF(FV62<Saisies!$B$7,\"\",FX62)*GD62),IF(FV62<Saisies!$B$7,\"\",FX62),\"\")))*(IF(ISERROR(GE62+1),0,GE62))*GF62*GG62*GH62),\"\",(IF(FV62>Saisies!$C$7,\"\",IF(ISERROR(IF(FV62<Saisies!$B$7,\"\",FX62)*GD62),IF(FV62<Saisies!$B$7,\"\",FX62),\"\")))*(IF(ISERROR(GE62+1),0,GE62))*GF62*GG62*GH62)","v":""},"",1,{"$f":"IF(FV62>Saisies!$C$25,1,(IF(FV62<Saisies!$B$25,1,IF(Saisies!$B$25=0,1,0))))","v":1},{"$f":"IF(FV62>Saisies!$E$25,1,(IF(FV62<Saisies!$D$25,1,IF(Saisies!$D$25=0,1,0))))","v":1},{"$f":"IF(FV62>Saisies!$G$25,1,(IF(FV62<Saisies!$F$25,1,IF(Saisies!$F$25<10,1,0))))","v":1},{"$f":"IF(FV62>Saisies!$C$10,\"\",(IF(FV62<Saisies!$B$10,\"\",FY62)))","v":""},{"$f":"IF(FV62>Saisies!$E$10,\"\",(IF(FV62<Saisies!$D$10,\"\",FY62)))","v":""},{"$f":"IF(FV62>Saisies!$G$10,\"\",(IF(FV62<Saisies!$F$10,\"\",FY62)))","v":""}]
[null,"2017-01-12","J",8,7,492,{"$f":"IF(F63>=Saisies!$E$4,(IF(G62<=Saisies!$E$4,B63,G62)),0)","v":42622},{"$f":"IF(B63=Saisies!$C$7,MIN((ABS(Saisies!$E$4-F62)),I63),I63)","v":""},{"$f":"IF(ISERROR((IF(B63>Saisies!$C$7,\"\",IF(ISERROR(IF(B63<Saisies!$B$7,\"\",D63)*J63),IF(B63<Saisies!$B$7,\"\",D63),\"\")))*(IF(ISERROR(K63+1),0,K63))*L63*M63*N63),\"\",(IF(B63>Saisies!$C$7,\"\",IF(ISERROR(IF(B63<Saisies!$B$7,\"\",D63)*J63),IF(B63<Saisies!$B$7,\"\",D63),\"\")))*(IF(ISERROR(K63+1),0,K63))*L63*M63*N63)","v":""},"",1,{"$f":"IF(B63>Saisies!$C$25,1,(IF(B63<Saisies!$B$25,1,IF(Saisies!$B$25=0,1,0))))","v":1},{"$f":"IF(B63>Saisies!$E$25,1,(IF(B63<Saisies!$D$25,1,IF(Saisies!$D$25=0,1,0))))","v":1},{"$f":"IF(B63>Saisies!$G$25,1,(IF(B63<Saisies!$F$25,1,IF(Saisies!$F$25<10,1,0))))","v":1},{"$f":"IF(B63>Saisies!$C$10,\"\",(IF(B63<Saisies!$B$10,\"\",E63)))","v":""},{"$f":"IF(B63>Saisies!$E$10,\"\",(IF(B63<Saisies!$D$10,\"\",E63)))","v":""},{"$f":"IF(B63>Saisies!$G$10,\"\",(IF(B63<Saisies!$F$10,\"\",E63)))","v":""},"2017-02-12","D",0,0,492,{"$f":"IF(V63>=Saisies!$E$4,(IF(W62<=Saisies!$E$4,R63,W62)),0)","v":42622},{"$f":"IF(R63=Saisies!$C$7,MIN((ABS(Saisies!$E$4-V62)),Y63),Y63)","v":""},{"$f":"IF(ISERROR((IF(R63>Saisies!$C$7,\"\",IF(ISERROR(IF(R63<Saisies!$B$7,\"\",T63)*Z63),IF(R63<Saisies!$B$7,\"\",T63),\"\")))*(IF(ISERROR(AA63+1),0,AA63))*AB63*AC63*AD63),\"\",(IF(R63>Saisies!$C$7,\"\",IF(ISERROR(IF(R63<Saisies!$B$7,\"\",T63)*Z63),IF(R63<Saisies!$B$7,\"\",T63),\"\")))*(IF(ISERROR(AA63+1),0,AA63))*AB63*AC63*AD63)","v":""},"",1,{"$f":"IF(R63>Saisies!$C$25,1,(IF(R63<Saisies!$B$25,1,IF(Saisies!$B$25=0,1,0))))","v":1},{"$f":"IF(R63>Saisies!$E$25,1,(IF(R63<Saisies!$D$25,1,IF(Saisies!$D$25=0,1,0))))","v":1},{"$f":"IF(R63>Saisies!$G$25,1,(IF(R63<Saisies!$F$25,1,IF(Saisies!$F$25<10,1,0))))","v":1},{"$f":"IF(R63>Saisies!$C$10,\"\",(IF(R63<Saisies!$B$10,\"\",U63)))","v":""},{"$f":"IF(R63>Saisies!$E$10,\"\",(IF(R63<Saisies!$D$10,\"\",U63)))","v":""},{"$f":"IF(R63>Saisies!$G$10,\"\",(IF(R63<Saisies!$F$10,\"\",U63)))","v":""},"2017-03-12","D",0,0,492,{"$f":"IF(AL63>=Saisies!$E$4,(IF(AM62<=Saisies!$E$4,AH63,AM62)),0)","v":42622},{"$f":"IF(AH63=Saisies!$C$7,MIN((ABS(Saisies!$E$4-AL62)),AO63),AO63)","v":""},{"$f":"IF(ISERROR((IF(AH63>Saisies!$C$7,\"\",IF(ISERROR(IF(AH63<Saisies!$B$7,\"\",AJ63)*AP63),IF(AH63<Saisies!$B$7,\"\",AJ63),\"\")))*(IF(ISERROR(AQ63+1),0,AQ63))*AR63*AS63*AT63),\"\",(IF(AH63>Saisies!$C$7,\"\",IF(ISERROR(IF(AH63<Saisies!$B$7,\"\",AJ63)*AP63),IF(AH63<Saisies!$B$7,\"\",AJ63),\"\")))*(IF(ISERROR(AQ63+1),0,AQ63))*AR63*AS63*AT63)","v":""},"",1,{"$f":"IF(AH63>Saisies!$C$25,1,(IF(AH63<Saisies!$B$25,1,IF(Saisies!$B$25=0,1,0))))","v":1},{"$f":"IF(AH63>Saisies!$E$25,1,(IF(AH63<Saisies!$D$25,1,IF(Saisies!$D$25=0,1,0))))","v":1},{"$f":"IF(AH63>Saisies!$G$25,1,(IF(AH63<Saisies!$F$25,1,IF(Saisies!$F$25<10,1,0))))","v":1},{"$f":"IF(AH63>Saisies!$C$10,\"\",(IF(AH63<Saisies!$B$10,\"\",AK63)))","v":""},{"$f":"IF(AH63>Saisies!$E$10,\"\",(IF(AH63<Saisies!$D$10,\"\",AK63)))","v":""},{"$f":"IF(AH63>Saisies!$G$10,\"\",(IF(AH63<Saisies!$F$10,\"\",AK63)))","v":""},"2017-04-12","M",8,7,492,{"$f":"IF(BB63>=Saisies!$E$4,(IF(BC62<=Saisies!$E$4,AX63,BC62)),0)","v":42622},{"$f":"IF(AX63=Saisies!$C$7,MIN((ABS(Saisies!$E$4-BB62)),BE63),BE63)","v":""},{"$f":"IF(ISERROR((IF(AX63>Saisies!$C$7,\"\",IF(ISERROR(IF(AX63<Saisies!$B$7,\"\",AZ63)*BF63),IF(AX63<Saisies!$B$7,\"\",AZ63),\"\")))*(IF(ISERROR(BG63+1),0,BG63))*BH63*BI63*BJ63),\"\",(IF(AX63>Saisies!$C$7,\"\",IF(ISERROR(IF(AX63<Saisies!$B$7,\"\",AZ63)*BF63),IF(AX63<Saisies!$B$7,\"\",AZ63),\"\")))*(IF(ISERROR(BG63+1),0,BG63))*BH63*BI63*BJ63)","v":""},"",1,{"$f":"IF(AX63>Saisies!$C$25,1,(IF(AX63<Saisies!$B$25,1,IF(Saisies!$B$25=0,1,0))))","v":1},{"$f":"IF(AX63>Saisies!$E$25,1,(IF(AX63<Saisies!$D$25,1,IF(Saisies!$D$25=0,1,0))))","v":1},{"$f":"IF(AX63>Saisies!$G$25,1,(IF(AX63<Saisies!$F$25,1,IF(Saisies!$F$25<10,1,0))))","v":1},{"$f":"IF(AX63>Saisies!$C$10,\"\",(IF(AX63<Saisies!$B$10,\"\",BA63)))","v":""},{"$f":"IF(AX63>Saisies!$E$10,\"\",(IF(AX63<Saisies!$D$10,\"\",BA63)))","v":""},{"$f":"IF(AX63>Saisies!$G$10,\"\",(IF(AX63<Saisies!$F$10,\"\",BA63)))","v":""},"2017-05-12","V",4,7,492,{"$f":"IF(BR63>=Saisies!$E$4,(IF(BS62<=Saisies!$E$4,BN63,BS62)),0)","v":42622},{"$f":"IF(BN63=Saisies!$C$7,MIN((ABS(Saisies!$E$4-BR62)),BU63),BU63)","v":""},{"$f":"IF(ISERROR((IF(BN63>Saisies!$C$7,\"\",IF(ISERROR(IF(BN63<Saisies!$B$7,\"\",BP63)*BV63),IF(BN63<Saisies!$B$7,\"\",BP63),\"\")))*(IF(ISERROR(BW63+1),0,BW63))*BX63*BY63*BZ63),\"\",(IF(BN63>Saisies!$C$7,\"\",IF(ISERROR(IF(BN63<Saisies!$B$7,\"\",BP63)*BV63),IF(BN63<Saisies!$B$7,\"\",BP63),\"\")))*(IF(ISERROR(BW63+1),0,BW63))*BX63*BY63*BZ63)","v":""},"",1,{"$f":"IF(BN63>Saisies!$C$25,1,(IF(BN63<Saisies!$B$25,1,IF(Saisies!$B$25=0,1,0))))","v":1},{"$f":"IF(BN63>Saisies!$E$25,1,(IF(BN63<Saisies!$D$25,1,IF(Saisies!$D$25=0,1,0))))","v":1},{"$f":"IF(BN63>Saisies!$G$25,1,(IF(BN63<Saisies!$F$25,1,IF(Saisies!$F$25<10,1,0))))","v":1},{"$f":"IF(BN63>Saisies!$C$10,\"\",(IF(BN63<Saisies!$B$10,\"\",BQ63)))","v":""},{"$f":"IF(BN63>Saisies!$E$10,\"\",(IF(BN63<Saisies!$D$10,\"\",BQ63)))","v":""},{"$f":"IF(BN63>Saisies!$G$10,\"\",(IF(BN63<Saisies!$F$10,\"\",BQ63)))","v":""},"2017-06-12","L",7,7,492,{"$f":"IF(CH63>=Saisies!$E$4,(IF(CI62<=Saisies!$E$4,CD63,CI62)),0)","v":42622},{"$f":"IF(CD63=Saisies!$C$7,MIN((ABS(Saisies!$E$4-CH62)),CK63),CK63)","v":""},{"$f":"IF(ISERROR((IF(CD63>Saisies!$C$7,\"\",IF(ISERROR(IF(CD63<Saisies!$B$7,\"\",CF63)*CL63),IF(CD63<Saisies!$B$7,\"\",CF63),\"\")))*(IF(ISERROR(CM63+1),0,CM63))*CN63*CO63*CP63),\"\",(IF(CD63>Saisies!$C$7,\"\",IF(ISERROR(IF(CD63<Saisies!$B$7,\"\",CF63)*CL63),IF(CD63<Saisies!$B$7,\"\",CF63),\"\")))*(IF(ISERROR(CM63+1),0,CM63))*CN63*CO63*CP63)","v":""},"",1,{"$f":"IF(CD63>Saisies!$C$25,1,(IF(CD63<Saisies!$B$25,1,IF(Saisies!$B$25=0,1,0))))","v":1},{"$f":"IF(CD63>Saisies!$E$25,1,(IF(CD63<Saisies!$D$25,1,IF(Saisies!$D$25=0,1,0))))","v":1},{"$f":"IF(CD63>Saisies!$G$25,1,(IF(CD63<Saisies!$F$25,1,IF(Saisies!$F$25<10,1,0))))","v":1},{"$f":"IF(CD63>Saisies!$C$10,\"\",(IF(CD63<Saisies!$B$10,\"\",CG63)))","v":""},{"$f":"IF(CD63>Saisies!$E$10,\"\",(IF(CD63<Saisies!$D$10,\"\",CG63)))","v":""},{"$f":"IF(CD63>Saisies!$G$10,\"\",(IF(CD63<Saisies!$F$10,\"\",CG63)))","v":""},"2017-07-12","M",8,7,492,{"$f":"IF(CX63>=Saisies!$E$4,(IF(CY62<=Saisies!$E$4,CT63,CY62)),0)","v":42622},{"$f":"IF(CT63=Saisies!$C$7,MIN((ABS(Saisies!$E$4-CX62)),DA63),DA63)","v":""},{"$f":"IF(ISERROR((IF(CT63>Saisies!$C$7,\"\",IF(ISERROR(IF(CT63<Saisies!$B$7,\"\",CV63)*DB63),IF(CT63<Saisies!$B$7,\"\",CV63),\"\")))*(IF(ISERROR(DC63+1),0,DC63))*DD63*DE63*DF63),\"\",(IF(CT63>Saisies!$C$7,\"\",IF(ISERROR(IF(CT63<Saisies!$B$7,\"\",CV63)*DB63),IF(CT63<Saisies!$B$7,\"\",CV63),\"\")))*(IF(ISERROR(DC63+1),0,DC63))*DD63*DE63*DF63)","v":""},"",1,{"$f":"IF(CT63>Saisies!$C$25,1,(IF(CT63<Saisies!$B$25,1,IF(Saisies!$B$25=0,1,0))))","v":1},{"$f":"IF(CT63>Saisies!$E$25,1,(IF(CT63<Saisies!$D$25,1,IF(Saisies!$D$25=0,1,0))))","v":1},{"$f":"IF(CT63>Saisies!$G$25,1,(IF(CT63<Saisies!$F$25,1,IF(Saisies!$F$25<10,1,0))))","v":1},{"$f":"IF(CT63>Saisies!$C$10,\"\",(IF(CT63<Saisies!$B$10,\"\",CW63)))","v":""},{"$f":"IF(CT63>Saisies!$E$10,\"\",(IF(CT63<Saisies!$D$10,\"\",CW63)))","v":""},{"$f":"IF(CT63>Saisies!$G$10,\"\",(IF(CT63<Saisies!$F$10,\"\",CW63)))","v":""},"2017-08-12","S",0,0,492,{"$f":"IF(DN63>=Saisies!$E$4,(IF(DO62<=Saisies!$E$4,DJ63,DO62)),0)","v":42622},{"$f":"IF(DJ63=Saisies!$C$7,MIN((ABS(Saisies!$E$4-DN62)),DQ63),DQ63)","v":""},{"$f":"IF(ISERROR((IF(DJ63>Saisies!$C$7,\"\",IF(ISERROR(IF(DJ63<Saisies!$B$7,\"\",DL63)*DR63),IF(DJ63<Saisies!$B$7,\"\",DL63),\"\")))*(IF(ISERROR(DS63+1),0,DS63))*DT63*DU63*DV63),\"\",(IF(DJ63>Saisies!$C$7,\"\",IF(ISERROR(IF(DJ63<Saisies!$B$7,\"\",DL63)*DR63),IF(DJ63<Saisies!$B$7,\"\",DL63),\"\")))*(IF(ISERROR(DS63+1),0,DS63))*DT63*DU63*DV63)","v":""},"",1,{"$f":"IF(DJ63>Saisies!$C$25,1,(IF(DJ63<Saisies!$B$25,1,IF(Saisies!$B$25=0,1,0))))","v":1},{"$f":"IF(DJ63>Saisies!$E$25,1,(IF(DJ63<Saisies!$D$25,1,IF(Saisies!$D$25=0,1,0))))","v":1},{"$f":"IF(DJ63>Saisies!$G$25,1,(IF(DJ63<Saisies!$F$25,1,IF(Saisies!$F$25<10,1,0))))","v":1},{"$f":"IF(DJ63>Saisies!$C$10,\"\",(IF(DJ63<Saisies!$B$10,\"\",DM63)))","v":""},{"$f":"IF(DJ63>Saisies!$E$10,\"\",(IF(DJ63<Saisies!$D$10,\"\",DM63)))","v":""},{"$f":"IF(DJ63>Saisies!$G$10,\"\",(IF(DJ63<Saisies!$F$10,\"\",DM63)))","v":""},"2017-09-12","M",8,7,492,{"$f":"IF(ED63>=Saisies!$E$4,(IF(EE62<=Saisies!$E$4,DZ63,EE62)),0)","v":42622},{"$f":"IF(DZ63=Saisies!$C$7,MIN((ABS(Saisies!$E$4-ED62)),EG63),EG63)","v":""},{"$f":"IF(ISERROR((IF(DZ63>Saisies!$C$7,\"\",IF(ISERROR(IF(DZ63<Saisies!$B$7,\"\",EB63)*EH63),IF(DZ63<Saisies!$B$7,\"\",EB63),\"\")))*(IF(ISERROR(EI63+1),0,EI63))*EJ63*EK63*EL63),\"\",(IF(DZ63>Saisies!$C$7,\"\",IF(ISERROR(IF(DZ63<Saisies!$B$7,\"\",EB63)*EH63),IF(DZ63<Saisies!$B$7,\"\",EB63),\"\")))*(IF(ISERROR(EI63+1),0,EI63))*EJ63*EK63*EL63)","v":""},"",1,{"$f":"IF(DZ63>Saisies!$C$25,1,(IF(DZ63<Saisies!$B$25,1,IF(Saisies!$B$25=0,1,0))))","v":1},{"$f":"IF(DZ63>Saisies!$E$25,1,(IF(DZ63<Saisies!$D$25,1,IF(Saisies!$D$25=0,1,0))))","v":1},{"$f":"IF(DZ63>Saisies!$G$25,1,(IF(DZ63<Saisies!$F$25,1,IF(Saisies!$F$25<10,1,0))))","v":1},{"$f":"IF(DZ63>Saisies!$C$10,\"\",(IF(DZ63<Saisies!$B$10,\"\",EC63)))","v":""},{"$f":"IF(DZ63>Saisies!$E$10,\"\",(IF(DZ63<Saisies!$D$10,\"\",EC63)))","v":""},{"$f":"IF(DZ63>Saisies!$G$10,\"\",(IF(DZ63<Saisies!$F$10,\"\",EC63)))","v":""},"2017-10-12","J",8,7,492,{"$f":"IF(ET63>=Saisies!$E$4,(IF(EU62<=Saisies!$E$4,EP63,EU62)),0)","v":42622},{"$f":"IF(EP63=Saisies!$C$7,MIN((ABS(Saisies!$E$4-ET62)),EW63),EW63)","v":""},{"$f":"IF(ISERROR((IF(EP63>Saisies!$C$7,\"\",IF(ISERROR(IF(EP63<Saisies!$B$7,\"\",ER63)*EX63),IF(EP63<Saisies!$B$7,\"\",ER63),\"\")))*(IF(ISERROR(EY63+1),0,EY63))*EZ63*FA63*FB63),\"\",(IF(EP63>Saisies!$C$7,\"\",IF(ISERROR(IF(EP63<Saisies!$B$7,\"\",ER63)*EX63),IF(EP63<Saisies!$B$7,\"\",ER63),\"\")))*(IF(ISERROR(EY63+1),0,EY63))*EZ63*FA63*FB63)","v":""},"",1,{"$f":"IF(EP63>Saisies!$C$25,1,(IF(EP63<Saisies!$B$25,1,IF(Saisies!$B$25=0,1,0))))","v":1},{"$f":"IF(EP63>Saisies!$E$25,1,(IF(EP63<Saisies!$D$25,1,IF(Saisies!$D$25=0,1,0))))","v":1},{"$f":"IF(EP63>Saisies!$G$25,1,(IF(EP63<Saisies!$F$25,1,IF(Saisies!$F$25<10,1,0))))","v":1},{"$f":"IF(EP63>Saisies!$C$10,\"\",(IF(EP63<Saisies!$B$10,\"\",ES63)))","v":""},{"$f":"IF(EP63>Saisies!$E$10,\"\",(IF(EP63<Saisies!$D$10,\"\",ES63)))","v":""},{"$f":"IF(EP63>Saisies!$G$10,\"\",(IF(EP63<Saisies!$F$10,\"\",ES63)))","v":""},"2017-11-12","D",0,0,492,{"$f":"IF(FJ63>=Saisies!$E$4,(IF(FK62<=Saisies!$E$4,FF63,FK62)),0)","v":42622},{"$f":"IF(FF63=Saisies!$C$7,MIN((ABS(Saisies!$E$4-FJ62)),FM63),FM63)","v":""},{"$f":"IF(ISERROR((IF(FF63>Saisies!$C$7,\"\",IF(ISERROR(IF(FF63<Saisies!$B$7,\"\",FH63)*FN63),IF(FF63<Saisies!$B$7,\"\",FH63),\"\")))*(IF(ISERROR(FO63+1),0,FO63))*FP63*FQ63*FR63),\"\",(IF(FF63>Saisies!$C$7,\"\",IF(ISERROR(IF(FF63<Saisies!$B$7,\"\",FH63)*FN63),IF(FF63<Saisies!$B$7,\"\",FH63),\"\")))*(IF(ISERROR(FO63+1),0,FO63))*FP63*FQ63*FR63)","v":""},{"$f":"IF((SUM(FS63:FU63)*(IF(ISERROR(FO63+1),0,FO63))*FP63*FQ63*FR63)=0,\"\",SUM(FS63:FU63))","v":""},{"$f":"IF(ISERROR(IF(IF(ISERROR(VLOOKUP(FF63,Champs,2,FALSE)),1,0)=0,LOOKUP(FF63,general),1)),0,(IF(IF(ISERROR(VLOOKUP(FF63,Champs,2,FALSE)),1,0)=0,LOOKUP(FF63,general),1)))","v":1},{"$f":"IF(FF63>Saisies!$C$25,1,(IF(FF63<Saisies!$B$25,1,IF(Saisies!$B$25=0,1,0))))","v":1},{"$f":"IF(FF63>Saisies!$E$25,1,(IF(FF63<Saisies!$D$25,1,IF(Saisies!$D$25=0,1,0))))","v":1},{"$f":"IF(FF63>Saisies!$G$25,1,(IF(FF63<Saisies!$F$25,1,IF(Saisies!$F$25<10,1,0))))","v":1},{"$f":"IF(FF63>Saisies!$C$10,\"\",(IF(FF63<Saisies!$B$10,\"\",FI63)))","v":""},{"$f":"IF(FF63>Saisies!$E$10,\"\",(IF(FF63<Saisies!$D$10,\"\",FI63)))","v":""},{"$f":"IF(FF63>Saisies!$G$10,\"\",(IF(FF63<Saisies!$F$10,\"\",FI63)))","v":""},"2017-12-12","M",8,7,492,{"$f":"IF(FZ63>=Saisies!$E$4,(IF(GA62<=Saisies!$E$4,FV63,GA62)),0)","v":42622},{"$f":"IF(FV63=Saisies!$C$7,MIN((ABS(Saisies!$E$4-FZ62)),GC63),GC63)","v":""},{"$f":"IF(ISERROR((IF(FV63>Saisies!$C$7,\"\",IF(ISERROR(IF(FV63<Saisies!$B$7,\"\",FX63)*GD63),IF(FV63<Saisies!$B$7,\"\",FX63),\"\")))*(IF(ISERROR(GE63+1),0,GE63))*GF63*GG63*GH63),\"\",(IF(FV63>Saisies!$C$7,\"\",IF(ISERROR(IF(FV63<Saisies!$B$7,\"\",FX63)*GD63),IF(FV63<Saisies!$B$7,\"\",FX63),\"\")))*(IF(ISERROR(GE63+1),0,GE63))*GF63*GG63*GH63)","v":""},"",1,{"$f":"IF(FV63>Saisies!$C$25,1,(IF(FV63<Saisies!$B$25,1,IF(Saisies!$B$25=0,1,0))))","v":1},{"$f":"IF(FV63>Saisies!$E$25,1,(IF(FV63<Saisies!$D$25,1,IF(Saisies!$D$25=0,1,0))))","v":1},{"$f":"IF(FV63>Saisies!$G$25,1,(IF(FV63<Saisies!$F$25,1,IF(Saisies!$F$25<10,1,0))))","v":1},{"$f":"IF(FV63>Saisies!$C$10,\"\",(IF(FV63<Saisies!$B$10,\"\",FY63)))","v":""},{"$f":"IF(FV63>Saisies!$E$10,\"\",(IF(FV63<Saisies!$D$10,\"\",FY63)))","v":""},{"$f":"IF(FV63>Saisies!$G$10,\"\",(IF(FV63<Saisies!$F$10,\"\",FY63)))","v":""}]
[null,"2017-01-13","V",4,7,492,{"$f":"IF(F64>=Saisies!$E$4,(IF(G63<=Saisies!$E$4,B64,G63)),0)","v":42622},{"$f":"IF(B64=Saisies!$C$7,MIN((ABS(Saisies!$E$4-F63)),I64),I64)","v":""},{"$f":"IF(ISERROR((IF(B64>Saisies!$C$7,\"\",IF(ISERROR(IF(B64<Saisies!$B$7,\"\",D64)*J64),IF(B64<Saisies!$B$7,\"\",D64),\"\")))*(IF(ISERROR(K64+1),0,K64))*L64*M64*N64),\"\",(IF(B64>Saisies!$C$7,\"\",IF(ISERROR(IF(B64<Saisies!$B$7,\"\",D64)*J64),IF(B64<Saisies!$B$7,\"\",D64),\"\")))*(IF(ISERROR(K64+1),0,K64))*L64*M64*N64)","v":""},"",1,{"$f":"IF(B64>Saisies!$C$25,1,(IF(B64<Saisies!$B$25,1,IF(Saisies!$B$25=0,1,0))))","v":1},{"$f":"IF(B64>Saisies!$E$25,1,(IF(B64<Saisies!$D$25,1,IF(Saisies!$D$25=0,1,0))))","v":1},{"$f":"IF(B64>Saisies!$G$25,1,(IF(B64<Saisies!$F$25,1,IF(Saisies!$F$25<10,1,0))))","v":1},{"$f":"IF(B64>Saisies!$C$10,\"\",(IF(B64<Saisies!$B$10,\"\",E64)))","v":""},{"$f":"IF(B64>Saisies!$E$10,\"\",(IF(B64<Saisies!$D$10,\"\",E64)))","v":""},{"$f":"IF(B64>Saisies!$G$10,\"\",(IF(B64<Saisies!$F$10,\"\",E64)))","v":""},"2017-02-13","L",7,7,492,{"$f":"IF(V64>=Saisies!$E$4,(IF(W63<=Saisies!$E$4,R64,W63)),0)","v":42622},{"$f":"IF(R64=Saisies!$C$7,MIN((ABS(Saisies!$E$4-V63)),Y64),Y64)","v":""},{"$f":"IF(ISERROR((IF(R64>Saisies!$C$7,\"\",IF(ISERROR(IF(R64<Saisies!$B$7,\"\",T64)*Z64),IF(R64<Saisies!$B$7,\"\",T64),\"\")))*(IF(ISERROR(AA64+1),0,AA64))*AB64*AC64*AD64),\"\",(IF(R64>Saisies!$C$7,\"\",IF(ISERROR(IF(R64<Saisies!$B$7,\"\",T64)*Z64),IF(R64<Saisies!$B$7,\"\",T64),\"\")))*(IF(ISERROR(AA64+1),0,AA64))*AB64*AC64*AD64)","v":""},"",1,{"$f":"IF(R64>Saisies!$C$25,1,(IF(R64<Saisies!$B$25,1,IF(Saisies!$B$25=0,1,0))))","v":1},{"$f":"IF(R64>Saisies!$E$25,1,(IF(R64<Saisies!$D$25,1,IF(Saisies!$D$25=0,1,0))))","v":1},{"$f":"IF(R64>Saisies!$G$25,1,(IF(R64<Saisies!$F$25,1,IF(Saisies!$F$25<10,1,0))))","v":1},{"$f":"IF(R64>Saisies!$C$10,\"\",(IF(R64<Saisies!$B$10,\"\",U64)))","v":""},{"$f":"IF(R64>Saisies!$E$10,\"\",(IF(R64<Saisies!$D$10,\"\",U64)))","v":""},{"$f":"IF(R64>Saisies!$G$10,\"\",(IF(R64<Saisies!$F$10,\"\",U64)))","v":""},"2017-03-13","L",7,7,492,{"$f":"IF(AL64>=Saisies!$E$4,(IF(AM63<=Saisies!$E$4,AH64,AM63)),0)","v":42622},{"$f":"IF(AH64=Saisies!$C$7,MIN((ABS(Saisies!$E$4-AL63)),AO64),AO64)","v":""},{"$f":"IF(ISERROR((IF(AH64>Saisies!$C$7,\"\",IF(ISERROR(IF(AH64<Saisies!$B$7,\"\",AJ64)*AP64),IF(AH64<Saisies!$B$7,\"\",AJ64),\"\")))*(IF(ISERROR(AQ64+1),0,AQ64))*AR64*AS64*AT64),\"\",(IF(AH64>Saisies!$C$7,\"\",IF(ISERROR(IF(AH64<Saisies!$B$7,\"\",AJ64)*AP64),IF(AH64<Saisies!$B$7,\"\",AJ64),\"\")))*(IF(ISERROR(AQ64+1),0,AQ64))*AR64*AS64*AT64)","v":""},"",1,{"$f":"IF(AH64>Saisies!$C$25,1,(IF(AH64<Saisies!$B$25,1,IF(Saisies!$B$25=0,1,0))))","v":1},{"$f":"IF(AH64>Saisies!$E$25,1,(IF(AH64<Saisies!$D$25,1,IF(Saisies!$D$25=0,1,0))))","v":1},{"$f":"IF(AH64>Saisies!$G$25,1,(IF(AH64<Saisies!$F$25,1,IF(Saisies!$F$25<10,1,0))))","v":1},{"$f":"IF(AH64>Saisies!$C$10,\"\",(IF(AH64<Saisies!$B$10,\"\",AK64)))","v":""},{"$f":"IF(AH64>Saisies!$E$10,\"\",(IF(AH64<Saisies!$D$10,\"\",AK64)))","v":""},{"$f":"IF(AH64>Saisies!$G$10,\"\",(IF(AH64<Saisies!$F$10,\"\",AK64)))","v":""},"2017-04-13","J",8,7,492,{"$f":"IF(BB64>=Saisies!$E$4,(IF(BC63<=Saisies!$E$4,AX64,BC63)),0)","v":42622},{"$f":"IF(AX64=Saisies!$C$7,MIN((ABS(Saisies!$E$4-BB63)),BE64),BE64)","v":""},{"$f":"IF(ISERROR((IF(AX64>Saisies!$C$7,\"\",IF(ISERROR(IF(AX64<Saisies!$B$7,\"\",AZ64)*BF64),IF(AX64<Saisies!$B$7,\"\",AZ64),\"\")))*(IF(ISERROR(BG64+1),0,BG64))*BH64*BI64*BJ64),\"\",(IF(AX64>Saisies!$C$7,\"\",IF(ISERROR(IF(AX64<Saisies!$B$7,\"\",AZ64)*BF64),IF(AX64<Saisies!$B$7,\"\",AZ64),\"\")))*(IF(ISERROR(BG64+1),0,BG64))*BH64*BI64*BJ64)","v":""},"",1,{"$f":"IF(AX64>Saisies!$C$25,1,(IF(AX64<Saisies!$B$25,1,IF(Saisies!$B$25=0,1,0))))","v":1},{"$f":"IF(AX64>Saisies!$E$25,1,(IF(AX64<Saisies!$D$25,1,IF(Saisies!$D$25=0,1,0))))","v":1},{"$f":"IF(AX64>Saisies!$G$25,1,(IF(AX64<Saisies!$F$25,1,IF(Saisies!$F$25<10,1,0))))","v":1},{"$f":"IF(AX64>Saisies!$C$10,\"\",(IF(AX64<Saisies!$B$10,\"\",BA64)))","v":""},{"$f":"IF(AX64>Saisies!$E$10,\"\",(IF(AX64<Saisies!$D$10,\"\",BA64)))","v":""},{"$f":"IF(AX64>Saisies!$G$10,\"\",(IF(AX64<Saisies!$F$10,\"\",BA64)))","v":""},"2017-05-13","S",0,0,492,{"$f":"IF(BR64>=Saisies!$E$4,(IF(BS63<=Saisies!$E$4,BN64,BS63)),0)","v":42622},{"$f":"IF(BN64=Saisies!$C$7,MIN((ABS(Saisies!$E$4-BR63)),BU64),BU64)","v":""},{"$f":"IF(ISERROR((IF(BN64>Saisies!$C$7,\"\",IF(ISERROR(IF(BN64<Saisies!$B$7,\"\",BP64)*BV64),IF(BN64<Saisies!$B$7,\"\",BP64),\"\")))*(IF(ISERROR(BW64+1),0,BW64))*BX64*BY64*BZ64),\"\",(IF(BN64>Saisies!$C$7,\"\",IF(ISERROR(IF(BN64<Saisies!$B$7,\"\",BP64)*BV64),IF(BN64<Saisies!$B$7,\"\",BP64),\"\")))*(IF(ISERROR(BW64+1),0,BW64))*BX64*BY64*BZ64)","v":""},"",1,{"$f":"IF(BN64>Saisies!$C$25,1,(IF(BN64<Saisies!$B$25,1,IF(Saisies!$B$25=0,1,0))))","v":1},{"$f":"IF(BN64>Saisies!$E$25,1,(IF(BN64<Saisies!$D$25,1,IF(Saisies!$D$25=0,1,0))))","v":1},{"$f":"IF(BN64>Saisies!$G$25,1,(IF(BN64<Saisies!$F$25,1,IF(Saisies!$F$25<10,1,0))))","v":1},{"$f":"IF(BN64>Saisies!$C$10,\"\",(IF(BN64<Saisies!$B$10,\"\",BQ64)))","v":""},{"$f":"IF(BN64>Saisies!$E$10,\"\",(IF(BN64<Saisies!$D$10,\"\",BQ64)))","v":""},{"$f":"IF(BN64>Saisies!$G$10,\"\",(IF(BN64<Saisies!$F$10,\"\",BQ64)))","v":""},"2017-06-13","M",8,7,492,{"$f":"IF(CH64>=Saisies!$E$4,(IF(CI63<=Saisies!$E$4,CD64,CI63)),0)","v":42622},{"$f":"IF(CD64=Saisies!$C$7,MIN((ABS(Saisies!$E$4-CH63)),CK64),CK64)","v":""},{"$f":"IF(ISERROR((IF(CD64>Saisies!$C$7,\"\",IF(ISERROR(IF(CD64<Saisies!$B$7,\"\",CF64)*CL64),IF(CD64<Saisies!$B$7,\"\",CF64),\"\")))*(IF(ISERROR(CM64+1),0,CM64))*CN64*CO64*CP64),\"\",(IF(CD64>Saisies!$C$7,\"\",IF(ISERROR(IF(CD64<Saisies!$B$7,\"\",CF64)*CL64),IF(CD64<Saisies!$B$7,\"\",CF64),\"\")))*(IF(ISERROR(CM64+1),0,CM64))*CN64*CO64*CP64)","v":""},"",1,{"$f":"IF(CD64>Saisies!$C$25,1,(IF(CD64<Saisies!$B$25,1,IF(Saisies!$B$25=0,1,0))))","v":1},{"$f":"IF(CD64>Saisies!$E$25,1,(IF(CD64<Saisies!$D$25,1,IF(Saisies!$D$25=0,1,0))))","v":1},{"$f":"IF(CD64>Saisies!$G$25,1,(IF(CD64<Saisies!$F$25,1,IF(Saisies!$F$25<10,1,0))))","v":1},{"$f":"IF(CD64>Saisies!$C$10,\"\",(IF(CD64<Saisies!$B$10,\"\",CG64)))","v":""},{"$f":"IF(CD64>Saisies!$E$10,\"\",(IF(CD64<Saisies!$D$10,\"\",CG64)))","v":""},{"$f":"IF(CD64>Saisies!$G$10,\"\",(IF(CD64<Saisies!$F$10,\"\",CG64)))","v":""},"2017-07-13","J",8,7,492,{"$f":"IF(CX64>=Saisies!$E$4,(IF(CY63<=Saisies!$E$4,CT64,CY63)),0)","v":42622},{"$f":"IF(CT64=Saisies!$C$7,MIN((ABS(Saisies!$E$4-CX63)),DA64),DA64)","v":""},{"$f":"IF(ISERROR((IF(CT64>Saisies!$C$7,\"\",IF(ISERROR(IF(CT64<Saisies!$B$7,\"\",CV64)*DB64),IF(CT64<Saisies!$B$7,\"\",CV64),\"\")))*(IF(ISERROR(DC64+1),0,DC64))*DD64*DE64*DF64),\"\",(IF(CT64>Saisies!$C$7,\"\",IF(ISERROR(IF(CT64<Saisies!$B$7,\"\",CV64)*DB64),IF(CT64<Saisies!$B$7,\"\",CV64),\"\")))*(IF(ISERROR(DC64+1),0,DC64))*DD64*DE64*DF64)","v":""},"",1,{"$f":"IF(CT64>Saisies!$C$25,1,(IF(CT64<Saisies!$B$25,1,IF(Saisies!$B$25=0,1,0))))","v":1},{"$f":"IF(CT64>Saisies!$E$25,1,(IF(CT64<Saisies!$D$25,1,IF(Saisies!$D$25=0,1,0))))","v":1},{"$f":"IF(CT64>Saisies!$G$25,1,(IF(CT64<Saisies!$F$25,1,IF(Saisies!$F$25<10,1,0))))","v":1},{"$f":"IF(CT64>Saisies!$C$10,\"\",(IF(CT64<Saisies!$B$10,\"\",CW64)))","v":""},{"$f":"IF(CT64>Saisies!$E$10,\"\",(IF(CT64<Saisies!$D$10,\"\",CW64)))","v":""},{"$f":"IF(CT64>Saisies!$G$10,\"\",(IF(CT64<Saisies!$F$10,\"\",CW64)))","v":""},"2017-08-13","D",0,0,492,{"$f":"IF(DN64>=Saisies!$E$4,(IF(DO63<=Saisies!$E$4,DJ64,DO63)),0)","v":42622},{"$f":"IF(DJ64=Saisies!$C$7,MIN((ABS(Saisies!$E$4-DN63)),DQ64),DQ64)","v":""},{"$f":"IF(ISERROR((IF(DJ64>Saisies!$C$7,\"\",IF(ISERROR(IF(DJ64<Saisies!$B$7,\"\",DL64)*DR64),IF(DJ64<Saisies!$B$7,\"\",DL64),\"\")))*(IF(ISERROR(DS64+1),0,DS64))*DT64*DU64*DV64),\"\",(IF(DJ64>Saisies!$C$7,\"\",IF(ISERROR(IF(DJ64<Saisies!$B$7,\"\",DL64)*DR64),IF(DJ64<Saisies!$B$7,\"\",DL64),\"\")))*(IF(ISERROR(DS64+1),0,DS64))*DT64*DU64*DV64)","v":""},"",1,{"$f":"IF(DJ64>Saisies!$C$25,1,(IF(DJ64<Saisies!$B$25,1,IF(Saisies!$B$25=0,1,0))))","v":1},{"$f":"IF(DJ64>Saisies!$E$25,1,(IF(DJ64<Saisies!$D$25,1,IF(Saisies!$D$25=0,1,0))))","v":1},{"$f":"IF(DJ64>Saisies!$G$25,1,(IF(DJ64<Saisies!$F$25,1,IF(Saisies!$F$25<10,1,0))))","v":1},{"$f":"IF(DJ64>Saisies!$C$10,\"\",(IF(DJ64<Saisies!$B$10,\"\",DM64)))","v":""},{"$f":"IF(DJ64>Saisies!$E$10,\"\",(IF(DJ64<Saisies!$D$10,\"\",DM64)))","v":""},{"$f":"IF(DJ64>Saisies!$G$10,\"\",(IF(DJ64<Saisies!$F$10,\"\",DM64)))","v":""},"2017-09-13","M",8,7,492,{"$f":"IF(ED64>=Saisies!$E$4,(IF(EE63<=Saisies!$E$4,DZ64,EE63)),0)","v":42622},{"$f":"IF(DZ64=Saisies!$C$7,MIN((ABS(Saisies!$E$4-ED63)),EG64),EG64)","v":""},{"$f":"IF(ISERROR((IF(DZ64>Saisies!$C$7,\"\",IF(ISERROR(IF(DZ64<Saisies!$B$7,\"\",EB64)*EH64),IF(DZ64<Saisies!$B$7,\"\",EB64),\"\")))*(IF(ISERROR(EI64+1),0,EI64))*EJ64*EK64*EL64),\"\",(IF(DZ64>Saisies!$C$7,\"\",IF(ISERROR(IF(DZ64<Saisies!$B$7,\"\",EB64)*EH64),IF(DZ64<Saisies!$B$7,\"\",EB64),\"\")))*(IF(ISERROR(EI64+1),0,EI64))*EJ64*EK64*EL64)","v":""},"",1,{"$f":"IF(DZ64>Saisies!$C$25,1,(IF(DZ64<Saisies!$B$25,1,IF(Saisies!$B$25=0,1,0))))","v":1},{"$f":"IF(DZ64>Saisies!$E$25,1,(IF(DZ64<Saisies!$D$25,1,IF(Saisies!$D$25=0,1,0))))","v":1},{"$f":"IF(DZ64>Saisies!$G$25,1,(IF(DZ64<Saisies!$F$25,1,IF(Saisies!$F$25<10,1,0))))","v":1},{"$f":"IF(DZ64>Saisies!$C$10,\"\",(IF(DZ64<Saisies!$B$10,\"\",EC64)))","v":""},{"$f":"IF(DZ64>Saisies!$E$10,\"\",(IF(DZ64<Saisies!$D$10,\"\",EC64)))","v":""},{"$f":"IF(DZ64>Saisies!$G$10,\"\",(IF(DZ64<Saisies!$F$10,\"\",EC64)))","v":""},"2017-10-13","V",4,7,492,{"$f":"IF(ET64>=Saisies!$E$4,(IF(EU63<=Saisies!$E$4,EP64,EU63)),0)","v":42622},{"$f":"IF(EP64=Saisies!$C$7,MIN((ABS(Saisies!$E$4-ET63)),EW64),EW64)","v":""},{"$f":"IF(ISERROR((IF(EP64>Saisies!$C$7,\"\",IF(ISERROR(IF(EP64<Saisies!$B$7,\"\",ER64)*EX64),IF(EP64<Saisies!$B$7,\"\",ER64),\"\")))*(IF(ISERROR(EY64+1),0,EY64))*EZ64*FA64*FB64),\"\",(IF(EP64>Saisies!$C$7,\"\",IF(ISERROR(IF(EP64<Saisies!$B$7,\"\",ER64)*EX64),IF(EP64<Saisies!$B$7,\"\",ER64),\"\")))*(IF(ISERROR(EY64+1),0,EY64))*EZ64*FA64*FB64)","v":""},"",1,{"$f":"IF(EP64>Saisies!$C$25,1,(IF(EP64<Saisies!$B$25,1,IF(Saisies!$B$25=0,1,0))))","v":1},{"$f":"IF(EP64>Saisies!$E$25,1,(IF(EP64<Saisies!$D$25,1,IF(Saisies!$D$25=0,1,0))))","v":1},{"$f":"IF(EP64>Saisies!$G$25,1,(IF(EP64<Saisies!$F$25,1,IF(Saisies!$F$25<10,1,0))))","v":1},{"$f":"IF(EP64>Saisies!$C$10,\"\",(IF(EP64<Saisies!$B$10,\"\",ES64)))","v":""},{"$f":"IF(EP64>Saisies!$E$10,\"\",(IF(EP64<Saisies!$D$10,\"\",ES64)))","v":""},{"$f":"IF(EP64>Saisies!$G$10,\"\",(IF(EP64<Saisies!$F$10,\"\",ES64)))","v":""},"2017-11-13","L",7,7,492,{"$f":"IF(FJ64>=Saisies!$E$4,(IF(FK63<=Saisies!$E$4,FF64,FK63)),0)","v":42622},{"$f":"IF(FF64=Saisies!$C$7,MIN((ABS(Saisies!$E$4-FJ63)),FM64),FM64)","v":""},{"$f":"IF(ISERROR((IF(FF64>Saisies!$C$7,\"\",IF(ISERROR(IF(FF64<Saisies!$B$7,\"\",FH64)*FN64),IF(FF64<Saisies!$B$7,\"\",FH64),\"\")))*(IF(ISERROR(FO64+1),0,FO64))*FP64*FQ64*FR64),\"\",(IF(FF64>Saisies!$C$7,\"\",IF(ISERROR(IF(FF64<Saisies!$B$7,\"\",FH64)*FN64),IF(FF64<Saisies!$B$7,\"\",FH64),\"\")))*(IF(ISERROR(FO64+1),0,FO64))*FP64*FQ64*FR64)","v":""},"",1,{"$f":"IF(FF64>Saisies!$C$25,1,(IF(FF64<Saisies!$B$25,1,IF(Saisies!$B$25=0,1,0))))","v":1},{"$f":"IF(FF64>Saisies!$E$25,1,(IF(FF64<Saisies!$D$25,1,IF(Saisies!$D$25=0,1,0))))","v":1},{"$f":"IF(FF64>Saisies!$G$25,1,(IF(FF64<Saisies!$F$25,1,IF(Saisies!$F$25<10,1,0))))","v":1},{"$f":"IF(FF64>Saisies!$C$10,\"\",(IF(FF64<Saisies!$B$10,\"\",FI64)))","v":""},{"$f":"IF(FF64>Saisies!$E$10,\"\",(IF(FF64<Saisies!$D$10,\"\",FI64)))","v":""},{"$f":"IF(FF64>Saisies!$G$10,\"\",(IF(FF64<Saisies!$F$10,\"\",FI64)))","v":""},"2017-12-13","M",8,7,492,{"$f":"IF(FZ64>=Saisies!$E$4,(IF(GA63<=Saisies!$E$4,FV64,GA63)),0)","v":42622},{"$f":"IF(FV64=Saisies!$C$7,MIN((ABS(Saisies!$E$4-FZ63)),GC64),GC64)","v":""},{"$f":"IF(ISERROR((IF(FV64>Saisies!$C$7,\"\",IF(ISERROR(IF(FV64<Saisies!$B$7,\"\",FX64)*GD64),IF(FV64<Saisies!$B$7,\"\",FX64),\"\")))*(IF(ISERROR(GE64+1),0,GE64))*GF64*GG64*GH64),\"\",(IF(FV64>Saisies!$C$7,\"\",IF(ISERROR(IF(FV64<Saisies!$B$7,\"\",FX64)*GD64),IF(FV64<Saisies!$B$7,\"\",FX64),\"\")))*(IF(ISERROR(GE64+1),0,GE64))*GF64*GG64*GH64)","v":""},"",1,{"$f":"IF(FV64>Saisies!$C$25,1,(IF(FV64<Saisies!$B$25,1,IF(Saisies!$B$25=0,1,0))))","v":1},{"$f":"IF(FV64>Saisies!$E$25,1,(IF(FV64<Saisies!$D$25,1,IF(Saisies!$D$25=0,1,0))))","v":1},{"$f":"IF(FV64>Saisies!$G$25,1,(IF(FV64<Saisies!$F$25,1,IF(Saisies!$F$25<10,1,0))))","v":1},{"$f":"IF(FV64>Saisies!$C$10,\"\",(IF(FV64<Saisies!$B$10,\"\",FY64)))","v":""},{"$f":"IF(FV64>Saisies!$E$10,\"\",(IF(FV64<Saisies!$D$10,\"\",FY64)))","v":""},{"$f":"IF(FV64>Saisies!$G$10,\"\",(IF(FV64<Saisies!$F$10,\"\",FY64)))","v":""}]
[null,"2017-01-14","S",0,0,492,{"$f":"IF(F65>=Saisies!$E$4,(IF(G64<=Saisies!$E$4,B65,G64)),0)","v":42622},{"$f":"IF(B65=Saisies!$C$7,MIN((ABS(Saisies!$E$4-F64)),I65),I65)","v":""},{"$f":"IF(ISERROR((IF(B65>Saisies!$C$7,\"\",IF(ISERROR(IF(B65<Saisies!$B$7,\"\",D65)*J65),IF(B65<Saisies!$B$7,\"\",D65),\"\")))*(IF(ISERROR(K65+1),0,K65))*L65*M65*N65),\"\",(IF(B65>Saisies!$C$7,\"\",IF(ISERROR(IF(B65<Saisies!$B$7,\"\",D65)*J65),IF(B65<Saisies!$B$7,\"\",D65),\"\")))*(IF(ISERROR(K65+1),0,K65))*L65*M65*N65)","v":""},"",1,{"$f":"IF(B65>Saisies!$C$25,1,(IF(B65<Saisies!$B$25,1,IF(Saisies!$B$25=0,1,0))))","v":1},{"$f":"IF(B65>Saisies!$E$25,1,(IF(B65<Saisies!$D$25,1,IF(Saisies!$D$25=0,1,0))))","v":1},{"$f":"IF(B65>Saisies!$G$25,1,(IF(B65<Saisies!$F$25,1,IF(Saisies!$F$25<10,1,0))))","v":1},{"$f":"IF(B65>Saisies!$C$10,\"\",(IF(B65<Saisies!$B$10,\"\",E65)))","v":""},{"$f":"IF(B65>Saisies!$E$10,\"\",(IF(B65<Saisies!$D$10,\"\",E65)))","v":""},{"$f":"IF(B65>Saisies!$G$10,\"\",(IF(B65<Saisies!$F$10,\"\",E65)))","v":""},"2017-02-14","M",8,7,492,{"$f":"IF(V65>=Saisies!$E$4,(IF(W64<=Saisies!$E$4,R65,W64)),0)","v":42622},{"$f":"IF(R65=Saisies!$C$7,MIN((ABS(Saisies!$E$4-V64)),Y65),Y65)","v":""},{"$f":"IF(ISERROR((IF(R65>Saisies!$C$7,\"\",IF(ISERROR(IF(R65<Saisies!$B$7,\"\",T65)*Z65),IF(R65<Saisies!$B$7,\"\",T65),\"\")))*(IF(ISERROR(AA65+1),0,AA65))*AB65*AC65*AD65),\"\",(IF(R65>Saisies!$C$7,\"\",IF(ISERROR(IF(R65<Saisies!$B$7,\"\",T65)*Z65),IF(R65<Saisies!$B$7,\"\",T65),\"\")))*(IF(ISERROR(AA65+1),0,AA65))*AB65*AC65*AD65)","v":""},"",1,{"$f":"IF(R65>Saisies!$C$25,1,(IF(R65<Saisies!$B$25,1,IF(Saisies!$B$25=0,1,0))))","v":1},{"$f":"IF(R65>Saisies!$E$25,1,(IF(R65<Saisies!$D$25,1,IF(Saisies!$D$25=0,1,0))))","v":1},{"$f":"IF(R65>Saisies!$G$25,1,(IF(R65<Saisies!$F$25,1,IF(Saisies!$F$25<10,1,0))))","v":1},{"$f":"IF(R65>Saisies!$C$10,\"\",(IF(R65<Saisies!$B$10,\"\",U65)))","v":""},{"$f":"IF(R65>Saisies!$E$10,\"\",(IF(R65<Saisies!$D$10,\"\",U65)))","v":""},{"$f":"IF(R65>Saisies!$G$10,\"\",(IF(R65<Saisies!$F$10,\"\",U65)))","v":""},"2017-03-14","M",8,7,492,{"$f":"IF(AL65>=Saisies!$E$4,(IF(AM64<=Saisies!$E$4,AH65,AM64)),0)","v":42622},{"$f":"IF(AH65=Saisies!$C$7,MIN((ABS(Saisies!$E$4-AL64)),AO65),AO65)","v":""},{"$f":"IF(ISERROR((IF(AH65>Saisies!$C$7,\"\",IF(ISERROR(IF(AH65<Saisies!$B$7,\"\",AJ65)*AP65),IF(AH65<Saisies!$B$7,\"\",AJ65),\"\")))*(IF(ISERROR(AQ65+1),0,AQ65))*AR65*AS65*AT65),\"\",(IF(AH65>Saisies!$C$7,\"\",IF(ISERROR(IF(AH65<Saisies!$B$7,\"\",AJ65)*AP65),IF(AH65<Saisies!$B$7,\"\",AJ65),\"\")))*(IF(ISERROR(AQ65+1),0,AQ65))*AR65*AS65*AT65)","v":""},"",1,{"$f":"IF(AH65>Saisies!$C$25,1,(IF(AH65<Saisies!$B$25,1,IF(Saisies!$B$25=0,1,0))))","v":1},{"$f":"IF(AH65>Saisies!$E$25,1,(IF(AH65<Saisies!$D$25,1,IF(Saisies!$D$25=0,1,0))))","v":1},{"$f":"IF(AH65>Saisies!$G$25,1,(IF(AH65<Saisies!$F$25,1,IF(Saisies!$F$25<10,1,0))))","v":1},{"$f":"IF(AH65>Saisies!$C$10,\"\",(IF(AH65<Saisies!$B$10,\"\",AK65)))","v":""},{"$f":"IF(AH65>Saisies!$E$10,\"\",(IF(AH65<Saisies!$D$10,\"\",AK65)))","v":""},{"$f":"IF(AH65>Saisies!$G$10,\"\",(IF(AH65<Saisies!$F$10,\"\",AK65)))","v":""},"2017-04-14","V",4,7,492,{"$f":"IF(BB65>=Saisies!$E$4,(IF(BC64<=Saisies!$E$4,AX65,BC64)),0)","v":42622},{"$f":"IF(AX65=Saisies!$C$7,MIN((ABS(Saisies!$E$4-BB64)),BE65),BE65)","v":""},{"$f":"IF(ISERROR((IF(AX65>Saisies!$C$7,\"\",IF(ISERROR(IF(AX65<Saisies!$B$7,\"\",AZ65)*BF65),IF(AX65<Saisies!$B$7,\"\",AZ65),\"\")))*(IF(ISERROR(BG65+1),0,BG65))*BH65*BI65*BJ65),\"\",(IF(AX65>Saisies!$C$7,\"\",IF(ISERROR(IF(AX65<Saisies!$B$7,\"\",AZ65)*BF65),IF(AX65<Saisies!$B$7,\"\",AZ65),\"\")))*(IF(ISERROR(BG65+1),0,BG65))*BH65*BI65*BJ65)","v":""},"","B",{"$f":"IF(AX65>Saisies!$C$25,1,(IF(AX65<Saisies!$B$25,1,IF(Saisies!$B$25=0,1,0))))","v":1},{"$f":"IF(AX65>Saisies!$E$25,1,(IF(AX65<Saisies!$D$25,1,IF(Saisies!$D$25=0,1,0))))","v":1},{"$f":"IF(AX65>Saisies!$G$25,1,(IF(AX65<Saisies!$F$25,1,IF(Saisies!$F$25<10,1,0))))","v":1},{"$f":"IF(AX65>Saisies!$C$10,\"\",(IF(AX65<Saisies!$B$10,\"\",BA65)))","v":""},{"$f":"IF(AX65>Saisies!$E$10,\"\",(IF(AX65<Saisies!$D$10,\"\",BA65)))","v":""},{"$f":"IF(AX65>Saisies!$G$10,\"\",(IF(AX65<Saisies!$F$10,\"\",BA65)))","v":""},"2017-05-14","D",0,0,492,{"$f":"IF(BR65>=Saisies!$E$4,(IF(BS64<=Saisies!$E$4,BN65,BS64)),0)","v":42622},{"$f":"IF(BN65=Saisies!$C$7,MIN((ABS(Saisies!$E$4-BR64)),BU65),BU65)","v":""},{"$f":"IF(ISERROR((IF(BN65>Saisies!$C$7,\"\",IF(ISERROR(IF(BN65<Saisies!$B$7,\"\",BP65)*BV65),IF(BN65<Saisies!$B$7,\"\",BP65),\"\")))*(IF(ISERROR(BW65+1),0,BW65))*BX65*BY65*BZ65),\"\",(IF(BN65>Saisies!$C$7,\"\",IF(ISERROR(IF(BN65<Saisies!$B$7,\"\",BP65)*BV65),IF(BN65<Saisies!$B$7,\"\",BP65),\"\")))*(IF(ISERROR(BW65+1),0,BW65))*BX65*BY65*BZ65)","v":""},"",1,{"$f":"IF(BN65>Saisies!$C$25,1,(IF(BN65<Saisies!$B$25,1,IF(Saisies!$B$25=0,1,0))))","v":1},{"$f":"IF(BN65>Saisies!$E$25,1,(IF(BN65<Saisies!$D$25,1,IF(Saisies!$D$25=0,1,0))))","v":1},{"$f":"IF(BN65>Saisies!$G$25,1,(IF(BN65<Saisies!$F$25,1,IF(Saisies!$F$25<10,1,0))))","v":1},{"$f":"IF(BN65>Saisies!$C$10,\"\",(IF(BN65<Saisies!$B$10,\"\",BQ65)))","v":""},{"$f":"IF(BN65>Saisies!$E$10,\"\",(IF(BN65<Saisies!$D$10,\"\",BQ65)))","v":""},{"$f":"IF(BN65>Saisies!$G$10,\"\",(IF(BN65<Saisies!$F$10,\"\",BQ65)))","v":""},"2017-06-14","M",8,7,492,{"$f":"IF(CH65>=Saisies!$E$4,(IF(CI64<=Saisies!$E$4,CD65,CI64)),0)","v":42622},{"$f":"IF(CD65=Saisies!$C$7,MIN((ABS(Saisies!$E$4-CH64)),CK65),CK65)","v":""},{"$f":"IF(ISERROR((IF(CD65>Saisies!$C$7,\"\",IF(ISERROR(IF(CD65<Saisies!$B$7,\"\",CF65)*CL65),IF(CD65<Saisies!$B$7,\"\",CF65),\"\")))*(IF(ISERROR(CM65+1),0,CM65))*CN65*CO65*CP65),\"\",(IF(CD65>Saisies!$C$7,\"\",IF(ISERROR(IF(CD65<Saisies!$B$7,\"\",CF65)*CL65),IF(CD65<Saisies!$B$7,\"\",CF65),\"\")))*(IF(ISERROR(CM65+1),0,CM65))*CN65*CO65*CP65)","v":""},"",1,{"$f":"IF(CD65>Saisies!$C$25,1,(IF(CD65<Saisies!$B$25,1,IF(Saisies!$B$25=0,1,0))))","v":1},{"$f":"IF(CD65>Saisies!$E$25,1,(IF(CD65<Saisies!$D$25,1,IF(Saisies!$D$25=0,1,0))))","v":1},{"$f":"IF(CD65>Saisies!$G$25,1,(IF(CD65<Saisies!$F$25,1,IF(Saisies!$F$25<10,1,0))))","v":1},{"$f":"IF(CD65>Saisies!$C$10,\"\",(IF(CD65<Saisies!$B$10,\"\",CG65)))","v":""},{"$f":"IF(CD65>Saisies!$E$10,\"\",(IF(CD65<Saisies!$D$10,\"\",CG65)))","v":""},{"$f":"IF(CD65>Saisies!$G$10,\"\",(IF(CD65<Saisies!$F$10,\"\",CG65)))","v":""},"2017-07-14","V",4,7,492,{"$f":"IF(CX65>=Saisies!$E$4,(IF(CY64<=Saisies!$E$4,CT65,CY64)),0)","v":42622},{"$f":"IF(CT65=Saisies!$C$7,MIN((ABS(Saisies!$E$4-CX64)),DA65),DA65)","v":""},{"$f":"IF(ISERROR((IF(CT65>Saisies!$C$7,\"\",IF(ISERROR(IF(CT65<Saisies!$B$7,\"\",CV65)*DB65),IF(CT65<Saisies!$B$7,\"\",CV65),\"\")))*DC65*DD65*DE65*DF65),\"\",(IF(CT65>Saisies!$C$7,\"\",IF(ISERROR(IF(CT65<Saisies!$B$7,\"\",CV65)*DB65),IF(CT65<Saisies!$B$7,\"\",CV65),\"\")))*DC65*DD65*DE65*DF65)","v":""},{"$f":"IF((SUM(DG65:DI65)*DC65*DD65*DE65*DF65)=0,\"\",SUM(DG65:DI65))","v":""},0,{"$f":"IF(CT65>Saisies!$C$25,1,(IF(CT65<Saisies!$B$25,1,IF(Saisies!$B$25=0,1,0))))","v":1},{"$f":"IF(CT65>Saisies!$E$25,1,(IF(CT65<Saisies!$D$25,1,IF(Saisies!$D$25=0,1,0))))","v":1},{"$f":"IF(CT65>Saisies!$G$25,1,(IF(CT65<Saisies!$F$25,1,IF(Saisies!$F$25<10,1,0))))","v":1},{"$f":"IF(CT65>Saisies!$C$10,\"\",(IF(CT65<Saisies!$B$10,\"\",CW65)))","v":""},{"$f":"IF(CT65>Saisies!$E$10,\"\",(IF(CT65<Saisies!$D$10,\"\",CW65)))","v":""},{"$f":"IF(CT65>Saisies!$G$10,\"\",(IF(CT65<Saisies!$F$10,\"\",CW65)))","v":""},"2017-08-14","L",7,7,492,{"$f":"IF(DN65>=Saisies!$E$4,(IF(DO64<=Saisies!$E$4,DJ65,DO64)),0)","v":42622},{"$f":"IF(DJ65=Saisies!$C$7,MIN((ABS(Saisies!$E$4-DN64)),DQ65),DQ65)","v":""},{"$f":"IF(ISERROR((IF(DJ65>Saisies!$C$7,\"\",IF(ISERROR(IF(DJ65<Saisies!$B$7,\"\",DL65)*DR65),IF(DJ65<Saisies!$B$7,\"\",DL65),\"\")))*(IF(ISERROR(DS65+1),0,DS65))*DT65*DU65*DV65),\"\",(IF(DJ65>Saisies!$C$7,\"\",IF(ISERROR(IF(DJ65<Saisies!$B$7,\"\",DL65)*DR65),IF(DJ65<Saisies!$B$7,\"\",DL65),\"\")))*(IF(ISERROR(DS65+1),0,DS65))*DT65*DU65*DV65)","v":""},"",1,{"$f":"IF(DJ65>Saisies!$C$25,1,(IF(DJ65<Saisies!$B$25,1,IF(Saisies!$B$25=0,1,0))))","v":1},{"$f":"IF(DJ65>Saisies!$E$25,1,(IF(DJ65<Saisies!$D$25,1,IF(Saisies!$D$25=0,1,0))))","v":1},{"$f":"IF(DJ65>Saisies!$G$25,1,(IF(DJ65<Saisies!$F$25,1,IF(Saisies!$F$25<10,1,0))))","v":1},{"$f":"IF(DJ65>Saisies!$C$10,\"\",(IF(DJ65<Saisies!$B$10,\"\",DM65)))","v":""},{"$f":"IF(DJ65>Saisies!$E$10,\"\",(IF(DJ65<Saisies!$D$10,\"\",DM65)))","v":""},{"$f":"IF(DJ65>Saisies!$G$10,\"\",(IF(DJ65<Saisies!$F$10,\"\",DM65)))","v":""},"2017-09-14","J",8,7,492,{"$f":"IF(ED65>=Saisies!$E$4,(IF(EE64<=Saisies!$E$4,DZ65,EE64)),0)","v":42622},{"$f":"IF(DZ65=Saisies!$C$7,MIN((ABS(Saisies!$E$4-ED64)),EG65),EG65)","v":""},{"$f":"IF(ISERROR((IF(DZ65>Saisies!$C$7,\"\",IF(ISERROR(IF(DZ65<Saisies!$B$7,\"\",EB65)*EH65),IF(DZ65<Saisies!$B$7,\"\",EB65),\"\")))*(IF(ISERROR(EI65+1),0,EI65))*EJ65*EK65*EL65),\"\",(IF(DZ65>Saisies!$C$7,\"\",IF(ISERROR(IF(DZ65<Saisies!$B$7,\"\",EB65)*EH65),IF(DZ65<Saisies!$B$7,\"\",EB65),\"\")))*(IF(ISERROR(EI65+1),0,EI65))*EJ65*EK65*EL65)","v":""},"",1,{"$f":"IF(DZ65>Saisies!$C$25,1,(IF(DZ65<Saisies!$B$25,1,IF(Saisies!$B$25=0,1,0))))","v":1},{"$f":"IF(DZ65>Saisies!$E$25,1,(IF(DZ65<Saisies!$D$25,1,IF(Saisies!$D$25=0,1,0))))","v":1},{"$f":"IF(DZ65>Saisies!$G$25,1,(IF(DZ65<Saisies!$F$25,1,IF(Saisies!$F$25<10,1,0))))","v":1},{"$f":"IF(DZ65>Saisies!$C$10,\"\",(IF(DZ65<Saisies!$B$10,\"\",EC65)))","v":""},{"$f":"IF(DZ65>Saisies!$E$10,\"\",(IF(DZ65<Saisies!$D$10,\"\",EC65)))","v":""},{"$f":"IF(DZ65>Saisies!$G$10,\"\",(IF(DZ65<Saisies!$F$10,\"\",EC65)))","v":""},"2017-10-14","S",0,0,492,{"$f":"IF(ET65>=Saisies!$E$4,(IF(EU64<=Saisies!$E$4,EP65,EU64)),0)","v":42622},{"$f":"IF(EP65=Saisies!$C$7,MIN((ABS(Saisies!$E$4-ET64)),EW65),EW65)","v":""},{"$f":"IF(ISERROR((IF(EP65>Saisies!$C$7,\"\",IF(ISERROR(IF(EP65<Saisies!$B$7,\"\",ER65)*EX65),IF(EP65<Saisies!$B$7,\"\",ER65),\"\")))*(IF(ISERROR(EY65+1),0,EY65))*EZ65*FA65*FB65),\"\",(IF(EP65>Saisies!$C$7,\"\",IF(ISERROR(IF(EP65<Saisies!$B$7,\"\",ER65)*EX65),IF(EP65<Saisies!$B$7,\"\",ER65),\"\")))*(IF(ISERROR(EY65+1),0,EY65))*EZ65*FA65*FB65)","v":""},"",1,{"$f":"IF(EP65>Saisies!$C$25,1,(IF(EP65<Saisies!$B$25,1,IF(Saisies!$B$25=0,1,0))))","v":1},{"$f":"IF(EP65>Saisies!$E$25,1,(IF(EP65<Saisies!$D$25,1,IF(Saisies!$D$25=0,1,0))))","v":1},{"$f":"IF(EP65>Saisies!$G$25,1,(IF(EP65<Saisies!$F$25,1,IF(Saisies!$F$25<10,1,0))))","v":1},{"$f":"IF(EP65>Saisies!$C$10,\"\",(IF(EP65<Saisies!$B$10,\"\",ES65)))","v":""},{"$f":"IF(EP65>Saisies!$E$10,\"\",(IF(EP65<Saisies!$D$10,\"\",ES65)))","v":""},{"$f":"IF(EP65>Saisies!$G$10,\"\",(IF(EP65<Saisies!$F$10,\"\",ES65)))","v":""},"2017-11-14","M",8,7,492,{"$f":"IF(FJ65>=Saisies!$E$4,(IF(FK64<=Saisies!$E$4,FF65,FK64)),0)","v":42622},{"$f":"IF(FF65=Saisies!$C$7,MIN((ABS(Saisies!$E$4-FJ64)),FM65),FM65)","v":""},{"$f":"IF(ISERROR((IF(FF65>Saisies!$C$7,\"\",IF(ISERROR(IF(FF65<Saisies!$B$7,\"\",FH65)*FN65),IF(FF65<Saisies!$B$7,\"\",FH65),\"\")))*(IF(ISERROR(FO65+1),0,FO65))*FP65*FQ65*FR65),\"\",(IF(FF65>Saisies!$C$7,\"\",IF(ISERROR(IF(FF65<Saisies!$B$7,\"\",FH65)*FN65),IF(FF65<Saisies!$B$7,\"\",FH65),\"\")))*(IF(ISERROR(FO65+1),0,FO65))*FP65*FQ65*FR65)","v":""},"",1,{"$f":"IF(FF65>Saisies!$C$25,1,(IF(FF65<Saisies!$B$25,1,IF(Saisies!$B$25=0,1,0))))","v":1},{"$f":"IF(FF65>Saisies!$E$25,1,(IF(FF65<Saisies!$D$25,1,IF(Saisies!$D$25=0,1,0))))","v":1},{"$f":"IF(FF65>Saisies!$G$25,1,(IF(FF65<Saisies!$F$25,1,IF(Saisies!$F$25<10,1,0))))","v":1},{"$f":"IF(FF65>Saisies!$C$10,\"\",(IF(FF65<Saisies!$B$10,\"\",FI65)))","v":""},{"$f":"IF(FF65>Saisies!$E$10,\"\",(IF(FF65<Saisies!$D$10,\"\",FI65)))","v":""},{"$f":"IF(FF65>Saisies!$G$10,\"\",(IF(FF65<Saisies!$F$10,\"\",FI65)))","v":""},"2017-12-14","J",8,7,492,{"$f":"IF(FZ65>=Saisies!$E$4,(IF(GA64<=Saisies!$E$4,FV65,GA64)),0)","v":42622},{"$f":"IF(FV65=Saisies!$C$7,MIN((ABS(Saisies!$E$4-FZ64)),GC65),GC65)","v":""},{"$f":"IF(ISERROR((IF(FV65>Saisies!$C$7,\"\",IF(ISERROR(IF(FV65<Saisies!$B$7,\"\",FX65)*GD65),IF(FV65<Saisies!$B$7,\"\",FX65),\"\")))*(IF(ISERROR(GE65+1),0,GE65))*GF65*GG65*GH65),\"\",(IF(FV65>Saisies!$C$7,\"\",IF(ISERROR(IF(FV65<Saisies!$B$7,\"\",FX65)*GD65),IF(FV65<Saisies!$B$7,\"\",FX65),\"\")))*(IF(ISERROR(GE65+1),0,GE65))*GF65*GG65*GH65)","v":""},"",1,{"$f":"IF(FV65>Saisies!$C$25,1,(IF(FV65<Saisies!$B$25,1,IF(Saisies!$B$25=0,1,0))))","v":1},{"$f":"IF(FV65>Saisies!$E$25,1,(IF(FV65<Saisies!$D$25,1,IF(Saisies!$D$25=0,1,0))))","v":1},{"$f":"IF(FV65>Saisies!$G$25,1,(IF(FV65<Saisies!$F$25,1,IF(Saisies!$F$25<10,1,0))))","v":1},{"$f":"IF(FV65>Saisies!$C$10,\"\",(IF(FV65<Saisies!$B$10,\"\",FY65)))","v":""},{"$f":"IF(FV65>Saisies!$E$10,\"\",(IF(FV65<Saisies!$D$10,\"\",FY65)))","v":""},{"$f":"IF(FV65>Saisies!$G$10,\"\",(IF(FV65<Saisies!$F$10,\"\",FY65)))","v":""}]
[null,"2017-01-15","D",0,0,492,{"$f":"IF(F66>=Saisies!$E$4,(IF(G65<=Saisies!$E$4,B66,G65)),0)","v":42622},{"$f":"IF(B66=Saisies!$C$7,MIN((ABS(Saisies!$E$4-F65)),I66),I66)","v":""},{"$f":"IF(ISERROR((IF(B66>Saisies!$C$7,\"\",IF(ISERROR(IF(B66<Saisies!$B$7,\"\",D66)*J66),IF(B66<Saisies!$B$7,\"\",D66),\"\")))*(IF(ISERROR(K66+1),0,K66))*L66*M66*N66),\"\",(IF(B66>Saisies!$C$7,\"\",IF(ISERROR(IF(B66<Saisies!$B$7,\"\",D66)*J66),IF(B66<Saisies!$B$7,\"\",D66),\"\")))*(IF(ISERROR(K66+1),0,K66))*L66*M66*N66)","v":""},"",1,{"$f":"IF(B66>Saisies!$C$25,1,(IF(B66<Saisies!$B$25,1,IF(Saisies!$B$25=0,1,0))))","v":1},{"$f":"IF(B66>Saisies!$E$25,1,(IF(B66<Saisies!$D$25,1,IF(Saisies!$D$25=0,1,0))))","v":1},{"$f":"IF(B66>Saisies!$G$25,1,(IF(B66<Saisies!$F$25,1,IF(Saisies!$F$25<10,1,0))))","v":1},{"$f":"IF(B66>Saisies!$C$10,\"\",(IF(B66<Saisies!$B$10,\"\",E66)))","v":""},{"$f":"IF(B66>Saisies!$E$10,\"\",(IF(B66<Saisies!$D$10,\"\",E66)))","v":""},{"$f":"IF(B66>Saisies!$G$10,\"\",(IF(B66<Saisies!$F$10,\"\",E66)))","v":""},"2017-02-15","M",8,7,492,{"$f":"IF(V66>=Saisies!$E$4,(IF(W65<=Saisies!$E$4,R66,W65)),0)","v":42622},{"$f":"IF(R66=Saisies!$C$7,MIN((ABS(Saisies!$E$4-V65)),Y66),Y66)","v":""},{"$f":"IF(ISERROR((IF(R66>Saisies!$C$7,\"\",IF(ISERROR(IF(R66<Saisies!$B$7,\"\",T66)*Z66),IF(R66<Saisies!$B$7,\"\",T66),\"\")))*(IF(ISERROR(AA66+1),0,AA66))*AB66*AC66*AD66),\"\",(IF(R66>Saisies!$C$7,\"\",IF(ISERROR(IF(R66<Saisies!$B$7,\"\",T66)*Z66),IF(R66<Saisies!$B$7,\"\",T66),\"\")))*(IF(ISERROR(AA66+1),0,AA66))*AB66*AC66*AD66)","v":""},"",1,{"$f":"IF(R66>Saisies!$C$25,1,(IF(R66<Saisies!$B$25,1,IF(Saisies!$B$25=0,1,0))))","v":1},{"$f":"IF(R66>Saisies!$E$25,1,(IF(R66<Saisies!$D$25,1,IF(Saisies!$D$25=0,1,0))))","v":1},{"$f":"IF(R66>Saisies!$G$25,1,(IF(R66<Saisies!$F$25,1,IF(Saisies!$F$25<10,1,0))))","v":1},{"$f":"IF(R66>Saisies!$C$10,\"\",(IF(R66<Saisies!$B$10,\"\",U66)))","v":""},{"$f":"IF(R66>Saisies!$E$10,\"\",(IF(R66<Saisies!$D$10,\"\",U66)))","v":""},{"$f":"IF(R66>Saisies!$G$10,\"\",(IF(R66<Saisies!$F$10,\"\",U66)))","v":""},"2017-03-15","M",8,7,492,{"$f":"IF(AL66>=Saisies!$E$4,(IF(AM65<=Saisies!$E$4,AH66,AM65)),0)","v":42622},{"$f":"IF(AH66=Saisies!$C$7,MIN((ABS(Saisies!$E$4-AL65)),AO66),AO66)","v":""},{"$f":"IF(ISERROR((IF(AH66>Saisies!$C$7,\"\",IF(ISERROR(IF(AH66<Saisies!$B$7,\"\",AJ66)*AP66),IF(AH66<Saisies!$B$7,\"\",AJ66),\"\")))*(IF(ISERROR(AQ66+1),0,AQ66))*AR66*AS66*AT66),\"\",(IF(AH66>Saisies!$C$7,\"\",IF(ISERROR(IF(AH66<Saisies!$B$7,\"\",AJ66)*AP66),IF(AH66<Saisies!$B$7,\"\",AJ66),\"\")))*(IF(ISERROR(AQ66+1),0,AQ66))*AR66*AS66*AT66)","v":""},"",1,{"$f":"IF(AH66>Saisies!$C$25,1,(IF(AH66<Saisies!$B$25,1,IF(Saisies!$B$25=0,1,0))))","v":1},{"$f":"IF(AH66>Saisies!$E$25,1,(IF(AH66<Saisies!$D$25,1,IF(Saisies!$D$25=0,1,0))))","v":1},{"$f":"IF(AH66>Saisies!$G$25,1,(IF(AH66<Saisies!$F$25,1,IF(Saisies!$F$25<10,1,0))))","v":1},{"$f":"IF(AH66>Saisies!$C$10,\"\",(IF(AH66<Saisies!$B$10,\"\",AK66)))","v":""},{"$f":"IF(AH66>Saisies!$E$10,\"\",(IF(AH66<Saisies!$D$10,\"\",AK66)))","v":""},{"$f":"IF(AH66>Saisies!$G$10,\"\",(IF(AH66<Saisies!$F$10,\"\",AK66)))","v":""},"2017-04-15","S",0,0,492,{"$f":"IF(BB66>=Saisies!$E$4,(IF(BC65<=Saisies!$E$4,AX66,BC65)),0)","v":42622},{"$f":"IF(AX66=Saisies!$C$7,MIN((ABS(Saisies!$E$4-BB65)),BE66),BE66)","v":""},{"$f":"IF(ISERROR((IF(AX66>Saisies!$C$7,\"\",IF(ISERROR(IF(AX66<Saisies!$B$7,\"\",AZ66)*BF66),IF(AX66<Saisies!$B$7,\"\",AZ66),\"\")))*(IF(ISERROR(BG66+1),0,BG66))*BH66*BI66*BJ66),\"\",(IF(AX66>Saisies!$C$7,\"\",IF(ISERROR(IF(AX66<Saisies!$B$7,\"\",AZ66)*BF66),IF(AX66<Saisies!$B$7,\"\",AZ66),\"\")))*(IF(ISERROR(BG66+1),0,BG66))*BH66*BI66*BJ66)","v":""},"",1,{"$f":"IF(AX66>Saisies!$C$25,1,(IF(AX66<Saisies!$B$25,1,IF(Saisies!$B$25=0,1,0))))","v":1},{"$f":"IF(AX66>Saisies!$E$25,1,(IF(AX66<Saisies!$D$25,1,IF(Saisies!$D$25=0,1,0))))","v":1},{"$f":"IF(AX66>Saisies!$G$25,1,(IF(AX66<Saisies!$F$25,1,IF(Saisies!$F$25<10,1,0))))","v":1},{"$f":"IF(AX66>Saisies!$C$10,\"\",(IF(AX66<Saisies!$B$10,\"\",BA66)))","v":""},{"$f":"IF(AX66>Saisies!$E$10,\"\",(IF(AX66<Saisies!$D$10,\"\",BA66)))","v":""},{"$f":"IF(AX66>Saisies!$G$10,\"\",(IF(AX66<Saisies!$F$10,\"\",BA66)))","v":""},"2017-05-15","L",7,7,492,{"$f":"IF(BR66>=Saisies!$E$4,(IF(BS65<=Saisies!$E$4,BN66,BS65)),0)","v":42622},{"$f":"IF(BN66=Saisies!$C$7,MIN((ABS(Saisies!$E$4-BR65)),BU66),BU66)","v":""},{"$f":"IF(ISERROR((IF(BN66>Saisies!$C$7,\"\",IF(ISERROR(IF(BN66<Saisies!$B$7,\"\",BP66)*BV66),IF(BN66<Saisies!$B$7,\"\",BP66),\"\")))*(IF(ISERROR(BW66+1),0,BW66))*BX66*BY66*BZ66),\"\",(IF(BN66>Saisies!$C$7,\"\",IF(ISERROR(IF(BN66<Saisies!$B$7,\"\",BP66)*BV66),IF(BN66<Saisies!$B$7,\"\",BP66),\"\")))*(IF(ISERROR(BW66+1),0,BW66))*BX66*BY66*BZ66)","v":""},"",1,{"$f":"IF(BN66>Saisies!$C$25,1,(IF(BN66<Saisies!$B$25,1,IF(Saisies!$B$25=0,1,0))))","v":1},{"$f":"IF(BN66>Saisies!$E$25,1,(IF(BN66<Saisies!$D$25,1,IF(Saisies!$D$25=0,1,0))))","v":1},{"$f":"IF(BN66>Saisies!$G$25,1,(IF(BN66<Saisies!$F$25,1,IF(Saisies!$F$25<10,1,0))))","v":1},{"$f":"IF(BN66>Saisies!$C$10,\"\",(IF(BN66<Saisies!$B$10,\"\",BQ66)))","v":""},{"$f":"IF(BN66>Saisies!$E$10,\"\",(IF(BN66<Saisies!$D$10,\"\",BQ66)))","v":""},{"$f":"IF(BN66>Saisies!$G$10,\"\",(IF(BN66<Saisies!$F$10,\"\",BQ66)))","v":""},"2017-06-15","J",8,7,492,{"$f":"IF(CH66>=Saisies!$E$4,(IF(CI65<=Saisies!$E$4,CD66,CI65)),0)","v":42622},{"$f":"IF(CD66=Saisies!$C$7,MIN((ABS(Saisies!$E$4-CH65)),CK66),CK66)","v":""},{"$f":"IF(ISERROR((IF(CD66>Saisies!$C$7,\"\",IF(ISERROR(IF(CD66<Saisies!$B$7,\"\",CF66)*CL66),IF(CD66<Saisies!$B$7,\"\",CF66),\"\")))*(IF(ISERROR(CM66+1),0,CM66))*CN66*CO66*CP66),\"\",(IF(CD66>Saisies!$C$7,\"\",IF(ISERROR(IF(CD66<Saisies!$B$7,\"\",CF66)*CL66),IF(CD66<Saisies!$B$7,\"\",CF66),\"\")))*(IF(ISERROR(CM66+1),0,CM66))*CN66*CO66*CP66)","v":""},"",1,{"$f":"IF(CD66>Saisies!$C$25,1,(IF(CD66<Saisies!$B$25,1,IF(Saisies!$B$25=0,1,0))))","v":1},{"$f":"IF(CD66>Saisies!$E$25,1,(IF(CD66<Saisies!$D$25,1,IF(Saisies!$D$25=0,1,0))))","v":1},{"$f":"IF(CD66>Saisies!$G$25,1,(IF(CD66<Saisies!$F$25,1,IF(Saisies!$F$25<10,1,0))))","v":1},{"$f":"IF(CD66>Saisies!$C$10,\"\",(IF(CD66<Saisies!$B$10,\"\",CG66)))","v":""},{"$f":"IF(CD66>Saisies!$E$10,\"\",(IF(CD66<Saisies!$D$10,\"\",CG66)))","v":""},{"$f":"IF(CD66>Saisies!$G$10,\"\",(IF(CD66<Saisies!$F$10,\"\",CG66)))","v":""},"2017-07-15","S",0,0,492,{"$f":"IF(CX66>=Saisies!$E$4,(IF(CY65<=Saisies!$E$4,CT66,CY65)),0)","v":42622},{"$f":"IF(CT66=Saisies!$C$7,MIN((ABS(Saisies!$E$4-CX65)),DA66),DA66)","v":""},{"$f":"IF(ISERROR((IF(CT66>Saisies!$C$7,\"\",IF(ISERROR(IF(CT66<Saisies!$B$7,\"\",CV66)*DB66),IF(CT66<Saisies!$B$7,\"\",CV66),\"\")))*(IF(ISERROR(DC66+1),0,DC66))*DD66*DE66*DF66),\"\",(IF(CT66>Saisies!$C$7,\"\",IF(ISERROR(IF(CT66<Saisies!$B$7,\"\",CV66)*DB66),IF(CT66<Saisies!$B$7,\"\",CV66),\"\")))*(IF(ISERROR(DC66+1),0,DC66))*DD66*DE66*DF66)","v":""},{"$f":"IF((SUM(DG66:DI66)*(IF(ISERROR(DC66+1),0,DC66))*DD66*DE66*DF66)=0,\"\",SUM(DG66:DI66))","v":""},{"$f":"IF(ISERROR(IF(IF(ISERROR(VLOOKUP(CT66,Champs,2,FALSE)),1,0)=0,LOOKUP(CT66,general),1)),0,(IF(IF(ISERROR(VLOOKUP(CT66,Champs,2,FALSE)),1,0)=0,LOOKUP(CT66,general),1)))","v":1},{"$f":"IF(CT66>Saisies!$C$25,1,(IF(CT66<Saisies!$B$25,1,IF(Saisies!$B$25=0,1,0))))","v":1},{"$f":"IF(CT66>Saisies!$E$25,1,(IF(CT66<Saisies!$D$25,1,IF(Saisies!$D$25=0,1,0))))","v":1},{"$f":"IF(CT66>Saisies!$G$25,1,(IF(CT66<Saisies!$F$25,1,IF(Saisies!$F$25<10,1,0))))","v":1},{"$f":"IF(CT66>Saisies!$C$10,\"\",(IF(CT66<Saisies!$B$10,\"\",CW66)))","v":""},{"$f":"IF(CT66>Saisies!$E$10,\"\",(IF(CT66<Saisies!$D$10,\"\",CW66)))","v":""},{"$f":"IF(CT66>Saisies!$G$10,\"\",(IF(CT66<Saisies!$F$10,\"\",CW66)))","v":""},"2017-08-15","M",8,7,492,{"$f":"IF(DN66>=Saisies!$E$4,(IF(DO65<=Saisies!$E$4,DJ66,DO65)),0)","v":42622},{"$f":"IF(DJ66=Saisies!$C$7,MIN((ABS(Saisies!$E$4-DN65)),DQ66),DQ66)","v":""},{"$f":"IF(ISERROR((IF(DJ66>Saisies!$C$7,\"\",IF(ISERROR(IF(DJ66<Saisies!$B$7,\"\",DL66)*DR66),IF(DJ66<Saisies!$B$7,\"\",DL66),\"\")))*DS66*DT66*DU66*DV66),\"\",(IF(DJ66>Saisies!$C$7,\"\",IF(ISERROR(IF(DJ66<Saisies!$B$7,\"\",DL66)*DR66),IF(DJ66<Saisies!$B$7,\"\",DL66),\"\")))*DS66*DT66*DU66*DV66)","v":""},{"$f":"IF((SUM(DW66:DY66)*DS66*DT66*DU66*DV66)=0,\"\",SUM(DW66:DY66))","v":""},0,{"$f":"IF(DJ66>Saisies!$C$25,1,(IF(DJ66<Saisies!$B$25,1,IF(Saisies!$B$25=0,1,0))))","v":1},{"$f":"IF(DJ66>Saisies!$E$25,1,(IF(DJ66<Saisies!$D$25,1,IF(Saisies!$D$25=0,1,0))))","v":1},{"$f":"IF(DJ66>Saisies!$G$25,1,(IF(DJ66<Saisies!$F$25,1,IF(Saisies!$F$25<10,1,0))))","v":1},{"$f":"IF(DJ66>Saisies!$C$10,\"\",(IF(DJ66<Saisies!$B$10,\"\",DM66)))","v":""},{"$f":"IF(DJ66>Saisies!$E$10,\"\",(IF(DJ66<Saisies!$D$10,\"\",DM66)))","v":""},{"$f":"IF(DJ66>Saisies!$G$10,\"\",(IF(DJ66<Saisies!$F$10,\"\",DM66)))","v":""},"2017-09-15","V",4,7,492,{"$f":"IF(ED66>=Saisies!$E$4,(IF(EE65<=Saisies!$E$4,DZ66,EE65)),0)","v":42622},{"$f":"IF(DZ66=Saisies!$C$7,MIN((ABS(Saisies!$E$4-ED65)),EG66),EG66)","v":""},{"$f":"IF(ISERROR((IF(DZ66>Saisies!$C$7,\"\",IF(ISERROR(IF(DZ66<Saisies!$B$7,\"\",EB66)*EH66),IF(DZ66<Saisies!$B$7,\"\",EB66),\"\")))*(IF(ISERROR(EI66+1),0,EI66))*EJ66*EK66*EL66),\"\",(IF(DZ66>Saisies!$C$7,\"\",IF(ISERROR(IF(DZ66<Saisies!$B$7,\"\",EB66)*EH66),IF(DZ66<Saisies!$B$7,\"\",EB66),\"\")))*(IF(ISERROR(EI66+1),0,EI66))*EJ66*EK66*EL66)","v":""},"",1,{"$f":"IF(DZ66>Saisies!$C$25,1,(IF(DZ66<Saisies!$B$25,1,IF(Saisies!$B$25=0,1,0))))","v":1},{"$f":"IF(DZ66>Saisies!$E$25,1,(IF(DZ66<Saisies!$D$25,1,IF(Saisies!$D$25=0,1,0))))","v":1},{"$f":"IF(DZ66>Saisies!$G$25,1,(IF(DZ66<Saisies!$F$25,1,IF(Saisies!$F$25<10,1,0))))","v":1},{"$f":"IF(DZ66>Saisies!$C$10,\"\",(IF(DZ66<Saisies!$B$10,\"\",EC66)))","v":""},{"$f":"IF(DZ66>Saisies!$E$10,\"\",(IF(DZ66<Saisies!$D$10,\"\",EC66)))","v":""},{"$f":"IF(DZ66>Saisies!$G$10,\"\",(IF(DZ66<Saisies!$F$10,\"\",EC66)))","v":""},"2017-10-15","D",0,0,492,{"$f":"IF(ET66>=Saisies!$E$4,(IF(EU65<=Saisies!$E$4,EP66,EU65)),0)","v":42622},{"$f":"IF(EP66=Saisies!$C$7,MIN((ABS(Saisies!$E$4-ET65)),EW66),EW66)","v":""},{"$f":"IF(ISERROR((IF(EP66>Saisies!$C$7,\"\",IF(ISERROR(IF(EP66<Saisies!$B$7,\"\",ER66)*EX66),IF(EP66<Saisies!$B$7,\"\",ER66),\"\")))*(IF(ISERROR(EY66+1),0,EY66))*EZ66*FA66*FB66),\"\",(IF(EP66>Saisies!$C$7,\"\",IF(ISERROR(IF(EP66<Saisies!$B$7,\"\",ER66)*EX66),IF(EP66<Saisies!$B$7,\"\",ER66),\"\")))*(IF(ISERROR(EY66+1),0,EY66))*EZ66*FA66*FB66)","v":""},"",1,{"$f":"IF(EP66>Saisies!$C$25,1,(IF(EP66<Saisies!$B$25,1,IF(Saisies!$B$25=0,1,0))))","v":1},{"$f":"IF(EP66>Saisies!$E$25,1,(IF(EP66<Saisies!$D$25,1,IF(Saisies!$D$25=0,1,0))))","v":1},{"$f":"IF(EP66>Saisies!$G$25,1,(IF(EP66<Saisies!$F$25,1,IF(Saisies!$F$25<10,1,0))))","v":1},{"$f":"IF(EP66>Saisies!$C$10,\"\",(IF(EP66<Saisies!$B$10,\"\",ES66)))","v":""},{"$f":"IF(EP66>Saisies!$E$10,\"\",(IF(EP66<Saisies!$D$10,\"\",ES66)))","v":""},{"$f":"IF(EP66>Saisies!$G$10,\"\",(IF(EP66<Saisies!$F$10,\"\",ES66)))","v":""},"2017-11-15","M",8,7,492,{"$f":"IF(FJ66>=Saisies!$E$4,(IF(FK65<=Saisies!$E$4,FF66,FK65)),0)","v":42622},{"$f":"IF(FF66=Saisies!$C$7,MIN((ABS(Saisies!$E$4-FJ65)),FM66),FM66)","v":""},{"$f":"IF(ISERROR((IF(FF66>Saisies!$C$7,\"\",IF(ISERROR(IF(FF66<Saisies!$B$7,\"\",FH66)*FN66),IF(FF66<Saisies!$B$7,\"\",FH66),\"\")))*(IF(ISERROR(FO66+1),0,FO66))*FP66*FQ66*FR66),\"\",(IF(FF66>Saisies!$C$7,\"\",IF(ISERROR(IF(FF66<Saisies!$B$7,\"\",FH66)*FN66),IF(FF66<Saisies!$B$7,\"\",FH66),\"\")))*(IF(ISERROR(FO66+1),0,FO66))*FP66*FQ66*FR66)","v":""},"",1,{"$f":"IF(FF66>Saisies!$C$25,1,(IF(FF66<Saisies!$B$25,1,IF(Saisies!$B$25=0,1,0))))","v":1},{"$f":"IF(FF66>Saisies!$E$25,1,(IF(FF66<Saisies!$D$25,1,IF(Saisies!$D$25=0,1,0))))","v":1},{"$f":"IF(FF66>Saisies!$G$25,1,(IF(FF66<Saisies!$F$25,1,IF(Saisies!$F$25<10,1,0))))","v":1},{"$f":"IF(FF66>Saisies!$C$10,\"\",(IF(FF66<Saisies!$B$10,\"\",FI66)))","v":""},{"$f":"IF(FF66>Saisies!$E$10,\"\",(IF(FF66<Saisies!$D$10,\"\",FI66)))","v":""},{"$f":"IF(FF66>Saisies!$G$10,\"\",(IF(FF66<Saisies!$F$10,\"\",FI66)))","v":""},"2017-12-15","V",4,7,492,{"$f":"IF(FZ66>=Saisies!$E$4,(IF(GA65<=Saisies!$E$4,FV66,GA65)),0)","v":42622},{"$f":"IF(FV66=Saisies!$C$7,MIN((ABS(Saisies!$E$4-FZ65)),GC66),GC66)","v":""},{"$f":"IF(ISERROR((IF(FV66>Saisies!$C$7,\"\",IF(ISERROR(IF(FV66<Saisies!$B$7,\"\",FX66)*GD66),IF(FV66<Saisies!$B$7,\"\",FX66),\"\")))*(IF(ISERROR(GE66+1),0,GE66))*GF66*GG66*GH66),\"\",(IF(FV66>Saisies!$C$7,\"\",IF(ISERROR(IF(FV66<Saisies!$B$7,\"\",FX66)*GD66),IF(FV66<Saisies!$B$7,\"\",FX66),\"\")))*(IF(ISERROR(GE66+1),0,GE66))*GF66*GG66*GH66)","v":""},"",1,{"$f":"IF(FV66>Saisies!$C$25,1,(IF(FV66<Saisies!$B$25,1,IF(Saisies!$B$25=0,1,0))))","v":1},{"$f":"IF(FV66>Saisies!$E$25,1,(IF(FV66<Saisies!$D$25,1,IF(Saisies!$D$25=0,1,0))))","v":1},{"$f":"IF(FV66>Saisies!$G$25,1,(IF(FV66<Saisies!$F$25,1,IF(Saisies!$F$25<10,1,0))))","v":1},{"$f":"IF(FV66>Saisies!$C$10,\"\",(IF(FV66<Saisies!$B$10,\"\",FY66)))","v":""},{"$f":"IF(FV66>Saisies!$E$10,\"\",(IF(FV66<Saisies!$D$10,\"\",FY66)))","v":""},{"$f":"IF(FV66>Saisies!$G$10,\"\",(IF(FV66<Saisies!$F$10,\"\",FY66)))","v":""}]
[null,"2017-01-16","L",7,7,492,{"$f":"IF(F67>=Saisies!$E$4,(IF(G66<=Saisies!$E$4,B67,G66)),0)","v":42622},{"$f":"IF(B67=Saisies!$C$7,MIN((ABS(Saisies!$E$4-F66)),I67),I67)","v":""},{"$f":"IF(ISERROR((IF(B67>Saisies!$C$7,\"\",IF(ISERROR(IF(B67<Saisies!$B$7,\"\",D67)*J67),IF(B67<Saisies!$B$7,\"\",D67),\"\")))*(IF(ISERROR(K67+1),0,K67))*L67*M67*N67),\"\",(IF(B67>Saisies!$C$7,\"\",IF(ISERROR(IF(B67<Saisies!$B$7,\"\",D67)*J67),IF(B67<Saisies!$B$7,\"\",D67),\"\")))*(IF(ISERROR(K67+1),0,K67))*L67*M67*N67)","v":""},"",1,{"$f":"IF(B67>Saisies!$C$25,1,(IF(B67<Saisies!$B$25,1,IF(Saisies!$B$25=0,1,0))))","v":1},{"$f":"IF(B67>Saisies!$E$25,1,(IF(B67<Saisies!$D$25,1,IF(Saisies!$D$25=0,1,0))))","v":1},{"$f":"IF(B67>Saisies!$G$25,1,(IF(B67<Saisies!$F$25,1,IF(Saisies!$F$25<10,1,0))))","v":1},{"$f":"IF(B67>Saisies!$C$10,\"\",(IF(B67<Saisies!$B$10,\"\",E67)))","v":""},{"$f":"IF(B67>Saisies!$E$10,\"\",(IF(B67<Saisies!$D$10,\"\",E67)))","v":""},{"$f":"IF(B67>Saisies!$G$10,\"\",(IF(B67<Saisies!$F$10,\"\",E67)))","v":""},"2017-02-16","J",8,7,492,{"$f":"IF(V67>=Saisies!$E$4,(IF(W66<=Saisies!$E$4,R67,W66)),0)","v":42622},{"$f":"IF(R67=Saisies!$C$7,MIN((ABS(Saisies!$E$4-V66)),Y67),Y67)","v":""},{"$f":"IF(ISERROR((IF(R67>Saisies!$C$7,\"\",IF(ISERROR(IF(R67<Saisies!$B$7,\"\",T67)*Z67),IF(R67<Saisies!$B$7,\"\",T67),\"\")))*(IF(ISERROR(AA67+1),0,AA67))*AB67*AC67*AD67),\"\",(IF(R67>Saisies!$C$7,\"\",IF(ISERROR(IF(R67<Saisies!$B$7,\"\",T67)*Z67),IF(R67<Saisies!$B$7,\"\",T67),\"\")))*(IF(ISERROR(AA67+1),0,AA67))*AB67*AC67*AD67)","v":""},"",1,{"$f":"IF(R67>Saisies!$C$25,1,(IF(R67<Saisies!$B$25,1,IF(Saisies!$B$25=0,1,0))))","v":1},{"$f":"IF(R67>Saisies!$E$25,1,(IF(R67<Saisies!$D$25,1,IF(Saisies!$D$25=0,1,0))))","v":1},{"$f":"IF(R67>Saisies!$G$25,1,(IF(R67<Saisies!$F$25,1,IF(Saisies!$F$25<10,1,0))))","v":1},{"$f":"IF(R67>Saisies!$C$10,\"\",(IF(R67<Saisies!$B$10,\"\",U67)))","v":""},{"$f":"IF(R67>Saisies!$E$10,\"\",(IF(R67<Saisies!$D$10,\"\",U67)))","v":""},{"$f":"IF(R67>Saisies!$G$10,\"\",(IF(R67<Saisies!$F$10,\"\",U67)))","v":""},"2017-03-16","J",8,7,492,{"$f":"IF(AL67>=Saisies!$E$4,(IF(AM66<=Saisies!$E$4,AH67,AM66)),0)","v":42622},{"$f":"IF(AH67=Saisies!$C$7,MIN((ABS(Saisies!$E$4-AL66)),AO67),AO67)","v":""},{"$f":"IF(ISERROR((IF(AH67>Saisies!$C$7,\"\",IF(ISERROR(IF(AH67<Saisies!$B$7,\"\",AJ67)*AP67),IF(AH67<Saisies!$B$7,\"\",AJ67),\"\")))*(IF(ISERROR(AQ67+1),0,AQ67))*AR67*AS67*AT67),\"\",(IF(AH67>Saisies!$C$7,\"\",IF(ISERROR(IF(AH67<Saisies!$B$7,\"\",AJ67)*AP67),IF(AH67<Saisies!$B$7,\"\",AJ67),\"\")))*(IF(ISERROR(AQ67+1),0,AQ67))*AR67*AS67*AT67)","v":""},"",1,{"$f":"IF(AH67>Saisies!$C$25,1,(IF(AH67<Saisies!$B$25,1,IF(Saisies!$B$25=0,1,0))))","v":1},{"$f":"IF(AH67>Saisies!$E$25,1,(IF(AH67<Saisies!$D$25,1,IF(Saisies!$D$25=0,1,0))))","v":1},{"$f":"IF(AH67>Saisies!$G$25,1,(IF(AH67<Saisies!$F$25,1,IF(Saisies!$F$25<10,1,0))))","v":1},{"$f":"IF(AH67>Saisies!$C$10,\"\",(IF(AH67<Saisies!$B$10,\"\",AK67)))","v":""},{"$f":"IF(AH67>Saisies!$E$10,\"\",(IF(AH67<Saisies!$D$10,\"\",AK67)))","v":""},{"$f":"IF(AH67>Saisies!$G$10,\"\",(IF(AH67<Saisies!$F$10,\"\",AK67)))","v":""},"2017-04-16","D",0,0,492,{"$f":"IF(BB67>=Saisies!$E$4,(IF(BC66<=Saisies!$E$4,AX67,BC66)),0)","v":42622},{"$f":"IF(AX67=Saisies!$C$7,MIN((ABS(Saisies!$E$4-BB66)),BE67),BE67)","v":""},{"$f":"IF(ISERROR((IF(AX67>Saisies!$C$7,\"\",IF(ISERROR(IF(AX67<Saisies!$B$7,\"\",AZ67)*BF67),IF(AX67<Saisies!$B$7,\"\",AZ67),\"\")))*(IF(ISERROR(BG67+1),0,BG67))*BH67*BI67*BJ67),\"\",(IF(AX67>Saisies!$C$7,\"\",IF(ISERROR(IF(AX67<Saisies!$B$7,\"\",AZ67)*BF67),IF(AX67<Saisies!$B$7,\"\",AZ67),\"\")))*(IF(ISERROR(BG67+1),0,BG67))*BH67*BI67*BJ67)","v":""},"",1,{"$f":"IF(AX67>Saisies!$C$25,1,(IF(AX67<Saisies!$B$25,1,IF(Saisies!$B$25=0,1,0))))","v":1},{"$f":"IF(AX67>Saisies!$E$25,1,(IF(AX67<Saisies!$D$25,1,IF(Saisies!$D$25=0,1,0))))","v":1},{"$f":"IF(AX67>Saisies!$G$25,1,(IF(AX67<Saisies!$F$25,1,IF(Saisies!$F$25<10,1,0))))","v":1},{"$f":"IF(AX67>Saisies!$C$10,\"\",(IF(AX67<Saisies!$B$10,\"\",BA67)))","v":""},{"$f":"IF(AX67>Saisies!$E$10,\"\",(IF(AX67<Saisies!$D$10,\"\",BA67)))","v":""},{"$f":"IF(AX67>Saisies!$G$10,\"\",(IF(AX67<Saisies!$F$10,\"\",BA67)))","v":""},"2017-05-16","M",8,7,492,{"$f":"IF(BR67>=Saisies!$E$4,(IF(BS66<=Saisies!$E$4,BN67,BS66)),0)","v":42622},{"$f":"IF(BN67=Saisies!$C$7,MIN((ABS(Saisies!$E$4-BR66)),BU67),BU67)","v":""},{"$f":"IF(ISERROR((IF(BN67>Saisies!$C$7,\"\",IF(ISERROR(IF(BN67<Saisies!$B$7,\"\",BP67)*BV67),IF(BN67<Saisies!$B$7,\"\",BP67),\"\")))*(IF(ISERROR(BW67+1),0,BW67))*BX67*BY67*BZ67),\"\",(IF(BN67>Saisies!$C$7,\"\",IF(ISERROR(IF(BN67<Saisies!$B$7,\"\",BP67)*BV67),IF(BN67<Saisies!$B$7,\"\",BP67),\"\")))*(IF(ISERROR(BW67+1),0,BW67))*BX67*BY67*BZ67)","v":""},"",1,{"$f":"IF(BN67>Saisies!$C$25,1,(IF(BN67<Saisies!$B$25,1,IF(Saisies!$B$25=0,1,0))))","v":1},{"$f":"IF(BN67>Saisies!$E$25,1,(IF(BN67<Saisies!$D$25,1,IF(Saisies!$D$25=0,1,0))))","v":1},{"$f":"IF(BN67>Saisies!$G$25,1,(IF(BN67<Saisies!$F$25,1,IF(Saisies!$F$25<10,1,0))))","v":1},{"$f":"IF(BN67>Saisies!$C$10,\"\",(IF(BN67<Saisies!$B$10,\"\",BQ67)))","v":""},{"$f":"IF(BN67>Saisies!$E$10,\"\",(IF(BN67<Saisies!$D$10,\"\",BQ67)))","v":""},{"$f":"IF(BN67>Saisies!$G$10,\"\",(IF(BN67<Saisies!$F$10,\"\",BQ67)))","v":""},"2017-06-16","V",4,7,492,{"$f":"IF(CH67>=Saisies!$E$4,(IF(CI66<=Saisies!$E$4,CD67,CI66)),0)","v":42622},{"$f":"IF(CD67=Saisies!$C$7,MIN((ABS(Saisies!$E$4-CH66)),CK67),CK67)","v":""},{"$f":"IF(ISERROR((IF(CD67>Saisies!$C$7,\"\",IF(ISERROR(IF(CD67<Saisies!$B$7,\"\",CF67)*CL67),IF(CD67<Saisies!$B$7,\"\",CF67),\"\")))*(IF(ISERROR(CM67+1),0,CM67))*CN67*CO67*CP67),\"\",(IF(CD67>Saisies!$C$7,\"\",IF(ISERROR(IF(CD67<Saisies!$B$7,\"\",CF67)*CL67),IF(CD67<Saisies!$B$7,\"\",CF67),\"\")))*(IF(ISERROR(CM67+1),0,CM67))*CN67*CO67*CP67)","v":""},"",1,{"$f":"IF(CD67>Saisies!$C$25,1,(IF(CD67<Saisies!$B$25,1,IF(Saisies!$B$25=0,1,0))))","v":1},{"$f":"IF(CD67>Saisies!$E$25,1,(IF(CD67<Saisies!$D$25,1,IF(Saisies!$D$25=0,1,0))))","v":1},{"$f":"IF(CD67>Saisies!$G$25,1,(IF(CD67<Saisies!$F$25,1,IF(Saisies!$F$25<10,1,0))))","v":1},{"$f":"IF(CD67>Saisies!$C$10,\"\",(IF(CD67<Saisies!$B$10,\"\",CG67)))","v":""},{"$f":"IF(CD67>Saisies!$E$10,\"\",(IF(CD67<Saisies!$D$10,\"\",CG67)))","v":""},{"$f":"IF(CD67>Saisies!$G$10,\"\",(IF(CD67<Saisies!$F$10,\"\",CG67)))","v":""},"2017-07-16","D",0,0,492,{"$f":"IF(CX67>=Saisies!$E$4,(IF(CY66<=Saisies!$E$4,CT67,CY66)),0)","v":42622},{"$f":"IF(CT67=Saisies!$C$7,MIN((ABS(Saisies!$E$4-CX66)),DA67),DA67)","v":""},{"$f":"IF(ISERROR((IF(CT67>Saisies!$C$7,\"\",IF(ISERROR(IF(CT67<Saisies!$B$7,\"\",CV67)*DB67),IF(CT67<Saisies!$B$7,\"\",CV67),\"\")))*(IF(ISERROR(DC67+1),0,DC67))*DD67*DE67*DF67),\"\",(IF(CT67>Saisies!$C$7,\"\",IF(ISERROR(IF(CT67<Saisies!$B$7,\"\",CV67)*DB67),IF(CT67<Saisies!$B$7,\"\",CV67),\"\")))*(IF(ISERROR(DC67+1),0,DC67))*DD67*DE67*DF67)","v":""},"",1,{"$f":"IF(CT67>Saisies!$C$25,1,(IF(CT67<Saisies!$B$25,1,IF(Saisies!$B$25=0,1,0))))","v":1},{"$f":"IF(CT67>Saisies!$E$25,1,(IF(CT67<Saisies!$D$25,1,IF(Saisies!$D$25=0,1,0))))","v":1},{"$f":"IF(CT67>Saisies!$G$25,1,(IF(CT67<Saisies!$F$25,1,IF(Saisies!$F$25<10,1,0))))","v":1},{"$f":"IF(CT67>Saisies!$C$10,\"\",(IF(CT67<Saisies!$B$10,\"\",CW67)))","v":""},{"$f":"IF(CT67>Saisies!$E$10,\"\",(IF(CT67<Saisies!$D$10,\"\",CW67)))","v":""},{"$f":"IF(CT67>Saisies!$G$10,\"\",(IF(CT67<Saisies!$F$10,\"\",CW67)))","v":""},"2017-08-16","M",8,7,492,{"$f":"IF(DN67>=Saisies!$E$4,(IF(DO66<=Saisies!$E$4,DJ67,DO66)),0)","v":42622},{"$f":"IF(DJ67=Saisies!$C$7,MIN((ABS(Saisies!$E$4-DN66)),DQ67),DQ67)","v":""},{"$f":"IF(ISERROR((IF(DJ67>Saisies!$C$7,\"\",IF(ISERROR(IF(DJ67<Saisies!$B$7,\"\",DL67)*DR67),IF(DJ67<Saisies!$B$7,\"\",DL67),\"\")))*(IF(ISERROR(DS67+1),0,DS67))*DT67*DU67*DV67),\"\",(IF(DJ67>Saisies!$C$7,\"\",IF(ISERROR(IF(DJ67<Saisies!$B$7,\"\",DL67)*DR67),IF(DJ67<Saisies!$B$7,\"\",DL67),\"\")))*(IF(ISERROR(DS67+1),0,DS67))*DT67*DU67*DV67)","v":""},{"$f":"IF((SUM(DW67:DY67)*(IF(ISERROR(DS67+1),0,DS67))*DT67*DU67*DV67)=0,\"\",SUM(DW67:DY67))","v":""},{"$f":"IF(ISERROR(IF(IF(ISERROR(VLOOKUP(DJ67,Champs,2,FALSE)),1,0)=0,LOOKUP(DJ67,general),1)),0,(IF(IF(ISERROR(VLOOKUP(DJ67,Champs,2,FALSE)),1,0)=0,LOOKUP(DJ67,general),1)))","v":1},{"$f":"IF(DJ67>Saisies!$C$25,1,(IF(DJ67<Saisies!$B$25,1,IF(Saisies!$B$25=0,1,0))))","v":1},{"$f":"IF(DJ67>Saisies!$E$25,1,(IF(DJ67<Saisies!$D$25,1,IF(Saisies!$D$25=0,1,0))))","v":1},{"$f":"IF(DJ67>Saisies!$G$25,1,(IF(DJ67<Saisies!$F$25,1,IF(Saisies!$F$25<10,1,0))))","v":1},{"$f":"IF(DJ67>Saisies!$C$10,\"\",(IF(DJ67<Saisies!$B$10,\"\",DM67)))","v":""},{"$f":"IF(DJ67>Saisies!$E$10,\"\",(IF(DJ67<Saisies!$D$10,\"\",DM67)))","v":""},{"$f":"IF(DJ67>Saisies!$G$10,\"\",(IF(DJ67<Saisies!$F$10,\"\",DM67)))","v":""},"2017-09-16","S",0,0,492,{"$f":"IF(ED67>=Saisies!$E$4,(IF(EE66<=Saisies!$E$4,DZ67,EE66)),0)","v":42622},{"$f":"IF(DZ67=Saisies!$C$7,MIN((ABS(Saisies!$E$4-ED66)),EG67),EG67)","v":""},{"$f":"IF(ISERROR((IF(DZ67>Saisies!$C$7,\"\",IF(ISERROR(IF(DZ67<Saisies!$B$7,\"\",EB67)*EH67),IF(DZ67<Saisies!$B$7,\"\",EB67),\"\")))*(IF(ISERROR(EI67+1),0,EI67))*EJ67*EK67*EL67),\"\",(IF(DZ67>Saisies!$C$7,\"\",IF(ISERROR(IF(DZ67<Saisies!$B$7,\"\",EB67)*EH67),IF(DZ67<Saisies!$B$7,\"\",EB67),\"\")))*(IF(ISERROR(EI67+1),0,EI67))*EJ67*EK67*EL67)","v":""},"",1,{"$f":"IF(DZ67>Saisies!$C$25,1,(IF(DZ67<Saisies!$B$25,1,IF(Saisies!$B$25=0,1,0))))","v":1},{"$f":"IF(DZ67>Saisies!$E$25,1,(IF(DZ67<Saisies!$D$25,1,IF(Saisies!$D$25=0,1,0))))","v":1},{"$f":"IF(DZ67>Saisies!$G$25,1,(IF(DZ67<Saisies!$F$25,1,IF(Saisies!$F$25<10,1,0))))","v":1},{"$f":"IF(DZ67>Saisies!$C$10,\"\",(IF(DZ67<Saisies!$B$10,\"\",EC67)))","v":""},{"$f":"IF(DZ67>Saisies!$E$10,\"\",(IF(DZ67<Saisies!$D$10,\"\",EC67)))","v":""},{"$f":"IF(DZ67>Saisies!$G$10,\"\",(IF(DZ67<Saisies!$F$10,\"\",EC67)))","v":""},"2017-10-16","L",7,7,492,{"$f":"IF(ET67>=Saisies!$E$4,(IF(EU66<=Saisies!$E$4,EP67,EU66)),0)","v":42622},{"$f":"IF(EP67=Saisies!$C$7,MIN((ABS(Saisies!$E$4-ET66)),EW67),EW67)","v":""},{"$f":"IF(ISERROR((IF(EP67>Saisies!$C$7,\"\",IF(ISERROR(IF(EP67<Saisies!$B$7,\"\",ER67)*EX67),IF(EP67<Saisies!$B$7,\"\",ER67),\"\")))*(IF(ISERROR(EY67+1),0,EY67))*EZ67*FA67*FB67),\"\",(IF(EP67>Saisies!$C$7,\"\",IF(ISERROR(IF(EP67<Saisies!$B$7,\"\",ER67)*EX67),IF(EP67<Saisies!$B$7,\"\",ER67),\"\")))*(IF(ISERROR(EY67+1),0,EY67))*EZ67*FA67*FB67)","v":""},"",1,{"$f":"IF(EP67>Saisies!$C$25,1,(IF(EP67<Saisies!$B$25,1,IF(Saisies!$B$25=0,1,0))))","v":1},{"$f":"IF(EP67>Saisies!$E$25,1,(IF(EP67<Saisies!$D$25,1,IF(Saisies!$D$25=0,1,0))))","v":1},{"$f":"IF(EP67>Saisies!$G$25,1,(IF(EP67<Saisies!$F$25,1,IF(Saisies!$F$25<10,1,0))))","v":1},{"$f":"IF(EP67>Saisies!$C$10,\"\",(IF(EP67<Saisies!$B$10,\"\",ES67)))","v":""},{"$f":"IF(EP67>Saisies!$E$10,\"\",(IF(EP67<Saisies!$D$10,\"\",ES67)))","v":""},{"$f":"IF(EP67>Saisies!$G$10,\"\",(IF(EP67<Saisies!$F$10,\"\",ES67)))","v":""},"2017-11-16","J",8,7,492,{"$f":"IF(FJ67>=Saisies!$E$4,(IF(FK66<=Saisies!$E$4,FF67,FK66)),0)","v":42622},{"$f":"IF(FF67=Saisies!$C$7,MIN((ABS(Saisies!$E$4-FJ66)),FM67),FM67)","v":""},{"$f":"IF(ISERROR((IF(FF67>Saisies!$C$7,\"\",IF(ISERROR(IF(FF67<Saisies!$B$7,\"\",FH67)*FN67),IF(FF67<Saisies!$B$7,\"\",FH67),\"\")))*(IF(ISERROR(FO67+1),0,FO67))*FP67*FQ67*FR67),\"\",(IF(FF67>Saisies!$C$7,\"\",IF(ISERROR(IF(FF67<Saisies!$B$7,\"\",FH67)*FN67),IF(FF67<Saisies!$B$7,\"\",FH67),\"\")))*(IF(ISERROR(FO67+1),0,FO67))*FP67*FQ67*FR67)","v":""},"",1,{"$f":"IF(FF67>Saisies!$C$25,1,(IF(FF67<Saisies!$B$25,1,IF(Saisies!$B$25=0,1,0))))","v":1},{"$f":"IF(FF67>Saisies!$E$25,1,(IF(FF67<Saisies!$D$25,1,IF(Saisies!$D$25=0,1,0))))","v":1},{"$f":"IF(FF67>Saisies!$G$25,1,(IF(FF67<Saisies!$F$25,1,IF(Saisies!$F$25<10,1,0))))","v":1},{"$f":"IF(FF67>Saisies!$C$10,\"\",(IF(FF67<Saisies!$B$10,\"\",FI67)))","v":""},{"$f":"IF(FF67>Saisies!$E$10,\"\",(IF(FF67<Saisies!$D$10,\"\",FI67)))","v":""},{"$f":"IF(FF67>Saisies!$G$10,\"\",(IF(FF67<Saisies!$F$10,\"\",FI67)))","v":""},"2017-12-16","S",0,0,492,{"$f":"IF(FZ67>=Saisies!$E$4,(IF(GA66<=Saisies!$E$4,FV67,GA66)),0)","v":42622},{"$f":"IF(FV67=Saisies!$C$7,MIN((ABS(Saisies!$E$4-FZ66)),GC67),GC67)","v":""},{"$f":"IF(ISERROR((IF(FV67>Saisies!$C$7,\"\",IF(ISERROR(IF(FV67<Saisies!$B$7,\"\",FX67)*GD67),IF(FV67<Saisies!$B$7,\"\",FX67),\"\")))*(IF(ISERROR(GE67+1),0,GE67))*GF67*GG67*GH67),\"\",(IF(FV67>Saisies!$C$7,\"\",IF(ISERROR(IF(FV67<Saisies!$B$7,\"\",FX67)*GD67),IF(FV67<Saisies!$B$7,\"\",FX67),\"\")))*(IF(ISERROR(GE67+1),0,GE67))*GF67*GG67*GH67)","v":""},"",1,{"$f":"IF(FV67>Saisies!$C$25,1,(IF(FV67<Saisies!$B$25,1,IF(Saisies!$B$25=0,1,0))))","v":1},{"$f":"IF(FV67>Saisies!$E$25,1,(IF(FV67<Saisies!$D$25,1,IF(Saisies!$D$25=0,1,0))))","v":1},{"$f":"IF(FV67>Saisies!$G$25,1,(IF(FV67<Saisies!$F$25,1,IF(Saisies!$F$25<10,1,0))))","v":1},{"$f":"IF(FV67>Saisies!$C$10,\"\",(IF(FV67<Saisies!$B$10,\"\",FY67)))","v":""},{"$f":"IF(FV67>Saisies!$E$10,\"\",(IF(FV67<Saisies!$D$10,\"\",FY67)))","v":""},{"$f":"IF(FV67>Saisies!$G$10,\"\",(IF(FV67<Saisies!$F$10,\"\",FY67)))","v":""}]
[null,"2017-01-17","M",8,7,492,{"$f":"IF(F68>=Saisies!$E$4,(IF(G67<=Saisies!$E$4,B68,G67)),0)","v":42622},{"$f":"IF(B68=Saisies!$C$7,MIN((ABS(Saisies!$E$4-F67)),I68),I68)","v":""},{"$f":"IF(ISERROR((IF(B68>Saisies!$C$7,\"\",IF(ISERROR(IF(B68<Saisies!$B$7,\"\",D68)*J68),IF(B68<Saisies!$B$7,\"\",D68),\"\")))*(IF(ISERROR(K68+1),0,K68))*L68*M68*N68),\"\",(IF(B68>Saisies!$C$7,\"\",IF(ISERROR(IF(B68<Saisies!$B$7,\"\",D68)*J68),IF(B68<Saisies!$B$7,\"\",D68),\"\")))*(IF(ISERROR(K68+1),0,K68))*L68*M68*N68)","v":""},"",1,{"$f":"IF(B68>Saisies!$C$25,1,(IF(B68<Saisies!$B$25,1,IF(Saisies!$B$25=0,1,0))))","v":1},{"$f":"IF(B68>Saisies!$E$25,1,(IF(B68<Saisies!$D$25,1,IF(Saisies!$D$25=0,1,0))))","v":1},{"$f":"IF(B68>Saisies!$G$25,1,(IF(B68<Saisies!$F$25,1,IF(Saisies!$F$25<10,1,0))))","v":1},{"$f":"IF(B68>Saisies!$C$10,\"\",(IF(B68<Saisies!$B$10,\"\",E68)))","v":""},{"$f":"IF(B68>Saisies!$E$10,\"\",(IF(B68<Saisies!$D$10,\"\",E68)))","v":""},{"$f":"IF(B68>Saisies!$G$10,\"\",(IF(B68<Saisies!$F$10,\"\",E68)))","v":""},"2017-02-17","V",4,7,492,{"$f":"IF(V68>=Saisies!$E$4,(IF(W67<=Saisies!$E$4,R68,W67)),0)","v":42622},{"$f":"IF(R68=Saisies!$C$7,MIN((ABS(Saisies!$E$4-V67)),Y68),Y68)","v":""},{"$f":"IF(ISERROR((IF(R68>Saisies!$C$7,\"\",IF(ISERROR(IF(R68<Saisies!$B$7,\"\",T68)*Z68),IF(R68<Saisies!$B$7,\"\",T68),\"\")))*(IF(ISERROR(AA68+1),0,AA68))*AB68*AC68*AD68),\"\",(IF(R68>Saisies!$C$7,\"\",IF(ISERROR(IF(R68<Saisies!$B$7,\"\",T68)*Z68),IF(R68<Saisies!$B$7,\"\",T68),\"\")))*(IF(ISERROR(AA68+1),0,AA68))*AB68*AC68*AD68)","v":""},"",1,{"$f":"IF(R68>Saisies!$C$25,1,(IF(R68<Saisies!$B$25,1,IF(Saisies!$B$25=0,1,0))))","v":1},{"$f":"IF(R68>Saisies!$E$25,1,(IF(R68<Saisies!$D$25,1,IF(Saisies!$D$25=0,1,0))))","v":1},{"$f":"IF(R68>Saisies!$G$25,1,(IF(R68<Saisies!$F$25,1,IF(Saisies!$F$25<10,1,0))))","v":1},{"$f":"IF(R68>Saisies!$C$10,\"\",(IF(R68<Saisies!$B$10,\"\",U68)))","v":""},{"$f":"IF(R68>Saisies!$E$10,\"\",(IF(R68<Saisies!$D$10,\"\",U68)))","v":""},{"$f":"IF(R68>Saisies!$G$10,\"\",(IF(R68<Saisies!$F$10,\"\",U68)))","v":""},"2017-03-17","V",4,7,492,{"$f":"IF(AL68>=Saisies!$E$4,(IF(AM67<=Saisies!$E$4,AH68,AM67)),0)","v":42622},{"$f":"IF(AH68=Saisies!$C$7,MIN((ABS(Saisies!$E$4-AL67)),AO68),AO68)","v":""},{"$f":"IF(ISERROR((IF(AH68>Saisies!$C$7,\"\",IF(ISERROR(IF(AH68<Saisies!$B$7,\"\",AJ68)*AP68),IF(AH68<Saisies!$B$7,\"\",AJ68),\"\")))*(IF(ISERROR(AQ68+1),0,AQ68))*AR68*AS68*AT68),\"\",(IF(AH68>Saisies!$C$7,\"\",IF(ISERROR(IF(AH68<Saisies!$B$7,\"\",AJ68)*AP68),IF(AH68<Saisies!$B$7,\"\",AJ68),\"\")))*(IF(ISERROR(AQ68+1),0,AQ68))*AR68*AS68*AT68)","v":""},"",1,{"$f":"IF(AH68>Saisies!$C$25,1,(IF(AH68<Saisies!$B$25,1,IF(Saisies!$B$25=0,1,0))))","v":1},{"$f":"IF(AH68>Saisies!$E$25,1,(IF(AH68<Saisies!$D$25,1,IF(Saisies!$D$25=0,1,0))))","v":1},{"$f":"IF(AH68>Saisies!$G$25,1,(IF(AH68<Saisies!$F$25,1,IF(Saisies!$F$25<10,1,0))))","v":1},{"$f":"IF(AH68>Saisies!$C$10,\"\",(IF(AH68<Saisies!$B$10,\"\",AK68)))","v":""},{"$f":"IF(AH68>Saisies!$E$10,\"\",(IF(AH68<Saisies!$D$10,\"\",AK68)))","v":""},{"$f":"IF(AH68>Saisies!$G$10,\"\",(IF(AH68<Saisies!$F$10,\"\",AK68)))","v":""},"2017-04-17","L",7,7,492,{"$f":"IF(BB68>=Saisies!$E$4,(IF(BC67<=Saisies!$E$4,AX68,BC67)),0)","v":42622},{"$f":"IF(AX68=Saisies!$C$7,MIN((ABS(Saisies!$E$4-BB67)),BE68),BE68)","v":""},{"$f":"IF(ISERROR((IF(AX68>Saisies!$C$7,\"\",IF(ISERROR(IF(AX68<Saisies!$B$7,\"\",AZ68)*BF68),IF(AX68<Saisies!$B$7,\"\",AZ68),\"\")))*(IF(ISERROR(BG68+1),0,BG68))*BH68*BI68*BJ68),\"\",(IF(AX68>Saisies!$C$7,\"\",IF(ISERROR(IF(AX68<Saisies!$B$7,\"\",AZ68)*BF68),IF(AX68<Saisies!$B$7,\"\",AZ68),\"\")))*(IF(ISERROR(BG68+1),0,BG68))*BH68*BI68*BJ68)","v":""},"","B",{"$f":"IF(AX68>Saisies!$C$25,1,(IF(AX68<Saisies!$B$25,1,IF(Saisies!$B$25=0,1,0))))","v":1},{"$f":"IF(AX68>Saisies!$E$25,1,(IF(AX68<Saisies!$D$25,1,IF(Saisies!$D$25=0,1,0))))","v":1},{"$f":"IF(AX68>Saisies!$G$25,1,(IF(AX68<Saisies!$F$25,1,IF(Saisies!$F$25<10,1,0))))","v":1},{"$f":"IF(AX68>Saisies!$C$10,\"\",(IF(AX68<Saisies!$B$10,\"\",BA68)))","v":""},{"$f":"IF(AX68>Saisies!$E$10,\"\",(IF(AX68<Saisies!$D$10,\"\",BA68)))","v":""},{"$f":"IF(AX68>Saisies!$G$10,\"\",(IF(AX68<Saisies!$F$10,\"\",BA68)))","v":""},"2017-05-17","M",8,7,492,{"$f":"IF(BR68>=Saisies!$E$4,(IF(BS67<=Saisies!$E$4,BN68,BS67)),0)","v":42622},{"$f":"IF(BN68=Saisies!$C$7,MIN((ABS(Saisies!$E$4-BR67)),BU68),BU68)","v":""},{"$f":"IF(ISERROR((IF(BN68>Saisies!$C$7,\"\",IF(ISERROR(IF(BN68<Saisies!$B$7,\"\",BP68)*BV68),IF(BN68<Saisies!$B$7,\"\",BP68),\"\")))*(IF(ISERROR(BW68+1),0,BW68))*BX68*BY68*BZ68),\"\",(IF(BN68>Saisies!$C$7,\"\",IF(ISERROR(IF(BN68<Saisies!$B$7,\"\",BP68)*BV68),IF(BN68<Saisies!$B$7,\"\",BP68),\"\")))*(IF(ISERROR(BW68+1),0,BW68))*BX68*BY68*BZ68)","v":""},"",1,{"$f":"IF(BN68>Saisies!$C$25,1,(IF(BN68<Saisies!$B$25,1,IF(Saisies!$B$25=0,1,0))))","v":1},{"$f":"IF(BN68>Saisies!$E$25,1,(IF(BN68<Saisies!$D$25,1,IF(Saisies!$D$25=0,1,0))))","v":1},{"$f":"IF(BN68>Saisies!$G$25,1,(IF(BN68<Saisies!$F$25,1,IF(Saisies!$F$25<10,1,0))))","v":1},{"$f":"IF(BN68>Saisies!$C$10,\"\",(IF(BN68<Saisies!$B$10,\"\",BQ68)))","v":""},{"$f":"IF(BN68>Saisies!$E$10,\"\",(IF(BN68<Saisies!$D$10,\"\",BQ68)))","v":""},{"$f":"IF(BN68>Saisies!$G$10,\"\",(IF(BN68<Saisies!$F$10,\"\",BQ68)))","v":""},"2017-06-17","S",0,0,492,{"$f":"IF(CH68>=Saisies!$E$4,(IF(CI67<=Saisies!$E$4,CD68,CI67)),0)","v":42622},{"$f":"IF(CD68=Saisies!$C$7,MIN((ABS(Saisies!$E$4-CH67)),CK68),CK68)","v":""},{"$f":"IF(ISERROR((IF(CD68>Saisies!$C$7,\"\",IF(ISERROR(IF(CD68<Saisies!$B$7,\"\",CF68)*CL68),IF(CD68<Saisies!$B$7,\"\",CF68),\"\")))*(IF(ISERROR(CM68+1),0,CM68))*CN68*CO68*CP68),\"\",(IF(CD68>Saisies!$C$7,\"\",IF(ISERROR(IF(CD68<Saisies!$B$7,\"\",CF68)*CL68),IF(CD68<Saisies!$B$7,\"\",CF68),\"\")))*(IF(ISERROR(CM68+1),0,CM68))*CN68*CO68*CP68)","v":""},"",1,{"$f":"IF(CD68>Saisies!$C$25,1,(IF(CD68<Saisies!$B$25,1,IF(Saisies!$B$25=0,1,0))))","v":1},{"$f":"IF(CD68>Saisies!$E$25,1,(IF(CD68<Saisies!$D$25,1,IF(Saisies!$D$25=0,1,0))))","v":1},{"$f":"IF(CD68>Saisies!$G$25,1,(IF(CD68<Saisies!$F$25,1,IF(Saisies!$F$25<10,1,0))))","v":1},{"$f":"IF(CD68>Saisies!$C$10,\"\",(IF(CD68<Saisies!$B$10,\"\",CG68)))","v":""},{"$f":"IF(CD68>Saisies!$E$10,\"\",(IF(CD68<Saisies!$D$10,\"\",CG68)))","v":""},{"$f":"IF(CD68>Saisies!$G$10,\"\",(IF(CD68<Saisies!$F$10,\"\",CG68)))","v":""},"2017-07-17","L",7,7,492,{"$f":"IF(CX68>=Saisies!$E$4,(IF(CY67<=Saisies!$E$4,CT68,CY67)),0)","v":42622},{"$f":"IF(CT68=Saisies!$C$7,MIN((ABS(Saisies!$E$4-CX67)),DA68),DA68)","v":""},{"$f":"IF(ISERROR((IF(CT68>Saisies!$C$7,\"\",IF(ISERROR(IF(CT68<Saisies!$B$7,\"\",CV68)*DB68),IF(CT68<Saisies!$B$7,\"\",CV68),\"\")))*(IF(ISERROR(DC68+1),0,DC68))*DD68*DE68*DF68),\"\",(IF(CT68>Saisies!$C$7,\"\",IF(ISERROR(IF(CT68<Saisies!$B$7,\"\",CV68)*DB68),IF(CT68<Saisies!$B$7,\"\",CV68),\"\")))*(IF(ISERROR(DC68+1),0,DC68))*DD68*DE68*DF68)","v":""},"",1,{"$f":"IF(CT68>Saisies!$C$25,1,(IF(CT68<Saisies!$B$25,1,IF(Saisies!$B$25=0,1,0))))","v":1},{"$f":"IF(CT68>Saisies!$E$25,1,(IF(CT68<Saisies!$D$25,1,IF(Saisies!$D$25=0,1,0))))","v":1},{"$f":"IF(CT68>Saisies!$G$25,1,(IF(CT68<Saisies!$F$25,1,IF(Saisies!$F$25<10,1,0))))","v":1},{"$f":"IF(CT68>Saisies!$C$10,\"\",(IF(CT68<Saisies!$B$10,\"\",CW68)))","v":""},{"$f":"IF(CT68>Saisies!$E$10,\"\",(IF(CT68<Saisies!$D$10,\"\",CW68)))","v":""},{"$f":"IF(CT68>Saisies!$G$10,\"\",(IF(CT68<Saisies!$F$10,\"\",CW68)))","v":""},"2017-08-17","J",8,7,492,{"$f":"IF(DN68>=Saisies!$E$4,(IF(DO67<=Saisies!$E$4,DJ68,DO67)),0)","v":42622},{"$f":"IF(DJ68=Saisies!$C$7,MIN((ABS(Saisies!$E$4-DN67)),DQ68),DQ68)","v":""},{"$f":"IF(ISERROR((IF(DJ68>Saisies!$C$7,\"\",IF(ISERROR(IF(DJ68<Saisies!$B$7,\"\",DL68)*DR68),IF(DJ68<Saisies!$B$7,\"\",DL68),\"\")))*(IF(ISERROR(DS68+1),0,DS68))*DT68*DU68*DV68),\"\",(IF(DJ68>Saisies!$C$7,\"\",IF(ISERROR(IF(DJ68<Saisies!$B$7,\"\",DL68)*DR68),IF(DJ68<Saisies!$B$7,\"\",DL68),\"\")))*(IF(ISERROR(DS68+1),0,DS68))*DT68*DU68*DV68)","v":""},"",1,{"$f":"IF(DJ68>Saisies!$C$25,1,(IF(DJ68<Saisies!$B$25,1,IF(Saisies!$B$25=0,1,0))))","v":1},{"$f":"IF(DJ68>Saisies!$E$25,1,(IF(DJ68<Saisies!$D$25,1,IF(Saisies!$D$25=0,1,0))))","v":1},{"$f":"IF(DJ68>Saisies!$G$25,1,(IF(DJ68<Saisies!$F$25,1,IF(Saisies!$F$25<10,1,0))))","v":1},{"$f":"IF(DJ68>Saisies!$C$10,\"\",(IF(DJ68<Saisies!$B$10,\"\",DM68)))","v":""},{"$f":"IF(DJ68>Saisies!$E$10,\"\",(IF(DJ68<Saisies!$D$10,\"\",DM68)))","v":""},{"$f":"IF(DJ68>Saisies!$G$10,\"\",(IF(DJ68<Saisies!$F$10,\"\",DM68)))","v":""},"2017-09-17","D",0,0,492,{"$f":"IF(ED68>=Saisies!$E$4,(IF(EE67<=Saisies!$E$4,DZ68,EE67)),0)","v":42622},{"$f":"IF(DZ68=Saisies!$C$7,MIN((ABS(Saisies!$E$4-ED67)),EG68),EG68)","v":""},{"$f":"IF(ISERROR((IF(DZ68>Saisies!$C$7,\"\",IF(ISERROR(IF(DZ68<Saisies!$B$7,\"\",EB68)*EH68),IF(DZ68<Saisies!$B$7,\"\",EB68),\"\")))*(IF(ISERROR(EI68+1),0,EI68))*EJ68*EK68*EL68),\"\",(IF(DZ68>Saisies!$C$7,\"\",IF(ISERROR(IF(DZ68<Saisies!$B$7,\"\",EB68)*EH68),IF(DZ68<Saisies!$B$7,\"\",EB68),\"\")))*(IF(ISERROR(EI68+1),0,EI68))*EJ68*EK68*EL68)","v":""},"",1,{"$f":"IF(DZ68>Saisies!$C$25,1,(IF(DZ68<Saisies!$B$25,1,IF(Saisies!$B$25=0,1,0))))","v":1},{"$f":"IF(DZ68>Saisies!$E$25,1,(IF(DZ68<Saisies!$D$25,1,IF(Saisies!$D$25=0,1,0))))","v":1},{"$f":"IF(DZ68>Saisies!$G$25,1,(IF(DZ68<Saisies!$F$25,1,IF(Saisies!$F$25<10,1,0))))","v":1},{"$f":"IF(DZ68>Saisies!$C$10,\"\",(IF(DZ68<Saisies!$B$10,\"\",EC68)))","v":""},{"$f":"IF(DZ68>Saisies!$E$10,\"\",(IF(DZ68<Saisies!$D$10,\"\",EC68)))","v":""},{"$f":"IF(DZ68>Saisies!$G$10,\"\",(IF(DZ68<Saisies!$F$10,\"\",EC68)))","v":""},"2017-10-17","M",8,7,492,{"$f":"IF(ET68>=Saisies!$E$4,(IF(EU67<=Saisies!$E$4,EP68,EU67)),0)","v":42622},{"$f":"IF(EP68=Saisies!$C$7,MIN((ABS(Saisies!$E$4-ET67)),EW68),EW68)","v":""},{"$f":"IF(ISERROR((IF(EP68>Saisies!$C$7,\"\",IF(ISERROR(IF(EP68<Saisies!$B$7,\"\",ER68)*EX68),IF(EP68<Saisies!$B$7,\"\",ER68),\"\")))*(IF(ISERROR(EY68+1),0,EY68))*EZ68*FA68*FB68),\"\",(IF(EP68>Saisies!$C$7,\"\",IF(ISERROR(IF(EP68<Saisies!$B$7,\"\",ER68)*EX68),IF(EP68<Saisies!$B$7,\"\",ER68),\"\")))*(IF(ISERROR(EY68+1),0,EY68))*EZ68*FA68*FB68)","v":""},"",1,{"$f":"IF(EP68>Saisies!$C$25,1,(IF(EP68<Saisies!$B$25,1,IF(Saisies!$B$25=0,1,0))))","v":1},{"$f":"IF(EP68>Saisies!$E$25,1,(IF(EP68<Saisies!$D$25,1,IF(Saisies!$D$25=0,1,0))))","v":1},{"$f":"IF(EP68>Saisies!$G$25,1,(IF(EP68<Saisies!$F$25,1,IF(Saisies!$F$25<10,1,0))))","v":1},{"$f":"IF(EP68>Saisies!$C$10,\"\",(IF(EP68<Saisies!$B$10,\"\",ES68)))","v":""},{"$f":"IF(EP68>Saisies!$E$10,\"\",(IF(EP68<Saisies!$D$10,\"\",ES68)))","v":""},{"$f":"IF(EP68>Saisies!$G$10,\"\",(IF(EP68<Saisies!$F$10,\"\",ES68)))","v":""},"2017-11-17","V",4,7,492,{"$f":"IF(FJ68>=Saisies!$E$4,(IF(FK67<=Saisies!$E$4,FF68,FK67)),0)","v":42622},{"$f":"IF(FF68=Saisies!$C$7,MIN((ABS(Saisies!$E$4-FJ67)),FM68),FM68)","v":""},{"$f":"IF(ISERROR((IF(FF68>Saisies!$C$7,\"\",IF(ISERROR(IF(FF68<Saisies!$B$7,\"\",FH68)*FN68),IF(FF68<Saisies!$B$7,\"\",FH68),\"\")))*(IF(ISERROR(FO68+1),0,FO68))*FP68*FQ68*FR68),\"\",(IF(FF68>Saisies!$C$7,\"\",IF(ISERROR(IF(FF68<Saisies!$B$7,\"\",FH68)*FN68),IF(FF68<Saisies!$B$7,\"\",FH68),\"\")))*(IF(ISERROR(FO68+1),0,FO68))*FP68*FQ68*FR68)","v":""},"",1,{"$f":"IF(FF68>Saisies!$C$25,1,(IF(FF68<Saisies!$B$25,1,IF(Saisies!$B$25=0,1,0))))","v":1},{"$f":"IF(FF68>Saisies!$E$25,1,(IF(FF68<Saisies!$D$25,1,IF(Saisies!$D$25=0,1,0))))","v":1},{"$f":"IF(FF68>Saisies!$G$25,1,(IF(FF68<Saisies!$F$25,1,IF(Saisies!$F$25<10,1,0))))","v":1},{"$f":"IF(FF68>Saisies!$C$10,\"\",(IF(FF68<Saisies!$B$10,\"\",FI68)))","v":""},{"$f":"IF(FF68>Saisies!$E$10,\"\",(IF(FF68<Saisies!$D$10,\"\",FI68)))","v":""},{"$f":"IF(FF68>Saisies!$G$10,\"\",(IF(FF68<Saisies!$F$10,\"\",FI68)))","v":""},"2017-12-17","D",0,0,492,{"$f":"IF(FZ68>=Saisies!$E$4,(IF(GA67<=Saisies!$E$4,FV68,GA67)),0)","v":42622},{"$f":"IF(FV68=Saisies!$C$7,MIN((ABS(Saisies!$E$4-FZ67)),GC68),GC68)","v":""},{"$f":"IF(ISERROR((IF(FV68>Saisies!$C$7,\"\",IF(ISERROR(IF(FV68<Saisies!$B$7,\"\",FX68)*GD68),IF(FV68<Saisies!$B$7,\"\",FX68),\"\")))*(IF(ISERROR(GE68+1),0,GE68))*GF68*GG68*GH68),\"\",(IF(FV68>Saisies!$C$7,\"\",IF(ISERROR(IF(FV68<Saisies!$B$7,\"\",FX68)*GD68),IF(FV68<Saisies!$B$7,\"\",FX68),\"\")))*(IF(ISERROR(GE68+1),0,GE68))*GF68*GG68*GH68)","v":""},"",1,{"$f":"IF(FV68>Saisies!$C$25,1,(IF(FV68<Saisies!$B$25,1,IF(Saisies!$B$25=0,1,0))))","v":1},{"$f":"IF(FV68>Saisies!$E$25,1,(IF(FV68<Saisies!$D$25,1,IF(Saisies!$D$25=0,1,0))))","v":1},{"$f":"IF(FV68>Saisies!$G$25,1,(IF(FV68<Saisies!$F$25,1,IF(Saisies!$F$25<10,1,0))))","v":1},{"$f":"IF(FV68>Saisies!$C$10,\"\",(IF(FV68<Saisies!$B$10,\"\",FY68)))","v":""},{"$f":"IF(FV68>Saisies!$E$10,\"\",(IF(FV68<Saisies!$D$10,\"\",FY68)))","v":""},{"$f":"IF(FV68>Saisies!$G$10,\"\",(IF(FV68<Saisies!$F$10,\"\",FY68)))","v":""}]
[null,"2017-01-18","M",8,7,492,{"$f":"IF(F69>=Saisies!$E$4,(IF(G68<=Saisies!$E$4,B69,G68)),0)","v":42622},{"$f":"IF(B69=Saisies!$C$7,MIN((ABS(Saisies!$E$4-F68)),I69),I69)","v":""},{"$f":"IF(ISERROR((IF(B69>Saisies!$C$7,\"\",IF(ISERROR(IF(B69<Saisies!$B$7,\"\",D69)*J69),IF(B69<Saisies!$B$7,\"\",D69),\"\")))*(IF(ISERROR(K69+1),0,K69))*L69*M69*N69),\"\",(IF(B69>Saisies!$C$7,\"\",IF(ISERROR(IF(B69<Saisies!$B$7,\"\",D69)*J69),IF(B69<Saisies!$B$7,\"\",D69),\"\")))*(IF(ISERROR(K69+1),0,K69))*L69*M69*N69)","v":""},"",1,{"$f":"IF(B69>Saisies!$C$25,1,(IF(B69<Saisies!$B$25,1,IF(Saisies!$B$25=0,1,0))))","v":1},{"$f":"IF(B69>Saisies!$E$25,1,(IF(B69<Saisies!$D$25,1,IF(Saisies!$D$25=0,1,0))))","v":1},{"$f":"IF(B69>Saisies!$G$25,1,(IF(B69<Saisies!$F$25,1,IF(Saisies!$F$25<10,1,0))))","v":1},{"$f":"IF(B69>Saisies!$C$10,\"\",(IF(B69<Saisies!$B$10,\"\",E69)))","v":""},{"$f":"IF(B69>Saisies!$E$10,\"\",(IF(B69<Saisies!$D$10,\"\",E69)))","v":""},{"$f":"IF(B69>Saisies!$G$10,\"\",(IF(B69<Saisies!$F$10,\"\",E69)))","v":""},"2017-02-18","S",0,0,492,{"$f":"IF(V69>=Saisies!$E$4,(IF(W68<=Saisies!$E$4,R69,W68)),0)","v":42622},{"$f":"IF(R69=Saisies!$C$7,MIN((ABS(Saisies!$E$4-V68)),Y69),Y69)","v":""},{"$f":"IF(ISERROR((IF(R69>Saisies!$C$7,\"\",IF(ISERROR(IF(R69<Saisies!$B$7,\"\",T69)*Z69),IF(R69<Saisies!$B$7,\"\",T69),\"\")))*(IF(ISERROR(AA69+1),0,AA69))*AB69*AC69*AD69),\"\",(IF(R69>Saisies!$C$7,\"\",IF(ISERROR(IF(R69<Saisies!$B$7,\"\",T69)*Z69),IF(R69<Saisies!$B$7,\"\",T69),\"\")))*(IF(ISERROR(AA69+1),0,AA69))*AB69*AC69*AD69)","v":""},"",1,{"$f":"IF(R69>Saisies!$C$25,1,(IF(R69<Saisies!$B$25,1,IF(Saisies!$B$25=0,1,0))))","v":1},{"$f":"IF(R69>Saisies!$E$25,1,(IF(R69<Saisies!$D$25,1,IF(Saisies!$D$25=0,1,0))))","v":1},{"$f":"IF(R69>Saisies!$G$25,1,(IF(R69<Saisies!$F$25,1,IF(Saisies!$F$25<10,1,0))))","v":1},{"$f":"IF(R69>Saisies!$C$10,\"\",(IF(R69<Saisies!$B$10,\"\",U69)))","v":""},{"$f":"IF(R69>Saisies!$E$10,\"\",(IF(R69<Saisies!$D$10,\"\",U69)))","v":""},{"$f":"IF(R69>Saisies!$G$10,\"\",(IF(R69<Saisies!$F$10,\"\",U69)))","v":""},"2017-03-18","S",0,0,492,{"$f":"IF(AL69>=Saisies!$E$4,(IF(AM68<=Saisies!$E$4,AH69,AM68)),0)","v":42622},{"$f":"IF(AH69=Saisies!$C$7,MIN((ABS(Saisies!$E$4-AL68)),AO69),AO69)","v":""},{"$f":"IF(ISERROR((IF(AH69>Saisies!$C$7,\"\",IF(ISERROR(IF(AH69<Saisies!$B$7,\"\",AJ69)*AP69),IF(AH69<Saisies!$B$7,\"\",AJ69),\"\")))*(IF(ISERROR(AQ69+1),0,AQ69))*AR69*AS69*AT69),\"\",(IF(AH69>Saisies!$C$7,\"\",IF(ISERROR(IF(AH69<Saisies!$B$7,\"\",AJ69)*AP69),IF(AH69<Saisies!$B$7,\"\",AJ69),\"\")))*(IF(ISERROR(AQ69+1),0,AQ69))*AR69*AS69*AT69)","v":""},"",1,{"$f":"IF(AH69>Saisies!$C$25,1,(IF(AH69<Saisies!$B$25,1,IF(Saisies!$B$25=0,1,0))))","v":1},{"$f":"IF(AH69>Saisies!$E$25,1,(IF(AH69<Saisies!$D$25,1,IF(Saisies!$D$25=0,1,0))))","v":1},{"$f":"IF(AH69>Saisies!$G$25,1,(IF(AH69<Saisies!$F$25,1,IF(Saisies!$F$25<10,1,0))))","v":1},{"$f":"IF(AH69>Saisies!$C$10,\"\",(IF(AH69<Saisies!$B$10,\"\",AK69)))","v":""},{"$f":"IF(AH69>Saisies!$E$10,\"\",(IF(AH69<Saisies!$D$10,\"\",AK69)))","v":""},{"$f":"IF(AH69>Saisies!$G$10,\"\",(IF(AH69<Saisies!$F$10,\"\",AK69)))","v":""},"2017-04-18","M",8,7,492,{"$f":"IF(BB69>=Saisies!$E$4,(IF(BC68<=Saisies!$E$4,AX69,BC68)),0)","v":42622},{"$f":"IF(AX69=Saisies!$C$7,MIN((ABS(Saisies!$E$4-BB68)),BE69),BE69)","v":""},{"$f":"IF(ISERROR((IF(AX69>Saisies!$C$7,\"\",IF(ISERROR(IF(AX69<Saisies!$B$7,\"\",AZ69)*BF69),IF(AX69<Saisies!$B$7,\"\",AZ69),\"\")))*(IF(ISERROR(BG69+1),0,BG69))*BH69*BI69*BJ69),\"\",(IF(AX69>Saisies!$C$7,\"\",IF(ISERROR(IF(AX69<Saisies!$B$7,\"\",AZ69)*BF69),IF(AX69<Saisies!$B$7,\"\",AZ69),\"\")))*(IF(ISERROR(BG69+1),0,BG69))*BH69*BI69*BJ69)","v":""},"",1,{"$f":"IF(AX69>Saisies!$C$25,1,(IF(AX69<Saisies!$B$25,1,IF(Saisies!$B$25=0,1,0))))","v":1},{"$f":"IF(AX69>Saisies!$E$25,1,(IF(AX69<Saisies!$D$25,1,IF(Saisies!$D$25=0,1,0))))","v":1},{"$f":"IF(AX69>Saisies!$G$25,1,(IF(AX69<Saisies!$F$25,1,IF(Saisies!$F$25<10,1,0))))","v":1},{"$f":"IF(AX69>Saisies!$C$10,\"\",(IF(AX69<Saisies!$B$10,\"\",BA69)))","v":""},{"$f":"IF(AX69>Saisies!$E$10,\"\",(IF(AX69<Saisies!$D$10,\"\",BA69)))","v":""},{"$f":"IF(AX69>Saisies!$G$10,\"\",(IF(AX69<Saisies!$F$10,\"\",BA69)))","v":""},"2017-05-18","J",8,7,492,{"$f":"IF(BR69>=Saisies!$E$4,(IF(BS68<=Saisies!$E$4,BN69,BS68)),0)","v":42622},{"$f":"IF(BN69=Saisies!$C$7,MIN((ABS(Saisies!$E$4-BR68)),BU69),BU69)","v":""},{"$f":"IF(ISERROR((IF(BN69>Saisies!$C$7,\"\",IF(ISERROR(IF(BN69<Saisies!$B$7,\"\",BP69)*BV69),IF(BN69<Saisies!$B$7,\"\",BP69),\"\")))*(IF(ISERROR(BW69+1),0,BW69))*BX69*BY69*BZ69),\"\",(IF(BN69>Saisies!$C$7,\"\",IF(ISERROR(IF(BN69<Saisies!$B$7,\"\",BP69)*BV69),IF(BN69<Saisies!$B$7,\"\",BP69),\"\")))*(IF(ISERROR(BW69+1),0,BW69))*BX69*BY69*BZ69)","v":""},"",1,{"$f":"IF(BN69>Saisies!$C$25,1,(IF(BN69<Saisies!$B$25,1,IF(Saisies!$B$25=0,1,0))))","v":1},{"$f":"IF(BN69>Saisies!$E$25,1,(IF(BN69<Saisies!$D$25,1,IF(Saisies!$D$25=0,1,0))))","v":1},{"$f":"IF(BN69>Saisies!$G$25,1,(IF(BN69<Saisies!$F$25,1,IF(Saisies!$F$25<10,1,0))))","v":1},{"$f":"IF(BN69>Saisies!$C$10,\"\",(IF(BN69<Saisies!$B$10,\"\",BQ69)))","v":""},{"$f":"IF(BN69>Saisies!$E$10,\"\",(IF(BN69<Saisies!$D$10,\"\",BQ69)))","v":""},{"$f":"IF(BN69>Saisies!$G$10,\"\",(IF(BN69<Saisies!$F$10,\"\",BQ69)))","v":""},"2017-06-18","D",0,0,492,{"$f":"IF(CH69>=Saisies!$E$4,(IF(CI68<=Saisies!$E$4,CD69,CI68)),0)","v":42622},{"$f":"IF(CD69=Saisies!$C$7,MIN((ABS(Saisies!$E$4-CH68)),CK69),CK69)","v":""},{"$f":"IF(ISERROR((IF(CD69>Saisies!$C$7,\"\",IF(ISERROR(IF(CD69<Saisies!$B$7,\"\",CF69)*CL69),IF(CD69<Saisies!$B$7,\"\",CF69),\"\")))*(IF(ISERROR(CM69+1),0,CM69))*CN69*CO69*CP69),\"\",(IF(CD69>Saisies!$C$7,\"\",IF(ISERROR(IF(CD69<Saisies!$B$7,\"\",CF69)*CL69),IF(CD69<Saisies!$B$7,\"\",CF69),\"\")))*(IF(ISERROR(CM69+1),0,CM69))*CN69*CO69*CP69)","v":""},"",1,{"$f":"IF(CD69>Saisies!$C$25,1,(IF(CD69<Saisies!$B$25,1,IF(Saisies!$B$25=0,1,0))))","v":1},{"$f":"IF(CD69>Saisies!$E$25,1,(IF(CD69<Saisies!$D$25,1,IF(Saisies!$D$25=0,1,0))))","v":1},{"$f":"IF(CD69>Saisies!$G$25,1,(IF(CD69<Saisies!$F$25,1,IF(Saisies!$F$25<10,1,0))))","v":1},{"$f":"IF(CD69>Saisies!$C$10,\"\",(IF(CD69<Saisies!$B$10,\"\",CG69)))","v":""},{"$f":"IF(CD69>Saisies!$E$10,\"\",(IF(CD69<Saisies!$D$10,\"\",CG69)))","v":""},{"$f":"IF(CD69>Saisies!$G$10,\"\",(IF(CD69<Saisies!$F$10,\"\",CG69)))","v":""},"2017-07-18","M",8,7,492,{"$f":"IF(CX69>=Saisies!$E$4,(IF(CY68<=Saisies!$E$4,CT69,CY68)),0)","v":42622},{"$f":"IF(CT69=Saisies!$C$7,MIN((ABS(Saisies!$E$4-CX68)),DA69),DA69)","v":""},{"$f":"IF(ISERROR((IF(CT69>Saisies!$C$7,\"\",IF(ISERROR(IF(CT69<Saisies!$B$7,\"\",CV69)*DB69),IF(CT69<Saisies!$B$7,\"\",CV69),\"\")))*(IF(ISERROR(DC69+1),0,DC69))*DD69*DE69*DF69),\"\",(IF(CT69>Saisies!$C$7,\"\",IF(ISERROR(IF(CT69<Saisies!$B$7,\"\",CV69)*DB69),IF(CT69<Saisies!$B$7,\"\",CV69),\"\")))*(IF(ISERROR(DC69+1),0,DC69))*DD69*DE69*DF69)","v":""},"",1,{"$f":"IF(CT69>Saisies!$C$25,1,(IF(CT69<Saisies!$B$25,1,IF(Saisies!$B$25=0,1,0))))","v":1},{"$f":"IF(CT69>Saisies!$E$25,1,(IF(CT69<Saisies!$D$25,1,IF(Saisies!$D$25=0,1,0))))","v":1},{"$f":"IF(CT69>Saisies!$G$25,1,(IF(CT69<Saisies!$F$25,1,IF(Saisies!$F$25<10,1,0))))","v":1},{"$f":"IF(CT69>Saisies!$C$10,\"\",(IF(CT69<Saisies!$B$10,\"\",CW69)))","v":""},{"$f":"IF(CT69>Saisies!$E$10,\"\",(IF(CT69<Saisies!$D$10,\"\",CW69)))","v":""},{"$f":"IF(CT69>Saisies!$G$10,\"\",(IF(CT69<Saisies!$F$10,\"\",CW69)))","v":""},"2017-08-18","V",4,7,492,{"$f":"IF(DN69>=Saisies!$E$4,(IF(DO68<=Saisies!$E$4,DJ69,DO68)),0)","v":42622},{"$f":"IF(DJ69=Saisies!$C$7,MIN((ABS(Saisies!$E$4-DN68)),DQ69),DQ69)","v":""},{"$f":"IF(ISERROR((IF(DJ69>Saisies!$C$7,\"\",IF(ISERROR(IF(DJ69<Saisies!$B$7,\"\",DL69)*DR69),IF(DJ69<Saisies!$B$7,\"\",DL69),\"\")))*(IF(ISERROR(DS69+1),0,DS69))*DT69*DU69*DV69),\"\",(IF(DJ69>Saisies!$C$7,\"\",IF(ISERROR(IF(DJ69<Saisies!$B$7,\"\",DL69)*DR69),IF(DJ69<Saisies!$B$7,\"\",DL69),\"\")))*(IF(ISERROR(DS69+1),0,DS69))*DT69*DU69*DV69)","v":""},"",1,{"$f":"IF(DJ69>Saisies!$C$25,1,(IF(DJ69<Saisies!$B$25,1,IF(Saisies!$B$25=0,1,0))))","v":1},{"$f":"IF(DJ69>Saisies!$E$25,1,(IF(DJ69<Saisies!$D$25,1,IF(Saisies!$D$25=0,1,0))))","v":1},{"$f":"IF(DJ69>Saisies!$G$25,1,(IF(DJ69<Saisies!$F$25,1,IF(Saisies!$F$25<10,1,0))))","v":1},{"$f":"IF(DJ69>Saisies!$C$10,\"\",(IF(DJ69<Saisies!$B$10,\"\",DM69)))","v":""},{"$f":"IF(DJ69>Saisies!$E$10,\"\",(IF(DJ69<Saisies!$D$10,\"\",DM69)))","v":""},{"$f":"IF(DJ69>Saisies!$G$10,\"\",(IF(DJ69<Saisies!$F$10,\"\",DM69)))","v":""},"2017-09-18","L",7,7,492,{"$f":"IF(ED69>=Saisies!$E$4,(IF(EE68<=Saisies!$E$4,DZ69,EE68)),0)","v":42622},{"$f":"IF(DZ69=Saisies!$C$7,MIN((ABS(Saisies!$E$4-ED68)),EG69),EG69)","v":""},{"$f":"IF(ISERROR((IF(DZ69>Saisies!$C$7,\"\",IF(ISERROR(IF(DZ69<Saisies!$B$7,\"\",EB69)*EH69),IF(DZ69<Saisies!$B$7,\"\",EB69),\"\")))*(IF(ISERROR(EI69+1),0,EI69))*EJ69*EK69*EL69),\"\",(IF(DZ69>Saisies!$C$7,\"\",IF(ISERROR(IF(DZ69<Saisies!$B$7,\"\",EB69)*EH69),IF(DZ69<Saisies!$B$7,\"\",EB69),\"\")))*(IF(ISERROR(EI69+1),0,EI69))*EJ69*EK69*EL69)","v":""},"",1,{"$f":"IF(DZ69>Saisies!$C$25,1,(IF(DZ69<Saisies!$B$25,1,IF(Saisies!$B$25=0,1,0))))","v":1},{"$f":"IF(DZ69>Saisies!$E$25,1,(IF(DZ69<Saisies!$D$25,1,IF(Saisies!$D$25=0,1,0))))","v":1},{"$f":"IF(DZ69>Saisies!$G$25,1,(IF(DZ69<Saisies!$F$25,1,IF(Saisies!$F$25<10,1,0))))","v":1},{"$f":"IF(DZ69>Saisies!$C$10,\"\",(IF(DZ69<Saisies!$B$10,\"\",EC69)))","v":""},{"$f":"IF(DZ69>Saisies!$E$10,\"\",(IF(DZ69<Saisies!$D$10,\"\",EC69)))","v":""},{"$f":"IF(DZ69>Saisies!$G$10,\"\",(IF(DZ69<Saisies!$F$10,\"\",EC69)))","v":""},"2017-10-18","M",8,7,492,{"$f":"IF(ET69>=Saisies!$E$4,(IF(EU68<=Saisies!$E$4,EP69,EU68)),0)","v":42622},{"$f":"IF(EP69=Saisies!$C$7,MIN((ABS(Saisies!$E$4-ET68)),EW69),EW69)","v":""},{"$f":"IF(ISERROR((IF(EP69>Saisies!$C$7,\"\",IF(ISERROR(IF(EP69<Saisies!$B$7,\"\",ER69)*EX69),IF(EP69<Saisies!$B$7,\"\",ER69),\"\")))*(IF(ISERROR(EY69+1),0,EY69))*EZ69*FA69*FB69),\"\",(IF(EP69>Saisies!$C$7,\"\",IF(ISERROR(IF(EP69<Saisies!$B$7,\"\",ER69)*EX69),IF(EP69<Saisies!$B$7,\"\",ER69),\"\")))*(IF(ISERROR(EY69+1),0,EY69))*EZ69*FA69*FB69)","v":""},"",1,{"$f":"IF(EP69>Saisies!$C$25,1,(IF(EP69<Saisies!$B$25,1,IF(Saisies!$B$25=0,1,0))))","v":1},{"$f":"IF(EP69>Saisies!$E$25,1,(IF(EP69<Saisies!$D$25,1,IF(Saisies!$D$25=0,1,0))))","v":1},{"$f":"IF(EP69>Saisies!$G$25,1,(IF(EP69<Saisies!$F$25,1,IF(Saisies!$F$25<10,1,0))))","v":1},{"$f":"IF(EP69>Saisies!$C$10,\"\",(IF(EP69<Saisies!$B$10,\"\",ES69)))","v":""},{"$f":"IF(EP69>Saisies!$E$10,\"\",(IF(EP69<Saisies!$D$10,\"\",ES69)))","v":""},{"$f":"IF(EP69>Saisies!$G$10,\"\",(IF(EP69<Saisies!$F$10,\"\",ES69)))","v":""},"2017-11-18","S",0,0,492,{"$f":"IF(FJ69>=Saisies!$E$4,(IF(FK68<=Saisies!$E$4,FF69,FK68)),0)","v":42622},{"$f":"IF(FF69=Saisies!$C$7,MIN((ABS(Saisies!$E$4-FJ68)),FM69),FM69)","v":""},{"$f":"IF(ISERROR((IF(FF69>Saisies!$C$7,\"\",IF(ISERROR(IF(FF69<Saisies!$B$7,\"\",FH69)*FN69),IF(FF69<Saisies!$B$7,\"\",FH69),\"\")))*(IF(ISERROR(FO69+1),0,FO69))*FP69*FQ69*FR69),\"\",(IF(FF69>Saisies!$C$7,\"\",IF(ISERROR(IF(FF69<Saisies!$B$7,\"\",FH69)*FN69),IF(FF69<Saisies!$B$7,\"\",FH69),\"\")))*(IF(ISERROR(FO69+1),0,FO69))*FP69*FQ69*FR69)","v":""},"",1,{"$f":"IF(FF69>Saisies!$C$25,1,(IF(FF69<Saisies!$B$25,1,IF(Saisies!$B$25=0,1,0))))","v":1},{"$f":"IF(FF69>Saisies!$E$25,1,(IF(FF69<Saisies!$D$25,1,IF(Saisies!$D$25=0,1,0))))","v":1},{"$f":"IF(FF69>Saisies!$G$25,1,(IF(FF69<Saisies!$F$25,1,IF(Saisies!$F$25<10,1,0))))","v":1},{"$f":"IF(FF69>Saisies!$C$10,\"\",(IF(FF69<Saisies!$B$10,\"\",FI69)))","v":""},{"$f":"IF(FF69>Saisies!$E$10,\"\",(IF(FF69<Saisies!$D$10,\"\",FI69)))","v":""},{"$f":"IF(FF69>Saisies!$G$10,\"\",(IF(FF69<Saisies!$F$10,\"\",FI69)))","v":""},"2017-12-18","L",7,7,492,{"$f":"IF(FZ69>=Saisies!$E$4,(IF(GA68<=Saisies!$E$4,FV69,GA68)),0)","v":42622},{"$f":"IF(FV69=Saisies!$C$7,MIN((ABS(Saisies!$E$4-FZ68)),GC69),GC69)","v":""},{"$f":"IF(ISERROR((IF(FV69>Saisies!$C$7,\"\",IF(ISERROR(IF(FV69<Saisies!$B$7,\"\",FX69)*GD69),IF(FV69<Saisies!$B$7,\"\",FX69),\"\")))*(IF(ISERROR(GE69+1),0,GE69))*GF69*GG69*GH69),\"\",(IF(FV69>Saisies!$C$7,\"\",IF(ISERROR(IF(FV69<Saisies!$B$7,\"\",FX69)*GD69),IF(FV69<Saisies!$B$7,\"\",FX69),\"\")))*(IF(ISERROR(GE69+1),0,GE69))*GF69*GG69*GH69)","v":""},"",1,{"$f":"IF(FV69>Saisies!$C$25,1,(IF(FV69<Saisies!$B$25,1,IF(Saisies!$B$25=0,1,0))))","v":1},{"$f":"IF(FV69>Saisies!$E$25,1,(IF(FV69<Saisies!$D$25,1,IF(Saisies!$D$25=0,1,0))))","v":1},{"$f":"IF(FV69>Saisies!$G$25,1,(IF(FV69<Saisies!$F$25,1,IF(Saisies!$F$25<10,1,0))))","v":1},{"$f":"IF(FV69>Saisies!$C$10,\"\",(IF(FV69<Saisies!$B$10,\"\",FY69)))","v":""},{"$f":"IF(FV69>Saisies!$E$10,\"\",(IF(FV69<Saisies!$D$10,\"\",FY69)))","v":""},{"$f":"IF(FV69>Saisies!$G$10,\"\",(IF(FV69<Saisies!$F$10,\"\",FY69)))","v":""}]
[null,"2017-01-19","J",8,7,492,{"$f":"IF(F70>=Saisies!$E$4,(IF(G69<=Saisies!$E$4,B70,G69)),0)","v":42622},{"$f":"IF(B70=Saisies!$C$7,MIN((ABS(Saisies!$E$4-F69)),I70),I70)","v":""},{"$f":"IF(ISERROR((IF(B70>Saisies!$C$7,\"\",IF(ISERROR(IF(B70<Saisies!$B$7,\"\",D70)*J70),IF(B70<Saisies!$B$7,\"\",D70),\"\")))*(IF(ISERROR(K70+1),0,K70))*L70*M70*N70),\"\",(IF(B70>Saisies!$C$7,\"\",IF(ISERROR(IF(B70<Saisies!$B$7,\"\",D70)*J70),IF(B70<Saisies!$B$7,\"\",D70),\"\")))*(IF(ISERROR(K70+1),0,K70))*L70*M70*N70)","v":""},"",1,{"$f":"IF(B70>Saisies!$C$25,1,(IF(B70<Saisies!$B$25,1,IF(Saisies!$B$25=0,1,0))))","v":1},{"$f":"IF(B70>Saisies!$E$25,1,(IF(B70<Saisies!$D$25,1,IF(Saisies!$D$25=0,1,0))))","v":1},{"$f":"IF(B70>Saisies!$G$25,1,(IF(B70<Saisies!$F$25,1,IF(Saisies!$F$25<10,1,0))))","v":1},{"$f":"IF(B70>Saisies!$C$10,\"\",(IF(B70<Saisies!$B$10,\"\",E70)))","v":""},{"$f":"IF(B70>Saisies!$E$10,\"\",(IF(B70<Saisies!$D$10,\"\",E70)))","v":""},{"$f":"IF(B70>Saisies!$G$10,\"\",(IF(B70<Saisies!$F$10,\"\",E70)))","v":""},"2017-02-19","D",0,0,492,{"$f":"IF(V70>=Saisies!$E$4,(IF(W69<=Saisies!$E$4,R70,W69)),0)","v":42622},{"$f":"IF(R70=Saisies!$C$7,MIN((ABS(Saisies!$E$4-V69)),Y70),Y70)","v":""},{"$f":"IF(ISERROR((IF(R70>Saisies!$C$7,\"\",IF(ISERROR(IF(R70<Saisies!$B$7,\"\",T70)*Z70),IF(R70<Saisies!$B$7,\"\",T70),\"\")))*(IF(ISERROR(AA70+1),0,AA70))*AB70*AC70*AD70),\"\",(IF(R70>Saisies!$C$7,\"\",IF(ISERROR(IF(R70<Saisies!$B$7,\"\",T70)*Z70),IF(R70<Saisies!$B$7,\"\",T70),\"\")))*(IF(ISERROR(AA70+1),0,AA70))*AB70*AC70*AD70)","v":""},"",1,{"$f":"IF(R70>Saisies!$C$25,1,(IF(R70<Saisies!$B$25,1,IF(Saisies!$B$25=0,1,0))))","v":1},{"$f":"IF(R70>Saisies!$E$25,1,(IF(R70<Saisies!$D$25,1,IF(Saisies!$D$25=0,1,0))))","v":1},{"$f":"IF(R70>Saisies!$G$25,1,(IF(R70<Saisies!$F$25,1,IF(Saisies!$F$25<10,1,0))))","v":1},{"$f":"IF(R70>Saisies!$C$10,\"\",(IF(R70<Saisies!$B$10,\"\",U70)))","v":""},{"$f":"IF(R70>Saisies!$E$10,\"\",(IF(R70<Saisies!$D$10,\"\",U70)))","v":""},{"$f":"IF(R70>Saisies!$G$10,\"\",(IF(R70<Saisies!$F$10,\"\",U70)))","v":""},"2017-03-19","D",0,0,492,{"$f":"IF(AL70>=Saisies!$E$4,(IF(AM69<=Saisies!$E$4,AH70,AM69)),0)","v":42622},{"$f":"IF(AH70=Saisies!$C$7,MIN((ABS(Saisies!$E$4-AL69)),AO70),AO70)","v":""},{"$f":"IF(ISERROR((IF(AH70>Saisies!$C$7,\"\",IF(ISERROR(IF(AH70<Saisies!$B$7,\"\",AJ70)*AP70),IF(AH70<Saisies!$B$7,\"\",AJ70),\"\")))*(IF(ISERROR(AQ70+1),0,AQ70))*AR70*AS70*AT70),\"\",(IF(AH70>Saisies!$C$7,\"\",IF(ISERROR(IF(AH70<Saisies!$B$7,\"\",AJ70)*AP70),IF(AH70<Saisies!$B$7,\"\",AJ70),\"\")))*(IF(ISERROR(AQ70+1),0,AQ70))*AR70*AS70*AT70)","v":""},"",1,{"$f":"IF(AH70>Saisies!$C$25,1,(IF(AH70<Saisies!$B$25,1,IF(Saisies!$B$25=0,1,0))))","v":1},{"$f":"IF(AH70>Saisies!$E$25,1,(IF(AH70<Saisies!$D$25,1,IF(Saisies!$D$25=0,1,0))))","v":1},{"$f":"IF(AH70>Saisies!$G$25,1,(IF(AH70<Saisies!$F$25,1,IF(Saisies!$F$25<10,1,0))))","v":1},{"$f":"IF(AH70>Saisies!$C$10,\"\",(IF(AH70<Saisies!$B$10,\"\",AK70)))","v":""},{"$f":"IF(AH70>Saisies!$E$10,\"\",(IF(AH70<Saisies!$D$10,\"\",AK70)))","v":""},{"$f":"IF(AH70>Saisies!$G$10,\"\",(IF(AH70<Saisies!$F$10,\"\",AK70)))","v":""},"2017-04-19","M",8,7,492,{"$f":"IF(BB70>=Saisies!$E$4,(IF(BC69<=Saisies!$E$4,AX70,BC69)),0)","v":42622},{"$f":"IF(AX70=Saisies!$C$7,MIN((ABS(Saisies!$E$4-BB69)),BE70),BE70)","v":""},{"$f":"IF(ISERROR((IF(AX70>Saisies!$C$7,\"\",IF(ISERROR(IF(AX70<Saisies!$B$7,\"\",AZ70)*BF70),IF(AX70<Saisies!$B$7,\"\",AZ70),\"\")))*(IF(ISERROR(BG70+1),0,BG70))*BH70*BI70*BJ70),\"\",(IF(AX70>Saisies!$C$7,\"\",IF(ISERROR(IF(AX70<Saisies!$B$7,\"\",AZ70)*BF70),IF(AX70<Saisies!$B$7,\"\",AZ70),\"\")))*(IF(ISERROR(BG70+1),0,BG70))*BH70*BI70*BJ70)","v":""},"",1,{"$f":"IF(AX70>Saisies!$C$25,1,(IF(AX70<Saisies!$B$25,1,IF(Saisies!$B$25=0,1,0))))","v":1},{"$f":"IF(AX70>Saisies!$E$25,1,(IF(AX70<Saisies!$D$25,1,IF(Saisies!$D$25=0,1,0))))","v":1},{"$f":"IF(AX70>Saisies!$G$25,1,(IF(AX70<Saisies!$F$25,1,IF(Saisies!$F$25<10,1,0))))","v":1},{"$f":"IF(AX70>Saisies!$C$10,\"\",(IF(AX70<Saisies!$B$10,\"\",BA70)))","v":""},{"$f":"IF(AX70>Saisies!$E$10,\"\",(IF(AX70<Saisies!$D$10,\"\",BA70)))","v":""},{"$f":"IF(AX70>Saisies!$G$10,\"\",(IF(AX70<Saisies!$F$10,\"\",BA70)))","v":""},"2017-05-19","V",4,7,492,{"$f":"IF(BR70>=Saisies!$E$4,(IF(BS69<=Saisies!$E$4,BN70,BS69)),0)","v":42622},{"$f":"IF(BN70=Saisies!$C$7,MIN((ABS(Saisies!$E$4-BR69)),BU70),BU70)","v":""},{"$f":"IF(ISERROR((IF(BN70>Saisies!$C$7,\"\",IF(ISERROR(IF(BN70<Saisies!$B$7,\"\",BP70)*BV70),IF(BN70<Saisies!$B$7,\"\",BP70),\"\")))*(IF(ISERROR(BW70+1),0,BW70))*BX70*BY70*BZ70),\"\",(IF(BN70>Saisies!$C$7,\"\",IF(ISERROR(IF(BN70<Saisies!$B$7,\"\",BP70)*BV70),IF(BN70<Saisies!$B$7,\"\",BP70),\"\")))*(IF(ISERROR(BW70+1),0,BW70))*BX70*BY70*BZ70)","v":""},"",1,{"$f":"IF(BN70>Saisies!$C$25,1,(IF(BN70<Saisies!$B$25,1,IF(Saisies!$B$25=0,1,0))))","v":1},{"$f":"IF(BN70>Saisies!$E$25,1,(IF(BN70<Saisies!$D$25,1,IF(Saisies!$D$25=0,1,0))))","v":1},{"$f":"IF(BN70>Saisies!$G$25,1,(IF(BN70<Saisies!$F$25,1,IF(Saisies!$F$25<10,1,0))))","v":1},{"$f":"IF(BN70>Saisies!$C$10,\"\",(IF(BN70<Saisies!$B$10,\"\",BQ70)))","v":""},{"$f":"IF(BN70>Saisies!$E$10,\"\",(IF(BN70<Saisies!$D$10,\"\",BQ70)))","v":""},{"$f":"IF(BN70>Saisies!$G$10,\"\",(IF(BN70<Saisies!$F$10,\"\",BQ70)))","v":""},"2017-06-19","L",7,7,492,{"$f":"IF(CH70>=Saisies!$E$4,(IF(CI69<=Saisies!$E$4,CD70,CI69)),0)","v":42622},{"$f":"IF(CD70=Saisies!$C$7,MIN((ABS(Saisies!$E$4-CH69)),CK70),CK70)","v":""},{"$f":"IF(ISERROR((IF(CD70>Saisies!$C$7,\"\",IF(ISERROR(IF(CD70<Saisies!$B$7,\"\",CF70)*CL70),IF(CD70<Saisies!$B$7,\"\",CF70),\"\")))*(IF(ISERROR(CM70+1),0,CM70))*CN70*CO70*CP70),\"\",(IF(CD70>Saisies!$C$7,\"\",IF(ISERROR(IF(CD70<Saisies!$B$7,\"\",CF70)*CL70),IF(CD70<Saisies!$B$7,\"\",CF70),\"\")))*(IF(ISERROR(CM70+1),0,CM70))*CN70*CO70*CP70)","v":""},"",1,{"$f":"IF(CD70>Saisies!$C$25,1,(IF(CD70<Saisies!$B$25,1,IF(Saisies!$B$25=0,1,0))))","v":1},{"$f":"IF(CD70>Saisies!$E$25,1,(IF(CD70<Saisies!$D$25,1,IF(Saisies!$D$25=0,1,0))))","v":1},{"$f":"IF(CD70>Saisies!$G$25,1,(IF(CD70<Saisies!$F$25,1,IF(Saisies!$F$25<10,1,0))))","v":1},{"$f":"IF(CD70>Saisies!$C$10,\"\",(IF(CD70<Saisies!$B$10,\"\",CG70)))","v":""},{"$f":"IF(CD70>Saisies!$E$10,\"\",(IF(CD70<Saisies!$D$10,\"\",CG70)))","v":""},{"$f":"IF(CD70>Saisies!$G$10,\"\",(IF(CD70<Saisies!$F$10,\"\",CG70)))","v":""},"2017-07-19","M",8,7,492,{"$f":"IF(CX70>=Saisies!$E$4,(IF(CY69<=Saisies!$E$4,CT70,CY69)),0)","v":42622},{"$f":"IF(CT70=Saisies!$C$7,MIN((ABS(Saisies!$E$4-CX69)),DA70),DA70)","v":""},{"$f":"IF(ISERROR((IF(CT70>Saisies!$C$7,\"\",IF(ISERROR(IF(CT70<Saisies!$B$7,\"\",CV70)*DB70),IF(CT70<Saisies!$B$7,\"\",CV70),\"\")))*(IF(ISERROR(DC70+1),0,DC70))*DD70*DE70*DF70),\"\",(IF(CT70>Saisies!$C$7,\"\",IF(ISERROR(IF(CT70<Saisies!$B$7,\"\",CV70)*DB70),IF(CT70<Saisies!$B$7,\"\",CV70),\"\")))*(IF(ISERROR(DC70+1),0,DC70))*DD70*DE70*DF70)","v":""},"",1,{"$f":"IF(CT70>Saisies!$C$25,1,(IF(CT70<Saisies!$B$25,1,IF(Saisies!$B$25=0,1,0))))","v":1},{"$f":"IF(CT70>Saisies!$E$25,1,(IF(CT70<Saisies!$D$25,1,IF(Saisies!$D$25=0,1,0))))","v":1},{"$f":"IF(CT70>Saisies!$G$25,1,(IF(CT70<Saisies!$F$25,1,IF(Saisies!$F$25<10,1,0))))","v":1},{"$f":"IF(CT70>Saisies!$C$10,\"\",(IF(CT70<Saisies!$B$10,\"\",CW70)))","v":""},{"$f":"IF(CT70>Saisies!$E$10,\"\",(IF(CT70<Saisies!$D$10,\"\",CW70)))","v":""},{"$f":"IF(CT70>Saisies!$G$10,\"\",(IF(CT70<Saisies!$F$10,\"\",CW70)))","v":""},"2017-08-19","S",0,0,492,{"$f":"IF(DN70>=Saisies!$E$4,(IF(DO69<=Saisies!$E$4,DJ70,DO69)),0)","v":42622},{"$f":"IF(DJ70=Saisies!$C$7,MIN((ABS(Saisies!$E$4-DN69)),DQ70),DQ70)","v":""},{"$f":"IF(ISERROR((IF(DJ70>Saisies!$C$7,\"\",IF(ISERROR(IF(DJ70<Saisies!$B$7,\"\",DL70)*DR70),IF(DJ70<Saisies!$B$7,\"\",DL70),\"\")))*(IF(ISERROR(DS70+1),0,DS70))*DT70*DU70*DV70),\"\",(IF(DJ70>Saisies!$C$7,\"\",IF(ISERROR(IF(DJ70<Saisies!$B$7,\"\",DL70)*DR70),IF(DJ70<Saisies!$B$7,\"\",DL70),\"\")))*(IF(ISERROR(DS70+1),0,DS70))*DT70*DU70*DV70)","v":""},"",1,{"$f":"IF(DJ70>Saisies!$C$25,1,(IF(DJ70<Saisies!$B$25,1,IF(Saisies!$B$25=0,1,0))))","v":1},{"$f":"IF(DJ70>Saisies!$E$25,1,(IF(DJ70<Saisies!$D$25,1,IF(Saisies!$D$25=0,1,0))))","v":1},{"$f":"IF(DJ70>Saisies!$G$25,1,(IF(DJ70<Saisies!$F$25,1,IF(Saisies!$F$25<10,1,0))))","v":1},{"$f":"IF(DJ70>Saisies!$C$10,\"\",(IF(DJ70<Saisies!$B$10,\"\",DM70)))","v":""},{"$f":"IF(DJ70>Saisies!$E$10,\"\",(IF(DJ70<Saisies!$D$10,\"\",DM70)))","v":""},{"$f":"IF(DJ70>Saisies!$G$10,\"\",(IF(DJ70<Saisies!$F$10,\"\",DM70)))","v":""},"2017-09-19","M",8,7,492,{"$f":"IF(ED70>=Saisies!$E$4,(IF(EE69<=Saisies!$E$4,DZ70,EE69)),0)","v":42622},{"$f":"IF(DZ70=Saisies!$C$7,MIN((ABS(Saisies!$E$4-ED69)),EG70),EG70)","v":""},{"$f":"IF(ISERROR((IF(DZ70>Saisies!$C$7,\"\",IF(ISERROR(IF(DZ70<Saisies!$B$7,\"\",EB70)*EH70),IF(DZ70<Saisies!$B$7,\"\",EB70),\"\")))*(IF(ISERROR(EI70+1),0,EI70))*EJ70*EK70*EL70),\"\",(IF(DZ70>Saisies!$C$7,\"\",IF(ISERROR(IF(DZ70<Saisies!$B$7,\"\",EB70)*EH70),IF(DZ70<Saisies!$B$7,\"\",EB70),\"\")))*(IF(ISERROR(EI70+1),0,EI70))*EJ70*EK70*EL70)","v":""},"",1,{"$f":"IF(DZ70>Saisies!$C$25,1,(IF(DZ70<Saisies!$B$25,1,IF(Saisies!$B$25=0,1,0))))","v":1},{"$f":"IF(DZ70>Saisies!$E$25,1,(IF(DZ70<Saisies!$D$25,1,IF(Saisies!$D$25=0,1,0))))","v":1},{"$f":"IF(DZ70>Saisies!$G$25,1,(IF(DZ70<Saisies!$F$25,1,IF(Saisies!$F$25<10,1,0))))","v":1},{"$f":"IF(DZ70>Saisies!$C$10,\"\",(IF(DZ70<Saisies!$B$10,\"\",EC70)))","v":""},{"$f":"IF(DZ70>Saisies!$E$10,\"\",(IF(DZ70<Saisies!$D$10,\"\",EC70)))","v":""},{"$f":"IF(DZ70>Saisies!$G$10,\"\",(IF(DZ70<Saisies!$F$10,\"\",EC70)))","v":""},"2017-10-19","J",8,7,492,{"$f":"IF(ET70>=Saisies!$E$4,(IF(EU69<=Saisies!$E$4,EP70,EU69)),0)","v":42622},{"$f":"IF(EP70=Saisies!$C$7,MIN((ABS(Saisies!$E$4-ET69)),EW70),EW70)","v":""},{"$f":"IF(ISERROR((IF(EP70>Saisies!$C$7,\"\",IF(ISERROR(IF(EP70<Saisies!$B$7,\"\",ER70)*EX70),IF(EP70<Saisies!$B$7,\"\",ER70),\"\")))*(IF(ISERROR(EY70+1),0,EY70))*EZ70*FA70*FB70),\"\",(IF(EP70>Saisies!$C$7,\"\",IF(ISERROR(IF(EP70<Saisies!$B$7,\"\",ER70)*EX70),IF(EP70<Saisies!$B$7,\"\",ER70),\"\")))*(IF(ISERROR(EY70+1),0,EY70))*EZ70*FA70*FB70)","v":""},"",1,{"$f":"IF(EP70>Saisies!$C$25,1,(IF(EP70<Saisies!$B$25,1,IF(Saisies!$B$25=0,1,0))))","v":1},{"$f":"IF(EP70>Saisies!$E$25,1,(IF(EP70<Saisies!$D$25,1,IF(Saisies!$D$25=0,1,0))))","v":1},{"$f":"IF(EP70>Saisies!$G$25,1,(IF(EP70<Saisies!$F$25,1,IF(Saisies!$F$25<10,1,0))))","v":1},{"$f":"IF(EP70>Saisies!$C$10,\"\",(IF(EP70<Saisies!$B$10,\"\",ES70)))","v":""},{"$f":"IF(EP70>Saisies!$E$10,\"\",(IF(EP70<Saisies!$D$10,\"\",ES70)))","v":""},{"$f":"IF(EP70>Saisies!$G$10,\"\",(IF(EP70<Saisies!$F$10,\"\",ES70)))","v":""},"2017-11-19","D",0,0,492,{"$f":"IF(FJ70>=Saisies!$E$4,(IF(FK69<=Saisies!$E$4,FF70,FK69)),0)","v":42622},{"$f":"IF(FF70=Saisies!$C$7,MIN((ABS(Saisies!$E$4-FJ69)),FM70),FM70)","v":""},{"$f":"IF(ISERROR((IF(FF70>Saisies!$C$7,\"\",IF(ISERROR(IF(FF70<Saisies!$B$7,\"\",FH70)*FN70),IF(FF70<Saisies!$B$7,\"\",FH70),\"\")))*(IF(ISERROR(FO70+1),0,FO70))*FP70*FQ70*FR70),\"\",(IF(FF70>Saisies!$C$7,\"\",IF(ISERROR(IF(FF70<Saisies!$B$7,\"\",FH70)*FN70),IF(FF70<Saisies!$B$7,\"\",FH70),\"\")))*(IF(ISERROR(FO70+1),0,FO70))*FP70*FQ70*FR70)","v":""},"",1,{"$f":"IF(FF70>Saisies!$C$25,1,(IF(FF70<Saisies!$B$25,1,IF(Saisies!$B$25=0,1,0))))","v":1},{"$f":"IF(FF70>Saisies!$E$25,1,(IF(FF70<Saisies!$D$25,1,IF(Saisies!$D$25=0,1,0))))","v":1},{"$f":"IF(FF70>Saisies!$G$25,1,(IF(FF70<Saisies!$F$25,1,IF(Saisies!$F$25<10,1,0))))","v":1},{"$f":"IF(FF70>Saisies!$C$10,\"\",(IF(FF70<Saisies!$B$10,\"\",FI70)))","v":""},{"$f":"IF(FF70>Saisies!$E$10,\"\",(IF(FF70<Saisies!$D$10,\"\",FI70)))","v":""},{"$f":"IF(FF70>Saisies!$G$10,\"\",(IF(FF70<Saisies!$F$10,\"\",FI70)))","v":""},"2017-12-19","M",8,7,492,{"$f":"IF(FZ70>=Saisies!$E$4,(IF(GA69<=Saisies!$E$4,FV70,GA69)),0)","v":42622},{"$f":"IF(FV70=Saisies!$C$7,MIN((ABS(Saisies!$E$4-FZ69)),GC70),GC70)","v":""},{"$f":"IF(ISERROR((IF(FV70>Saisies!$C$7,\"\",IF(ISERROR(IF(FV70<Saisies!$B$7,\"\",FX70)*GD70),IF(FV70<Saisies!$B$7,\"\",FX70),\"\")))*(IF(ISERROR(GE70+1),0,GE70))*GF70*GG70*GH70),\"\",(IF(FV70>Saisies!$C$7,\"\",IF(ISERROR(IF(FV70<Saisies!$B$7,\"\",FX70)*GD70),IF(FV70<Saisies!$B$7,\"\",FX70),\"\")))*(IF(ISERROR(GE70+1),0,GE70))*GF70*GG70*GH70)","v":""},"",1,{"$f":"IF(FV70>Saisies!$C$25,1,(IF(FV70<Saisies!$B$25,1,IF(Saisies!$B$25=0,1,0))))","v":1},{"$f":"IF(FV70>Saisies!$E$25,1,(IF(FV70<Saisies!$D$25,1,IF(Saisies!$D$25=0,1,0))))","v":1},{"$f":"IF(FV70>Saisies!$G$25,1,(IF(FV70<Saisies!$F$25,1,IF(Saisies!$F$25<10,1,0))))","v":1},{"$f":"IF(FV70>Saisies!$C$10,\"\",(IF(FV70<Saisies!$B$10,\"\",FY70)))","v":""},{"$f":"IF(FV70>Saisies!$E$10,\"\",(IF(FV70<Saisies!$D$10,\"\",FY70)))","v":""},{"$f":"IF(FV70>Saisies!$G$10,\"\",(IF(FV70<Saisies!$F$10,\"\",FY70)))","v":""}]
[null,"2017-01-20","V",4,7,492,{"$f":"IF(F71>=Saisies!$E$4,(IF(G70<=Saisies!$E$4,B71,G70)),0)","v":42622},{"$f":"IF(B71=Saisies!$C$7,MIN((ABS(Saisies!$E$4-F70)),I71),I71)","v":""},{"$f":"IF(ISERROR((IF(B71>Saisies!$C$7,\"\",IF(ISERROR(IF(B71<Saisies!$B$7,\"\",D71)*J71),IF(B71<Saisies!$B$7,\"\",D71),\"\")))*(IF(ISERROR(K71+1),0,K71))*L71*M71*N71),\"\",(IF(B71>Saisies!$C$7,\"\",IF(ISERROR(IF(B71<Saisies!$B$7,\"\",D71)*J71),IF(B71<Saisies!$B$7,\"\",D71),\"\")))*(IF(ISERROR(K71+1),0,K71))*L71*M71*N71)","v":""},"",1,{"$f":"IF(B71>Saisies!$C$25,1,(IF(B71<Saisies!$B$25,1,IF(Saisies!$B$25=0,1,0))))","v":1},{"$f":"IF(B71>Saisies!$E$25,1,(IF(B71<Saisies!$D$25,1,IF(Saisies!$D$25=0,1,0))))","v":1},{"$f":"IF(B71>Saisies!$G$25,1,(IF(B71<Saisies!$F$25,1,IF(Saisies!$F$25<10,1,0))))","v":1},{"$f":"IF(B71>Saisies!$C$10,\"\",(IF(B71<Saisies!$B$10,\"\",E71)))","v":""},{"$f":"IF(B71>Saisies!$E$10,\"\",(IF(B71<Saisies!$D$10,\"\",E71)))","v":""},{"$f":"IF(B71>Saisies!$G$10,\"\",(IF(B71<Saisies!$F$10,\"\",E71)))","v":""},"2017-02-20","L",7,7,492,{"$f":"IF(V71>=Saisies!$E$4,(IF(W70<=Saisies!$E$4,R71,W70)),0)","v":42622},{"$f":"IF(R71=Saisies!$C$7,MIN((ABS(Saisies!$E$4-V70)),Y71),Y71)","v":""},{"$f":"IF(ISERROR((IF(R71>Saisies!$C$7,\"\",IF(ISERROR(IF(R71<Saisies!$B$7,\"\",T71)*Z71),IF(R71<Saisies!$B$7,\"\",T71),\"\")))*(IF(ISERROR(AA71+1),0,AA71))*AB71*AC71*AD71),\"\",(IF(R71>Saisies!$C$7,\"\",IF(ISERROR(IF(R71<Saisies!$B$7,\"\",T71)*Z71),IF(R71<Saisies!$B$7,\"\",T71),\"\")))*(IF(ISERROR(AA71+1),0,AA71))*AB71*AC71*AD71)","v":""},"",1,{"$f":"IF(R71>Saisies!$C$25,1,(IF(R71<Saisies!$B$25,1,IF(Saisies!$B$25=0,1,0))))","v":1},{"$f":"IF(R71>Saisies!$E$25,1,(IF(R71<Saisies!$D$25,1,IF(Saisies!$D$25=0,1,0))))","v":1},{"$f":"IF(R71>Saisies!$G$25,1,(IF(R71<Saisies!$F$25,1,IF(Saisies!$F$25<10,1,0))))","v":1},{"$f":"IF(R71>Saisies!$C$10,\"\",(IF(R71<Saisies!$B$10,\"\",U71)))","v":""},{"$f":"IF(R71>Saisies!$E$10,\"\",(IF(R71<Saisies!$D$10,\"\",U71)))","v":""},{"$f":"IF(R71>Saisies!$G$10,\"\",(IF(R71<Saisies!$F$10,\"\",U71)))","v":""},"2017-03-20","L",7,7,492,{"$f":"IF(AL71>=Saisies!$E$4,(IF(AM70<=Saisies!$E$4,AH71,AM70)),0)","v":42622},{"$f":"IF(AH71=Saisies!$C$7,MIN((ABS(Saisies!$E$4-AL70)),AO71),AO71)","v":""},{"$f":"IF(ISERROR((IF(AH71>Saisies!$C$7,\"\",IF(ISERROR(IF(AH71<Saisies!$B$7,\"\",AJ71)*AP71),IF(AH71<Saisies!$B$7,\"\",AJ71),\"\")))*(IF(ISERROR(AQ71+1),0,AQ71))*AR71*AS71*AT71),\"\",(IF(AH71>Saisies!$C$7,\"\",IF(ISERROR(IF(AH71<Saisies!$B$7,\"\",AJ71)*AP71),IF(AH71<Saisies!$B$7,\"\",AJ71),\"\")))*(IF(ISERROR(AQ71+1),0,AQ71))*AR71*AS71*AT71)","v":""},"",1,{"$f":"IF(AH71>Saisies!$C$25,1,(IF(AH71<Saisies!$B$25,1,IF(Saisies!$B$25=0,1,0))))","v":1},{"$f":"IF(AH71>Saisies!$E$25,1,(IF(AH71<Saisies!$D$25,1,IF(Saisies!$D$25=0,1,0))))","v":1},{"$f":"IF(AH71>Saisies!$G$25,1,(IF(AH71<Saisies!$F$25,1,IF(Saisies!$F$25<10,1,0))))","v":1},{"$f":"IF(AH71>Saisies!$C$10,\"\",(IF(AH71<Saisies!$B$10,\"\",AK71)))","v":""},{"$f":"IF(AH71>Saisies!$E$10,\"\",(IF(AH71<Saisies!$D$10,\"\",AK71)))","v":""},{"$f":"IF(AH71>Saisies!$G$10,\"\",(IF(AH71<Saisies!$F$10,\"\",AK71)))","v":""},"2017-04-20","J",8,7,492,{"$f":"IF(BB71>=Saisies!$E$4,(IF(BC70<=Saisies!$E$4,AX71,BC70)),0)","v":42622},{"$f":"IF(AX71=Saisies!$C$7,MIN((ABS(Saisies!$E$4-BB70)),BE71),BE71)","v":""},{"$f":"IF(ISERROR((IF(AX71>Saisies!$C$7,\"\",IF(ISERROR(IF(AX71<Saisies!$B$7,\"\",AZ71)*BF71),IF(AX71<Saisies!$B$7,\"\",AZ71),\"\")))*(IF(ISERROR(BG71+1),0,BG71))*BH71*BI71*BJ71),\"\",(IF(AX71>Saisies!$C$7,\"\",IF(ISERROR(IF(AX71<Saisies!$B$7,\"\",AZ71)*BF71),IF(AX71<Saisies!$B$7,\"\",AZ71),\"\")))*(IF(ISERROR(BG71+1),0,BG71))*BH71*BI71*BJ71)","v":""},"",1,{"$f":"IF(AX71>Saisies!$C$25,1,(IF(AX71<Saisies!$B$25,1,IF(Saisies!$B$25=0,1,0))))","v":1},{"$f":"IF(AX71>Saisies!$E$25,1,(IF(AX71<Saisies!$D$25,1,IF(Saisies!$D$25=0,1,0))))","v":1},{"$f":"IF(AX71>Saisies!$G$25,1,(IF(AX71<Saisies!$F$25,1,IF(Saisies!$F$25<10,1,0))))","v":1},{"$f":"IF(AX71>Saisies!$C$10,\"\",(IF(AX71<Saisies!$B$10,\"\",BA71)))","v":""},{"$f":"IF(AX71>Saisies!$E$10,\"\",(IF(AX71<Saisies!$D$10,\"\",BA71)))","v":""},{"$f":"IF(AX71>Saisies!$G$10,\"\",(IF(AX71<Saisies!$F$10,\"\",BA71)))","v":""},"2017-05-20","S",0,0,492,{"$f":"IF(BR71>=Saisies!$E$4,(IF(BS70<=Saisies!$E$4,BN71,BS70)),0)","v":42622},{"$f":"IF(BN71=Saisies!$C$7,MIN((ABS(Saisies!$E$4-BR70)),BU71),BU71)","v":""},{"$f":"IF(ISERROR((IF(BN71>Saisies!$C$7,\"\",IF(ISERROR(IF(BN71<Saisies!$B$7,\"\",BP71)*BV71),IF(BN71<Saisies!$B$7,\"\",BP71),\"\")))*(IF(ISERROR(BW71+1),0,BW71))*BX71*BY71*BZ71),\"\",(IF(BN71>Saisies!$C$7,\"\",IF(ISERROR(IF(BN71<Saisies!$B$7,\"\",BP71)*BV71),IF(BN71<Saisies!$B$7,\"\",BP71),\"\")))*(IF(ISERROR(BW71+1),0,BW71))*BX71*BY71*BZ71)","v":""},"",1,{"$f":"IF(BN71>Saisies!$C$25,1,(IF(BN71<Saisies!$B$25,1,IF(Saisies!$B$25=0,1,0))))","v":1},{"$f":"IF(BN71>Saisies!$E$25,1,(IF(BN71<Saisies!$D$25,1,IF(Saisies!$D$25=0,1,0))))","v":1},{"$f":"IF(BN71>Saisies!$G$25,1,(IF(BN71<Saisies!$F$25,1,IF(Saisies!$F$25<10,1,0))))","v":1},{"$f":"IF(BN71>Saisies!$C$10,\"\",(IF(BN71<Saisies!$B$10,\"\",BQ71)))","v":""},{"$f":"IF(BN71>Saisies!$E$10,\"\",(IF(BN71<Saisies!$D$10,\"\",BQ71)))","v":""},{"$f":"IF(BN71>Saisies!$G$10,\"\",(IF(BN71<Saisies!$F$10,\"\",BQ71)))","v":""},"2017-06-20","M",8,7,492,{"$f":"IF(CH71>=Saisies!$E$4,(IF(CI70<=Saisies!$E$4,CD71,CI70)),0)","v":42622},{"$f":"IF(CD71=Saisies!$C$7,MIN((ABS(Saisies!$E$4-CH70)),CK71),CK71)","v":""},{"$f":"IF(ISERROR((IF(CD71>Saisies!$C$7,\"\",IF(ISERROR(IF(CD71<Saisies!$B$7,\"\",CF71)*CL71),IF(CD71<Saisies!$B$7,\"\",CF71),\"\")))*(IF(ISERROR(CM71+1),0,CM71))*CN71*CO71*CP71),\"\",(IF(CD71>Saisies!$C$7,\"\",IF(ISERROR(IF(CD71<Saisies!$B$7,\"\",CF71)*CL71),IF(CD71<Saisies!$B$7,\"\",CF71),\"\")))*(IF(ISERROR(CM71+1),0,CM71))*CN71*CO71*CP71)","v":""},"",1,{"$f":"IF(CD71>Saisies!$C$25,1,(IF(CD71<Saisies!$B$25,1,IF(Saisies!$B$25=0,1,0))))","v":1},{"$f":"IF(CD71>Saisies!$E$25,1,(IF(CD71<Saisies!$D$25,1,IF(Saisies!$D$25=0,1,0))))","v":1},{"$f":"IF(CD71>Saisies!$G$25,1,(IF(CD71<Saisies!$F$25,1,IF(Saisies!$F$25<10,1,0))))","v":1},{"$f":"IF(CD71>Saisies!$C$10,\"\",(IF(CD71<Saisies!$B$10,\"\",CG71)))","v":""},{"$f":"IF(CD71>Saisies!$E$10,\"\",(IF(CD71<Saisies!$D$10,\"\",CG71)))","v":""},{"$f":"IF(CD71>Saisies!$G$10,\"\",(IF(CD71<Saisies!$F$10,\"\",CG71)))","v":""},"2017-07-20","J",8,7,492,{"$f":"IF(CX71>=Saisies!$E$4,(IF(CY70<=Saisies!$E$4,CT71,CY70)),0)","v":42622},{"$f":"IF(CT71=Saisies!$C$7,MIN((ABS(Saisies!$E$4-CX70)),DA71),DA71)","v":""},{"$f":"IF(ISERROR((IF(CT71>Saisies!$C$7,\"\",IF(ISERROR(IF(CT71<Saisies!$B$7,\"\",CV71)*DB71),IF(CT71<Saisies!$B$7,\"\",CV71),\"\")))*(IF(ISERROR(DC71+1),0,DC71))*DD71*DE71*DF71),\"\",(IF(CT71>Saisies!$C$7,\"\",IF(ISERROR(IF(CT71<Saisies!$B$7,\"\",CV71)*DB71),IF(CT71<Saisies!$B$7,\"\",CV71),\"\")))*(IF(ISERROR(DC71+1),0,DC71))*DD71*DE71*DF71)","v":""},"",1,{"$f":"IF(CT71>Saisies!$C$25,1,(IF(CT71<Saisies!$B$25,1,IF(Saisies!$B$25=0,1,0))))","v":1},{"$f":"IF(CT71>Saisies!$E$25,1,(IF(CT71<Saisies!$D$25,1,IF(Saisies!$D$25=0,1,0))))","v":1},{"$f":"IF(CT71>Saisies!$G$25,1,(IF(CT71<Saisies!$F$25,1,IF(Saisies!$F$25<10,1,0))))","v":1},{"$f":"IF(CT71>Saisies!$C$10,\"\",(IF(CT71<Saisies!$B$10,\"\",CW71)))","v":""},{"$f":"IF(CT71>Saisies!$E$10,\"\",(IF(CT71<Saisies!$D$10,\"\",CW71)))","v":""},{"$f":"IF(CT71>Saisies!$G$10,\"\",(IF(CT71<Saisies!$F$10,\"\",CW71)))","v":""},"2017-08-20","D",0,0,492,{"$f":"IF(DN71>=Saisies!$E$4,(IF(DO70<=Saisies!$E$4,DJ71,DO70)),0)","v":42622},{"$f":"IF(DJ71=Saisies!$C$7,MIN((ABS(Saisies!$E$4-DN70)),DQ71),DQ71)","v":""},{"$f":"IF(ISERROR((IF(DJ71>Saisies!$C$7,\"\",IF(ISERROR(IF(DJ71<Saisies!$B$7,\"\",DL71)*DR71),IF(DJ71<Saisies!$B$7,\"\",DL71),\"\")))*(IF(ISERROR(DS71+1),0,DS71))*DT71*DU71*DV71),\"\",(IF(DJ71>Saisies!$C$7,\"\",IF(ISERROR(IF(DJ71<Saisies!$B$7,\"\",DL71)*DR71),IF(DJ71<Saisies!$B$7,\"\",DL71),\"\")))*(IF(ISERROR(DS71+1),0,DS71))*DT71*DU71*DV71)","v":""},"",1,{"$f":"IF(DJ71>Saisies!$C$25,1,(IF(DJ71<Saisies!$B$25,1,IF(Saisies!$B$25=0,1,0))))","v":1},{"$f":"IF(DJ71>Saisies!$E$25,1,(IF(DJ71<Saisies!$D$25,1,IF(Saisies!$D$25=0,1,0))))","v":1},{"$f":"IF(DJ71>Saisies!$G$25,1,(IF(DJ71<Saisies!$F$25,1,IF(Saisies!$F$25<10,1,0))))","v":1},{"$f":"IF(DJ71>Saisies!$C$10,\"\",(IF(DJ71<Saisies!$B$10,\"\",DM71)))","v":""},{"$f":"IF(DJ71>Saisies!$E$10,\"\",(IF(DJ71<Saisies!$D$10,\"\",DM71)))","v":""},{"$f":"IF(DJ71>Saisies!$G$10,\"\",(IF(DJ71<Saisies!$F$10,\"\",DM71)))","v":""},"2017-09-20","M",8,7,492,{"$f":"IF(ED71>=Saisies!$E$4,(IF(EE70<=Saisies!$E$4,DZ71,EE70)),0)","v":42622},{"$f":"IF(DZ71=Saisies!$C$7,MIN((ABS(Saisies!$E$4-ED70)),EG71),EG71)","v":""},{"$f":"IF(ISERROR((IF(DZ71>Saisies!$C$7,\"\",IF(ISERROR(IF(DZ71<Saisies!$B$7,\"\",EB71)*EH71),IF(DZ71<Saisies!$B$7,\"\",EB71),\"\")))*(IF(ISERROR(EI71+1),0,EI71))*EJ71*EK71*EL71),\"\",(IF(DZ71>Saisies!$C$7,\"\",IF(ISERROR(IF(DZ71<Saisies!$B$7,\"\",EB71)*EH71),IF(DZ71<Saisies!$B$7,\"\",EB71),\"\")))*(IF(ISERROR(EI71+1),0,EI71))*EJ71*EK71*EL71)","v":""},"",1,{"$f":"IF(DZ71>Saisies!$C$25,1,(IF(DZ71<Saisies!$B$25,1,IF(Saisies!$B$25=0,1,0))))","v":1},{"$f":"IF(DZ71>Saisies!$E$25,1,(IF(DZ71<Saisies!$D$25,1,IF(Saisies!$D$25=0,1,0))))","v":1},{"$f":"IF(DZ71>Saisies!$G$25,1,(IF(DZ71<Saisies!$F$25,1,IF(Saisies!$F$25<10,1,0))))","v":1},{"$f":"IF(DZ71>Saisies!$C$10,\"\",(IF(DZ71<Saisies!$B$10,\"\",EC71)))","v":""},{"$f":"IF(DZ71>Saisies!$E$10,\"\",(IF(DZ71<Saisies!$D$10,\"\",EC71)))","v":""},{"$f":"IF(DZ71>Saisies!$G$10,\"\",(IF(DZ71<Saisies!$F$10,\"\",EC71)))","v":""},"2017-10-20","V",4,7,492,{"$f":"IF(ET71>=Saisies!$E$4,(IF(EU70<=Saisies!$E$4,EP71,EU70)),0)","v":42622},{"$f":"IF(EP71=Saisies!$C$7,MIN((ABS(Saisies!$E$4-ET70)),EW71),EW71)","v":""},{"$f":"IF(ISERROR((IF(EP71>Saisies!$C$7,\"\",IF(ISERROR(IF(EP71<Saisies!$B$7,\"\",ER71)*EX71),IF(EP71<Saisies!$B$7,\"\",ER71),\"\")))*(IF(ISERROR(EY71+1),0,EY71))*EZ71*FA71*FB71),\"\",(IF(EP71>Saisies!$C$7,\"\",IF(ISERROR(IF(EP71<Saisies!$B$7,\"\",ER71)*EX71),IF(EP71<Saisies!$B$7,\"\",ER71),\"\")))*(IF(ISERROR(EY71+1),0,EY71))*EZ71*FA71*FB71)","v":""},"",1,{"$f":"IF(EP71>Saisies!$C$25,1,(IF(EP71<Saisies!$B$25,1,IF(Saisies!$B$25=0,1,0))))","v":1},{"$f":"IF(EP71>Saisies!$E$25,1,(IF(EP71<Saisies!$D$25,1,IF(Saisies!$D$25=0,1,0))))","v":1},{"$f":"IF(EP71>Saisies!$G$25,1,(IF(EP71<Saisies!$F$25,1,IF(Saisies!$F$25<10,1,0))))","v":1},{"$f":"IF(EP71>Saisies!$C$10,\"\",(IF(EP71<Saisies!$B$10,\"\",ES71)))","v":""},{"$f":"IF(EP71>Saisies!$E$10,\"\",(IF(EP71<Saisies!$D$10,\"\",ES71)))","v":""},{"$f":"IF(EP71>Saisies!$G$10,\"\",(IF(EP71<Saisies!$F$10,\"\",ES71)))","v":""},"2017-11-20","L",7,7,492,{"$f":"IF(FJ71>=Saisies!$E$4,(IF(FK70<=Saisies!$E$4,FF71,FK70)),0)","v":42622},{"$f":"IF(FF71=Saisies!$C$7,MIN((ABS(Saisies!$E$4-FJ70)),FM71),FM71)","v":""},{"$f":"IF(ISERROR((IF(FF71>Saisies!$C$7,\"\",IF(ISERROR(IF(FF71<Saisies!$B$7,\"\",FH71)*FN71),IF(FF71<Saisies!$B$7,\"\",FH71),\"\")))*(IF(ISERROR(FO71+1),0,FO71))*FP71*FQ71*FR71),\"\",(IF(FF71>Saisies!$C$7,\"\",IF(ISERROR(IF(FF71<Saisies!$B$7,\"\",FH71)*FN71),IF(FF71<Saisies!$B$7,\"\",FH71),\"\")))*(IF(ISERROR(FO71+1),0,FO71))*FP71*FQ71*FR71)","v":""},"",1,{"$f":"IF(FF71>Saisies!$C$25,1,(IF(FF71<Saisies!$B$25,1,IF(Saisies!$B$25=0,1,0))))","v":1},{"$f":"IF(FF71>Saisies!$E$25,1,(IF(FF71<Saisies!$D$25,1,IF(Saisies!$D$25=0,1,0))))","v":1},{"$f":"IF(FF71>Saisies!$G$25,1,(IF(FF71<Saisies!$F$25,1,IF(Saisies!$F$25<10,1,0))))","v":1},{"$f":"IF(FF71>Saisies!$C$10,\"\",(IF(FF71<Saisies!$B$10,\"\",FI71)))","v":""},{"$f":"IF(FF71>Saisies!$E$10,\"\",(IF(FF71<Saisies!$D$10,\"\",FI71)))","v":""},{"$f":"IF(FF71>Saisies!$G$10,\"\",(IF(FF71<Saisies!$F$10,\"\",FI71)))","v":""},"2017-12-20","M",8,7,492,{"$f":"IF(FZ71>=Saisies!$E$4,(IF(GA70<=Saisies!$E$4,FV71,GA70)),0)","v":42622},{"$f":"IF(FV71=Saisies!$C$7,MIN((ABS(Saisies!$E$4-FZ70)),GC71),GC71)","v":""},{"$f":"IF(ISERROR((IF(FV71>Saisies!$C$7,\"\",IF(ISERROR(IF(FV71<Saisies!$B$7,\"\",FX71)*GD71),IF(FV71<Saisies!$B$7,\"\",FX71),\"\")))*(IF(ISERROR(GE71+1),0,GE71))*GF71*GG71*GH71),\"\",(IF(FV71>Saisies!$C$7,\"\",IF(ISERROR(IF(FV71<Saisies!$B$7,\"\",FX71)*GD71),IF(FV71<Saisies!$B$7,\"\",FX71),\"\")))*(IF(ISERROR(GE71+1),0,GE71))*GF71*GG71*GH71)","v":""},"",1,{"$f":"IF(FV71>Saisies!$C$25,1,(IF(FV71<Saisies!$B$25,1,IF(Saisies!$B$25=0,1,0))))","v":1},{"$f":"IF(FV71>Saisies!$E$25,1,(IF(FV71<Saisies!$D$25,1,IF(Saisies!$D$25=0,1,0))))","v":1},{"$f":"IF(FV71>Saisies!$G$25,1,(IF(FV71<Saisies!$F$25,1,IF(Saisies!$F$25<10,1,0))))","v":1},{"$f":"IF(FV71>Saisies!$C$10,\"\",(IF(FV71<Saisies!$B$10,\"\",FY71)))","v":""},{"$f":"IF(FV71>Saisies!$E$10,\"\",(IF(FV71<Saisies!$D$10,\"\",FY71)))","v":""},{"$f":"IF(FV71>Saisies!$G$10,\"\",(IF(FV71<Saisies!$F$10,\"\",FY71)))","v":""}]
[null,"2017-01-21","S",0,0,492,{"$f":"IF(F72>=Saisies!$E$4,(IF(G71<=Saisies!$E$4,B72,G71)),0)","v":42622},{"$f":"IF(B72=Saisies!$C$7,MIN((ABS(Saisies!$E$4-F71)),I72),I72)","v":""},{"$f":"IF(ISERROR((IF(B72>Saisies!$C$7,\"\",IF(ISERROR(IF(B72<Saisies!$B$7,\"\",D72)*J72),IF(B72<Saisies!$B$7,\"\",D72),\"\")))*(IF(ISERROR(K72+1),0,K72))*L72*M72*N72),\"\",(IF(B72>Saisies!$C$7,\"\",IF(ISERROR(IF(B72<Saisies!$B$7,\"\",D72)*J72),IF(B72<Saisies!$B$7,\"\",D72),\"\")))*(IF(ISERROR(K72+1),0,K72))*L72*M72*N72)","v":""},"",1,{"$f":"IF(B72>Saisies!$C$25,1,(IF(B72<Saisies!$B$25,1,IF(Saisies!$B$25=0,1,0))))","v":1},{"$f":"IF(B72>Saisies!$E$25,1,(IF(B72<Saisies!$D$25,1,IF(Saisies!$D$25=0,1,0))))","v":1},{"$f":"IF(B72>Saisies!$G$25,1,(IF(B72<Saisies!$F$25,1,IF(Saisies!$F$25<10,1,0))))","v":1},{"$f":"IF(B72>Saisies!$C$10,\"\",(IF(B72<Saisies!$B$10,\"\",E72)))","v":""},{"$f":"IF(B72>Saisies!$E$10,\"\",(IF(B72<Saisies!$D$10,\"\",E72)))","v":""},{"$f":"IF(B72>Saisies!$G$10,\"\",(IF(B72<Saisies!$F$10,\"\",E72)))","v":""},"2017-02-21","M",8,7,492,{"$f":"IF(V72>=Saisies!$E$4,(IF(W71<=Saisies!$E$4,R72,W71)),0)","v":42622},{"$f":"IF(R72=Saisies!$C$7,MIN((ABS(Saisies!$E$4-V71)),Y72),Y72)","v":""},{"$f":"IF(ISERROR((IF(R72>Saisies!$C$7,\"\",IF(ISERROR(IF(R72<Saisies!$B$7,\"\",T72)*Z72),IF(R72<Saisies!$B$7,\"\",T72),\"\")))*(IF(ISERROR(AA72+1),0,AA72))*AB72*AC72*AD72),\"\",(IF(R72>Saisies!$C$7,\"\",IF(ISERROR(IF(R72<Saisies!$B$7,\"\",T72)*Z72),IF(R72<Saisies!$B$7,\"\",T72),\"\")))*(IF(ISERROR(AA72+1),0,AA72))*AB72*AC72*AD72)","v":""},"",1,{"$f":"IF(R72>Saisies!$C$25,1,(IF(R72<Saisies!$B$25,1,IF(Saisies!$B$25=0,1,0))))","v":1},{"$f":"IF(R72>Saisies!$E$25,1,(IF(R72<Saisies!$D$25,1,IF(Saisies!$D$25=0,1,0))))","v":1},{"$f":"IF(R72>Saisies!$G$25,1,(IF(R72<Saisies!$F$25,1,IF(Saisies!$F$25<10,1,0))))","v":1},{"$f":"IF(R72>Saisies!$C$10,\"\",(IF(R72<Saisies!$B$10,\"\",U72)))","v":""},{"$f":"IF(R72>Saisies!$E$10,\"\",(IF(R72<Saisies!$D$10,\"\",U72)))","v":""},{"$f":"IF(R72>Saisies!$G$10,\"\",(IF(R72<Saisies!$F$10,\"\",U72)))","v":""},"2017-03-21","M",8,7,492,{"$f":"IF(AL72>=Saisies!$E$4,(IF(AM71<=Saisies!$E$4,AH72,AM71)),0)","v":42622},{"$f":"IF(AH72=Saisies!$C$7,MIN((ABS(Saisies!$E$4-AL71)),AO72),AO72)","v":""},{"$f":"IF(ISERROR((IF(AH72>Saisies!$C$7,\"\",IF(ISERROR(IF(AH72<Saisies!$B$7,\"\",AJ72)*AP72),IF(AH72<Saisies!$B$7,\"\",AJ72),\"\")))*(IF(ISERROR(AQ72+1),0,AQ72))*AR72*AS72*AT72),\"\",(IF(AH72>Saisies!$C$7,\"\",IF(ISERROR(IF(AH72<Saisies!$B$7,\"\",AJ72)*AP72),IF(AH72<Saisies!$B$7,\"\",AJ72),\"\")))*(IF(ISERROR(AQ72+1),0,AQ72))*AR72*AS72*AT72)","v":""},"",1,{"$f":"IF(AH72>Saisies!$C$25,1,(IF(AH72<Saisies!$B$25,1,IF(Saisies!$B$25=0,1,0))))","v":1},{"$f":"IF(AH72>Saisies!$E$25,1,(IF(AH72<Saisies!$D$25,1,IF(Saisies!$D$25=0,1,0))))","v":1},{"$f":"IF(AH72>Saisies!$G$25,1,(IF(AH72<Saisies!$F$25,1,IF(Saisies!$F$25<10,1,0))))","v":1},{"$f":"IF(AH72>Saisies!$C$10,\"\",(IF(AH72<Saisies!$B$10,\"\",AK72)))","v":""},{"$f":"IF(AH72>Saisies!$E$10,\"\",(IF(AH72<Saisies!$D$10,\"\",AK72)))","v":""},{"$f":"IF(AH72>Saisies!$G$10,\"\",(IF(AH72<Saisies!$F$10,\"\",AK72)))","v":""},"2017-04-21","V",4,7,492,{"$f":"IF(BB72>=Saisies!$E$4,(IF(BC71<=Saisies!$E$4,AX72,BC71)),0)","v":42622},{"$f":"IF(AX72=Saisies!$C$7,MIN((ABS(Saisies!$E$4-BB71)),BE72),BE72)","v":""},{"$f":"IF(ISERROR((IF(AX72>Saisies!$C$7,\"\",IF(ISERROR(IF(AX72<Saisies!$B$7,\"\",AZ72)*BF72),IF(AX72<Saisies!$B$7,\"\",AZ72),\"\")))*(IF(ISERROR(BG72+1),0,BG72))*BH72*BI72*BJ72),\"\",(IF(AX72>Saisies!$C$7,\"\",IF(ISERROR(IF(AX72<Saisies!$B$7,\"\",AZ72)*BF72),IF(AX72<Saisies!$B$7,\"\",AZ72),\"\")))*(IF(ISERROR(BG72+1),0,BG72))*BH72*BI72*BJ72)","v":""},"",1,{"$f":"IF(AX72>Saisies!$C$25,1,(IF(AX72<Saisies!$B$25,1,IF(Saisies!$B$25=0,1,0))))","v":1},{"$f":"IF(AX72>Saisies!$E$25,1,(IF(AX72<Saisies!$D$25,1,IF(Saisies!$D$25=0,1,0))))","v":1},{"$f":"IF(AX72>Saisies!$G$25,1,(IF(AX72<Saisies!$F$25,1,IF(Saisies!$F$25<10,1,0))))","v":1},{"$f":"IF(AX72>Saisies!$C$10,\"\",(IF(AX72<Saisies!$B$10,\"\",BA72)))","v":""},{"$f":"IF(AX72>Saisies!$E$10,\"\",(IF(AX72<Saisies!$D$10,\"\",BA72)))","v":""},{"$f":"IF(AX72>Saisies!$G$10,\"\",(IF(AX72<Saisies!$F$10,\"\",BA72)))","v":""},"2017-05-21","D",0,0,492,{"$f":"IF(BR72>=Saisies!$E$4,(IF(BS71<=Saisies!$E$4,BN72,BS71)),0)","v":42622},{"$f":"IF(BN72=Saisies!$C$7,MIN((ABS(Saisies!$E$4-BR71)),BU72),BU72)","v":""},{"$f":"IF(ISERROR((IF(BN72>Saisies!$C$7,\"\",IF(ISERROR(IF(BN72<Saisies!$B$7,\"\",BP72)*BV72),IF(BN72<Saisies!$B$7,\"\",BP72),\"\")))*(IF(ISERROR(BW72+1),0,BW72))*BX72*BY72*BZ72),\"\",(IF(BN72>Saisies!$C$7,\"\",IF(ISERROR(IF(BN72<Saisies!$B$7,\"\",BP72)*BV72),IF(BN72<Saisies!$B$7,\"\",BP72),\"\")))*(IF(ISERROR(BW72+1),0,BW72))*BX72*BY72*BZ72)","v":""},"",1,{"$f":"IF(BN72>Saisies!$C$25,1,(IF(BN72<Saisies!$B$25,1,IF(Saisies!$B$25=0,1,0))))","v":1},{"$f":"IF(BN72>Saisies!$E$25,1,(IF(BN72<Saisies!$D$25,1,IF(Saisies!$D$25=0,1,0))))","v":1},{"$f":"IF(BN72>Saisies!$G$25,1,(IF(BN72<Saisies!$F$25,1,IF(Saisies!$F$25<10,1,0))))","v":1},{"$f":"IF(BN72>Saisies!$C$10,\"\",(IF(BN72<Saisies!$B$10,\"\",BQ72)))","v":""},{"$f":"IF(BN72>Saisies!$E$10,\"\",(IF(BN72<Saisies!$D$10,\"\",BQ72)))","v":""},{"$f":"IF(BN72>Saisies!$G$10,\"\",(IF(BN72<Saisies!$F$10,\"\",BQ72)))","v":""},"2017-06-21","M",8,7,492,{"$f":"IF(CH72>=Saisies!$E$4,(IF(CI71<=Saisies!$E$4,CD72,CI71)),0)","v":42622},{"$f":"IF(CD72=Saisies!$C$7,MIN((ABS(Saisies!$E$4-CH71)),CK72),CK72)","v":""},{"$f":"IF(ISERROR((IF(CD72>Saisies!$C$7,\"\",IF(ISERROR(IF(CD72<Saisies!$B$7,\"\",CF72)*CL72),IF(CD72<Saisies!$B$7,\"\",CF72),\"\")))*(IF(ISERROR(CM72+1),0,CM72))*CN72*CO72*CP72),\"\",(IF(CD72>Saisies!$C$7,\"\",IF(ISERROR(IF(CD72<Saisies!$B$7,\"\",CF72)*CL72),IF(CD72<Saisies!$B$7,\"\",CF72),\"\")))*(IF(ISERROR(CM72+1),0,CM72))*CN72*CO72*CP72)","v":""},"",1,{"$f":"IF(CD72>Saisies!$C$25,1,(IF(CD72<Saisies!$B$25,1,IF(Saisies!$B$25=0,1,0))))","v":1},{"$f":"IF(CD72>Saisies!$E$25,1,(IF(CD72<Saisies!$D$25,1,IF(Saisies!$D$25=0,1,0))))","v":1},{"$f":"IF(CD72>Saisies!$G$25,1,(IF(CD72<Saisies!$F$25,1,IF(Saisies!$F$25<10,1,0))))","v":1},{"$f":"IF(CD72>Saisies!$C$10,\"\",(IF(CD72<Saisies!$B$10,\"\",CG72)))","v":""},{"$f":"IF(CD72>Saisies!$E$10,\"\",(IF(CD72<Saisies!$D$10,\"\",CG72)))","v":""},{"$f":"IF(CD72>Saisies!$G$10,\"\",(IF(CD72<Saisies!$F$10,\"\",CG72)))","v":""},"2017-07-21","V",4,7,492,{"$f":"IF(CX72>=Saisies!$E$4,(IF(CY71<=Saisies!$E$4,CT72,CY71)),0)","v":42622},{"$f":"IF(CT72=Saisies!$C$7,MIN((ABS(Saisies!$E$4-CX71)),DA72),DA72)","v":""},{"$f":"IF(ISERROR((IF(CT72>Saisies!$C$7,\"\",IF(ISERROR(IF(CT72<Saisies!$B$7,\"\",CV72)*DB72),IF(CT72<Saisies!$B$7,\"\",CV72),\"\")))*(IF(ISERROR(DC72+1),0,DC72))*DD72*DE72*DF72),\"\",(IF(CT72>Saisies!$C$7,\"\",IF(ISERROR(IF(CT72<Saisies!$B$7,\"\",CV72)*DB72),IF(CT72<Saisies!$B$7,\"\",CV72),\"\")))*(IF(ISERROR(DC72+1),0,DC72))*DD72*DE72*DF72)","v":""},"",1,{"$f":"IF(CT72>Saisies!$C$25,1,(IF(CT72<Saisies!$B$25,1,IF(Saisies!$B$25=0,1,0))))","v":1},{"$f":"IF(CT72>Saisies!$E$25,1,(IF(CT72<Saisies!$D$25,1,IF(Saisies!$D$25=0,1,0))))","v":1},{"$f":"IF(CT72>Saisies!$G$25,1,(IF(CT72<Saisies!$F$25,1,IF(Saisies!$F$25<10,1,0))))","v":1},{"$f":"IF(CT72>Saisies!$C$10,\"\",(IF(CT72<Saisies!$B$10,\"\",CW72)))","v":""},{"$f":"IF(CT72>Saisies!$E$10,\"\",(IF(CT72<Saisies!$D$10,\"\",CW72)))","v":""},{"$f":"IF(CT72>Saisies!$G$10,\"\",(IF(CT72<Saisies!$F$10,\"\",CW72)))","v":""},"2017-08-21","L",7,7,492,{"$f":"IF(DN72>=Saisies!$E$4,(IF(DO71<=Saisies!$E$4,DJ72,DO71)),0)","v":42622},{"$f":"IF(DJ72=Saisies!$C$7,MIN((ABS(Saisies!$E$4-DN71)),DQ72),DQ72)","v":""},{"$f":"IF(ISERROR((IF(DJ72>Saisies!$C$7,\"\",IF(ISERROR(IF(DJ72<Saisies!$B$7,\"\",DL72)*DR72),IF(DJ72<Saisies!$B$7,\"\",DL72),\"\")))*(IF(ISERROR(DS72+1),0,DS72))*DT72*DU72*DV72),\"\",(IF(DJ72>Saisies!$C$7,\"\",IF(ISERROR(IF(DJ72<Saisies!$B$7,\"\",DL72)*DR72),IF(DJ72<Saisies!$B$7,\"\",DL72),\"\")))*(IF(ISERROR(DS72+1),0,DS72))*DT72*DU72*DV72)","v":""},"",1,{"$f":"IF(DJ72>Saisies!$C$25,1,(IF(DJ72<Saisies!$B$25,1,IF(Saisies!$B$25=0,1,0))))","v":1},{"$f":"IF(DJ72>Saisies!$E$25,1,(IF(DJ72<Saisies!$D$25,1,IF(Saisies!$D$25=0,1,0))))","v":1},{"$f":"IF(DJ72>Saisies!$G$25,1,(IF(DJ72<Saisies!$F$25,1,IF(Saisies!$F$25<10,1,0))))","v":1},{"$f":"IF(DJ72>Saisies!$C$10,\"\",(IF(DJ72<Saisies!$B$10,\"\",DM72)))","v":""},{"$f":"IF(DJ72>Saisies!$E$10,\"\",(IF(DJ72<Saisies!$D$10,\"\",DM72)))","v":""},{"$f":"IF(DJ72>Saisies!$G$10,\"\",(IF(DJ72<Saisies!$F$10,\"\",DM72)))","v":""},"2017-09-21","J",8,7,492,{"$f":"IF(ED72>=Saisies!$E$4,(IF(EE71<=Saisies!$E$4,DZ72,EE71)),0)","v":42622},{"$f":"IF(DZ72=Saisies!$C$7,MIN((ABS(Saisies!$E$4-ED71)),EG72),EG72)","v":""},{"$f":"IF(ISERROR((IF(DZ72>Saisies!$C$7,\"\",IF(ISERROR(IF(DZ72<Saisies!$B$7,\"\",EB72)*EH72),IF(DZ72<Saisies!$B$7,\"\",EB72),\"\")))*(IF(ISERROR(EI72+1),0,EI72))*EJ72*EK72*EL72),\"\",(IF(DZ72>Saisies!$C$7,\"\",IF(ISERROR(IF(DZ72<Saisies!$B$7,\"\",EB72)*EH72),IF(DZ72<Saisies!$B$7,\"\",EB72),\"\")))*(IF(ISERROR(EI72+1),0,EI72))*EJ72*EK72*EL72)","v":""},"",1,{"$f":"IF(DZ72>Saisies!$C$25,1,(IF(DZ72<Saisies!$B$25,1,IF(Saisies!$B$25=0,1,0))))","v":1},{"$f":"IF(DZ72>Saisies!$E$25,1,(IF(DZ72<Saisies!$D$25,1,IF(Saisies!$D$25=0,1,0))))","v":1},{"$f":"IF(DZ72>Saisies!$G$25,1,(IF(DZ72<Saisies!$F$25,1,IF(Saisies!$F$25<10,1,0))))","v":1},{"$f":"IF(DZ72>Saisies!$C$10,\"\",(IF(DZ72<Saisies!$B$10,\"\",EC72)))","v":""},{"$f":"IF(DZ72>Saisies!$E$10,\"\",(IF(DZ72<Saisies!$D$10,\"\",EC72)))","v":""},{"$f":"IF(DZ72>Saisies!$G$10,\"\",(IF(DZ72<Saisies!$F$10,\"\",EC72)))","v":""},"2017-10-21","S",0,0,492,{"$f":"IF(ET72>=Saisies!$E$4,(IF(EU71<=Saisies!$E$4,EP72,EU71)),0)","v":42622},{"$f":"IF(EP72=Saisies!$C$7,MIN((ABS(Saisies!$E$4-ET71)),EW72),EW72)","v":""},{"$f":"IF(ISERROR((IF(EP72>Saisies!$C$7,\"\",IF(ISERROR(IF(EP72<Saisies!$B$7,\"\",ER72)*EX72),IF(EP72<Saisies!$B$7,\"\",ER72),\"\")))*(IF(ISERROR(EY72+1),0,EY72))*EZ72*FA72*FB72),\"\",(IF(EP72>Saisies!$C$7,\"\",IF(ISERROR(IF(EP72<Saisies!$B$7,\"\",ER72)*EX72),IF(EP72<Saisies!$B$7,\"\",ER72),\"\")))*(IF(ISERROR(EY72+1),0,EY72))*EZ72*FA72*FB72)","v":""},"",1,{"$f":"IF(EP72>Saisies!$C$25,1,(IF(EP72<Saisies!$B$25,1,IF(Saisies!$B$25=0,1,0))))","v":1},{"$f":"IF(EP72>Saisies!$E$25,1,(IF(EP72<Saisies!$D$25,1,IF(Saisies!$D$25=0,1,0))))","v":1},{"$f":"IF(EP72>Saisies!$G$25,1,(IF(EP72<Saisies!$F$25,1,IF(Saisies!$F$25<10,1,0))))","v":1},{"$f":"IF(EP72>Saisies!$C$10,\"\",(IF(EP72<Saisies!$B$10,\"\",ES72)))","v":""},{"$f":"IF(EP72>Saisies!$E$10,\"\",(IF(EP72<Saisies!$D$10,\"\",ES72)))","v":""},{"$f":"IF(EP72>Saisies!$G$10,\"\",(IF(EP72<Saisies!$F$10,\"\",ES72)))","v":""},"2017-11-21","M",8,7,492,{"$f":"IF(FJ72>=Saisies!$E$4,(IF(FK71<=Saisies!$E$4,FF72,FK71)),0)","v":42622},{"$f":"IF(FF72=Saisies!$C$7,MIN((ABS(Saisies!$E$4-FJ71)),FM72),FM72)","v":""},{"$f":"IF(ISERROR((IF(FF72>Saisies!$C$7,\"\",IF(ISERROR(IF(FF72<Saisies!$B$7,\"\",FH72)*FN72),IF(FF72<Saisies!$B$7,\"\",FH72),\"\")))*(IF(ISERROR(FO72+1),0,FO72))*FP72*FQ72*FR72),\"\",(IF(FF72>Saisies!$C$7,\"\",IF(ISERROR(IF(FF72<Saisies!$B$7,\"\",FH72)*FN72),IF(FF72<Saisies!$B$7,\"\",FH72),\"\")))*(IF(ISERROR(FO72+1),0,FO72))*FP72*FQ72*FR72)","v":""},"",1,{"$f":"IF(FF72>Saisies!$C$25,1,(IF(FF72<Saisies!$B$25,1,IF(Saisies!$B$25=0,1,0))))","v":1},{"$f":"IF(FF72>Saisies!$E$25,1,(IF(FF72<Saisies!$D$25,1,IF(Saisies!$D$25=0,1,0))))","v":1},{"$f":"IF(FF72>Saisies!$G$25,1,(IF(FF72<Saisies!$F$25,1,IF(Saisies!$F$25<10,1,0))))","v":1},{"$f":"IF(FF72>Saisies!$C$10,\"\",(IF(FF72<Saisies!$B$10,\"\",FI72)))","v":""},{"$f":"IF(FF72>Saisies!$E$10,\"\",(IF(FF72<Saisies!$D$10,\"\",FI72)))","v":""},{"$f":"IF(FF72>Saisies!$G$10,\"\",(IF(FF72<Saisies!$F$10,\"\",FI72)))","v":""},"2017-12-21","J",8,7,492,{"$f":"IF(FZ72>=Saisies!$E$4,(IF(GA71<=Saisies!$E$4,FV72,GA71)),0)","v":42622},{"$f":"IF(FV72=Saisies!$C$7,MIN((ABS(Saisies!$E$4-FZ71)),GC72),GC72)","v":""},{"$f":"IF(ISERROR((IF(FV72>Saisies!$C$7,\"\",IF(ISERROR(IF(FV72<Saisies!$B$7,\"\",FX72)*GD72),IF(FV72<Saisies!$B$7,\"\",FX72),\"\")))*(IF(ISERROR(GE72+1),0,GE72))*GF72*GG72*GH72),\"\",(IF(FV72>Saisies!$C$7,\"\",IF(ISERROR(IF(FV72<Saisies!$B$7,\"\",FX72)*GD72),IF(FV72<Saisies!$B$7,\"\",FX72),\"\")))*(IF(ISERROR(GE72+1),0,GE72))*GF72*GG72*GH72)","v":""},"",1,{"$f":"IF(FV72>Saisies!$C$25,1,(IF(FV72<Saisies!$B$25,1,IF(Saisies!$B$25=0,1,0))))","v":1},{"$f":"IF(FV72>Saisies!$E$25,1,(IF(FV72<Saisies!$D$25,1,IF(Saisies!$D$25=0,1,0))))","v":1},{"$f":"IF(FV72>Saisies!$G$25,1,(IF(FV72<Saisies!$F$25,1,IF(Saisies!$F$25<10,1,0))))","v":1},{"$f":"IF(FV72>Saisies!$C$10,\"\",(IF(FV72<Saisies!$B$10,\"\",FY72)))","v":""},{"$f":"IF(FV72>Saisies!$E$10,\"\",(IF(FV72<Saisies!$D$10,\"\",FY72)))","v":""},{"$f":"IF(FV72>Saisies!$G$10,\"\",(IF(FV72<Saisies!$F$10,\"\",FY72)))","v":""}]
[null,"2017-01-22","D",0,0,492,{"$f":"IF(F73>=Saisies!$E$4,(IF(G72<=Saisies!$E$4,B73,G72)),0)","v":42622},{"$f":"IF(B73=Saisies!$C$7,MIN((ABS(Saisies!$E$4-F72)),I73),I73)","v":""},{"$f":"IF(ISERROR((IF(B73>Saisies!$C$7,\"\",IF(ISERROR(IF(B73<Saisies!$B$7,\"\",D73)*J73),IF(B73<Saisies!$B$7,\"\",D73),\"\")))*(IF(ISERROR(K73+1),0,K73))*L73*M73*N73),\"\",(IF(B73>Saisies!$C$7,\"\",IF(ISERROR(IF(B73<Saisies!$B$7,\"\",D73)*J73),IF(B73<Saisies!$B$7,\"\",D73),\"\")))*(IF(ISERROR(K73+1),0,K73))*L73*M73*N73)","v":""},"",1,{"$f":"IF(B73>Saisies!$C$25,1,(IF(B73<Saisies!$B$25,1,IF(Saisies!$B$25=0,1,0))))","v":1},{"$f":"IF(B73>Saisies!$E$25,1,(IF(B73<Saisies!$D$25,1,IF(Saisies!$D$25=0,1,0))))","v":1},{"$f":"IF(B73>Saisies!$G$25,1,(IF(B73<Saisies!$F$25,1,IF(Saisies!$F$25<10,1,0))))","v":1},{"$f":"IF(B73>Saisies!$C$10,\"\",(IF(B73<Saisies!$B$10,\"\",E73)))","v":""},{"$f":"IF(B73>Saisies!$E$10,\"\",(IF(B73<Saisies!$D$10,\"\",E73)))","v":""},{"$f":"IF(B73>Saisies!$G$10,\"\",(IF(B73<Saisies!$F$10,\"\",E73)))","v":""},"2017-02-22","M",8,7,492,{"$f":"IF(V73>=Saisies!$E$4,(IF(W72<=Saisies!$E$4,R73,W72)),0)","v":42622},{"$f":"IF(R73=Saisies!$C$7,MIN((ABS(Saisies!$E$4-V72)),Y73),Y73)","v":""},{"$f":"IF(ISERROR((IF(R73>Saisies!$C$7,\"\",IF(ISERROR(IF(R73<Saisies!$B$7,\"\",T73)*Z73),IF(R73<Saisies!$B$7,\"\",T73),\"\")))*(IF(ISERROR(AA73+1),0,AA73))*AB73*AC73*AD73),\"\",(IF(R73>Saisies!$C$7,\"\",IF(ISERROR(IF(R73<Saisies!$B$7,\"\",T73)*Z73),IF(R73<Saisies!$B$7,\"\",T73),\"\")))*(IF(ISERROR(AA73+1),0,AA73))*AB73*AC73*AD73)","v":""},"",1,{"$f":"IF(R73>Saisies!$C$25,1,(IF(R73<Saisies!$B$25,1,IF(Saisies!$B$25=0,1,0))))","v":1},{"$f":"IF(R73>Saisies!$E$25,1,(IF(R73<Saisies!$D$25,1,IF(Saisies!$D$25=0,1,0))))","v":1},{"$f":"IF(R73>Saisies!$G$25,1,(IF(R73<Saisies!$F$25,1,IF(Saisies!$F$25<10,1,0))))","v":1},{"$f":"IF(R73>Saisies!$C$10,\"\",(IF(R73<Saisies!$B$10,\"\",U73)))","v":""},{"$f":"IF(R73>Saisies!$E$10,\"\",(IF(R73<Saisies!$D$10,\"\",U73)))","v":""},{"$f":"IF(R73>Saisies!$G$10,\"\",(IF(R73<Saisies!$F$10,\"\",U73)))","v":""},"2017-03-22","M",8,7,492,{"$f":"IF(AL73>=Saisies!$E$4,(IF(AM72<=Saisies!$E$4,AH73,AM72)),0)","v":42622},{"$f":"IF(AH73=Saisies!$C$7,MIN((ABS(Saisies!$E$4-AL72)),AO73),AO73)","v":""},{"$f":"IF(ISERROR((IF(AH73>Saisies!$C$7,\"\",IF(ISERROR(IF(AH73<Saisies!$B$7,\"\",AJ73)*AP73),IF(AH73<Saisies!$B$7,\"\",AJ73),\"\")))*(IF(ISERROR(AQ73+1),0,AQ73))*AR73*AS73*AT73),\"\",(IF(AH73>Saisies!$C$7,\"\",IF(ISERROR(IF(AH73<Saisies!$B$7,\"\",AJ73)*AP73),IF(AH73<Saisies!$B$7,\"\",AJ73),\"\")))*(IF(ISERROR(AQ73+1),0,AQ73))*AR73*AS73*AT73)","v":""},"",1,{"$f":"IF(AH73>Saisies!$C$25,1,(IF(AH73<Saisies!$B$25,1,IF(Saisies!$B$25=0,1,0))))","v":1},{"$f":"IF(AH73>Saisies!$E$25,1,(IF(AH73<Saisies!$D$25,1,IF(Saisies!$D$25=0,1,0))))","v":1},{"$f":"IF(AH73>Saisies!$G$25,1,(IF(AH73<Saisies!$F$25,1,IF(Saisies!$F$25<10,1,0))))","v":1},{"$f":"IF(AH73>Saisies!$C$10,\"\",(IF(AH73<Saisies!$B$10,\"\",AK73)))","v":""},{"$f":"IF(AH73>Saisies!$E$10,\"\",(IF(AH73<Saisies!$D$10,\"\",AK73)))","v":""},{"$f":"IF(AH73>Saisies!$G$10,\"\",(IF(AH73<Saisies!$F$10,\"\",AK73)))","v":""},"2017-04-22","S",0,0,492,{"$f":"IF(BB73>=Saisies!$E$4,(IF(BC72<=Saisies!$E$4,AX73,BC72)),0)","v":42622},{"$f":"IF(AX73=Saisies!$C$7,MIN((ABS(Saisies!$E$4-BB72)),BE73),BE73)","v":""},{"$f":"IF(ISERROR((IF(AX73>Saisies!$C$7,\"\",IF(ISERROR(IF(AX73<Saisies!$B$7,\"\",AZ73)*BF73),IF(AX73<Saisies!$B$7,\"\",AZ73),\"\")))*(IF(ISERROR(BG73+1),0,BG73))*BH73*BI73*BJ73),\"\",(IF(AX73>Saisies!$C$7,\"\",IF(ISERROR(IF(AX73<Saisies!$B$7,\"\",AZ73)*BF73),IF(AX73<Saisies!$B$7,\"\",AZ73),\"\")))*(IF(ISERROR(BG73+1),0,BG73))*BH73*BI73*BJ73)","v":""},"",1,{"$f":"IF(AX73>Saisies!$C$25,1,(IF(AX73<Saisies!$B$25,1,IF(Saisies!$B$25=0,1,0))))","v":1},{"$f":"IF(AX73>Saisies!$E$25,1,(IF(AX73<Saisies!$D$25,1,IF(Saisies!$D$25=0,1,0))))","v":1},{"$f":"IF(AX73>Saisies!$G$25,1,(IF(AX73<Saisies!$F$25,1,IF(Saisies!$F$25<10,1,0))))","v":1},{"$f":"IF(AX73>Saisies!$C$10,\"\",(IF(AX73<Saisies!$B$10,\"\",BA73)))","v":""},{"$f":"IF(AX73>Saisies!$E$10,\"\",(IF(AX73<Saisies!$D$10,\"\",BA73)))","v":""},{"$f":"IF(AX73>Saisies!$G$10,\"\",(IF(AX73<Saisies!$F$10,\"\",BA73)))","v":""},"2017-05-22","L",7,7,492,{"$f":"IF(BR73>=Saisies!$E$4,(IF(BS72<=Saisies!$E$4,BN73,BS72)),0)","v":42622},{"$f":"IF(BN73=Saisies!$C$7,MIN((ABS(Saisies!$E$4-BR72)),BU73),BU73)","v":""},{"$f":"IF(ISERROR((IF(BN73>Saisies!$C$7,\"\",IF(ISERROR(IF(BN73<Saisies!$B$7,\"\",BP73)*BV73),IF(BN73<Saisies!$B$7,\"\",BP73),\"\")))*(IF(ISERROR(BW73+1),0,BW73))*BX73*BY73*BZ73),\"\",(IF(BN73>Saisies!$C$7,\"\",IF(ISERROR(IF(BN73<Saisies!$B$7,\"\",BP73)*BV73),IF(BN73<Saisies!$B$7,\"\",BP73),\"\")))*(IF(ISERROR(BW73+1),0,BW73))*BX73*BY73*BZ73)","v":""},"",1,{"$f":"IF(BN73>Saisies!$C$25,1,(IF(BN73<Saisies!$B$25,1,IF(Saisies!$B$25=0,1,0))))","v":1},{"$f":"IF(BN73>Saisies!$E$25,1,(IF(BN73<Saisies!$D$25,1,IF(Saisies!$D$25=0,1,0))))","v":1},{"$f":"IF(BN73>Saisies!$G$25,1,(IF(BN73<Saisies!$F$25,1,IF(Saisies!$F$25<10,1,0))))","v":1},{"$f":"IF(BN73>Saisies!$C$10,\"\",(IF(BN73<Saisies!$B$10,\"\",BQ73)))","v":""},{"$f":"IF(BN73>Saisies!$E$10,\"\",(IF(BN73<Saisies!$D$10,\"\",BQ73)))","v":""},{"$f":"IF(BN73>Saisies!$G$10,\"\",(IF(BN73<Saisies!$F$10,\"\",BQ73)))","v":""},"2017-06-22","J",8,7,492,{"$f":"IF(CH73>=Saisies!$E$4,(IF(CI72<=Saisies!$E$4,CD73,CI72)),0)","v":42622},{"$f":"IF(CD73=Saisies!$C$7,MIN((ABS(Saisies!$E$4-CH72)),CK73),CK73)","v":""},{"$f":"IF(ISERROR((IF(CD73>Saisies!$C$7,\"\",IF(ISERROR(IF(CD73<Saisies!$B$7,\"\",CF73)*CL73),IF(CD73<Saisies!$B$7,\"\",CF73),\"\")))*(IF(ISERROR(CM73+1),0,CM73))*CN73*CO73*CP73),\"\",(IF(CD73>Saisies!$C$7,\"\",IF(ISERROR(IF(CD73<Saisies!$B$7,\"\",CF73)*CL73),IF(CD73<Saisies!$B$7,\"\",CF73),\"\")))*(IF(ISERROR(CM73+1),0,CM73))*CN73*CO73*CP73)","v":""},"",1,{"$f":"IF(CD73>Saisies!$C$25,1,(IF(CD73<Saisies!$B$25,1,IF(Saisies!$B$25=0,1,0))))","v":1},{"$f":"IF(CD73>Saisies!$E$25,1,(IF(CD73<Saisies!$D$25,1,IF(Saisies!$D$25=0,1,0))))","v":1},{"$f":"IF(CD73>Saisies!$G$25,1,(IF(CD73<Saisies!$F$25,1,IF(Saisies!$F$25<10,1,0))))","v":1},{"$f":"IF(CD73>Saisies!$C$10,\"\",(IF(CD73<Saisies!$B$10,\"\",CG73)))","v":""},{"$f":"IF(CD73>Saisies!$E$10,\"\",(IF(CD73<Saisies!$D$10,\"\",CG73)))","v":""},{"$f":"IF(CD73>Saisies!$G$10,\"\",(IF(CD73<Saisies!$F$10,\"\",CG73)))","v":""},"2017-07-22","S",0,0,492,{"$f":"IF(CX73>=Saisies!$E$4,(IF(CY72<=Saisies!$E$4,CT73,CY72)),0)","v":42622},{"$f":"IF(CT73=Saisies!$C$7,MIN((ABS(Saisies!$E$4-CX72)),DA73),DA73)","v":""},{"$f":"IF(ISERROR((IF(CT73>Saisies!$C$7,\"\",IF(ISERROR(IF(CT73<Saisies!$B$7,\"\",CV73)*DB73),IF(CT73<Saisies!$B$7,\"\",CV73),\"\")))*(IF(ISERROR(DC73+1),0,DC73))*DD73*DE73*DF73),\"\",(IF(CT73>Saisies!$C$7,\"\",IF(ISERROR(IF(CT73<Saisies!$B$7,\"\",CV73)*DB73),IF(CT73<Saisies!$B$7,\"\",CV73),\"\")))*(IF(ISERROR(DC73+1),0,DC73))*DD73*DE73*DF73)","v":""},"",1,{"$f":"IF(CT73>Saisies!$C$25,1,(IF(CT73<Saisies!$B$25,1,IF(Saisies!$B$25=0,1,0))))","v":1},{"$f":"IF(CT73>Saisies!$E$25,1,(IF(CT73<Saisies!$D$25,1,IF(Saisies!$D$25=0,1,0))))","v":1},{"$f":"IF(CT73>Saisies!$G$25,1,(IF(CT73<Saisies!$F$25,1,IF(Saisies!$F$25<10,1,0))))","v":1},{"$f":"IF(CT73>Saisies!$C$10,\"\",(IF(CT73<Saisies!$B$10,\"\",CW73)))","v":""},{"$f":"IF(CT73>Saisies!$E$10,\"\",(IF(CT73<Saisies!$D$10,\"\",CW73)))","v":""},{"$f":"IF(CT73>Saisies!$G$10,\"\",(IF(CT73<Saisies!$F$10,\"\",CW73)))","v":""},"2017-08-22","M",8,7,492,{"$f":"IF(DN73>=Saisies!$E$4,(IF(DO72<=Saisies!$E$4,DJ73,DO72)),0)","v":42622},{"$f":"IF(DJ73=Saisies!$C$7,MIN((ABS(Saisies!$E$4-DN72)),DQ73),DQ73)","v":""},{"$f":"IF(ISERROR((IF(DJ73>Saisies!$C$7,\"\",IF(ISERROR(IF(DJ73<Saisies!$B$7,\"\",DL73)*DR73),IF(DJ73<Saisies!$B$7,\"\",DL73),\"\")))*(IF(ISERROR(DS73+1),0,DS73))*DT73*DU73*DV73),\"\",(IF(DJ73>Saisies!$C$7,\"\",IF(ISERROR(IF(DJ73<Saisies!$B$7,\"\",DL73)*DR73),IF(DJ73<Saisies!$B$7,\"\",DL73),\"\")))*(IF(ISERROR(DS73+1),0,DS73))*DT73*DU73*DV73)","v":""},"",1,{"$f":"IF(DJ73>Saisies!$C$25,1,(IF(DJ73<Saisies!$B$25,1,IF(Saisies!$B$25=0,1,0))))","v":1},{"$f":"IF(DJ73>Saisies!$E$25,1,(IF(DJ73<Saisies!$D$25,1,IF(Saisies!$D$25=0,1,0))))","v":1},{"$f":"IF(DJ73>Saisies!$G$25,1,(IF(DJ73<Saisies!$F$25,1,IF(Saisies!$F$25<10,1,0))))","v":1},{"$f":"IF(DJ73>Saisies!$C$10,\"\",(IF(DJ73<Saisies!$B$10,\"\",DM73)))","v":""},{"$f":"IF(DJ73>Saisies!$E$10,\"\",(IF(DJ73<Saisies!$D$10,\"\",DM73)))","v":""},{"$f":"IF(DJ73>Saisies!$G$10,\"\",(IF(DJ73<Saisies!$F$10,\"\",DM73)))","v":""},"2017-09-22","V",4,7,492,{"$f":"IF(ED73>=Saisies!$E$4,(IF(EE72<=Saisies!$E$4,DZ73,EE72)),0)","v":42622},{"$f":"IF(DZ73=Saisies!$C$7,MIN((ABS(Saisies!$E$4-ED72)),EG73),EG73)","v":""},{"$f":"IF(ISERROR((IF(DZ73>Saisies!$C$7,\"\",IF(ISERROR(IF(DZ73<Saisies!$B$7,\"\",EB73)*EH73),IF(DZ73<Saisies!$B$7,\"\",EB73),\"\")))*(IF(ISERROR(EI73+1),0,EI73))*EJ73*EK73*EL73),\"\",(IF(DZ73>Saisies!$C$7,\"\",IF(ISERROR(IF(DZ73<Saisies!$B$7,\"\",EB73)*EH73),IF(DZ73<Saisies!$B$7,\"\",EB73),\"\")))*(IF(ISERROR(EI73+1),0,EI73))*EJ73*EK73*EL73)","v":""},"",1,{"$f":"IF(DZ73>Saisies!$C$25,1,(IF(DZ73<Saisies!$B$25,1,IF(Saisies!$B$25=0,1,0))))","v":1},{"$f":"IF(DZ73>Saisies!$E$25,1,(IF(DZ73<Saisies!$D$25,1,IF(Saisies!$D$25=0,1,0))))","v":1},{"$f":"IF(DZ73>Saisies!$G$25,1,(IF(DZ73<Saisies!$F$25,1,IF(Saisies!$F$25<10,1,0))))","v":1},{"$f":"IF(DZ73>Saisies!$C$10,\"\",(IF(DZ73<Saisies!$B$10,\"\",EC73)))","v":""},{"$f":"IF(DZ73>Saisies!$E$10,\"\",(IF(DZ73<Saisies!$D$10,\"\",EC73)))","v":""},{"$f":"IF(DZ73>Saisies!$G$10,\"\",(IF(DZ73<Saisies!$F$10,\"\",EC73)))","v":""},"2017-10-22","D",0,0,492,{"$f":"IF(ET73>=Saisies!$E$4,(IF(EU72<=Saisies!$E$4,EP73,EU72)),0)","v":42622},{"$f":"IF(EP73=Saisies!$C$7,MIN((ABS(Saisies!$E$4-ET72)),EW73),EW73)","v":""},{"$f":"IF(ISERROR((IF(EP73>Saisies!$C$7,\"\",IF(ISERROR(IF(EP73<Saisies!$B$7,\"\",ER73)*EX73),IF(EP73<Saisies!$B$7,\"\",ER73),\"\")))*(IF(ISERROR(EY73+1),0,EY73))*EZ73*FA73*FB73),\"\",(IF(EP73>Saisies!$C$7,\"\",IF(ISERROR(IF(EP73<Saisies!$B$7,\"\",ER73)*EX73),IF(EP73<Saisies!$B$7,\"\",ER73),\"\")))*(IF(ISERROR(EY73+1),0,EY73))*EZ73*FA73*FB73)","v":""},"",1,{"$f":"IF(EP73>Saisies!$C$25,1,(IF(EP73<Saisies!$B$25,1,IF(Saisies!$B$25=0,1,0))))","v":1},{"$f":"IF(EP73>Saisies!$E$25,1,(IF(EP73<Saisies!$D$25,1,IF(Saisies!$D$25=0,1,0))))","v":1},{"$f":"IF(EP73>Saisies!$G$25,1,(IF(EP73<Saisies!$F$25,1,IF(Saisies!$F$25<10,1,0))))","v":1},{"$f":"IF(EP73>Saisies!$C$10,\"\",(IF(EP73<Saisies!$B$10,\"\",ES73)))","v":""},{"$f":"IF(EP73>Saisies!$E$10,\"\",(IF(EP73<Saisies!$D$10,\"\",ES73)))","v":""},{"$f":"IF(EP73>Saisies!$G$10,\"\",(IF(EP73<Saisies!$F$10,\"\",ES73)))","v":""},"2017-11-22","M",8,7,492,{"$f":"IF(FJ73>=Saisies!$E$4,(IF(FK72<=Saisies!$E$4,FF73,FK72)),0)","v":42622},{"$f":"IF(FF73=Saisies!$C$7,MIN((ABS(Saisies!$E$4-FJ72)),FM73),FM73)","v":""},{"$f":"IF(ISERROR((IF(FF73>Saisies!$C$7,\"\",IF(ISERROR(IF(FF73<Saisies!$B$7,\"\",FH73)*FN73),IF(FF73<Saisies!$B$7,\"\",FH73),\"\")))*(IF(ISERROR(FO73+1),0,FO73))*FP73*FQ73*FR73),\"\",(IF(FF73>Saisies!$C$7,\"\",IF(ISERROR(IF(FF73<Saisies!$B$7,\"\",FH73)*FN73),IF(FF73<Saisies!$B$7,\"\",FH73),\"\")))*(IF(ISERROR(FO73+1),0,FO73))*FP73*FQ73*FR73)","v":""},"",1,{"$f":"IF(FF73>Saisies!$C$25,1,(IF(FF73<Saisies!$B$25,1,IF(Saisies!$B$25=0,1,0))))","v":1},{"$f":"IF(FF73>Saisies!$E$25,1,(IF(FF73<Saisies!$D$25,1,IF(Saisies!$D$25=0,1,0))))","v":1},{"$f":"IF(FF73>Saisies!$G$25,1,(IF(FF73<Saisies!$F$25,1,IF(Saisies!$F$25<10,1,0))))","v":1},{"$f":"IF(FF73>Saisies!$C$10,\"\",(IF(FF73<Saisies!$B$10,\"\",FI73)))","v":""},{"$f":"IF(FF73>Saisies!$E$10,\"\",(IF(FF73<Saisies!$D$10,\"\",FI73)))","v":""},{"$f":"IF(FF73>Saisies!$G$10,\"\",(IF(FF73<Saisies!$F$10,\"\",FI73)))","v":""},"2017-12-22","V",4,7,492,{"$f":"IF(FZ73>=Saisies!$E$4,(IF(GA72<=Saisies!$E$4,FV73,GA72)),0)","v":42622},{"$f":"IF(FV73=Saisies!$C$7,MIN((ABS(Saisies!$E$4-FZ72)),GC73),GC73)","v":""},{"$f":"IF(ISERROR((IF(FV73>Saisies!$C$7,\"\",IF(ISERROR(IF(FV73<Saisies!$B$7,\"\",FX73)*GD73),IF(FV73<Saisies!$B$7,\"\",FX73),\"\")))*(IF(ISERROR(GE73+1),0,GE73))*GF73*GG73*GH73),\"\",(IF(FV73>Saisies!$C$7,\"\",IF(ISERROR(IF(FV73<Saisies!$B$7,\"\",FX73)*GD73),IF(FV73<Saisies!$B$7,\"\",FX73),\"\")))*(IF(ISERROR(GE73+1),0,GE73))*GF73*GG73*GH73)","v":""},"",1,{"$f":"IF(FV73>Saisies!$C$25,1,(IF(FV73<Saisies!$B$25,1,IF(Saisies!$B$25=0,1,0))))","v":1},{"$f":"IF(FV73>Saisies!$E$25,1,(IF(FV73<Saisies!$D$25,1,IF(Saisies!$D$25=0,1,0))))","v":1},{"$f":"IF(FV73>Saisies!$G$25,1,(IF(FV73<Saisies!$F$25,1,IF(Saisies!$F$25<10,1,0))))","v":1},{"$f":"IF(FV73>Saisies!$C$10,\"\",(IF(FV73<Saisies!$B$10,\"\",FY73)))","v":""},{"$f":"IF(FV73>Saisies!$E$10,\"\",(IF(FV73<Saisies!$D$10,\"\",FY73)))","v":""},{"$f":"IF(FV73>Saisies!$G$10,\"\",(IF(FV73<Saisies!$F$10,\"\",FY73)))","v":""}]
[null,"2017-01-23","L",7,7,492,{"$f":"IF(F74>=Saisies!$E$4,(IF(G73<=Saisies!$E$4,B74,G73)),0)","v":42622},{"$f":"IF(B74=Saisies!$C$7,MIN((ABS(Saisies!$E$4-F73)),I74),I74)","v":""},{"$f":"IF(ISERROR((IF(B74>Saisies!$C$7,\"\",IF(ISERROR(IF(B74<Saisies!$B$7,\"\",D74)*J74),IF(B74<Saisies!$B$7,\"\",D74),\"\")))*(IF(ISERROR(K74+1),0,K74))*L74*M74*N74),\"\",(IF(B74>Saisies!$C$7,\"\",IF(ISERROR(IF(B74<Saisies!$B$7,\"\",D74)*J74),IF(B74<Saisies!$B$7,\"\",D74),\"\")))*(IF(ISERROR(K74+1),0,K74))*L74*M74*N74)","v":""},"",1,{"$f":"IF(B74>Saisies!$C$25,1,(IF(B74<Saisies!$B$25,1,IF(Saisies!$B$25=0,1,0))))","v":1},{"$f":"IF(B74>Saisies!$E$25,1,(IF(B74<Saisies!$D$25,1,IF(Saisies!$D$25=0,1,0))))","v":1},{"$f":"IF(B74>Saisies!$G$25,1,(IF(B74<Saisies!$F$25,1,IF(Saisies!$F$25<10,1,0))))","v":1},{"$f":"IF(B74>Saisies!$C$10,\"\",(IF(B74<Saisies!$B$10,\"\",E74)))","v":""},{"$f":"IF(B74>Saisies!$E$10,\"\",(IF(B74<Saisies!$D$10,\"\",E74)))","v":""},{"$f":"IF(B74>Saisies!$G$10,\"\",(IF(B74<Saisies!$F$10,\"\",E74)))","v":""},"2017-02-23","J",8,7,492,{"$f":"IF(V74>=Saisies!$E$4,(IF(W73<=Saisies!$E$4,R74,W73)),0)","v":42622},{"$f":"IF(R74=Saisies!$C$7,MIN((ABS(Saisies!$E$4-V73)),Y74),Y74)","v":""},{"$f":"IF(ISERROR((IF(R74>Saisies!$C$7,\"\",IF(ISERROR(IF(R74<Saisies!$B$7,\"\",T74)*Z74),IF(R74<Saisies!$B$7,\"\",T74),\"\")))*(IF(ISERROR(AA74+1),0,AA74))*AB74*AC74*AD74),\"\",(IF(R74>Saisies!$C$7,\"\",IF(ISERROR(IF(R74<Saisies!$B$7,\"\",T74)*Z74),IF(R74<Saisies!$B$7,\"\",T74),\"\")))*(IF(ISERROR(AA74+1),0,AA74))*AB74*AC74*AD74)","v":""},"",1,{"$f":"IF(R74>Saisies!$C$25,1,(IF(R74<Saisies!$B$25,1,IF(Saisies!$B$25=0,1,0))))","v":1},{"$f":"IF(R74>Saisies!$E$25,1,(IF(R74<Saisies!$D$25,1,IF(Saisies!$D$25=0,1,0))))","v":1},{"$f":"IF(R74>Saisies!$G$25,1,(IF(R74<Saisies!$F$25,1,IF(Saisies!$F$25<10,1,0))))","v":1},{"$f":"IF(R74>Saisies!$C$10,\"\",(IF(R74<Saisies!$B$10,\"\",U74)))","v":""},{"$f":"IF(R74>Saisies!$E$10,\"\",(IF(R74<Saisies!$D$10,\"\",U74)))","v":""},{"$f":"IF(R74>Saisies!$G$10,\"\",(IF(R74<Saisies!$F$10,\"\",U74)))","v":""},"2017-03-23","J",8,7,492,{"$f":"IF(AL74>=Saisies!$E$4,(IF(AM73<=Saisies!$E$4,AH74,AM73)),0)","v":42622},{"$f":"IF(AH74=Saisies!$C$7,MIN((ABS(Saisies!$E$4-AL73)),AO74),AO74)","v":""},{"$f":"IF(ISERROR((IF(AH74>Saisies!$C$7,\"\",IF(ISERROR(IF(AH74<Saisies!$B$7,\"\",AJ74)*AP74),IF(AH74<Saisies!$B$7,\"\",AJ74),\"\")))*(IF(ISERROR(AQ74+1),0,AQ74))*AR74*AS74*AT74),\"\",(IF(AH74>Saisies!$C$7,\"\",IF(ISERROR(IF(AH74<Saisies!$B$7,\"\",AJ74)*AP74),IF(AH74<Saisies!$B$7,\"\",AJ74),\"\")))*(IF(ISERROR(AQ74+1),0,AQ74))*AR74*AS74*AT74)","v":""},"",1,{"$f":"IF(AH74>Saisies!$C$25,1,(IF(AH74<Saisies!$B$25,1,IF(Saisies!$B$25=0,1,0))))","v":1},{"$f":"IF(AH74>Saisies!$E$25,1,(IF(AH74<Saisies!$D$25,1,IF(Saisies!$D$25=0,1,0))))","v":1},{"$f":"IF(AH74>Saisies!$G$25,1,(IF(AH74<Saisies!$F$25,1,IF(Saisies!$F$25<10,1,0))))","v":1},{"$f":"IF(AH74>Saisies!$C$10,\"\",(IF(AH74<Saisies!$B$10,\"\",AK74)))","v":""},{"$f":"IF(AH74>Saisies!$E$10,\"\",(IF(AH74<Saisies!$D$10,\"\",AK74)))","v":""},{"$f":"IF(AH74>Saisies!$G$10,\"\",(IF(AH74<Saisies!$F$10,\"\",AK74)))","v":""},"2017-04-23","D",0,0,492,{"$f":"IF(BB74>=Saisies!$E$4,(IF(BC73<=Saisies!$E$4,AX74,BC73)),0)","v":42622},{"$f":"IF(AX74=Saisies!$C$7,MIN((ABS(Saisies!$E$4-BB73)),BE74),BE74)","v":""},{"$f":"IF(ISERROR((IF(AX74>Saisies!$C$7,\"\",IF(ISERROR(IF(AX74<Saisies!$B$7,\"\",AZ74)*BF74),IF(AX74<Saisies!$B$7,\"\",AZ74),\"\")))*(IF(ISERROR(BG74+1),0,BG74))*BH74*BI74*BJ74),\"\",(IF(AX74>Saisies!$C$7,\"\",IF(ISERROR(IF(AX74<Saisies!$B$7,\"\",AZ74)*BF74),IF(AX74<Saisies!$B$7,\"\",AZ74),\"\")))*(IF(ISERROR(BG74+1),0,BG74))*BH74*BI74*BJ74)","v":""},"",1,{"$f":"IF(AX74>Saisies!$C$25,1,(IF(AX74<Saisies!$B$25,1,IF(Saisies!$B$25=0,1,0))))","v":1},{"$f":"IF(AX74>Saisies!$E$25,1,(IF(AX74<Saisies!$D$25,1,IF(Saisies!$D$25=0,1,0))))","v":1},{"$f":"IF(AX74>Saisies!$G$25,1,(IF(AX74<Saisies!$F$25,1,IF(Saisies!$F$25<10,1,0))))","v":1},{"$f":"IF(AX74>Saisies!$C$10,\"\",(IF(AX74<Saisies!$B$10,\"\",BA74)))","v":""},{"$f":"IF(AX74>Saisies!$E$10,\"\",(IF(AX74<Saisies!$D$10,\"\",BA74)))","v":""},{"$f":"IF(AX74>Saisies!$G$10,\"\",(IF(AX74<Saisies!$F$10,\"\",BA74)))","v":""},"2017-05-23","M",8,7,492,{"$f":"IF(BR74>=Saisies!$E$4,(IF(BS73<=Saisies!$E$4,BN74,BS73)),0)","v":42622},{"$f":"IF(BN74=Saisies!$C$7,MIN((ABS(Saisies!$E$4-BR73)),BU74),BU74)","v":""},{"$f":"IF(ISERROR((IF(BN74>Saisies!$C$7,\"\",IF(ISERROR(IF(BN74<Saisies!$B$7,\"\",BP74)*BV74),IF(BN74<Saisies!$B$7,\"\",BP74),\"\")))*(IF(ISERROR(BW74+1),0,BW74))*BX74*BY74*BZ74),\"\",(IF(BN74>Saisies!$C$7,\"\",IF(ISERROR(IF(BN74<Saisies!$B$7,\"\",BP74)*BV74),IF(BN74<Saisies!$B$7,\"\",BP74),\"\")))*(IF(ISERROR(BW74+1),0,BW74))*BX74*BY74*BZ74)","v":""},"",1,{"$f":"IF(BN74>Saisies!$C$25,1,(IF(BN74<Saisies!$B$25,1,IF(Saisies!$B$25=0,1,0))))","v":1},{"$f":"IF(BN74>Saisies!$E$25,1,(IF(BN74<Saisies!$D$25,1,IF(Saisies!$D$25=0,1,0))))","v":1},{"$f":"IF(BN74>Saisies!$G$25,1,(IF(BN74<Saisies!$F$25,1,IF(Saisies!$F$25<10,1,0))))","v":1},{"$f":"IF(BN74>Saisies!$C$10,\"\",(IF(BN74<Saisies!$B$10,\"\",BQ74)))","v":""},{"$f":"IF(BN74>Saisies!$E$10,\"\",(IF(BN74<Saisies!$D$10,\"\",BQ74)))","v":""},{"$f":"IF(BN74>Saisies!$G$10,\"\",(IF(BN74<Saisies!$F$10,\"\",BQ74)))","v":""},"2017-06-23","V",4,7,492,{"$f":"IF(CH74>=Saisies!$E$4,(IF(CI73<=Saisies!$E$4,CD74,CI73)),0)","v":42622},{"$f":"IF(CD74=Saisies!$C$7,MIN((ABS(Saisies!$E$4-CH73)),CK74),CK74)","v":""},{"$f":"IF(ISERROR((IF(CD74>Saisies!$C$7,\"\",IF(ISERROR(IF(CD74<Saisies!$B$7,\"\",CF74)*CL74),IF(CD74<Saisies!$B$7,\"\",CF74),\"\")))*(IF(ISERROR(CM74+1),0,CM74))*CN74*CO74*CP74),\"\",(IF(CD74>Saisies!$C$7,\"\",IF(ISERROR(IF(CD74<Saisies!$B$7,\"\",CF74)*CL74),IF(CD74<Saisies!$B$7,\"\",CF74),\"\")))*(IF(ISERROR(CM74+1),0,CM74))*CN74*CO74*CP74)","v":""},"",1,{"$f":"IF(CD74>Saisies!$C$25,1,(IF(CD74<Saisies!$B$25,1,IF(Saisies!$B$25=0,1,0))))","v":1},{"$f":"IF(CD74>Saisies!$E$25,1,(IF(CD74<Saisies!$D$25,1,IF(Saisies!$D$25=0,1,0))))","v":1},{"$f":"IF(CD74>Saisies!$G$25,1,(IF(CD74<Saisies!$F$25,1,IF(Saisies!$F$25<10,1,0))))","v":1},{"$f":"IF(CD74>Saisies!$C$10,\"\",(IF(CD74<Saisies!$B$10,\"\",CG74)))","v":""},{"$f":"IF(CD74>Saisies!$E$10,\"\",(IF(CD74<Saisies!$D$10,\"\",CG74)))","v":""},{"$f":"IF(CD74>Saisies!$G$10,\"\",(IF(CD74<Saisies!$F$10,\"\",CG74)))","v":""},"2017-07-23","D",0,0,492,{"$f":"IF(CX74>=Saisies!$E$4,(IF(CY73<=Saisies!$E$4,CT74,CY73)),0)","v":42622},{"$f":"IF(CT74=Saisies!$C$7,MIN((ABS(Saisies!$E$4-CX73)),DA74),DA74)","v":""},{"$f":"IF(ISERROR((IF(CT74>Saisies!$C$7,\"\",IF(ISERROR(IF(CT74<Saisies!$B$7,\"\",CV74)*DB74),IF(CT74<Saisies!$B$7,\"\",CV74),\"\")))*(IF(ISERROR(DC74+1),0,DC74))*DD74*DE74*DF74),\"\",(IF(CT74>Saisies!$C$7,\"\",IF(ISERROR(IF(CT74<Saisies!$B$7,\"\",CV74)*DB74),IF(CT74<Saisies!$B$7,\"\",CV74),\"\")))*(IF(ISERROR(DC74+1),0,DC74))*DD74*DE74*DF74)","v":""},"",1,{"$f":"IF(CT74>Saisies!$C$25,1,(IF(CT74<Saisies!$B$25,1,IF(Saisies!$B$25=0,1,0))))","v":1},{"$f":"IF(CT74>Saisies!$E$25,1,(IF(CT74<Saisies!$D$25,1,IF(Saisies!$D$25=0,1,0))))","v":1},{"$f":"IF(CT74>Saisies!$G$25,1,(IF(CT74<Saisies!$F$25,1,IF(Saisies!$F$25<10,1,0))))","v":1},{"$f":"IF(CT74>Saisies!$C$10,\"\",(IF(CT74<Saisies!$B$10,\"\",CW74)))","v":""},{"$f":"IF(CT74>Saisies!$E$10,\"\",(IF(CT74<Saisies!$D$10,\"\",CW74)))","v":""},{"$f":"IF(CT74>Saisies!$G$10,\"\",(IF(CT74<Saisies!$F$10,\"\",CW74)))","v":""},"2017-08-23","M",8,7,492,{"$f":"IF(DN74>=Saisies!$E$4,(IF(DO73<=Saisies!$E$4,DJ74,DO73)),0)","v":42622},{"$f":"IF(DJ74=Saisies!$C$7,MIN((ABS(Saisies!$E$4-DN73)),DQ74),DQ74)","v":""},{"$f":"IF(ISERROR((IF(DJ74>Saisies!$C$7,\"\",IF(ISERROR(IF(DJ74<Saisies!$B$7,\"\",DL74)*DR74),IF(DJ74<Saisies!$B$7,\"\",DL74),\"\")))*(IF(ISERROR(DS74+1),0,DS74))*DT74*DU74*DV74),\"\",(IF(DJ74>Saisies!$C$7,\"\",IF(ISERROR(IF(DJ74<Saisies!$B$7,\"\",DL74)*DR74),IF(DJ74<Saisies!$B$7,\"\",DL74),\"\")))*(IF(ISERROR(DS74+1),0,DS74))*DT74*DU74*DV74)","v":""},"",1,{"$f":"IF(DJ74>Saisies!$C$25,1,(IF(DJ74<Saisies!$B$25,1,IF(Saisies!$B$25=0,1,0))))","v":1},{"$f":"IF(DJ74>Saisies!$E$25,1,(IF(DJ74<Saisies!$D$25,1,IF(Saisies!$D$25=0,1,0))))","v":1},{"$f":"IF(DJ74>Saisies!$G$25,1,(IF(DJ74<Saisies!$F$25,1,IF(Saisies!$F$25<10,1,0))))","v":1},{"$f":"IF(DJ74>Saisies!$C$10,\"\",(IF(DJ74<Saisies!$B$10,\"\",DM74)))","v":""},{"$f":"IF(DJ74>Saisies!$E$10,\"\",(IF(DJ74<Saisies!$D$10,\"\",DM74)))","v":""},{"$f":"IF(DJ74>Saisies!$G$10,\"\",(IF(DJ74<Saisies!$F$10,\"\",DM74)))","v":""},"2017-09-23","S",0,0,492,{"$f":"IF(ED74>=Saisies!$E$4,(IF(EE73<=Saisies!$E$4,DZ74,EE73)),0)","v":42622},{"$f":"IF(DZ74=Saisies!$C$7,MIN((ABS(Saisies!$E$4-ED73)),EG74),EG74)","v":""},{"$f":"IF(ISERROR((IF(DZ74>Saisies!$C$7,\"\",IF(ISERROR(IF(DZ74<Saisies!$B$7,\"\",EB74)*EH74),IF(DZ74<Saisies!$B$7,\"\",EB74),\"\")))*(IF(ISERROR(EI74+1),0,EI74))*EJ74*EK74*EL74),\"\",(IF(DZ74>Saisies!$C$7,\"\",IF(ISERROR(IF(DZ74<Saisies!$B$7,\"\",EB74)*EH74),IF(DZ74<Saisies!$B$7,\"\",EB74),\"\")))*(IF(ISERROR(EI74+1),0,EI74))*EJ74*EK74*EL74)","v":""},"",1,{"$f":"IF(DZ74>Saisies!$C$25,1,(IF(DZ74<Saisies!$B$25,1,IF(Saisies!$B$25=0,1,0))))","v":1},{"$f":"IF(DZ74>Saisies!$E$25,1,(IF(DZ74<Saisies!$D$25,1,IF(Saisies!$D$25=0,1,0))))","v":1},{"$f":"IF(DZ74>Saisies!$G$25,1,(IF(DZ74<Saisies!$F$25,1,IF(Saisies!$F$25<10,1,0))))","v":1},{"$f":"IF(DZ74>Saisies!$C$10,\"\",(IF(DZ74<Saisies!$B$10,\"\",EC74)))","v":""},{"$f":"IF(DZ74>Saisies!$E$10,\"\",(IF(DZ74<Saisies!$D$10,\"\",EC74)))","v":""},{"$f":"IF(DZ74>Saisies!$G$10,\"\",(IF(DZ74<Saisies!$F$10,\"\",EC74)))","v":""},"2017-10-23","L",7,7,492,{"$f":"IF(ET74>=Saisies!$E$4,(IF(EU73<=Saisies!$E$4,EP74,EU73)),0)","v":42622},{"$f":"IF(EP74=Saisies!$C$7,MIN((ABS(Saisies!$E$4-ET73)),EW74),EW74)","v":""},{"$f":"IF(ISERROR((IF(EP74>Saisies!$C$7,\"\",IF(ISERROR(IF(EP74<Saisies!$B$7,\"\",ER74)*EX74),IF(EP74<Saisies!$B$7,\"\",ER74),\"\")))*(IF(ISERROR(EY74+1),0,EY74))*EZ74*FA74*FB74),\"\",(IF(EP74>Saisies!$C$7,\"\",IF(ISERROR(IF(EP74<Saisies!$B$7,\"\",ER74)*EX74),IF(EP74<Saisies!$B$7,\"\",ER74),\"\")))*(IF(ISERROR(EY74+1),0,EY74))*EZ74*FA74*FB74)","v":""},"",1,{"$f":"IF(EP74>Saisies!$C$25,1,(IF(EP74<Saisies!$B$25,1,IF(Saisies!$B$25=0,1,0))))","v":1},{"$f":"IF(EP74>Saisies!$E$25,1,(IF(EP74<Saisies!$D$25,1,IF(Saisies!$D$25=0,1,0))))","v":1},{"$f":"IF(EP74>Saisies!$G$25,1,(IF(EP74<Saisies!$F$25,1,IF(Saisies!$F$25<10,1,0))))","v":1},{"$f":"IF(EP74>Saisies!$C$10,\"\",(IF(EP74<Saisies!$B$10,\"\",ES74)))","v":""},{"$f":"IF(EP74>Saisies!$E$10,\"\",(IF(EP74<Saisies!$D$10,\"\",ES74)))","v":""},{"$f":"IF(EP74>Saisies!$G$10,\"\",(IF(EP74<Saisies!$F$10,\"\",ES74)))","v":""},"2017-11-23","J",8,7,492,{"$f":"IF(FJ74>=Saisies!$E$4,(IF(FK73<=Saisies!$E$4,FF74,FK73)),0)","v":42622},{"$f":"IF(FF74=Saisies!$C$7,MIN((ABS(Saisies!$E$4-FJ73)),FM74),FM74)","v":""},{"$f":"IF(ISERROR((IF(FF74>Saisies!$C$7,\"\",IF(ISERROR(IF(FF74<Saisies!$B$7,\"\",FH74)*FN74),IF(FF74<Saisies!$B$7,\"\",FH74),\"\")))*(IF(ISERROR(FO74+1),0,FO74))*FP74*FQ74*FR74),\"\",(IF(FF74>Saisies!$C$7,\"\",IF(ISERROR(IF(FF74<Saisies!$B$7,\"\",FH74)*FN74),IF(FF74<Saisies!$B$7,\"\",FH74),\"\")))*(IF(ISERROR(FO74+1),0,FO74))*FP74*FQ74*FR74)","v":""},"",1,{"$f":"IF(FF74>Saisies!$C$25,1,(IF(FF74<Saisies!$B$25,1,IF(Saisies!$B$25=0,1,0))))","v":1},{"$f":"IF(FF74>Saisies!$E$25,1,(IF(FF74<Saisies!$D$25,1,IF(Saisies!$D$25=0,1,0))))","v":1},{"$f":"IF(FF74>Saisies!$G$25,1,(IF(FF74<Saisies!$F$25,1,IF(Saisies!$F$25<10,1,0))))","v":1},{"$f":"IF(FF74>Saisies!$C$10,\"\",(IF(FF74<Saisies!$B$10,\"\",FI74)))","v":""},{"$f":"IF(FF74>Saisies!$E$10,\"\",(IF(FF74<Saisies!$D$10,\"\",FI74)))","v":""},{"$f":"IF(FF74>Saisies!$G$10,\"\",(IF(FF74<Saisies!$F$10,\"\",FI74)))","v":""},"2017-12-23","S",{"$f":"LOOKUP(UPPER(LEFT(TEXT(FV74,\"jjjj\"),2)),$GW$5:$GX$11)","v":0},{"$f":"LOOKUP(UPPER(LEFT(TEXT(FV74,\"jjjj\"),2)),$GW$14:$GX$20)","v":0},{"$f":"IF(ISNUMBER(GC74),GC74,0)+IF(ISNUMBER(GD74),GD74,0)+FZ73","v":492},{"$f":"IF(FZ74>=Saisies!$E$4,(IF(GA73<=Saisies!$E$4,FV74,GA73)),0)","v":42622},{"$f":"IF(FV74=Saisies!$C$7,MIN((ABS(Saisies!$E$4-FZ73)),GC74),GC74)","v":""},{"$f":"IF(ISERROR((IF(FV74>Saisies!$C$7,\"\",IF(ISERROR(IF(FV74<Saisies!$B$7,\"\",FX74)*GD74),IF(FV74<Saisies!$B$7,\"\",FX74),\"\")))*(IF(ISERROR(GE74+1),0,GE74))*GF74*GG74*GH74),\"\",(IF(FV74>Saisies!$C$7,\"\",IF(ISERROR(IF(FV74<Saisies!$B$7,\"\",FX74)*GD74),IF(FV74<Saisies!$B$7,\"\",FX74),\"\")))*(IF(ISERROR(GE74+1),0,GE74))*GF74*GG74*GH74)","v":""},"",1,{"$f":"IF(FV74>Saisies!$C$25,1,(IF(FV74<Saisies!$B$25,1,IF(Saisies!$B$25=0,1,0))))","v":1},{"$f":"IF(FV74>Saisies!$E$25,1,(IF(FV74<Saisies!$D$25,1,IF(Saisies!$D$25=0,1,0))))","v":1},{"$f":"IF(FV74>Saisies!$G$25,1,(IF(FV74<Saisies!$F$25,1,IF(Saisies!$F$25<10,1,0))))","v":1},{"$f":"IF(FV74>Saisies!$C$10,\"\",(IF(FV74<Saisies!$B$10,\"\",FY74)))","v":""},{"$f":"IF(FV74>Saisies!$E$10,\"\",(IF(FV74<Saisies!$D$10,\"\",FY74)))","v":""},{"$f":"IF(FV74>Saisies!$G$10,\"\",(IF(FV74<Saisies!$F$10,\"\",FY74)))","v":""}]
[null,"2017-01-24","M",8,7,492,{"$f":"IF(F75>=Saisies!$E$4,(IF(G74<=Saisies!$E$4,B75,G74)),0)","v":42622},{"$f":"IF(B75=Saisies!$C$7,MIN((ABS(Saisies!$E$4-F74)),I75),I75)","v":""},{"$f":"IF(ISERROR((IF(B75>Saisies!$C$7,\"\",IF(ISERROR(IF(B75<Saisies!$B$7,\"\",D75)*J75),IF(B75<Saisies!$B$7,\"\",D75),\"\")))*(IF(ISERROR(K75+1),0,K75))*L75*M75*N75),\"\",(IF(B75>Saisies!$C$7,\"\",IF(ISERROR(IF(B75<Saisies!$B$7,\"\",D75)*J75),IF(B75<Saisies!$B$7,\"\",D75),\"\")))*(IF(ISERROR(K75+1),0,K75))*L75*M75*N75)","v":""},"",1,{"$f":"IF(B75>Saisies!$C$25,1,(IF(B75<Saisies!$B$25,1,IF(Saisies!$B$25=0,1,0))))","v":1},{"$f":"IF(B75>Saisies!$E$25,1,(IF(B75<Saisies!$D$25,1,IF(Saisies!$D$25=0,1,0))))","v":1},{"$f":"IF(B75>Saisies!$G$25,1,(IF(B75<Saisies!$F$25,1,IF(Saisies!$F$25<10,1,0))))","v":1},{"$f":"IF(B75>Saisies!$C$10,\"\",(IF(B75<Saisies!$B$10,\"\",E75)))","v":""},{"$f":"IF(B75>Saisies!$E$10,\"\",(IF(B75<Saisies!$D$10,\"\",E75)))","v":""},{"$f":"IF(B75>Saisies!$G$10,\"\",(IF(B75<Saisies!$F$10,\"\",E75)))","v":""},"2017-02-24","V",4,7,492,{"$f":"IF(V75>=Saisies!$E$4,(IF(W74<=Saisies!$E$4,R75,W74)),0)","v":42622},{"$f":"IF(R75=Saisies!$C$7,MIN((ABS(Saisies!$E$4-V74)),Y75),Y75)","v":""},{"$f":"IF(ISERROR((IF(R75>Saisies!$C$7,\"\",IF(ISERROR(IF(R75<Saisies!$B$7,\"\",T75)*Z75),IF(R75<Saisies!$B$7,\"\",T75),\"\")))*(IF(ISERROR(AA75+1),0,AA75))*AB75*AC75*AD75),\"\",(IF(R75>Saisies!$C$7,\"\",IF(ISERROR(IF(R75<Saisies!$B$7,\"\",T75)*Z75),IF(R75<Saisies!$B$7,\"\",T75),\"\")))*(IF(ISERROR(AA75+1),0,AA75))*AB75*AC75*AD75)","v":""},"",1,{"$f":"IF(R75>Saisies!$C$25,1,(IF(R75<Saisies!$B$25,1,IF(Saisies!$B$25=0,1,0))))","v":1},{"$f":"IF(R75>Saisies!$E$25,1,(IF(R75<Saisies!$D$25,1,IF(Saisies!$D$25=0,1,0))))","v":1},{"$f":"IF(R75>Saisies!$G$25,1,(IF(R75<Saisies!$F$25,1,IF(Saisies!$F$25<10,1,0))))","v":1},{"$f":"IF(R75>Saisies!$C$10,\"\",(IF(R75<Saisies!$B$10,\"\",U75)))","v":""},{"$f":"IF(R75>Saisies!$E$10,\"\",(IF(R75<Saisies!$D$10,\"\",U75)))","v":""},{"$f":"IF(R75>Saisies!$G$10,\"\",(IF(R75<Saisies!$F$10,\"\",U75)))","v":""},"2017-03-24","V",4,7,492,{"$f":"IF(AL75>=Saisies!$E$4,(IF(AM74<=Saisies!$E$4,AH75,AM74)),0)","v":42622},{"$f":"IF(AH75=Saisies!$C$7,MIN((ABS(Saisies!$E$4-AL74)),AO75),AO75)","v":""},{"$f":"IF(ISERROR((IF(AH75>Saisies!$C$7,\"\",IF(ISERROR(IF(AH75<Saisies!$B$7,\"\",AJ75)*AP75),IF(AH75<Saisies!$B$7,\"\",AJ75),\"\")))*(IF(ISERROR(AQ75+1),0,AQ75))*AR75*AS75*AT75),\"\",(IF(AH75>Saisies!$C$7,\"\",IF(ISERROR(IF(AH75<Saisies!$B$7,\"\",AJ75)*AP75),IF(AH75<Saisies!$B$7,\"\",AJ75),\"\")))*(IF(ISERROR(AQ75+1),0,AQ75))*AR75*AS75*AT75)","v":""},"",1,{"$f":"IF(AH75>Saisies!$C$25,1,(IF(AH75<Saisies!$B$25,1,IF(Saisies!$B$25=0,1,0))))","v":1},{"$f":"IF(AH75>Saisies!$E$25,1,(IF(AH75<Saisies!$D$25,1,IF(Saisies!$D$25=0,1,0))))","v":1},{"$f":"IF(AH75>Saisies!$G$25,1,(IF(AH75<Saisies!$F$25,1,IF(Saisies!$F$25<10,1,0))))","v":1},{"$f":"IF(AH75>Saisies!$C$10,\"\",(IF(AH75<Saisies!$B$10,\"\",AK75)))","v":""},{"$f":"IF(AH75>Saisies!$E$10,\"\",(IF(AH75<Saisies!$D$10,\"\",AK75)))","v":""},{"$f":"IF(AH75>Saisies!$G$10,\"\",(IF(AH75<Saisies!$F$10,\"\",AK75)))","v":""},"2017-04-24","L",7,7,492,{"$f":"IF(BB75>=Saisies!$E$4,(IF(BC74<=Saisies!$E$4,AX75,BC74)),0)","v":42622},{"$f":"IF(AX75=Saisies!$C$7,MIN((ABS(Saisies!$E$4-BB74)),BE75),BE75)","v":""},{"$f":"IF(ISERROR((IF(AX75>Saisies!$C$7,\"\",IF(ISERROR(IF(AX75<Saisies!$B$7,\"\",AZ75)*BF75),IF(AX75<Saisies!$B$7,\"\",AZ75),\"\")))*(IF(ISERROR(BG75+1),0,BG75))*BH75*BI75*BJ75),\"\",(IF(AX75>Saisies!$C$7,\"\",IF(ISERROR(IF(AX75<Saisies!$B$7,\"\",AZ75)*BF75),IF(AX75<Saisies!$B$7,\"\",AZ75),\"\")))*(IF(ISERROR(BG75+1),0,BG75))*BH75*BI75*BJ75)","v":""},"",1,{"$f":"IF(AX75>Saisies!$C$25,1,(IF(AX75<Saisies!$B$25,1,IF(Saisies!$B$25=0,1,0))))","v":1},{"$f":"IF(AX75>Saisies!$E$25,1,(IF(AX75<Saisies!$D$25,1,IF(Saisies!$D$25=0,1,0))))","v":1},{"$f":"IF(AX75>Saisies!$G$25,1,(IF(AX75<Saisies!$F$25,1,IF(Saisies!$F$25<10,1,0))))","v":1},{"$f":"IF(AX75>Saisies!$C$10,\"\",(IF(AX75<Saisies!$B$10,\"\",BA75)))","v":""},{"$f":"IF(AX75>Saisies!$E$10,\"\",(IF(AX75<Saisies!$D$10,\"\",BA75)))","v":""},{"$f":"IF(AX75>Saisies!$G$10,\"\",(IF(AX75<Saisies!$F$10,\"\",BA75)))","v":""},"2017-05-24","M",8,7,492,{"$f":"IF(BR75>=Saisies!$E$4,(IF(BS74<=Saisies!$E$4,BN75,BS74)),0)","v":42622},{"$f":"IF(BN75=Saisies!$C$7,MIN((ABS(Saisies!$E$4-BR74)),BU75),BU75)","v":""},{"$f":"IF(ISERROR((IF(BN75>Saisies!$C$7,\"\",IF(ISERROR(IF(BN75<Saisies!$B$7,\"\",BP75)*BV75),IF(BN75<Saisies!$B$7,\"\",BP75),\"\")))*(IF(ISERROR(BW75+1),0,BW75))*BX75*BY75*BZ75),\"\",(IF(BN75>Saisies!$C$7,\"\",IF(ISERROR(IF(BN75<Saisies!$B$7,\"\",BP75)*BV75),IF(BN75<Saisies!$B$7,\"\",BP75),\"\")))*(IF(ISERROR(BW75+1),0,BW75))*BX75*BY75*BZ75)","v":""},"",1,{"$f":"IF(BN75>Saisies!$C$25,1,(IF(BN75<Saisies!$B$25,1,IF(Saisies!$B$25=0,1,0))))","v":1},{"$f":"IF(BN75>Saisies!$E$25,1,(IF(BN75<Saisies!$D$25,1,IF(Saisies!$D$25=0,1,0))))","v":1},{"$f":"IF(BN75>Saisies!$G$25,1,(IF(BN75<Saisies!$F$25,1,IF(Saisies!$F$25<10,1,0))))","v":1},{"$f":"IF(BN75>Saisies!$C$10,\"\",(IF(BN75<Saisies!$B$10,\"\",BQ75)))","v":""},{"$f":"IF(BN75>Saisies!$E$10,\"\",(IF(BN75<Saisies!$D$10,\"\",BQ75)))","v":""},{"$f":"IF(BN75>Saisies!$G$10,\"\",(IF(BN75<Saisies!$F$10,\"\",BQ75)))","v":""},"2017-06-24","S",0,0,492,{"$f":"IF(CH75>=Saisies!$E$4,(IF(CI74<=Saisies!$E$4,CD75,CI74)),0)","v":42622},{"$f":"IF(CD75=Saisies!$C$7,MIN((ABS(Saisies!$E$4-CH74)),CK75),CK75)","v":""},{"$f":"IF(ISERROR((IF(CD75>Saisies!$C$7,\"\",IF(ISERROR(IF(CD75<Saisies!$B$7,\"\",CF75)*CL75),IF(CD75<Saisies!$B$7,\"\",CF75),\"\")))*(IF(ISERROR(CM75+1),0,CM75))*CN75*CO75*CP75),\"\",(IF(CD75>Saisies!$C$7,\"\",IF(ISERROR(IF(CD75<Saisies!$B$7,\"\",CF75)*CL75),IF(CD75<Saisies!$B$7,\"\",CF75),\"\")))*(IF(ISERROR(CM75+1),0,CM75))*CN75*CO75*CP75)","v":""},"",1,{"$f":"IF(CD75>Saisies!$C$25,1,(IF(CD75<Saisies!$B$25,1,IF(Saisies!$B$25=0,1,0))))","v":1},{"$f":"IF(CD75>Saisies!$E$25,1,(IF(CD75<Saisies!$D$25,1,IF(Saisies!$D$25=0,1,0))))","v":1},{"$f":"IF(CD75>Saisies!$G$25,1,(IF(CD75<Saisies!$F$25,1,IF(Saisies!$F$25<10,1,0))))","v":1},{"$f":"IF(CD75>Saisies!$C$10,\"\",(IF(CD75<Saisies!$B$10,\"\",CG75)))","v":""},{"$f":"IF(CD75>Saisies!$E$10,\"\",(IF(CD75<Saisies!$D$10,\"\",CG75)))","v":""},{"$f":"IF(CD75>Saisies!$G$10,\"\",(IF(CD75<Saisies!$F$10,\"\",CG75)))","v":""},"2017-07-24","L",7,7,492,{"$f":"IF(CX75>=Saisies!$E$4,(IF(CY74<=Saisies!$E$4,CT75,CY74)),0)","v":42622},{"$f":"IF(CT75=Saisies!$C$7,MIN((ABS(Saisies!$E$4-CX74)),DA75),DA75)","v":""},{"$f":"IF(ISERROR((IF(CT75>Saisies!$C$7,\"\",IF(ISERROR(IF(CT75<Saisies!$B$7,\"\",CV75)*DB75),IF(CT75<Saisies!$B$7,\"\",CV75),\"\")))*(IF(ISERROR(DC75+1),0,DC75))*DD75*DE75*DF75),\"\",(IF(CT75>Saisies!$C$7,\"\",IF(ISERROR(IF(CT75<Saisies!$B$7,\"\",CV75)*DB75),IF(CT75<Saisies!$B$7,\"\",CV75),\"\")))*(IF(ISERROR(DC75+1),0,DC75))*DD75*DE75*DF75)","v":""},"",1,{"$f":"IF(CT75>Saisies!$C$25,1,(IF(CT75<Saisies!$B$25,1,IF(Saisies!$B$25=0,1,0))))","v":1},{"$f":"IF(CT75>Saisies!$E$25,1,(IF(CT75<Saisies!$D$25,1,IF(Saisies!$D$25=0,1,0))))","v":1},{"$f":"IF(CT75>Saisies!$G$25,1,(IF(CT75<Saisies!$F$25,1,IF(Saisies!$F$25<10,1,0))))","v":1},{"$f":"IF(CT75>Saisies!$C$10,\"\",(IF(CT75<Saisies!$B$10,\"\",CW75)))","v":""},{"$f":"IF(CT75>Saisies!$E$10,\"\",(IF(CT75<Saisies!$D$10,\"\",CW75)))","v":""},{"$f":"IF(CT75>Saisies!$G$10,\"\",(IF(CT75<Saisies!$F$10,\"\",CW75)))","v":""},"2017-08-24","J",8,7,492,{"$f":"IF(DN75>=Saisies!$E$4,(IF(DO74<=Saisies!$E$4,DJ75,DO74)),0)","v":42622},{"$f":"IF(DJ75=Saisies!$C$7,MIN((ABS(Saisies!$E$4-DN74)),DQ75),DQ75)","v":""},{"$f":"IF(ISERROR((IF(DJ75>Saisies!$C$7,\"\",IF(ISERROR(IF(DJ75<Saisies!$B$7,\"\",DL75)*DR75),IF(DJ75<Saisies!$B$7,\"\",DL75),\"\")))*(IF(ISERROR(DS75+1),0,DS75))*DT75*DU75*DV75),\"\",(IF(DJ75>Saisies!$C$7,\"\",IF(ISERROR(IF(DJ75<Saisies!$B$7,\"\",DL75)*DR75),IF(DJ75<Saisies!$B$7,\"\",DL75),\"\")))*(IF(ISERROR(DS75+1),0,DS75))*DT75*DU75*DV75)","v":""},"",1,{"$f":"IF(DJ75>Saisies!$C$25,1,(IF(DJ75<Saisies!$B$25,1,IF(Saisies!$B$25=0,1,0))))","v":1},{"$f":"IF(DJ75>Saisies!$E$25,1,(IF(DJ75<Saisies!$D$25,1,IF(Saisies!$D$25=0,1,0))))","v":1},{"$f":"IF(DJ75>Saisies!$G$25,1,(IF(DJ75<Saisies!$F$25,1,IF(Saisies!$F$25<10,1,0))))","v":1},{"$f":"IF(DJ75>Saisies!$C$10,\"\",(IF(DJ75<Saisies!$B$10,\"\",DM75)))","v":""},{"$f":"IF(DJ75>Saisies!$E$10,\"\",(IF(DJ75<Saisies!$D$10,\"\",DM75)))","v":""},{"$f":"IF(DJ75>Saisies!$G$10,\"\",(IF(DJ75<Saisies!$F$10,\"\",DM75)))","v":""},"2017-09-24","D",0,0,492,{"$f":"IF(ED75>=Saisies!$E$4,(IF(EE74<=Saisies!$E$4,DZ75,EE74)),0)","v":42622},{"$f":"IF(DZ75=Saisies!$C$7,MIN((ABS(Saisies!$E$4-ED74)),EG75),EG75)","v":""},{"$f":"IF(ISERROR((IF(DZ75>Saisies!$C$7,\"\",IF(ISERROR(IF(DZ75<Saisies!$B$7,\"\",EB75)*EH75),IF(DZ75<Saisies!$B$7,\"\",EB75),\"\")))*(IF(ISERROR(EI75+1),0,EI75))*EJ75*EK75*EL75),\"\",(IF(DZ75>Saisies!$C$7,\"\",IF(ISERROR(IF(DZ75<Saisies!$B$7,\"\",EB75)*EH75),IF(DZ75<Saisies!$B$7,\"\",EB75),\"\")))*(IF(ISERROR(EI75+1),0,EI75))*EJ75*EK75*EL75)","v":""},"",1,{"$f":"IF(DZ75>Saisies!$C$25,1,(IF(DZ75<Saisies!$B$25,1,IF(Saisies!$B$25=0,1,0))))","v":1},{"$f":"IF(DZ75>Saisies!$E$25,1,(IF(DZ75<Saisies!$D$25,1,IF(Saisies!$D$25=0,1,0))))","v":1},{"$f":"IF(DZ75>Saisies!$G$25,1,(IF(DZ75<Saisies!$F$25,1,IF(Saisies!$F$25<10,1,0))))","v":1},{"$f":"IF(DZ75>Saisies!$C$10,\"\",(IF(DZ75<Saisies!$B$10,\"\",EC75)))","v":""},{"$f":"IF(DZ75>Saisies!$E$10,\"\",(IF(DZ75<Saisies!$D$10,\"\",EC75)))","v":""},{"$f":"IF(DZ75>Saisies!$G$10,\"\",(IF(DZ75<Saisies!$F$10,\"\",EC75)))","v":""},"2017-10-24","M",8,7,492,{"$f":"IF(ET75>=Saisies!$E$4,(IF(EU74<=Saisies!$E$4,EP75,EU74)),0)","v":42622},{"$f":"IF(EP75=Saisies!$C$7,MIN((ABS(Saisies!$E$4-ET74)),EW75),EW75)","v":""},{"$f":"IF(ISERROR((IF(EP75>Saisies!$C$7,\"\",IF(ISERROR(IF(EP75<Saisies!$B$7,\"\",ER75)*EX75),IF(EP75<Saisies!$B$7,\"\",ER75),\"\")))*(IF(ISERROR(EY75+1),0,EY75))*EZ75*FA75*FB75),\"\",(IF(EP75>Saisies!$C$7,\"\",IF(ISERROR(IF(EP75<Saisies!$B$7,\"\",ER75)*EX75),IF(EP75<Saisies!$B$7,\"\",ER75),\"\")))*(IF(ISERROR(EY75+1),0,EY75))*EZ75*FA75*FB75)","v":""},"",1,{"$f":"IF(EP75>Saisies!$C$25,1,(IF(EP75<Saisies!$B$25,1,IF(Saisies!$B$25=0,1,0))))","v":1},{"$f":"IF(EP75>Saisies!$E$25,1,(IF(EP75<Saisies!$D$25,1,IF(Saisies!$D$25=0,1,0))))","v":1},{"$f":"IF(EP75>Saisies!$G$25,1,(IF(EP75<Saisies!$F$25,1,IF(Saisies!$F$25<10,1,0))))","v":1},{"$f":"IF(EP75>Saisies!$C$10,\"\",(IF(EP75<Saisies!$B$10,\"\",ES75)))","v":""},{"$f":"IF(EP75>Saisies!$E$10,\"\",(IF(EP75<Saisies!$D$10,\"\",ES75)))","v":""},{"$f":"IF(EP75>Saisies!$G$10,\"\",(IF(EP75<Saisies!$F$10,\"\",ES75)))","v":""},"2017-11-24","V",4,7,492,{"$f":"IF(FJ75>=Saisies!$E$4,(IF(FK74<=Saisies!$E$4,FF75,FK74)),0)","v":42622},{"$f":"IF(FF75=Saisies!$C$7,MIN((ABS(Saisies!$E$4-FJ74)),FM75),FM75)","v":""},{"$f":"IF(ISERROR((IF(FF75>Saisies!$C$7,\"\",IF(ISERROR(IF(FF75<Saisies!$B$7,\"\",FH75)*FN75),IF(FF75<Saisies!$B$7,\"\",FH75),\"\")))*(IF(ISERROR(FO75+1),0,FO75))*FP75*FQ75*FR75),\"\",(IF(FF75>Saisies!$C$7,\"\",IF(ISERROR(IF(FF75<Saisies!$B$7,\"\",FH75)*FN75),IF(FF75<Saisies!$B$7,\"\",FH75),\"\")))*(IF(ISERROR(FO75+1),0,FO75))*FP75*FQ75*FR75)","v":""},"",1,{"$f":"IF(FF75>Saisies!$C$25,1,(IF(FF75<Saisies!$B$25,1,IF(Saisies!$B$25=0,1,0))))","v":1},{"$f":"IF(FF75>Saisies!$E$25,1,(IF(FF75<Saisies!$D$25,1,IF(Saisies!$D$25=0,1,0))))","v":1},{"$f":"IF(FF75>Saisies!$G$25,1,(IF(FF75<Saisies!$F$25,1,IF(Saisies!$F$25<10,1,0))))","v":1},{"$f":"IF(FF75>Saisies!$C$10,\"\",(IF(FF75<Saisies!$B$10,\"\",FI75)))","v":""},{"$f":"IF(FF75>Saisies!$E$10,\"\",(IF(FF75<Saisies!$D$10,\"\",FI75)))","v":""},{"$f":"IF(FF75>Saisies!$G$10,\"\",(IF(FF75<Saisies!$F$10,\"\",FI75)))","v":""},"2017-12-24","D",{"$f":"LOOKUP(UPPER(LEFT(TEXT(FV75,\"jjjj\"),2)),$GW$5:$GX$11)","v":0},{"$f":"LOOKUP(UPPER(LEFT(TEXT(FV75,\"jjjj\"),2)),$GW$14:$GX$20)","v":0},{"$f":"IF(ISNUMBER(GC75),GB75,0)+IF(ISNUMBER(GD75),GB75,0)+FZ74","v":492},{"$f":"IF(FZ75>=Saisies!$E$4,(IF(GA74<=Saisies!$E$4,FV75,GA74)),0)","v":42622},{"$f":"IF(GD75=\"\",IF(ISERROR(GM75+1),\"\",MIN(GM75,Saisies!$C$26)),\"\")","v":""},{"$f":"IF(ISERROR((IF(FV75>Saisies!$C$7,\"\",IF(ISERROR(IF(FV75<Saisies!$B$7,\"\",FX75)*GD75),IF(FV75<Saisies!$B$7,\"\",FX75),\"\")))*(IF(ISERROR(GE75+1),0,GE75))*GF75*GG75*GH75),\"\",(IF(FV75>Saisies!$C$7,\"\",IF(ISERROR(IF(FV75<Saisies!$B$7,\"\",FX75)*GD75),IF(FV75<Saisies!$B$7,\"\",FX75),\"\")))*(IF(ISERROR(GE75+1),0,GE75))*GF75*GG75*GH75)","v":""},"",1,{"$f":"IF(FV75>Saisies!$C$25,1,(IF(FV75<Saisies!$B$25,1,IF(Saisies!$B$25=0,1,0))))","v":1},{"$f":"IF(FV75>Saisies!$E$25,1,(IF(FV75<Saisies!$D$25,1,IF(Saisies!$D$25=0,1,0))))","v":1},{"$f":"IF(FV75>Saisies!$G$25,1,(IF(FV75<Saisies!$F$25,1,IF(Saisies!$F$25<10,1,0))))","v":1},{"$f":"IF(FV75>Saisies!$C$10,\"\",(IF(FV75<Saisies!$B$10,\"\",FY75)))","v":""},{"$f":"IF(FV75>Saisies!$E$10,\"\",(IF(FV75<Saisies!$D$10,\"\",FY75)))","v":""},{"$f":"IF(FV75>Saisies!$G$10,\"\",(IF(FV75<Saisies!$F$10,\"\",FY75)))","v":""},null,{"$f":"IF(IF(FV75=Saisies!$C$7,MIN((ABS(Saisies!$E$4-FZ74)),GC75),GC75)=0,0,\n(IF(IF(FV75=Saisies!$C$7,MIN((ABS(Saisies!$E$4-FZ74)),GC75),GC75)=\"\",\"\",\n(IF(FV75=Saisies!$C$7,MIN((ABS(Saisies!$E$4-FZ74)),GC75),GC75)))))","v":""}]
[null,"2017-01-25","M",8,7,492,{"$f":"IF(F76>=Saisies!$E$4,(IF(G75<=Saisies!$E$4,B76,G75)),0)","v":42622},{"$f":"IF(B76=Saisies!$C$7,MIN((ABS(Saisies!$E$4-F75)),I76),I76)","v":""},{"$f":"IF(ISERROR((IF(B76>Saisies!$C$7,\"\",IF(ISERROR(IF(B76<Saisies!$B$7,\"\",D76)*J76),IF(B76<Saisies!$B$7,\"\",D76),\"\")))*(IF(ISERROR(K76+1),0,K76))*L76*M76*N76),\"\",(IF(B76>Saisies!$C$7,\"\",IF(ISERROR(IF(B76<Saisies!$B$7,\"\",D76)*J76),IF(B76<Saisies!$B$7,\"\",D76),\"\")))*(IF(ISERROR(K76+1),0,K76))*L76*M76*N76)","v":""},"",1,{"$f":"IF(B76>Saisies!$C$25,1,(IF(B76<Saisies!$B$25,1,IF(Saisies!$B$25=0,1,0))))","v":1},{"$f":"IF(B76>Saisies!$E$25,1,(IF(B76<Saisies!$D$25,1,IF(Saisies!$D$25=0,1,0))))","v":1},{"$f":"IF(B76>Saisies!$G$25,1,(IF(B76<Saisies!$F$25,1,IF(Saisies!$F$25<10,1,0))))","v":1},{"$f":"IF(B76>Saisies!$C$10,\"\",(IF(B76<Saisies!$B$10,\"\",E76)))","v":""},{"$f":"IF(B76>Saisies!$E$10,\"\",(IF(B76<Saisies!$D$10,\"\",E76)))","v":""},{"$f":"IF(B76>Saisies!$G$10,\"\",(IF(B76<Saisies!$F$10,\"\",E76)))","v":""},"2017-02-25","S",0,0,492,{"$f":"IF(V76>=Saisies!$E$4,(IF(W75<=Saisies!$E$4,R76,W75)),0)","v":42622},{"$f":"IF(R76=Saisies!$C$7,MIN((ABS(Saisies!$E$4-V75)),Y76),Y76)","v":""},{"$f":"IF(ISERROR((IF(R76>Saisies!$C$7,\"\",IF(ISERROR(IF(R76<Saisies!$B$7,\"\",T76)*Z76),IF(R76<Saisies!$B$7,\"\",T76),\"\")))*(IF(ISERROR(AA76+1),0,AA76))*AB76*AC76*AD76),\"\",(IF(R76>Saisies!$C$7,\"\",IF(ISERROR(IF(R76<Saisies!$B$7,\"\",T76)*Z76),IF(R76<Saisies!$B$7,\"\",T76),\"\")))*(IF(ISERROR(AA76+1),0,AA76))*AB76*AC76*AD76)","v":""},"",1,{"$f":"IF(R76>Saisies!$C$25,1,(IF(R76<Saisies!$B$25,1,IF(Saisies!$B$25=0,1,0))))","v":1},{"$f":"IF(R76>Saisies!$E$25,1,(IF(R76<Saisies!$D$25,1,IF(Saisies!$D$25=0,1,0))))","v":1},{"$f":"IF(R76>Saisies!$G$25,1,(IF(R76<Saisies!$F$25,1,IF(Saisies!$F$25<10,1,0))))","v":1},{"$f":"IF(R76>Saisies!$C$10,\"\",(IF(R76<Saisies!$B$10,\"\",U76)))","v":""},{"$f":"IF(R76>Saisies!$E$10,\"\",(IF(R76<Saisies!$D$10,\"\",U76)))","v":""},{"$f":"IF(R76>Saisies!$G$10,\"\",(IF(R76<Saisies!$F$10,\"\",U76)))","v":""},"2017-03-25","S",0,0,492,{"$f":"IF(AL76>=Saisies!$E$4,(IF(AM75<=Saisies!$E$4,AH76,AM75)),0)","v":42622},{"$f":"IF(AH76=Saisies!$C$7,MIN((ABS(Saisies!$E$4-AL75)),AO76),AO76)","v":""},{"$f":"IF(ISERROR((IF(AH76>Saisies!$C$7,\"\",IF(ISERROR(IF(AH76<Saisies!$B$7,\"\",AJ76)*AP76),IF(AH76<Saisies!$B$7,\"\",AJ76),\"\")))*(IF(ISERROR(AQ76+1),0,AQ76))*AR76*AS76*AT76),\"\",(IF(AH76>Saisies!$C$7,\"\",IF(ISERROR(IF(AH76<Saisies!$B$7,\"\",AJ76)*AP76),IF(AH76<Saisies!$B$7,\"\",AJ76),\"\")))*(IF(ISERROR(AQ76+1),0,AQ76))*AR76*AS76*AT76)","v":""},"",1,{"$f":"IF(AH76>Saisies!$C$25,1,(IF(AH76<Saisies!$B$25,1,IF(Saisies!$B$25=0,1,0))))","v":1},{"$f":"IF(AH76>Saisies!$E$25,1,(IF(AH76<Saisies!$D$25,1,IF(Saisies!$D$25=0,1,0))))","v":1},{"$f":"IF(AH76>Saisies!$G$25,1,(IF(AH76<Saisies!$F$25,1,IF(Saisies!$F$25<10,1,0))))","v":1},{"$f":"IF(AH76>Saisies!$C$10,\"\",(IF(AH76<Saisies!$B$10,\"\",AK76)))","v":""},{"$f":"IF(AH76>Saisies!$E$10,\"\",(IF(AH76<Saisies!$D$10,\"\",AK76)))","v":""},{"$f":"IF(AH76>Saisies!$G$10,\"\",(IF(AH76<Saisies!$F$10,\"\",AK76)))","v":""},"2017-04-25","M",8,7,492,{"$f":"IF(BB76>=Saisies!$E$4,(IF(BC75<=Saisies!$E$4,AX76,BC75)),0)","v":42622},{"$f":"IF(AX76=Saisies!$C$7,MIN((ABS(Saisies!$E$4-BB75)),BE76),BE76)","v":""},{"$f":"IF(ISERROR((IF(AX76>Saisies!$C$7,\"\",IF(ISERROR(IF(AX76<Saisies!$B$7,\"\",AZ76)*BF76),IF(AX76<Saisies!$B$7,\"\",AZ76),\"\")))*(IF(ISERROR(BG76+1),0,BG76))*BH76*BI76*BJ76),\"\",(IF(AX76>Saisies!$C$7,\"\",IF(ISERROR(IF(AX76<Saisies!$B$7,\"\",AZ76)*BF76),IF(AX76<Saisies!$B$7,\"\",AZ76),\"\")))*(IF(ISERROR(BG76+1),0,BG76))*BH76*BI76*BJ76)","v":""},"",1,{"$f":"IF(AX76>Saisies!$C$25,1,(IF(AX76<Saisies!$B$25,1,IF(Saisies!$B$25=0,1,0))))","v":1},{"$f":"IF(AX76>Saisies!$E$25,1,(IF(AX76<Saisies!$D$25,1,IF(Saisies!$D$25=0,1,0))))","v":1},{"$f":"IF(AX76>Saisies!$G$25,1,(IF(AX76<Saisies!$F$25,1,IF(Saisies!$F$25<10,1,0))))","v":1},{"$f":"IF(AX76>Saisies!$C$10,\"\",(IF(AX76<Saisies!$B$10,\"\",BA76)))","v":""},{"$f":"IF(AX76>Saisies!$E$10,\"\",(IF(AX76<Saisies!$D$10,\"\",BA76)))","v":""},{"$f":"IF(AX76>Saisies!$G$10,\"\",(IF(AX76<Saisies!$F$10,\"\",BA76)))","v":""},"2017-05-25","J",8,7,492,{"$f":"IF(BR76>=Saisies!$E$4,(IF(BS75<=Saisies!$E$4,BN76,BS75)),0)","v":42622},{"$f":"IF(BN76=Saisies!$C$7,MIN((ABS(Saisies!$E$4-BR75)),BU76),BU76)","v":""},{"$f":"IF(ISERROR((IF(BN76>Saisies!$C$7,\"\",IF(ISERROR(IF(BN76<Saisies!$B$7,\"\",BP76)*BV76),IF(BN76<Saisies!$B$7,\"\",BP76),\"\")))*(IF(ISERROR(BW76+1),0,BW76))*BX76*BY76*BZ76),\"\",(IF(BN76>Saisies!$C$7,\"\",IF(ISERROR(IF(BN76<Saisies!$B$7,\"\",BP76)*BV76),IF(BN76<Saisies!$B$7,\"\",BP76),\"\")))*(IF(ISERROR(BW76+1),0,BW76))*BX76*BY76*BZ76)","v":""},"","B",{"$f":"IF(BN76>Saisies!$C$25,1,(IF(BN76<Saisies!$B$25,1,IF(Saisies!$B$25=0,1,0))))","v":1},{"$f":"IF(BN76>Saisies!$E$25,1,(IF(BN76<Saisies!$D$25,1,IF(Saisies!$D$25=0,1,0))))","v":1},{"$f":"IF(BN76>Saisies!$G$25,1,(IF(BN76<Saisies!$F$25,1,IF(Saisies!$F$25<10,1,0))))","v":1},{"$f":"IF(BN76>Saisies!$C$10,\"\",(IF(BN76<Saisies!$B$10,\"\",BQ76)))","v":""},{"$f":"IF(BN76>Saisies!$E$10,\"\",(IF(BN76<Saisies!$D$10,\"\",BQ76)))","v":""},{"$f":"IF(BN76>Saisies!$G$10,\"\",(IF(BN76<Saisies!$F$10,\"\",BQ76)))","v":""},"2017-06-25","D",0,0,492,{"$f":"IF(CH76>=Saisies!$E$4,(IF(CI75<=Saisies!$E$4,CD76,CI75)),0)","v":42622},{"$f":"IF(CD76=Saisies!$C$7,MIN((ABS(Saisies!$E$4-CH75)),CK76),CK76)","v":""},{"$f":"IF(ISERROR((IF(CD76>Saisies!$C$7,\"\",IF(ISERROR(IF(CD76<Saisies!$B$7,\"\",CF76)*CL76),IF(CD76<Saisies!$B$7,\"\",CF76),\"\")))*(IF(ISERROR(CM76+1),0,CM76))*CN76*CO76*CP76),\"\",(IF(CD76>Saisies!$C$7,\"\",IF(ISERROR(IF(CD76<Saisies!$B$7,\"\",CF76)*CL76),IF(CD76<Saisies!$B$7,\"\",CF76),\"\")))*(IF(ISERROR(CM76+1),0,CM76))*CN76*CO76*CP76)","v":""},"",1,{"$f":"IF(CD76>Saisies!$C$25,1,(IF(CD76<Saisies!$B$25,1,IF(Saisies!$B$25=0,1,0))))","v":1},{"$f":"IF(CD76>Saisies!$E$25,1,(IF(CD76<Saisies!$D$25,1,IF(Saisies!$D$25=0,1,0))))","v":1},{"$f":"IF(CD76>Saisies!$G$25,1,(IF(CD76<Saisies!$F$25,1,IF(Saisies!$F$25<10,1,0))))","v":1},{"$f":"IF(CD76>Saisies!$C$10,\"\",(IF(CD76<Saisies!$B$10,\"\",CG76)))","v":""},{"$f":"IF(CD76>Saisies!$E$10,\"\",(IF(CD76<Saisies!$D$10,\"\",CG76)))","v":""},{"$f":"IF(CD76>Saisies!$G$10,\"\",(IF(CD76<Saisies!$F$10,\"\",CG76)))","v":""},"2017-07-25","M",8,7,492,{"$f":"IF(CX76>=Saisies!$E$4,(IF(CY75<=Saisies!$E$4,CT76,CY75)),0)","v":42622},{"$f":"IF(CT76=Saisies!$C$7,MIN((ABS(Saisies!$E$4-CX75)),DA76),DA76)","v":""},{"$f":"IF(ISERROR((IF(CT76>Saisies!$C$7,\"\",IF(ISERROR(IF(CT76<Saisies!$B$7,\"\",CV76)*DB76),IF(CT76<Saisies!$B$7,\"\",CV76),\"\")))*(IF(ISERROR(DC76+1),0,DC76))*DD76*DE76*DF76),\"\",(IF(CT76>Saisies!$C$7,\"\",IF(ISERROR(IF(CT76<Saisies!$B$7,\"\",CV76)*DB76),IF(CT76<Saisies!$B$7,\"\",CV76),\"\")))*(IF(ISERROR(DC76+1),0,DC76))*DD76*DE76*DF76)","v":""},"",1,{"$f":"IF(CT76>Saisies!$C$25,1,(IF(CT76<Saisies!$B$25,1,IF(Saisies!$B$25=0,1,0))))","v":1},{"$f":"IF(CT76>Saisies!$E$25,1,(IF(CT76<Saisies!$D$25,1,IF(Saisies!$D$25=0,1,0))))","v":1},{"$f":"IF(CT76>Saisies!$G$25,1,(IF(CT76<Saisies!$F$25,1,IF(Saisies!$F$25<10,1,0))))","v":1},{"$f":"IF(CT76>Saisies!$C$10,\"\",(IF(CT76<Saisies!$B$10,\"\",CW76)))","v":""},{"$f":"IF(CT76>Saisies!$E$10,\"\",(IF(CT76<Saisies!$D$10,\"\",CW76)))","v":""},{"$f":"IF(CT76>Saisies!$G$10,\"\",(IF(CT76<Saisies!$F$10,\"\",CW76)))","v":""},"2017-08-25","V",4,7,492,{"$f":"IF(DN76>=Saisies!$E$4,(IF(DO75<=Saisies!$E$4,DJ76,DO75)),0)","v":42622},{"$f":"IF(DJ76=Saisies!$C$7,MIN((ABS(Saisies!$E$4-DN75)),DQ76),DQ76)","v":""},{"$f":"IF(ISERROR((IF(DJ76>Saisies!$C$7,\"\",IF(ISERROR(IF(DJ76<Saisies!$B$7,\"\",DL76)*DR76),IF(DJ76<Saisies!$B$7,\"\",DL76),\"\")))*(IF(ISERROR(DS76+1),0,DS76))*DT76*DU76*DV76),\"\",(IF(DJ76>Saisies!$C$7,\"\",IF(ISERROR(IF(DJ76<Saisies!$B$7,\"\",DL76)*DR76),IF(DJ76<Saisies!$B$7,\"\",DL76),\"\")))*(IF(ISERROR(DS76+1),0,DS76))*DT76*DU76*DV76)","v":""},"",1,{"$f":"IF(DJ76>Saisies!$C$25,1,(IF(DJ76<Saisies!$B$25,1,IF(Saisies!$B$25=0,1,0))))","v":1},{"$f":"IF(DJ76>Saisies!$E$25,1,(IF(DJ76<Saisies!$D$25,1,IF(Saisies!$D$25=0,1,0))))","v":1},{"$f":"IF(DJ76>Saisies!$G$25,1,(IF(DJ76<Saisies!$F$25,1,IF(Saisies!$F$25<10,1,0))))","v":1},{"$f":"IF(DJ76>Saisies!$C$10,\"\",(IF(DJ76<Saisies!$B$10,\"\",DM76)))","v":""},{"$f":"IF(DJ76>Saisies!$E$10,\"\",(IF(DJ76<Saisies!$D$10,\"\",DM76)))","v":""},{"$f":"IF(DJ76>Saisies!$G$10,\"\",(IF(DJ76<Saisies!$F$10,\"\",DM76)))","v":""},"2017-09-25","L",7,7,492,{"$f":"IF(ED76>=Saisies!$E$4,(IF(EE75<=Saisies!$E$4,DZ76,EE75)),0)","v":42622},{"$f":"IF(DZ76=Saisies!$C$7,MIN((ABS(Saisies!$E$4-ED75)),EG76),EG76)","v":""},{"$f":"IF(ISERROR((IF(DZ76>Saisies!$C$7,\"\",IF(ISERROR(IF(DZ76<Saisies!$B$7,\"\",EB76)*EH76),IF(DZ76<Saisies!$B$7,\"\",EB76),\"\")))*(IF(ISERROR(EI76+1),0,EI76))*EJ76*EK76*EL76),\"\",(IF(DZ76>Saisies!$C$7,\"\",IF(ISERROR(IF(DZ76<Saisies!$B$7,\"\",EB76)*EH76),IF(DZ76<Saisies!$B$7,\"\",EB76),\"\")))*(IF(ISERROR(EI76+1),0,EI76))*EJ76*EK76*EL76)","v":""},"",1,{"$f":"IF(DZ76>Saisies!$C$25,1,(IF(DZ76<Saisies!$B$25,1,IF(Saisies!$B$25=0,1,0))))","v":1},{"$f":"IF(DZ76>Saisies!$E$25,1,(IF(DZ76<Saisies!$D$25,1,IF(Saisies!$D$25=0,1,0))))","v":1},{"$f":"IF(DZ76>Saisies!$G$25,1,(IF(DZ76<Saisies!$F$25,1,IF(Saisies!$F$25<10,1,0))))","v":1},{"$f":"IF(DZ76>Saisies!$C$10,\"\",(IF(DZ76<Saisies!$B$10,\"\",EC76)))","v":""},{"$f":"IF(DZ76>Saisies!$E$10,\"\",(IF(DZ76<Saisies!$D$10,\"\",EC76)))","v":""},{"$f":"IF(DZ76>Saisies!$G$10,\"\",(IF(DZ76<Saisies!$F$10,\"\",EC76)))","v":""},"2017-10-25","M",8,7,492,{"$f":"IF(ET76>=Saisies!$E$4,(IF(EU75<=Saisies!$E$4,EP76,EU75)),0)","v":42622},{"$f":"IF(EP76=Saisies!$C$7,MIN((ABS(Saisies!$E$4-ET75)),EW76),EW76)","v":""},{"$f":"IF(ISERROR((IF(EP76>Saisies!$C$7,\"\",IF(ISERROR(IF(EP76<Saisies!$B$7,\"\",ER76)*EX76),IF(EP76<Saisies!$B$7,\"\",ER76),\"\")))*(IF(ISERROR(EY76+1),0,EY76))*EZ76*FA76*FB76),\"\",(IF(EP76>Saisies!$C$7,\"\",IF(ISERROR(IF(EP76<Saisies!$B$7,\"\",ER76)*EX76),IF(EP76<Saisies!$B$7,\"\",ER76),\"\")))*(IF(ISERROR(EY76+1),0,EY76))*EZ76*FA76*FB76)","v":""},"",1,{"$f":"IF(EP76>Saisies!$C$25,1,(IF(EP76<Saisies!$B$25,1,IF(Saisies!$B$25=0,1,0))))","v":1},{"$f":"IF(EP76>Saisies!$E$25,1,(IF(EP76<Saisies!$D$25,1,IF(Saisies!$D$25=0,1,0))))","v":1},{"$f":"IF(EP76>Saisies!$G$25,1,(IF(EP76<Saisies!$F$25,1,IF(Saisies!$F$25<10,1,0))))","v":1},{"$f":"IF(EP76>Saisies!$C$10,\"\",(IF(EP76<Saisies!$B$10,\"\",ES76)))","v":""},{"$f":"IF(EP76>Saisies!$E$10,\"\",(IF(EP76<Saisies!$D$10,\"\",ES76)))","v":""},{"$f":"IF(EP76>Saisies!$G$10,\"\",(IF(EP76<Saisies!$F$10,\"\",ES76)))","v":""},"2017-11-25","S",0,0,492,{"$f":"IF(FJ76>=Saisies!$E$4,(IF(FK75<=Saisies!$E$4,FF76,FK75)),0)","v":42622},{"$f":"IF(FF76=Saisies!$C$7,MIN((ABS(Saisies!$E$4-FJ75)),FM76),FM76)","v":""},{"$f":"IF(ISERROR((IF(FF76>Saisies!$C$7,\"\",IF(ISERROR(IF(FF76<Saisies!$B$7,\"\",FH76)*FN76),IF(FF76<Saisies!$B$7,\"\",FH76),\"\")))*(IF(ISERROR(FO76+1),0,FO76))*FP76*FQ76*FR76),\"\",(IF(FF76>Saisies!$C$7,\"\",IF(ISERROR(IF(FF76<Saisies!$B$7,\"\",FH76)*FN76),IF(FF76<Saisies!$B$7,\"\",FH76),\"\")))*(IF(ISERROR(FO76+1),0,FO76))*FP76*FQ76*FR76)","v":""},"",1,{"$f":"IF(FF76>Saisies!$C$25,1,(IF(FF76<Saisies!$B$25,1,IF(Saisies!$B$25=0,1,0))))","v":1},{"$f":"IF(FF76>Saisies!$E$25,1,(IF(FF76<Saisies!$D$25,1,IF(Saisies!$D$25=0,1,0))))","v":1},{"$f":"IF(FF76>Saisies!$G$25,1,(IF(FF76<Saisies!$F$25,1,IF(Saisies!$F$25<10,1,0))))","v":1},{"$f":"IF(FF76>Saisies!$C$10,\"\",(IF(FF76<Saisies!$B$10,\"\",FI76)))","v":""},{"$f":"IF(FF76>Saisies!$E$10,\"\",(IF(FF76<Saisies!$D$10,\"\",FI76)))","v":""},{"$f":"IF(FF76>Saisies!$G$10,\"\",(IF(FF76<Saisies!$F$10,\"\",FI76)))","v":""},"2017-12-25","L",7,7,492,{"$f":"IF(FZ76>=Saisies!$E$4,(IF(GA75<=Saisies!$E$4,FV76,GA75)),0)","v":42622},{"$f":"IF(FV76=Saisies!$C$7,MIN((ABS(Saisies!$E$4-FZ75)),GC76),GC76)","v":""},{"$f":"IF(ISERROR((IF(FV76>Saisies!$C$7,\"\",IF(ISERROR(IF(FV76<Saisies!$B$7,\"\",FX76)*GD76),IF(FV76<Saisies!$B$7,\"\",FX76),\"\")))*(IF(ISERROR(GE76+1),0,GE76))*GF76*GG76*GH76),\"\",(IF(FV76>Saisies!$C$7,\"\",IF(ISERROR(IF(FV76<Saisies!$B$7,\"\",FX76)*GD76),IF(FV76<Saisies!$B$7,\"\",FX76),\"\")))*(IF(ISERROR(GE76+1),0,GE76))*GF76*GG76*GH76)","v":""},"",0,{"$f":"IF(FV76>Saisies!$C$25,1,(IF(FV76<Saisies!$B$25,1,IF(Saisies!$B$25=0,1,0))))","v":1},{"$f":"IF(FV76>Saisies!$E$25,1,(IF(FV76<Saisies!$D$25,1,IF(Saisies!$D$25=0,1,0))))","v":1},{"$f":"IF(FV76>Saisies!$G$25,1,(IF(FV76<Saisies!$F$25,1,IF(Saisies!$F$25<10,1,0))))","v":1},{"$f":"IF(FV76>Saisies!$C$10,\"\",(IF(FV76<Saisies!$B$10,\"\",FY76)))","v":""},{"$f":"IF(FV76>Saisies!$E$10,\"\",(IF(FV76<Saisies!$D$10,\"\",FY76)))","v":""},{"$f":"IF(FV76>Saisies!$G$10,\"\",(IF(FV76<Saisies!$F$10,\"\",FY76)))","v":""}]
[null,"2017-01-26","J",8,7,492,{"$f":"IF(F77>=Saisies!$E$4,(IF(G76<=Saisies!$E$4,B77,G76)),0)","v":42622},{"$f":"IF(B77=Saisies!$C$7,MIN((ABS(Saisies!$E$4-F76)),I77),I77)","v":""},{"$f":"IF(ISERROR((IF(B77>Saisies!$C$7,\"\",IF(ISERROR(IF(B77<Saisies!$B$7,\"\",D77)*J77),IF(B77<Saisies!$B$7,\"\",D77),\"\")))*(IF(ISERROR(K77+1),0,K77))*L77*M77*N77),\"\",(IF(B77>Saisies!$C$7,\"\",IF(ISERROR(IF(B77<Saisies!$B$7,\"\",D77)*J77),IF(B77<Saisies!$B$7,\"\",D77),\"\")))*(IF(ISERROR(K77+1),0,K77))*L77*M77*N77)","v":""},"",1,{"$f":"IF(B77>Saisies!$C$25,1,(IF(B77<Saisies!$B$25,1,IF(Saisies!$B$25=0,1,0))))","v":1},{"$f":"IF(B77>Saisies!$E$25,1,(IF(B77<Saisies!$D$25,1,IF(Saisies!$D$25=0,1,0))))","v":1},{"$f":"IF(B77>Saisies!$G$25,1,(IF(B77<Saisies!$F$25,1,IF(Saisies!$F$25<10,1,0))))","v":1},{"$f":"IF(B77>Saisies!$C$10,\"\",(IF(B77<Saisies!$B$10,\"\",E77)))","v":""},{"$f":"IF(B77>Saisies!$E$10,\"\",(IF(B77<Saisies!$D$10,\"\",E77)))","v":""},{"$f":"IF(B77>Saisies!$G$10,\"\",(IF(B77<Saisies!$F$10,\"\",E77)))","v":""},"2017-02-26","D",0,0,492,{"$f":"IF(V77>=Saisies!$E$4,(IF(W76<=Saisies!$E$4,R77,W76)),0)","v":42622},{"$f":"IF(R77=Saisies!$C$7,MIN((ABS(Saisies!$E$4-V76)),Y77),Y77)","v":""},{"$f":"IF(ISERROR((IF(R77>Saisies!$C$7,\"\",IF(ISERROR(IF(R77<Saisies!$B$7,\"\",T77)*Z77),IF(R77<Saisies!$B$7,\"\",T77),\"\")))*(IF(ISERROR(AA77+1),0,AA77))*AB77*AC77*AD77),\"\",(IF(R77>Saisies!$C$7,\"\",IF(ISERROR(IF(R77<Saisies!$B$7,\"\",T77)*Z77),IF(R77<Saisies!$B$7,\"\",T77),\"\")))*(IF(ISERROR(AA77+1),0,AA77))*AB77*AC77*AD77)","v":""},"",1,{"$f":"IF(R77>Saisies!$C$25,1,(IF(R77<Saisies!$B$25,1,IF(Saisies!$B$25=0,1,0))))","v":1},{"$f":"IF(R77>Saisies!$E$25,1,(IF(R77<Saisies!$D$25,1,IF(Saisies!$D$25=0,1,0))))","v":1},{"$f":"IF(R77>Saisies!$G$25,1,(IF(R77<Saisies!$F$25,1,IF(Saisies!$F$25<10,1,0))))","v":1},{"$f":"IF(R77>Saisies!$C$10,\"\",(IF(R77<Saisies!$B$10,\"\",U77)))","v":""},{"$f":"IF(R77>Saisies!$E$10,\"\",(IF(R77<Saisies!$D$10,\"\",U77)))","v":""},{"$f":"IF(R77>Saisies!$G$10,\"\",(IF(R77<Saisies!$F$10,\"\",U77)))","v":""},"2017-03-26","D",0,0,492,{"$f":"IF(AL77>=Saisies!$E$4,(IF(AM76<=Saisies!$E$4,AH77,AM76)),0)","v":42622},{"$f":"IF(AH77=Saisies!$C$7,MIN((ABS(Saisies!$E$4-AL76)),AO77),AO77)","v":""},{"$f":"IF(ISERROR((IF(AH77>Saisies!$C$7,\"\",IF(ISERROR(IF(AH77<Saisies!$B$7,\"\",AJ77)*AP77),IF(AH77<Saisies!$B$7,\"\",AJ77),\"\")))*(IF(ISERROR(AQ77+1),0,AQ77))*AR77*AS77*AT77),\"\",(IF(AH77>Saisies!$C$7,\"\",IF(ISERROR(IF(AH77<Saisies!$B$7,\"\",AJ77)*AP77),IF(AH77<Saisies!$B$7,\"\",AJ77),\"\")))*(IF(ISERROR(AQ77+1),0,AQ77))*AR77*AS77*AT77)","v":""},"",1,{"$f":"IF(AH77>Saisies!$C$25,1,(IF(AH77<Saisies!$B$25,1,IF(Saisies!$B$25=0,1,0))))","v":1},{"$f":"IF(AH77>Saisies!$E$25,1,(IF(AH77<Saisies!$D$25,1,IF(Saisies!$D$25=0,1,0))))","v":1},{"$f":"IF(AH77>Saisies!$G$25,1,(IF(AH77<Saisies!$F$25,1,IF(Saisies!$F$25<10,1,0))))","v":1},{"$f":"IF(AH77>Saisies!$C$10,\"\",(IF(AH77<Saisies!$B$10,\"\",AK77)))","v":""},{"$f":"IF(AH77>Saisies!$E$10,\"\",(IF(AH77<Saisies!$D$10,\"\",AK77)))","v":""},{"$f":"IF(AH77>Saisies!$G$10,\"\",(IF(AH77<Saisies!$F$10,\"\",AK77)))","v":""},"2017-04-26","M",8,7,492,{"$f":"IF(BB77>=Saisies!$E$4,(IF(BC76<=Saisies!$E$4,AX77,BC76)),0)","v":42622},{"$f":"IF(AX77=Saisies!$C$7,MIN((ABS(Saisies!$E$4-BB76)),BE77),BE77)","v":""},{"$f":"IF(ISERROR((IF(AX77>Saisies!$C$7,\"\",IF(ISERROR(IF(AX77<Saisies!$B$7,\"\",AZ77)*BF77),IF(AX77<Saisies!$B$7,\"\",AZ77),\"\")))*(IF(ISERROR(BG77+1),0,BG77))*BH77*BI77*BJ77),\"\",(IF(AX77>Saisies!$C$7,\"\",IF(ISERROR(IF(AX77<Saisies!$B$7,\"\",AZ77)*BF77),IF(AX77<Saisies!$B$7,\"\",AZ77),\"\")))*(IF(ISERROR(BG77+1),0,BG77))*BH77*BI77*BJ77)","v":""},"",1,{"$f":"IF(AX77>Saisies!$C$25,1,(IF(AX77<Saisies!$B$25,1,IF(Saisies!$B$25=0,1,0))))","v":1},{"$f":"IF(AX77>Saisies!$E$25,1,(IF(AX77<Saisies!$D$25,1,IF(Saisies!$D$25=0,1,0))))","v":1},{"$f":"IF(AX77>Saisies!$G$25,1,(IF(AX77<Saisies!$F$25,1,IF(Saisies!$F$25<10,1,0))))","v":1},{"$f":"IF(AX77>Saisies!$C$10,\"\",(IF(AX77<Saisies!$B$10,\"\",BA77)))","v":""},{"$f":"IF(AX77>Saisies!$E$10,\"\",(IF(AX77<Saisies!$D$10,\"\",BA77)))","v":""},{"$f":"IF(AX77>Saisies!$G$10,\"\",(IF(AX77<Saisies!$F$10,\"\",BA77)))","v":""},"2017-05-26","V",4,7,492,{"$f":"IF(BR77>=Saisies!$E$4,(IF(BS76<=Saisies!$E$4,BN77,BS76)),0)","v":42622},{"$f":"IF(BN77=Saisies!$C$7,MIN((ABS(Saisies!$E$4-BR76)),BU77),BU77)","v":""},{"$f":"IF(ISERROR((IF(BN77>Saisies!$C$7,\"\",IF(ISERROR(IF(BN77<Saisies!$B$7,\"\",BP77)*BV77),IF(BN77<Saisies!$B$7,\"\",BP77),\"\")))*(IF(ISERROR(BW77+1),0,BW77))*BX77*BY77*BZ77),\"\",(IF(BN77>Saisies!$C$7,\"\",IF(ISERROR(IF(BN77<Saisies!$B$7,\"\",BP77)*BV77),IF(BN77<Saisies!$B$7,\"\",BP77),\"\")))*(IF(ISERROR(BW77+1),0,BW77))*BX77*BY77*BZ77)","v":""},"","R",{"$f":"IF(BN77>Saisies!$C$25,1,(IF(BN77<Saisies!$B$25,1,IF(Saisies!$B$25=0,1,0))))","v":1},{"$f":"IF(BN77>Saisies!$E$25,1,(IF(BN77<Saisies!$D$25,1,IF(Saisies!$D$25=0,1,0))))","v":1},{"$f":"IF(BN77>Saisies!$G$25,1,(IF(BN77<Saisies!$F$25,1,IF(Saisies!$F$25<10,1,0))))","v":1},{"$f":"IF(BN77>Saisies!$C$10,\"\",(IF(BN77<Saisies!$B$10,\"\",BQ77)))","v":""},{"$f":"IF(BN77>Saisies!$E$10,\"\",(IF(BN77<Saisies!$D$10,\"\",BQ77)))","v":""},{"$f":"IF(BN77>Saisies!$G$10,\"\",(IF(BN77<Saisies!$F$10,\"\",BQ77)))","v":""},"2017-06-26","L",7,7,492,{"$f":"IF(CH77>=Saisies!$E$4,(IF(CI76<=Saisies!$E$4,CD77,CI76)),0)","v":42622},{"$f":"IF(CD77=Saisies!$C$7,MIN((ABS(Saisies!$E$4-CH76)),CK77),CK77)","v":""},{"$f":"IF(ISERROR((IF(CD77>Saisies!$C$7,\"\",IF(ISERROR(IF(CD77<Saisies!$B$7,\"\",CF77)*CL77),IF(CD77<Saisies!$B$7,\"\",CF77),\"\")))*(IF(ISERROR(CM77+1),0,CM77))*CN77*CO77*CP77),\"\",(IF(CD77>Saisies!$C$7,\"\",IF(ISERROR(IF(CD77<Saisies!$B$7,\"\",CF77)*CL77),IF(CD77<Saisies!$B$7,\"\",CF77),\"\")))*(IF(ISERROR(CM77+1),0,CM77))*CN77*CO77*CP77)","v":""},"",1,{"$f":"IF(CD77>Saisies!$C$25,1,(IF(CD77<Saisies!$B$25,1,IF(Saisies!$B$25=0,1,0))))","v":1},{"$f":"IF(CD77>Saisies!$E$25,1,(IF(CD77<Saisies!$D$25,1,IF(Saisies!$D$25=0,1,0))))","v":1},{"$f":"IF(CD77>Saisies!$G$25,1,(IF(CD77<Saisies!$F$25,1,IF(Saisies!$F$25<10,1,0))))","v":1},{"$f":"IF(CD77>Saisies!$C$10,\"\",(IF(CD77<Saisies!$B$10,\"\",CG77)))","v":""},{"$f":"IF(CD77>Saisies!$E$10,\"\",(IF(CD77<Saisies!$D$10,\"\",CG77)))","v":""},{"$f":"IF(CD77>Saisies!$G$10,\"\",(IF(CD77<Saisies!$F$10,\"\",CG77)))","v":""},"2017-07-26","M",8,7,492,{"$f":"IF(CX77>=Saisies!$E$4,(IF(CY76<=Saisies!$E$4,CT77,CY76)),0)","v":42622},{"$f":"IF(CT77=Saisies!$C$7,MIN((ABS(Saisies!$E$4-CX76)),DA77),DA77)","v":""},{"$f":"IF(ISERROR((IF(CT77>Saisies!$C$7,\"\",IF(ISERROR(IF(CT77<Saisies!$B$7,\"\",CV77)*DB77),IF(CT77<Saisies!$B$7,\"\",CV77),\"\")))*(IF(ISERROR(DC77+1),0,DC77))*DD77*DE77*DF77),\"\",(IF(CT77>Saisies!$C$7,\"\",IF(ISERROR(IF(CT77<Saisies!$B$7,\"\",CV77)*DB77),IF(CT77<Saisies!$B$7,\"\",CV77),\"\")))*(IF(ISERROR(DC77+1),0,DC77))*DD77*DE77*DF77)","v":""},"",1,{"$f":"IF(CT77>Saisies!$C$25,1,(IF(CT77<Saisies!$B$25,1,IF(Saisies!$B$25=0,1,0))))","v":1},{"$f":"IF(CT77>Saisies!$E$25,1,(IF(CT77<Saisies!$D$25,1,IF(Saisies!$D$25=0,1,0))))","v":1},{"$f":"IF(CT77>Saisies!$G$25,1,(IF(CT77<Saisies!$F$25,1,IF(Saisies!$F$25<10,1,0))))","v":1},{"$f":"IF(CT77>Saisies!$C$10,\"\",(IF(CT77<Saisies!$B$10,\"\",CW77)))","v":""},{"$f":"IF(CT77>Saisies!$E$10,\"\",(IF(CT77<Saisies!$D$10,\"\",CW77)))","v":""},{"$f":"IF(CT77>Saisies!$G$10,\"\",(IF(CT77<Saisies!$F$10,\"\",CW77)))","v":""},"2017-08-26","S",0,0,492,{"$f":"IF(DN77>=Saisies!$E$4,(IF(DO76<=Saisies!$E$4,DJ77,DO76)),0)","v":42622},{"$f":"IF(DJ77=Saisies!$C$7,MIN((ABS(Saisies!$E$4-DN76)),DQ77),DQ77)","v":""},{"$f":"IF(ISERROR((IF(DJ77>Saisies!$C$7,\"\",IF(ISERROR(IF(DJ77<Saisies!$B$7,\"\",DL77)*DR77),IF(DJ77<Saisies!$B$7,\"\",DL77),\"\")))*(IF(ISERROR(DS77+1),0,DS77))*DT77*DU77*DV77),\"\",(IF(DJ77>Saisies!$C$7,\"\",IF(ISERROR(IF(DJ77<Saisies!$B$7,\"\",DL77)*DR77),IF(DJ77<Saisies!$B$7,\"\",DL77),\"\")))*(IF(ISERROR(DS77+1),0,DS77))*DT77*DU77*DV77)","v":""},"",1,{"$f":"IF(DJ77>Saisies!$C$25,1,(IF(DJ77<Saisies!$B$25,1,IF(Saisies!$B$25=0,1,0))))","v":1},{"$f":"IF(DJ77>Saisies!$E$25,1,(IF(DJ77<Saisies!$D$25,1,IF(Saisies!$D$25=0,1,0))))","v":1},{"$f":"IF(DJ77>Saisies!$G$25,1,(IF(DJ77<Saisies!$F$25,1,IF(Saisies!$F$25<10,1,0))))","v":1},{"$f":"IF(DJ77>Saisies!$C$10,\"\",(IF(DJ77<Saisies!$B$10,\"\",DM77)))","v":""},{"$f":"IF(DJ77>Saisies!$E$10,\"\",(IF(DJ77<Saisies!$D$10,\"\",DM77)))","v":""},{"$f":"IF(DJ77>Saisies!$G$10,\"\",(IF(DJ77<Saisies!$F$10,\"\",DM77)))","v":""},"2017-09-26","M",8,7,492,{"$f":"IF(ED77>=Saisies!$E$4,(IF(EE76<=Saisies!$E$4,DZ77,EE76)),0)","v":42622},{"$f":"IF(DZ77=Saisies!$C$7,MIN((ABS(Saisies!$E$4-ED76)),EG77),EG77)","v":""},{"$f":"IF(ISERROR((IF(DZ77>Saisies!$C$7,\"\",IF(ISERROR(IF(DZ77<Saisies!$B$7,\"\",EB77)*EH77),IF(DZ77<Saisies!$B$7,\"\",EB77),\"\")))*(IF(ISERROR(EI77+1),0,EI77))*EJ77*EK77*EL77),\"\",(IF(DZ77>Saisies!$C$7,\"\",IF(ISERROR(IF(DZ77<Saisies!$B$7,\"\",EB77)*EH77),IF(DZ77<Saisies!$B$7,\"\",EB77),\"\")))*(IF(ISERROR(EI77+1),0,EI77))*EJ77*EK77*EL77)","v":""},"",1,{"$f":"IF(DZ77>Saisies!$C$25,1,(IF(DZ77<Saisies!$B$25,1,IF(Saisies!$B$25=0,1,0))))","v":1},{"$f":"IF(DZ77>Saisies!$E$25,1,(IF(DZ77<Saisies!$D$25,1,IF(Saisies!$D$25=0,1,0))))","v":1},{"$f":"IF(DZ77>Saisies!$G$25,1,(IF(DZ77<Saisies!$F$25,1,IF(Saisies!$F$25<10,1,0))))","v":1},{"$f":"IF(DZ77>Saisies!$C$10,\"\",(IF(DZ77<Saisies!$B$10,\"\",EC77)))","v":""},{"$f":"IF(DZ77>Saisies!$E$10,\"\",(IF(DZ77<Saisies!$D$10,\"\",EC77)))","v":""},{"$f":"IF(DZ77>Saisies!$G$10,\"\",(IF(DZ77<Saisies!$F$10,\"\",EC77)))","v":""},"2017-10-26","J",8,7,492,{"$f":"IF(ET77>=Saisies!$E$4,(IF(EU76<=Saisies!$E$4,EP77,EU76)),0)","v":42622},{"$f":"IF(EP77=Saisies!$C$7,MIN((ABS(Saisies!$E$4-ET76)),EW77),EW77)","v":""},{"$f":"IF(ISERROR((IF(EP77>Saisies!$C$7,\"\",IF(ISERROR(IF(EP77<Saisies!$B$7,\"\",ER77)*EX77),IF(EP77<Saisies!$B$7,\"\",ER77),\"\")))*(IF(ISERROR(EY77+1),0,EY77))*EZ77*FA77*FB77),\"\",(IF(EP77>Saisies!$C$7,\"\",IF(ISERROR(IF(EP77<Saisies!$B$7,\"\",ER77)*EX77),IF(EP77<Saisies!$B$7,\"\",ER77),\"\")))*(IF(ISERROR(EY77+1),0,EY77))*EZ77*FA77*FB77)","v":""},"",1,{"$f":"IF(EP77>Saisies!$C$25,1,(IF(EP77<Saisies!$B$25,1,IF(Saisies!$B$25=0,1,0))))","v":1},{"$f":"IF(EP77>Saisies!$E$25,1,(IF(EP77<Saisies!$D$25,1,IF(Saisies!$D$25=0,1,0))))","v":1},{"$f":"IF(EP77>Saisies!$G$25,1,(IF(EP77<Saisies!$F$25,1,IF(Saisies!$F$25<10,1,0))))","v":1},{"$f":"IF(EP77>Saisies!$C$10,\"\",(IF(EP77<Saisies!$B$10,\"\",ES77)))","v":""},{"$f":"IF(EP77>Saisies!$E$10,\"\",(IF(EP77<Saisies!$D$10,\"\",ES77)))","v":""},{"$f":"IF(EP77>Saisies!$G$10,\"\",(IF(EP77<Saisies!$F$10,\"\",ES77)))","v":""},"2017-11-26","D",0,0,492,{"$f":"IF(FJ77>=Saisies!$E$4,(IF(FK76<=Saisies!$E$4,FF77,FK76)),0)","v":42622},{"$f":"IF(FF77=Saisies!$C$7,MIN((ABS(Saisies!$E$4-FJ76)),FM77),FM77)","v":""},{"$f":"IF(ISERROR((IF(FF77>Saisies!$C$7,\"\",IF(ISERROR(IF(FF77<Saisies!$B$7,\"\",FH77)*FN77),IF(FF77<Saisies!$B$7,\"\",FH77),\"\")))*(IF(ISERROR(FO77+1),0,FO77))*FP77*FQ77*FR77),\"\",(IF(FF77>Saisies!$C$7,\"\",IF(ISERROR(IF(FF77<Saisies!$B$7,\"\",FH77)*FN77),IF(FF77<Saisies!$B$7,\"\",FH77),\"\")))*(IF(ISERROR(FO77+1),0,FO77))*FP77*FQ77*FR77)","v":""},"",1,{"$f":"IF(FF77>Saisies!$C$25,1,(IF(FF77<Saisies!$B$25,1,IF(Saisies!$B$25=0,1,0))))","v":1},{"$f":"IF(FF77>Saisies!$E$25,1,(IF(FF77<Saisies!$D$25,1,IF(Saisies!$D$25=0,1,0))))","v":1},{"$f":"IF(FF77>Saisies!$G$25,1,(IF(FF77<Saisies!$F$25,1,IF(Saisies!$F$25<10,1,0))))","v":1},{"$f":"IF(FF77>Saisies!$C$10,\"\",(IF(FF77<Saisies!$B$10,\"\",FI77)))","v":""},{"$f":"IF(FF77>Saisies!$E$10,\"\",(IF(FF77<Saisies!$D$10,\"\",FI77)))","v":""},{"$f":"IF(FF77>Saisies!$G$10,\"\",(IF(FF77<Saisies!$F$10,\"\",FI77)))","v":""},"2017-12-26","M",8,7,492,{"$f":"IF(FZ77>=Saisies!$E$4,(IF(GA76<=Saisies!$E$4,FV77,GA76)),0)","v":42622},{"$f":"IF(FV77=Saisies!$C$7,MIN((ABS(Saisies!$E$4-FZ76)),GC77),GC77)","v":""},{"$f":"IF(ISERROR((IF(FV77>Saisies!$C$7,\"\",IF(ISERROR(IF(FV77<Saisies!$B$7,\"\",FX77)*GD77),IF(FV77<Saisies!$B$7,\"\",FX77),\"\")))*(IF(ISERROR(GE77+1),0,GE77))*GF77*GG77*GH77),\"\",(IF(FV77>Saisies!$C$7,\"\",IF(ISERROR(IF(FV77<Saisies!$B$7,\"\",FX77)*GD77),IF(FV77<Saisies!$B$7,\"\",FX77),\"\")))*(IF(ISERROR(GE77+1),0,GE77))*GF77*GG77*GH77)","v":""},"",{"$f":"IF(ISERROR(IF(IF(ISERROR(VLOOKUP(FV77,Champs,2,FALSE)),1,0)=0,LOOKUP(FV77,general),1)),0,(IF(IF(ISERROR(VLOOKUP(FV77,Champs,2,FALSE)),1,0)=0,LOOKUP(FV77,general),1)))","v":"B"},{"$f":"IF(FV77>Saisies!$C$25,1,(IF(FV77<Saisies!$B$25,1,IF(Saisies!$B$25=0,1,0))))","v":1},{"$f":"IF(FV77>Saisies!$E$25,1,(IF(FV77<Saisies!$D$25,1,IF(Saisies!$D$25=0,1,0))))","v":1},{"$f":"IF(FV77>Saisies!$G$25,1,(IF(FV77<Saisies!$F$25,1,IF(Saisies!$F$25<10,1,0))))","v":1},{"$f":"IF(FV77>Saisies!$C$10,\"\",(IF(FV77<Saisies!$B$10,\"\",FY77)))","v":""},{"$f":"IF(FV77>Saisies!$E$10,\"\",(IF(FV77<Saisies!$D$10,\"\",FY77)))","v":""},{"$f":"IF(FV77>Saisies!$G$10,\"\",(IF(FV77<Saisies!$F$10,\"\",FY77)))","v":""}]
[null,"2017-01-27","V",4,7,492,{"$f":"IF(F78>=Saisies!$E$4,(IF(G77<=Saisies!$E$4,B78,G77)),0)","v":42622},{"$f":"IF(B78=Saisies!$C$7,MIN((ABS(Saisies!$E$4-F77)),I78),I78)","v":""},{"$f":"IF(ISERROR((IF(B78>Saisies!$C$7,\"\",IF(ISERROR(IF(B78<Saisies!$B$7,\"\",D78)*J78),IF(B78<Saisies!$B$7,\"\",D78),\"\")))*(IF(ISERROR(K78+1),0,K78))*L78*M78*N78),\"\",(IF(B78>Saisies!$C$7,\"\",IF(ISERROR(IF(B78<Saisies!$B$7,\"\",D78)*J78),IF(B78<Saisies!$B$7,\"\",D78),\"\")))*(IF(ISERROR(K78+1),0,K78))*L78*M78*N78)","v":""},"",1,{"$f":"IF(B78>Saisies!$C$25,1,(IF(B78<Saisies!$B$25,1,IF(Saisies!$B$25=0,1,0))))","v":1},{"$f":"IF(B78>Saisies!$E$25,1,(IF(B78<Saisies!$D$25,1,IF(Saisies!$D$25=0,1,0))))","v":1},{"$f":"IF(B78>Saisies!$G$25,1,(IF(B78<Saisies!$F$25,1,IF(Saisies!$F$25<10,1,0))))","v":1},{"$f":"IF(B78>Saisies!$C$10,\"\",(IF(B78<Saisies!$B$10,\"\",E78)))","v":""},{"$f":"IF(B78>Saisies!$E$10,\"\",(IF(B78<Saisies!$D$10,\"\",E78)))","v":""},{"$f":"IF(B78>Saisies!$G$10,\"\",(IF(B78<Saisies!$F$10,\"\",E78)))","v":""},"2017-02-27","L",7,7,492,{"$f":"IF(V78>=Saisies!$E$4,(IF(W77<=Saisies!$E$4,R78,W77)),0)","v":42622},{"$f":"IF(R78=Saisies!$C$7,MIN((ABS(Saisies!$E$4-V77)),Y78),Y78)","v":""},{"$f":"IF(ISERROR((IF(R78>Saisies!$C$7,\"\",IF(ISERROR(IF(R78<Saisies!$B$7,\"\",T78)*Z78),IF(R78<Saisies!$B$7,\"\",T78),\"\")))*(IF(ISERROR(AA78+1),0,AA78))*AB78*AC78*AD78),\"\",(IF(R78>Saisies!$C$7,\"\",IF(ISERROR(IF(R78<Saisies!$B$7,\"\",T78)*Z78),IF(R78<Saisies!$B$7,\"\",T78),\"\")))*(IF(ISERROR(AA78+1),0,AA78))*AB78*AC78*AD78)","v":""},"",1,{"$f":"IF(R78>Saisies!$C$25,1,(IF(R78<Saisies!$B$25,1,IF(Saisies!$B$25=0,1,0))))","v":1},{"$f":"IF(R78>Saisies!$E$25,1,(IF(R78<Saisies!$D$25,1,IF(Saisies!$D$25=0,1,0))))","v":1},{"$f":"IF(R78>Saisies!$G$25,1,(IF(R78<Saisies!$F$25,1,IF(Saisies!$F$25<10,1,0))))","v":1},{"$f":"IF(R78>Saisies!$C$10,\"\",(IF(R78<Saisies!$B$10,\"\",U78)))","v":""},{"$f":"IF(R78>Saisies!$E$10,\"\",(IF(R78<Saisies!$D$10,\"\",U78)))","v":""},{"$f":"IF(R78>Saisies!$G$10,\"\",(IF(R78<Saisies!$F$10,\"\",U78)))","v":""},"2017-03-27","L",7,7,492,{"$f":"IF(AL78>=Saisies!$E$4,(IF(AM77<=Saisies!$E$4,AH78,AM77)),0)","v":42622},{"$f":"IF(AH78=Saisies!$C$7,MIN((ABS(Saisies!$E$4-AL77)),AO78),AO78)","v":""},{"$f":"IF(ISERROR((IF(AH78>Saisies!$C$7,\"\",IF(ISERROR(IF(AH78<Saisies!$B$7,\"\",AJ78)*AP78),IF(AH78<Saisies!$B$7,\"\",AJ78),\"\")))*(IF(ISERROR(AQ78+1),0,AQ78))*AR78*AS78*AT78),\"\",(IF(AH78>Saisies!$C$7,\"\",IF(ISERROR(IF(AH78<Saisies!$B$7,\"\",AJ78)*AP78),IF(AH78<Saisies!$B$7,\"\",AJ78),\"\")))*(IF(ISERROR(AQ78+1),0,AQ78))*AR78*AS78*AT78)","v":""},"",1,{"$f":"IF(AH78>Saisies!$C$25,1,(IF(AH78<Saisies!$B$25,1,IF(Saisies!$B$25=0,1,0))))","v":1},{"$f":"IF(AH78>Saisies!$E$25,1,(IF(AH78<Saisies!$D$25,1,IF(Saisies!$D$25=0,1,0))))","v":1},{"$f":"IF(AH78>Saisies!$G$25,1,(IF(AH78<Saisies!$F$25,1,IF(Saisies!$F$25<10,1,0))))","v":1},{"$f":"IF(AH78>Saisies!$C$10,\"\",(IF(AH78<Saisies!$B$10,\"\",AK78)))","v":""},{"$f":"IF(AH78>Saisies!$E$10,\"\",(IF(AH78<Saisies!$D$10,\"\",AK78)))","v":""},{"$f":"IF(AH78>Saisies!$G$10,\"\",(IF(AH78<Saisies!$F$10,\"\",AK78)))","v":""},"2017-04-27","J",8,7,492,{"$f":"IF(BB78>=Saisies!$E$4,(IF(BC77<=Saisies!$E$4,AX78,BC77)),0)","v":42622},{"$f":"IF(AX78=Saisies!$C$7,MIN((ABS(Saisies!$E$4-BB77)),BE78),BE78)","v":""},{"$f":"IF(ISERROR((IF(AX78>Saisies!$C$7,\"\",IF(ISERROR(IF(AX78<Saisies!$B$7,\"\",AZ78)*BF78),IF(AX78<Saisies!$B$7,\"\",AZ78),\"\")))*(IF(ISERROR(BG78+1),0,BG78))*BH78*BI78*BJ78),\"\",(IF(AX78>Saisies!$C$7,\"\",IF(ISERROR(IF(AX78<Saisies!$B$7,\"\",AZ78)*BF78),IF(AX78<Saisies!$B$7,\"\",AZ78),\"\")))*(IF(ISERROR(BG78+1),0,BG78))*BH78*BI78*BJ78)","v":""},"",1,{"$f":"IF(AX78>Saisies!$C$25,1,(IF(AX78<Saisies!$B$25,1,IF(Saisies!$B$25=0,1,0))))","v":1},{"$f":"IF(AX78>Saisies!$E$25,1,(IF(AX78<Saisies!$D$25,1,IF(Saisies!$D$25=0,1,0))))","v":1},{"$f":"IF(AX78>Saisies!$G$25,1,(IF(AX78<Saisies!$F$25,1,IF(Saisies!$F$25<10,1,0))))","v":1},{"$f":"IF(AX78>Saisies!$C$10,\"\",(IF(AX78<Saisies!$B$10,\"\",BA78)))","v":""},{"$f":"IF(AX78>Saisies!$E$10,\"\",(IF(AX78<Saisies!$D$10,\"\",BA78)))","v":""},{"$f":"IF(AX78>Saisies!$G$10,\"\",(IF(AX78<Saisies!$F$10,\"\",BA78)))","v":""},"2017-05-27","S",0,0,492,{"$f":"IF(BR78>=Saisies!$E$4,(IF(BS77<=Saisies!$E$4,BN78,BS77)),0)","v":42622},{"$f":"IF(BN78=Saisies!$C$7,MIN((ABS(Saisies!$E$4-BR77)),BU78),BU78)","v":""},{"$f":"IF(ISERROR((IF(BN78>Saisies!$C$7,\"\",IF(ISERROR(IF(BN78<Saisies!$B$7,\"\",BP78)*BV78),IF(BN78<Saisies!$B$7,\"\",BP78),\"\")))*(IF(ISERROR(BW78+1),0,BW78))*BX78*BY78*BZ78),\"\",(IF(BN78>Saisies!$C$7,\"\",IF(ISERROR(IF(BN78<Saisies!$B$7,\"\",BP78)*BV78),IF(BN78<Saisies!$B$7,\"\",BP78),\"\")))*(IF(ISERROR(BW78+1),0,BW78))*BX78*BY78*BZ78)","v":""},"",1,{"$f":"IF(BN78>Saisies!$C$25,1,(IF(BN78<Saisies!$B$25,1,IF(Saisies!$B$25=0,1,0))))","v":1},{"$f":"IF(BN78>Saisies!$E$25,1,(IF(BN78<Saisies!$D$25,1,IF(Saisies!$D$25=0,1,0))))","v":1},{"$f":"IF(BN78>Saisies!$G$25,1,(IF(BN78<Saisies!$F$25,1,IF(Saisies!$F$25<10,1,0))))","v":1},{"$f":"IF(BN78>Saisies!$C$10,\"\",(IF(BN78<Saisies!$B$10,\"\",BQ78)))","v":""},{"$f":"IF(BN78>Saisies!$E$10,\"\",(IF(BN78<Saisies!$D$10,\"\",BQ78)))","v":""},{"$f":"IF(BN78>Saisies!$G$10,\"\",(IF(BN78<Saisies!$F$10,\"\",BQ78)))","v":""},"2017-06-27","M",8,7,492,{"$f":"IF(CH78>=Saisies!$E$4,(IF(CI77<=Saisies!$E$4,CD78,CI77)),0)","v":42622},{"$f":"IF(CD78=Saisies!$C$7,MIN((ABS(Saisies!$E$4-CH77)),CK78),CK78)","v":""},{"$f":"IF(ISERROR((IF(CD78>Saisies!$C$7,\"\",IF(ISERROR(IF(CD78<Saisies!$B$7,\"\",CF78)*CL78),IF(CD78<Saisies!$B$7,\"\",CF78),\"\")))*(IF(ISERROR(CM78+1),0,CM78))*CN78*CO78*CP78),\"\",(IF(CD78>Saisies!$C$7,\"\",IF(ISERROR(IF(CD78<Saisies!$B$7,\"\",CF78)*CL78),IF(CD78<Saisies!$B$7,\"\",CF78),\"\")))*(IF(ISERROR(CM78+1),0,CM78))*CN78*CO78*CP78)","v":""},"",1,{"$f":"IF(CD78>Saisies!$C$25,1,(IF(CD78<Saisies!$B$25,1,IF(Saisies!$B$25=0,1,0))))","v":1},{"$f":"IF(CD78>Saisies!$E$25,1,(IF(CD78<Saisies!$D$25,1,IF(Saisies!$D$25=0,1,0))))","v":1},{"$f":"IF(CD78>Saisies!$G$25,1,(IF(CD78<Saisies!$F$25,1,IF(Saisies!$F$25<10,1,0))))","v":1},{"$f":"IF(CD78>Saisies!$C$10,\"\",(IF(CD78<Saisies!$B$10,\"\",CG78)))","v":""},{"$f":"IF(CD78>Saisies!$E$10,\"\",(IF(CD78<Saisies!$D$10,\"\",CG78)))","v":""},{"$f":"IF(CD78>Saisies!$G$10,\"\",(IF(CD78<Saisies!$F$10,\"\",CG78)))","v":""},"2017-07-27","J",8,7,492,{"$f":"IF(CX78>=Saisies!$E$4,(IF(CY77<=Saisies!$E$4,CT78,CY77)),0)","v":42622},{"$f":"IF(CT78=Saisies!$C$7,MIN((ABS(Saisies!$E$4-CX77)),DA78),DA78)","v":""},{"$f":"IF(ISERROR((IF(CT78>Saisies!$C$7,\"\",IF(ISERROR(IF(CT78<Saisies!$B$7,\"\",CV78)*DB78),IF(CT78<Saisies!$B$7,\"\",CV78),\"\")))*(IF(ISERROR(DC78+1),0,DC78))*DD78*DE78*DF78),\"\",(IF(CT78>Saisies!$C$7,\"\",IF(ISERROR(IF(CT78<Saisies!$B$7,\"\",CV78)*DB78),IF(CT78<Saisies!$B$7,\"\",CV78),\"\")))*(IF(ISERROR(DC78+1),0,DC78))*DD78*DE78*DF78)","v":""},"",1,{"$f":"IF(CT78>Saisies!$C$25,1,(IF(CT78<Saisies!$B$25,1,IF(Saisies!$B$25=0,1,0))))","v":1},{"$f":"IF(CT78>Saisies!$E$25,1,(IF(CT78<Saisies!$D$25,1,IF(Saisies!$D$25=0,1,0))))","v":1},{"$f":"IF(CT78>Saisies!$G$25,1,(IF(CT78<Saisies!$F$25,1,IF(Saisies!$F$25<10,1,0))))","v":1},{"$f":"IF(CT78>Saisies!$C$10,\"\",(IF(CT78<Saisies!$B$10,\"\",CW78)))","v":""},{"$f":"IF(CT78>Saisies!$E$10,\"\",(IF(CT78<Saisies!$D$10,\"\",CW78)))","v":""},{"$f":"IF(CT78>Saisies!$G$10,\"\",(IF(CT78<Saisies!$F$10,\"\",CW78)))","v":""},"2017-08-27","D",0,0,492,{"$f":"IF(DN78>=Saisies!$E$4,(IF(DO77<=Saisies!$E$4,DJ78,DO77)),0)","v":42622},{"$f":"IF(DJ78=Saisies!$C$7,MIN((ABS(Saisies!$E$4-DN77)),DQ78),DQ78)","v":""},{"$f":"IF(ISERROR((IF(DJ78>Saisies!$C$7,\"\",IF(ISERROR(IF(DJ78<Saisies!$B$7,\"\",DL78)*DR78),IF(DJ78<Saisies!$B$7,\"\",DL78),\"\")))*(IF(ISERROR(DS78+1),0,DS78))*DT78*DU78*DV78),\"\",(IF(DJ78>Saisies!$C$7,\"\",IF(ISERROR(IF(DJ78<Saisies!$B$7,\"\",DL78)*DR78),IF(DJ78<Saisies!$B$7,\"\",DL78),\"\")))*(IF(ISERROR(DS78+1),0,DS78))*DT78*DU78*DV78)","v":""},"",1,{"$f":"IF(DJ78>Saisies!$C$25,1,(IF(DJ78<Saisies!$B$25,1,IF(Saisies!$B$25=0,1,0))))","v":1},{"$f":"IF(DJ78>Saisies!$E$25,1,(IF(DJ78<Saisies!$D$25,1,IF(Saisies!$D$25=0,1,0))))","v":1},{"$f":"IF(DJ78>Saisies!$G$25,1,(IF(DJ78<Saisies!$F$25,1,IF(Saisies!$F$25<10,1,0))))","v":1},{"$f":"IF(DJ78>Saisies!$C$10,\"\",(IF(DJ78<Saisies!$B$10,\"\",DM78)))","v":""},{"$f":"IF(DJ78>Saisies!$E$10,\"\",(IF(DJ78<Saisies!$D$10,\"\",DM78)))","v":""},{"$f":"IF(DJ78>Saisies!$G$10,\"\",(IF(DJ78<Saisies!$F$10,\"\",DM78)))","v":""},"2017-09-27","M",8,7,492,{"$f":"IF(ED78>=Saisies!$E$4,(IF(EE77<=Saisies!$E$4,DZ78,EE77)),0)","v":42622},{"$f":"IF(DZ78=Saisies!$C$7,MIN((ABS(Saisies!$E$4-ED77)),EG78),EG78)","v":""},{"$f":"IF(ISERROR((IF(DZ78>Saisies!$C$7,\"\",IF(ISERROR(IF(DZ78<Saisies!$B$7,\"\",EB78)*EH78),IF(DZ78<Saisies!$B$7,\"\",EB78),\"\")))*(IF(ISERROR(EI78+1),0,EI78))*EJ78*EK78*EL78),\"\",(IF(DZ78>Saisies!$C$7,\"\",IF(ISERROR(IF(DZ78<Saisies!$B$7,\"\",EB78)*EH78),IF(DZ78<Saisies!$B$7,\"\",EB78),\"\")))*(IF(ISERROR(EI78+1),0,EI78))*EJ78*EK78*EL78)","v":""},"",1,{"$f":"IF(DZ78>Saisies!$C$25,1,(IF(DZ78<Saisies!$B$25,1,IF(Saisies!$B$25=0,1,0))))","v":1},{"$f":"IF(DZ78>Saisies!$E$25,1,(IF(DZ78<Saisies!$D$25,1,IF(Saisies!$D$25=0,1,0))))","v":1},{"$f":"IF(DZ78>Saisies!$G$25,1,(IF(DZ78<Saisies!$F$25,1,IF(Saisies!$F$25<10,1,0))))","v":1},{"$f":"IF(DZ78>Saisies!$C$10,\"\",(IF(DZ78<Saisies!$B$10,\"\",EC78)))","v":""},{"$f":"IF(DZ78>Saisies!$E$10,\"\",(IF(DZ78<Saisies!$D$10,\"\",EC78)))","v":""},{"$f":"IF(DZ78>Saisies!$G$10,\"\",(IF(DZ78<Saisies!$F$10,\"\",EC78)))","v":""},"2017-10-27","V",4,7,492,{"$f":"IF(ET78>=Saisies!$E$4,(IF(EU77<=Saisies!$E$4,EP78,EU77)),0)","v":42622},{"$f":"IF(EP78=Saisies!$C$7,MIN((ABS(Saisies!$E$4-ET77)),EW78),EW78)","v":""},{"$f":"IF(ISERROR((IF(EP78>Saisies!$C$7,\"\",IF(ISERROR(IF(EP78<Saisies!$B$7,\"\",ER78)*EX78),IF(EP78<Saisies!$B$7,\"\",ER78),\"\")))*(IF(ISERROR(EY78+1),0,EY78))*EZ78*FA78*FB78),\"\",(IF(EP78>Saisies!$C$7,\"\",IF(ISERROR(IF(EP78<Saisies!$B$7,\"\",ER78)*EX78),IF(EP78<Saisies!$B$7,\"\",ER78),\"\")))*(IF(ISERROR(EY78+1),0,EY78))*EZ78*FA78*FB78)","v":""},"",1,{"$f":"IF(EP78>Saisies!$C$25,1,(IF(EP78<Saisies!$B$25,1,IF(Saisies!$B$25=0,1,0))))","v":1},{"$f":"IF(EP78>Saisies!$E$25,1,(IF(EP78<Saisies!$D$25,1,IF(Saisies!$D$25=0,1,0))))","v":1},{"$f":"IF(EP78>Saisies!$G$25,1,(IF(EP78<Saisies!$F$25,1,IF(Saisies!$F$25<10,1,0))))","v":1},{"$f":"IF(EP78>Saisies!$C$10,\"\",(IF(EP78<Saisies!$B$10,\"\",ES78)))","v":""},{"$f":"IF(EP78>Saisies!$E$10,\"\",(IF(EP78<Saisies!$D$10,\"\",ES78)))","v":""},{"$f":"IF(EP78>Saisies!$G$10,\"\",(IF(EP78<Saisies!$F$10,\"\",ES78)))","v":""},"2017-11-27","L",7,7,492,{"$f":"IF(FJ78>=Saisies!$E$4,(IF(FK77<=Saisies!$E$4,FF78,FK77)),0)","v":42622},{"$f":"IF(FF78=Saisies!$C$7,MIN((ABS(Saisies!$E$4-FJ77)),FM78),FM78)","v":""},{"$f":"IF(ISERROR((IF(FF78>Saisies!$C$7,\"\",IF(ISERROR(IF(FF78<Saisies!$B$7,\"\",FH78)*FN78),IF(FF78<Saisies!$B$7,\"\",FH78),\"\")))*(IF(ISERROR(FO78+1),0,FO78))*FP78*FQ78*FR78),\"\",(IF(FF78>Saisies!$C$7,\"\",IF(ISERROR(IF(FF78<Saisies!$B$7,\"\",FH78)*FN78),IF(FF78<Saisies!$B$7,\"\",FH78),\"\")))*(IF(ISERROR(FO78+1),0,FO78))*FP78*FQ78*FR78)","v":""},"",1,{"$f":"IF(FF78>Saisies!$C$25,1,(IF(FF78<Saisies!$B$25,1,IF(Saisies!$B$25=0,1,0))))","v":1},{"$f":"IF(FF78>Saisies!$E$25,1,(IF(FF78<Saisies!$D$25,1,IF(Saisies!$D$25=0,1,0))))","v":1},{"$f":"IF(FF78>Saisies!$G$25,1,(IF(FF78<Saisies!$F$25,1,IF(Saisies!$F$25<10,1,0))))","v":1},{"$f":"IF(FF78>Saisies!$C$10,\"\",(IF(FF78<Saisies!$B$10,\"\",FI78)))","v":""},{"$f":"IF(FF78>Saisies!$E$10,\"\",(IF(FF78<Saisies!$D$10,\"\",FI78)))","v":""},{"$f":"IF(FF78>Saisies!$G$10,\"\",(IF(FF78<Saisies!$F$10,\"\",FI78)))","v":""},"2017-12-27","M",8,7,492,{"$f":"IF(FZ78>=Saisies!$E$4,(IF(GA77<=Saisies!$E$4,FV78,GA77)),0)","v":42622},{"$f":"IF(FV78=Saisies!$C$7,MIN((ABS(Saisies!$E$4-FZ77)),GC78),GC78)","v":""},{"$f":"IF(ISERROR((IF(FV78>Saisies!$C$7,\"\",IF(ISERROR(IF(FV78<Saisies!$B$7,\"\",FX78)*GD78),IF(FV78<Saisies!$B$7,\"\",FX78),\"\")))*(IF(ISERROR(GE78+1),0,GE78))*GF78*GG78*GH78),\"\",(IF(FV78>Saisies!$C$7,\"\",IF(ISERROR(IF(FV78<Saisies!$B$7,\"\",FX78)*GD78),IF(FV78<Saisies!$B$7,\"\",FX78),\"\")))*(IF(ISERROR(GE78+1),0,GE78))*GF78*GG78*GH78)","v":""},"","R",{"$f":"IF(FV78>Saisies!$C$25,1,(IF(FV78<Saisies!$B$25,1,IF(Saisies!$B$25=0,1,0))))","v":1},{"$f":"IF(FV78>Saisies!$E$25,1,(IF(FV78<Saisies!$D$25,1,IF(Saisies!$D$25=0,1,0))))","v":1},{"$f":"IF(FV78>Saisies!$G$25,1,(IF(FV78<Saisies!$F$25,1,IF(Saisies!$F$25<10,1,0))))","v":1},{"$f":"IF(FV78>Saisies!$C$10,\"\",(IF(FV78<Saisies!$B$10,\"\",FY78)))","v":""},{"$f":"IF(FV78>Saisies!$E$10,\"\",(IF(FV78<Saisies!$D$10,\"\",FY78)))","v":""},{"$f":"IF(FV78>Saisies!$G$10,\"\",(IF(FV78<Saisies!$F$10,\"\",FY78)))","v":""}]
[null,"2017-01-28","S",0,0,492,{"$f":"IF(F79>=Saisies!$E$4,(IF(G78<=Saisies!$E$4,B79,G78)),0)","v":42622},{"$f":"IF(B79=Saisies!$C$7,MIN((ABS(Saisies!$E$4-F78)),I79),I79)","v":""},{"$f":"IF(ISERROR((IF(B79>Saisies!$C$7,\"\",IF(ISERROR(IF(B79<Saisies!$B$7,\"\",D79)*J79),IF(B79<Saisies!$B$7,\"\",D79),\"\")))*(IF(ISERROR(K79+1),0,K79))*L79*M79*N79),\"\",(IF(B79>Saisies!$C$7,\"\",IF(ISERROR(IF(B79<Saisies!$B$7,\"\",D79)*J79),IF(B79<Saisies!$B$7,\"\",D79),\"\")))*(IF(ISERROR(K79+1),0,K79))*L79*M79*N79)","v":""},"",1,{"$f":"IF(B79>Saisies!$C$25,1,(IF(B79<Saisies!$B$25,1,IF(Saisies!$B$25=0,1,0))))","v":1},{"$f":"IF(B79>Saisies!$E$25,1,(IF(B79<Saisies!$D$25,1,IF(Saisies!$D$25=0,1,0))))","v":1},{"$f":"IF(B79>Saisies!$G$25,1,(IF(B79<Saisies!$F$25,1,IF(Saisies!$F$25<10,1,0))))","v":1},{"$f":"IF(B79>Saisies!$C$10,\"\",(IF(B79<Saisies!$B$10,\"\",E79)))","v":""},{"$f":"IF(B79>Saisies!$E$10,\"\",(IF(B79<Saisies!$D$10,\"\",E79)))","v":""},{"$f":"IF(B79>Saisies!$G$10,\"\",(IF(B79<Saisies!$F$10,\"\",E79)))","v":""},"2017-02-28","M",8,7,492,{"$f":"IF(V79>=Saisies!$E$4,(IF(W78<=Saisies!$E$4,R79,W78)),0)","v":42622},{"$f":"IF(R79=Saisies!$C$7,MIN((ABS(Saisies!$E$4-V78)),Y79),Y79)","v":""},{"$f":"IF(ISERROR((IF(R79>Saisies!$C$7,\"\",IF(ISERROR(IF(R79<Saisies!$B$7,\"\",T79)*Z79),IF(R79<Saisies!$B$7,\"\",T79),\"\")))*(IF(ISERROR(AA79+1),0,AA79))*AB79*AC79*AD79),\"\",(IF(R79>Saisies!$C$7,\"\",IF(ISERROR(IF(R79<Saisies!$B$7,\"\",T79)*Z79),IF(R79<Saisies!$B$7,\"\",T79),\"\")))*(IF(ISERROR(AA79+1),0,AA79))*AB79*AC79*AD79)","v":""},"",1,{"$f":"IF(R79>Saisies!$C$25,1,(IF(R79<Saisies!$B$25,1,IF(Saisies!$B$25=0,1,0))))","v":1},{"$f":"IF(R79>Saisies!$E$25,1,(IF(R79<Saisies!$D$25,1,IF(Saisies!$D$25=0,1,0))))","v":1},{"$f":"IF(R79>Saisies!$G$25,1,(IF(R79<Saisies!$F$25,1,IF(Saisies!$F$25<10,1,0))))","v":1},{"$f":"IF(R79>Saisies!$C$10,\"\",(IF(R79<Saisies!$B$10,\"\",U79)))","v":""},{"$f":"IF(R79>Saisies!$E$10,\"\",(IF(R79<Saisies!$D$10,\"\",U79)))","v":""},{"$f":"IF(R79>Saisies!$G$10,\"\",(IF(R79<Saisies!$F$10,\"\",U79)))","v":""},"2017-03-28","M",8,7,492,{"$f":"IF(AL79>=Saisies!$E$4,(IF(AM78<=Saisies!$E$4,AH79,AM78)),0)","v":42622},{"$f":"IF(AH79=Saisies!$C$7,MIN((ABS(Saisies!$E$4-AL78)),AO79),AO79)","v":""},{"$f":"IF(ISERROR((IF(AH79>Saisies!$C$7,\"\",IF(ISERROR(IF(AH79<Saisies!$B$7,\"\",AJ79)*AP79),IF(AH79<Saisies!$B$7,\"\",AJ79),\"\")))*(IF(ISERROR(AQ79+1),0,AQ79))*AR79*AS79*AT79),\"\",(IF(AH79>Saisies!$C$7,\"\",IF(ISERROR(IF(AH79<Saisies!$B$7,\"\",AJ79)*AP79),IF(AH79<Saisies!$B$7,\"\",AJ79),\"\")))*(IF(ISERROR(AQ79+1),0,AQ79))*AR79*AS79*AT79)","v":""},"",1,{"$f":"IF(AH79>Saisies!$C$25,1,(IF(AH79<Saisies!$B$25,1,IF(Saisies!$B$25=0,1,0))))","v":1},{"$f":"IF(AH79>Saisies!$E$25,1,(IF(AH79<Saisies!$D$25,1,IF(Saisies!$D$25=0,1,0))))","v":1},{"$f":"IF(AH79>Saisies!$G$25,1,(IF(AH79<Saisies!$F$25,1,IF(Saisies!$F$25<10,1,0))))","v":1},{"$f":"IF(AH79>Saisies!$C$10,\"\",(IF(AH79<Saisies!$B$10,\"\",AK79)))","v":""},{"$f":"IF(AH79>Saisies!$E$10,\"\",(IF(AH79<Saisies!$D$10,\"\",AK79)))","v":""},{"$f":"IF(AH79>Saisies!$G$10,\"\",(IF(AH79<Saisies!$F$10,\"\",AK79)))","v":""},"2017-04-28","V",4,7,492,{"$f":"IF(BB79>=Saisies!$E$4,(IF(BC78<=Saisies!$E$4,AX79,BC78)),0)","v":42622},{"$f":"IF(AX79=Saisies!$C$7,MIN((ABS(Saisies!$E$4-BB78)),BE79),BE79)","v":""},{"$f":"IF(ISERROR((IF(AX79>Saisies!$C$7,\"\",IF(ISERROR(IF(AX79<Saisies!$B$7,\"\",AZ79)*BF79),IF(AX79<Saisies!$B$7,\"\",AZ79),\"\")))*(IF(ISERROR(BG79+1),0,BG79))*BH79*BI79*BJ79),\"\",(IF(AX79>Saisies!$C$7,\"\",IF(ISERROR(IF(AX79<Saisies!$B$7,\"\",AZ79)*BF79),IF(AX79<Saisies!$B$7,\"\",AZ79),\"\")))*(IF(ISERROR(BG79+1),0,BG79))*BH79*BI79*BJ79)","v":""},"",1,{"$f":"IF(AX79>Saisies!$C$25,1,(IF(AX79<Saisies!$B$25,1,IF(Saisies!$B$25=0,1,0))))","v":1},{"$f":"IF(AX79>Saisies!$E$25,1,(IF(AX79<Saisies!$D$25,1,IF(Saisies!$D$25=0,1,0))))","v":1},{"$f":"IF(AX79>Saisies!$G$25,1,(IF(AX79<Saisies!$F$25,1,IF(Saisies!$F$25<10,1,0))))","v":1},{"$f":"IF(AX79>Saisies!$C$10,\"\",(IF(AX79<Saisies!$B$10,\"\",BA79)))","v":""},{"$f":"IF(AX79>Saisies!$E$10,\"\",(IF(AX79<Saisies!$D$10,\"\",BA79)))","v":""},{"$f":"IF(AX79>Saisies!$G$10,\"\",(IF(AX79<Saisies!$F$10,\"\",BA79)))","v":""},"2017-05-28","D",0,0,492,{"$f":"IF(BR79>=Saisies!$E$4,(IF(BS78<=Saisies!$E$4,BN79,BS78)),0)","v":42622},{"$f":"IF(BN79=Saisies!$C$7,MIN((ABS(Saisies!$E$4-BR78)),BU79),BU79)","v":""},{"$f":"IF(ISERROR((IF(BN79>Saisies!$C$7,\"\",IF(ISERROR(IF(BN79<Saisies!$B$7,\"\",BP79)*BV79),IF(BN79<Saisies!$B$7,\"\",BP79),\"\")))*(IF(ISERROR(BW79+1),0,BW79))*BX79*BY79*BZ79),\"\",(IF(BN79>Saisies!$C$7,\"\",IF(ISERROR(IF(BN79<Saisies!$B$7,\"\",BP79)*BV79),IF(BN79<Saisies!$B$7,\"\",BP79),\"\")))*(IF(ISERROR(BW79+1),0,BW79))*BX79*BY79*BZ79)","v":""},"",1,{"$f":"IF(BN79>Saisies!$C$25,1,(IF(BN79<Saisies!$B$25,1,IF(Saisies!$B$25=0,1,0))))","v":1},{"$f":"IF(BN79>Saisies!$E$25,1,(IF(BN79<Saisies!$D$25,1,IF(Saisies!$D$25=0,1,0))))","v":1},{"$f":"IF(BN79>Saisies!$G$25,1,(IF(BN79<Saisies!$F$25,1,IF(Saisies!$F$25<10,1,0))))","v":1},{"$f":"IF(BN79>Saisies!$C$10,\"\",(IF(BN79<Saisies!$B$10,\"\",BQ79)))","v":""},{"$f":"IF(BN79>Saisies!$E$10,\"\",(IF(BN79<Saisies!$D$10,\"\",BQ79)))","v":""},{"$f":"IF(BN79>Saisies!$G$10,\"\",(IF(BN79<Saisies!$F$10,\"\",BQ79)))","v":""},"2017-06-28","M",8,7,492,{"$f":"IF(CH79>=Saisies!$E$4,(IF(CI78<=Saisies!$E$4,CD79,CI78)),0)","v":42622},{"$f":"IF(CD79=Saisies!$C$7,MIN((ABS(Saisies!$E$4-CH78)),CK79),CK79)","v":""},{"$f":"IF(ISERROR((IF(CD79>Saisies!$C$7,\"\",IF(ISERROR(IF(CD79<Saisies!$B$7,\"\",CF79)*CL79),IF(CD79<Saisies!$B$7,\"\",CF79),\"\")))*(IF(ISERROR(CM79+1),0,CM79))*CN79*CO79*CP79),\"\",(IF(CD79>Saisies!$C$7,\"\",IF(ISERROR(IF(CD79<Saisies!$B$7,\"\",CF79)*CL79),IF(CD79<Saisies!$B$7,\"\",CF79),\"\")))*(IF(ISERROR(CM79+1),0,CM79))*CN79*CO79*CP79)","v":""},"",1,{"$f":"IF(CD79>Saisies!$C$25,1,(IF(CD79<Saisies!$B$25,1,IF(Saisies!$B$25=0,1,0))))","v":1},{"$f":"IF(CD79>Saisies!$E$25,1,(IF(CD79<Saisies!$D$25,1,IF(Saisies!$D$25=0,1,0))))","v":1},{"$f":"IF(CD79>Saisies!$G$25,1,(IF(CD79<Saisies!$F$25,1,IF(Saisies!$F$25<10,1,0))))","v":1},{"$f":"IF(CD79>Saisies!$C$10,\"\",(IF(CD79<Saisies!$B$10,\"\",CG79)))","v":""},{"$f":"IF(CD79>Saisies!$E$10,\"\",(IF(CD79<Saisies!$D$10,\"\",CG79)))","v":""},{"$f":"IF(CD79>Saisies!$G$10,\"\",(IF(CD79<Saisies!$F$10,\"\",CG79)))","v":""},"2017-07-28","V",4,7,492,{"$f":"IF(CX79>=Saisies!$E$4,(IF(CY78<=Saisies!$E$4,CT79,CY78)),0)","v":42622},{"$f":"IF(CT79=Saisies!$C$7,MIN((ABS(Saisies!$E$4-CX78)),DA79),DA79)","v":""},{"$f":"IF(ISERROR((IF(CT79>Saisies!$C$7,\"\",IF(ISERROR(IF(CT79<Saisies!$B$7,\"\",CV79)*DB79),IF(CT79<Saisies!$B$7,\"\",CV79),\"\")))*(IF(ISERROR(DC79+1),0,DC79))*DD79*DE79*DF79),\"\",(IF(CT79>Saisies!$C$7,\"\",IF(ISERROR(IF(CT79<Saisies!$B$7,\"\",CV79)*DB79),IF(CT79<Saisies!$B$7,\"\",CV79),\"\")))*(IF(ISERROR(DC79+1),0,DC79))*DD79*DE79*DF79)","v":""},"",1,{"$f":"IF(CT79>Saisies!$C$25,1,(IF(CT79<Saisies!$B$25,1,IF(Saisies!$B$25=0,1,0))))","v":1},{"$f":"IF(CT79>Saisies!$E$25,1,(IF(CT79<Saisies!$D$25,1,IF(Saisies!$D$25=0,1,0))))","v":1},{"$f":"IF(CT79>Saisies!$G$25,1,(IF(CT79<Saisies!$F$25,1,IF(Saisies!$F$25<10,1,0))))","v":1},{"$f":"IF(CT79>Saisies!$C$10,\"\",(IF(CT79<Saisies!$B$10,\"\",CW79)))","v":""},{"$f":"IF(CT79>Saisies!$E$10,\"\",(IF(CT79<Saisies!$D$10,\"\",CW79)))","v":""},{"$f":"IF(CT79>Saisies!$G$10,\"\",(IF(CT79<Saisies!$F$10,\"\",CW79)))","v":""},"2017-08-28","L",7,7,492,{"$f":"IF(DN79>=Saisies!$E$4,(IF(DO78<=Saisies!$E$4,DJ79,DO78)),0)","v":42622},{"$f":"IF(DJ79=Saisies!$C$7,MIN((ABS(Saisies!$E$4-DN78)),DQ79),DQ79)","v":""},{"$f":"IF(ISERROR((IF(DJ79>Saisies!$C$7,\"\",IF(ISERROR(IF(DJ79<Saisies!$B$7,\"\",DL79)*DR79),IF(DJ79<Saisies!$B$7,\"\",DL79),\"\")))*(IF(ISERROR(DS79+1),0,DS79))*DT79*DU79*DV79),\"\",(IF(DJ79>Saisies!$C$7,\"\",IF(ISERROR(IF(DJ79<Saisies!$B$7,\"\",DL79)*DR79),IF(DJ79<Saisies!$B$7,\"\",DL79),\"\")))*(IF(ISERROR(DS79+1),0,DS79))*DT79*DU79*DV79)","v":""},"",1,{"$f":"IF(DJ79>Saisies!$C$25,1,(IF(DJ79<Saisies!$B$25,1,IF(Saisies!$B$25=0,1,0))))","v":1},{"$f":"IF(DJ79>Saisies!$E$25,1,(IF(DJ79<Saisies!$D$25,1,IF(Saisies!$D$25=0,1,0))))","v":1},{"$f":"IF(DJ79>Saisies!$G$25,1,(IF(DJ79<Saisies!$F$25,1,IF(Saisies!$F$25<10,1,0))))","v":1},{"$f":"IF(DJ79>Saisies!$C$10,\"\",(IF(DJ79<Saisies!$B$10,\"\",DM79)))","v":""},{"$f":"IF(DJ79>Saisies!$E$10,\"\",(IF(DJ79<Saisies!$D$10,\"\",DM79)))","v":""},{"$f":"IF(DJ79>Saisies!$G$10,\"\",(IF(DJ79<Saisies!$F$10,\"\",DM79)))","v":""},"2017-09-28","J",8,7,492,{"$f":"IF(ED79>=Saisies!$E$4,(IF(EE78<=Saisies!$E$4,DZ79,EE78)),0)","v":42622},{"$f":"IF(DZ79=Saisies!$C$7,MIN((ABS(Saisies!$E$4-ED78)),EG79),EG79)","v":""},{"$f":"IF(ISERROR((IF(DZ79>Saisies!$C$7,\"\",IF(ISERROR(IF(DZ79<Saisies!$B$7,\"\",EB79)*EH79),IF(DZ79<Saisies!$B$7,\"\",EB79),\"\")))*(IF(ISERROR(EI79+1),0,EI79))*EJ79*EK79*EL79),\"\",(IF(DZ79>Saisies!$C$7,\"\",IF(ISERROR(IF(DZ79<Saisies!$B$7,\"\",EB79)*EH79),IF(DZ79<Saisies!$B$7,\"\",EB79),\"\")))*(IF(ISERROR(EI79+1),0,EI79))*EJ79*EK79*EL79)","v":""},"",1,{"$f":"IF(DZ79>Saisies!$C$25,1,(IF(DZ79<Saisies!$B$25,1,IF(Saisies!$B$25=0,1,0))))","v":1},{"$f":"IF(DZ79>Saisies!$E$25,1,(IF(DZ79<Saisies!$D$25,1,IF(Saisies!$D$25=0,1,0))))","v":1},{"$f":"IF(DZ79>Saisies!$G$25,1,(IF(DZ79<Saisies!$F$25,1,IF(Saisies!$F$25<10,1,0))))","v":1},{"$f":"IF(DZ79>Saisies!$C$10,\"\",(IF(DZ79<Saisies!$B$10,\"\",EC79)))","v":""},{"$f":"IF(DZ79>Saisies!$E$10,\"\",(IF(DZ79<Saisies!$D$10,\"\",EC79)))","v":""},{"$f":"IF(DZ79>Saisies!$G$10,\"\",(IF(DZ79<Saisies!$F$10,\"\",EC79)))","v":""},"2017-10-28","S",0,0,492,{"$f":"IF(ET79>=Saisies!$E$4,(IF(EU78<=Saisies!$E$4,EP79,EU78)),0)","v":42622},{"$f":"IF(EP79=Saisies!$C$7,MIN((ABS(Saisies!$E$4-ET78)),EW79),EW79)","v":""},{"$f":"IF(ISERROR((IF(EP79>Saisies!$C$7,\"\",IF(ISERROR(IF(EP79<Saisies!$B$7,\"\",ER79)*EX79),IF(EP79<Saisies!$B$7,\"\",ER79),\"\")))*(IF(ISERROR(EY79+1),0,EY79))*EZ79*FA79*FB79),\"\",(IF(EP79>Saisies!$C$7,\"\",IF(ISERROR(IF(EP79<Saisies!$B$7,\"\",ER79)*EX79),IF(EP79<Saisies!$B$7,\"\",ER79),\"\")))*(IF(ISERROR(EY79+1),0,EY79))*EZ79*FA79*FB79)","v":""},"",1,{"$f":"IF(EP79>Saisies!$C$25,1,(IF(EP79<Saisies!$B$25,1,IF(Saisies!$B$25=0,1,0))))","v":1},{"$f":"IF(EP79>Saisies!$E$25,1,(IF(EP79<Saisies!$D$25,1,IF(Saisies!$D$25=0,1,0))))","v":1},{"$f":"IF(EP79>Saisies!$G$25,1,(IF(EP79<Saisies!$F$25,1,IF(Saisies!$F$25<10,1,0))))","v":1},{"$f":"IF(EP79>Saisies!$C$10,\"\",(IF(EP79<Saisies!$B$10,\"\",ES79)))","v":""},{"$f":"IF(EP79>Saisies!$E$10,\"\",(IF(EP79<Saisies!$D$10,\"\",ES79)))","v":""},{"$f":"IF(EP79>Saisies!$G$10,\"\",(IF(EP79<Saisies!$F$10,\"\",ES79)))","v":""},"2017-11-28","M",8,7,492,{"$f":"IF(FJ79>=Saisies!$E$4,(IF(FK78<=Saisies!$E$4,FF79,FK78)),0)","v":42622},{"$f":"IF(FF79=Saisies!$C$7,MIN((ABS(Saisies!$E$4-FJ78)),FM79),FM79)","v":""},{"$f":"IF(ISERROR((IF(FF79>Saisies!$C$7,\"\",IF(ISERROR(IF(FF79<Saisies!$B$7,\"\",FH79)*FN79),IF(FF79<Saisies!$B$7,\"\",FH79),\"\")))*(IF(ISERROR(FO79+1),0,FO79))*FP79*FQ79*FR79),\"\",(IF(FF79>Saisies!$C$7,\"\",IF(ISERROR(IF(FF79<Saisies!$B$7,\"\",FH79)*FN79),IF(FF79<Saisies!$B$7,\"\",FH79),\"\")))*(IF(ISERROR(FO79+1),0,FO79))*FP79*FQ79*FR79)","v":""},"",1,{"$f":"IF(FF79>Saisies!$C$25,1,(IF(FF79<Saisies!$B$25,1,IF(Saisies!$B$25=0,1,0))))","v":1},{"$f":"IF(FF79>Saisies!$E$25,1,(IF(FF79<Saisies!$D$25,1,IF(Saisies!$D$25=0,1,0))))","v":1},{"$f":"IF(FF79>Saisies!$G$25,1,(IF(FF79<Saisies!$F$25,1,IF(Saisies!$F$25<10,1,0))))","v":1},{"$f":"IF(FF79>Saisies!$C$10,\"\",(IF(FF79<Saisies!$B$10,\"\",FI79)))","v":""},{"$f":"IF(FF79>Saisies!$E$10,\"\",(IF(FF79<Saisies!$D$10,\"\",FI79)))","v":""},{"$f":"IF(FF79>Saisies!$G$10,\"\",(IF(FF79<Saisies!$F$10,\"\",FI79)))","v":""},"2017-12-28","J",8,7,492,{"$f":"IF(FZ79>=Saisies!$E$4,(IF(GA78<=Saisies!$E$4,FV79,GA78)),0)","v":42622},{"$f":"IF(FV79=Saisies!$C$7,MIN((ABS(Saisies!$E$4-FZ78)),GC79),GC79)","v":""},{"$f":"IF(ISERROR((IF(FV79>Saisies!$C$7,\"\",IF(ISERROR(IF(FV79<Saisies!$B$7,\"\",FX79)*GD79),IF(FV79<Saisies!$B$7,\"\",FX79),\"\")))*(IF(ISERROR(GE79+1),0,GE79))*GF79*GG79*GH79),\"\",(IF(FV79>Saisies!$C$7,\"\",IF(ISERROR(IF(FV79<Saisies!$B$7,\"\",FX79)*GD79),IF(FV79<Saisies!$B$7,\"\",FX79),\"\")))*(IF(ISERROR(GE79+1),0,GE79))*GF79*GG79*GH79)","v":""},"","R",{"$f":"IF(FV79>Saisies!$C$25,1,(IF(FV79<Saisies!$B$25,1,IF(Saisies!$B$25=0,1,0))))","v":1},{"$f":"IF(FV79>Saisies!$E$25,1,(IF(FV79<Saisies!$D$25,1,IF(Saisies!$D$25=0,1,0))))","v":1},{"$f":"IF(FV79>Saisies!$G$25,1,(IF(FV79<Saisies!$F$25,1,IF(Saisies!$F$25<10,1,0))))","v":1},{"$f":"IF(FV79>Saisies!$C$10,\"\",(IF(FV79<Saisies!$B$10,\"\",FY79)))","v":""},{"$f":"IF(FV79>Saisies!$E$10,\"\",(IF(FV79<Saisies!$D$10,\"\",FY79)))","v":""},{"$f":"IF(FV79>Saisies!$G$10,\"\",(IF(FV79<Saisies!$F$10,\"\",FY79)))","v":""}]
[null,"2017-01-29","D",0,0,492,{"$f":"IF(F80>=Saisies!$E$4,(IF(G79<=Saisies!$E$4,B80,G79)),0)","v":42622},{"$f":"IF(B80=Saisies!$C$7,MIN((ABS(Saisies!$E$4-F79)),I80),I80)","v":""},{"$f":"IF(ISERROR((IF(B80>Saisies!$C$7,\"\",IF(ISERROR(IF(B80<Saisies!$B$7,\"\",D80)*J80),IF(B80<Saisies!$B$7,\"\",D80),\"\")))*(IF(ISERROR(K80+1),0,K80))*L80*M80*N80),\"\",(IF(B80>Saisies!$C$7,\"\",IF(ISERROR(IF(B80<Saisies!$B$7,\"\",D80)*J80),IF(B80<Saisies!$B$7,\"\",D80),\"\")))*(IF(ISERROR(K80+1),0,K80))*L80*M80*N80)","v":""},"",1,{"$f":"IF(B80>Saisies!$C$25,1,(IF(B80<Saisies!$B$25,1,IF(Saisies!$B$25=0,1,0))))","v":1},{"$f":"IF(B80>Saisies!$E$25,1,(IF(B80<Saisies!$D$25,1,IF(Saisies!$D$25=0,1,0))))","v":1},{"$f":"IF(B80>Saisies!$G$25,1,(IF(B80<Saisies!$F$25,1,IF(Saisies!$F$25<10,1,0))))","v":1},{"$f":"IF(B80>Saisies!$C$10,\"\",(IF(B80<Saisies!$B$10,\"\",E80)))","v":""},{"$f":"IF(B80>Saisies!$E$10,\"\",(IF(B80<Saisies!$D$10,\"\",E80)))","v":""},{"$f":"IF(B80>Saisies!$G$10,\"\",(IF(B80<Saisies!$F$10,\"\",E80)))","v":""},{"$f":"IF(B49=2016,R79+1,\"\")","v":""},"",{"$f":"IF(R80=\"\",0,LOOKUP(UPPER(LEFT(TEXT(R80,\"jjjj\"),2)),$GW$5:$GX$11))","v":0},{"$f":"IF(R80=\"\",0,LOOKUP(UPPER(LEFT(TEXT(R80,\"jjjj\"),2)),$GW$14:$GX$20))","v":0},492,{"$f":"IF(V80>=Saisies!$E$4,(IF(W79<=Saisies!$E$4,R80,W79)),0)","v":42622},{"$f":"IF(R80=Saisies!$C$7,MIN((ABS(Saisies!$E$4-V79)),Y80),Y80)","v":""},{"$f":"IF(ISERROR((IF(R80>Saisies!$C$7,\"\",IF(ISERROR(IF(R80<Saisies!$B$7,\"\",T80)*Z80),IF(R80<Saisies!$B$7,\"\",T80),\"\")))*(IF(ISERROR(AA80+1),0,AA80))*AB80*AC80*AD80),\"\",(IF(R80>Saisies!$C$7,\"\",IF(ISERROR(IF(R80<Saisies!$B$7,\"\",T80)*Z80),IF(R80<Saisies!$B$7,\"\",T80),\"\")))*(IF(ISERROR(AA80+1),0,AA80))*AB80*AC80*AD80)","v":""},"",1,{"$f":"IF(R80>Saisies!$C$25,1,(IF(R80<Saisies!$B$25,1,IF(Saisies!$B$25=0,1,0))))","v":1},{"$f":"IF(R80>Saisies!$E$25,1,(IF(R80<Saisies!$D$25,1,IF(Saisies!$D$25=0,1,0))))","v":1},{"$f":"IF(R80>Saisies!$G$25,1,(IF(R80<Saisies!$F$25,1,IF(Saisies!$F$25<10,1,0))))","v":1},{"$f":"IF(R80>Saisies!$C$10,\"\",(IF(R80<Saisies!$B$10,\"\",U80)))","v":""},{"$f":"IF(R80>Saisies!$E$10,\"\",(IF(R80<Saisies!$D$10,\"\",U80)))","v":""},{"$f":"IF(R80>Saisies!$G$10,\"\",(IF(R80<Saisies!$F$10,\"\",U80)))","v":0},"2017-03-29","M",8,7,492,{"$f":"IF(AL80>=Saisies!$E$4,(IF(AM79<=Saisies!$E$4,AH80,AM79)),0)","v":42622},{"$f":"IF(AH80=Saisies!$C$7,MIN((ABS(Saisies!$E$4-AL79)),AO80),AO80)","v":""},{"$f":"IF(ISERROR((IF(AH80>Saisies!$C$7,\"\",IF(ISERROR(IF(AH80<Saisies!$B$7,\"\",AJ80)*AP80),IF(AH80<Saisies!$B$7,\"\",AJ80),\"\")))*(IF(ISERROR(AQ80+1),0,AQ80))*AR80*AS80*AT80),\"\",(IF(AH80>Saisies!$C$7,\"\",IF(ISERROR(IF(AH80<Saisies!$B$7,\"\",AJ80)*AP80),IF(AH80<Saisies!$B$7,\"\",AJ80),\"\")))*(IF(ISERROR(AQ80+1),0,AQ80))*AR80*AS80*AT80)","v":""},"",1,{"$f":"IF(AH80>Saisies!$C$25,1,(IF(AH80<Saisies!$B$25,1,IF(Saisies!$B$25=0,1,0))))","v":1},{"$f":"IF(AH80>Saisies!$E$25,1,(IF(AH80<Saisies!$D$25,1,IF(Saisies!$D$25=0,1,0))))","v":1},{"$f":"IF(AH80>Saisies!$G$25,1,(IF(AH80<Saisies!$F$25,1,IF(Saisies!$F$25<10,1,0))))","v":1},{"$f":"IF(AH80>Saisies!$C$10,\"\",(IF(AH80<Saisies!$B$10,\"\",AK80)))","v":""},{"$f":"IF(AH80>Saisies!$E$10,\"\",(IF(AH80<Saisies!$D$10,\"\",AK80)))","v":""},{"$f":"IF(AH80>Saisies!$G$10,\"\",(IF(AH80<Saisies!$F$10,\"\",AK80)))","v":""},"2017-04-29","S",0,0,492,{"$f":"IF(BB80>=Saisies!$E$4,(IF(BC79<=Saisies!$E$4,AX80,BC79)),0)","v":42622},{"$f":"IF(AX80=Saisies!$C$7,MIN((ABS(Saisies!$E$4-BB79)),BE80),BE80)","v":""},{"$f":"IF(ISERROR((IF(AX80>Saisies!$C$7,\"\",IF(ISERROR(IF(AX80<Saisies!$B$7,\"\",AZ80)*BF80),IF(AX80<Saisies!$B$7,\"\",AZ80),\"\")))*(IF(ISERROR(BG80+1),0,BG80))*BH80*BI80*BJ80),\"\",(IF(AX80>Saisies!$C$7,\"\",IF(ISERROR(IF(AX80<Saisies!$B$7,\"\",AZ80)*BF80),IF(AX80<Saisies!$B$7,\"\",AZ80),\"\")))*(IF(ISERROR(BG80+1),0,BG80))*BH80*BI80*BJ80)","v":""},"",1,{"$f":"IF(AX80>Saisies!$C$25,1,(IF(AX80<Saisies!$B$25,1,IF(Saisies!$B$25=0,1,0))))","v":1},{"$f":"IF(AX80>Saisies!$E$25,1,(IF(AX80<Saisies!$D$25,1,IF(Saisies!$D$25=0,1,0))))","v":1},{"$f":"IF(AX80>Saisies!$G$25,1,(IF(AX80<Saisies!$F$25,1,IF(Saisies!$F$25<10,1,0))))","v":1},{"$f":"IF(AX80>Saisies!$C$10,\"\",(IF(AX80<Saisies!$B$10,\"\",BA80)))","v":""},{"$f":"IF(AX80>Saisies!$E$10,\"\",(IF(AX80<Saisies!$D$10,\"\",BA80)))","v":""},{"$f":"IF(AX80>Saisies!$G$10,\"\",(IF(AX80<Saisies!$F$10,\"\",BA80)))","v":""},"2017-05-29","L",7,7,492,{"$f":"IF(BR80>=Saisies!$E$4,(IF(BS79<=Saisies!$E$4,BN80,BS79)),0)","v":42622},{"$f":"IF(BN80=Saisies!$C$7,MIN((ABS(Saisies!$E$4-BR79)),BU80),BU80)","v":""},{"$f":"IF(ISERROR((IF(BN80>Saisies!$C$7,\"\",IF(ISERROR(IF(BN80<Saisies!$B$7,\"\",BP80)*BV80),IF(BN80<Saisies!$B$7,\"\",BP80),\"\")))*(IF(ISERROR(BW80+1),0,BW80))*BX80*BY80*BZ80),\"\",(IF(BN80>Saisies!$C$7,\"\",IF(ISERROR(IF(BN80<Saisies!$B$7,\"\",BP80)*BV80),IF(BN80<Saisies!$B$7,\"\",BP80),\"\")))*(IF(ISERROR(BW80+1),0,BW80))*BX80*BY80*BZ80)","v":""},"",1,{"$f":"IF(BN80>Saisies!$C$25,1,(IF(BN80<Saisies!$B$25,1,IF(Saisies!$B$25=0,1,0))))","v":1},{"$f":"IF(BN80>Saisies!$E$25,1,(IF(BN80<Saisies!$D$25,1,IF(Saisies!$D$25=0,1,0))))","v":1},{"$f":"IF(BN80>Saisies!$G$25,1,(IF(BN80<Saisies!$F$25,1,IF(Saisies!$F$25<10,1,0))))","v":1},{"$f":"IF(BN80>Saisies!$C$10,\"\",(IF(BN80<Saisies!$B$10,\"\",BQ80)))","v":""},{"$f":"IF(BN80>Saisies!$E$10,\"\",(IF(BN80<Saisies!$D$10,\"\",BQ80)))","v":""},{"$f":"IF(BN80>Saisies!$G$10,\"\",(IF(BN80<Saisies!$F$10,\"\",BQ80)))","v":""},"2017-06-29","J",8,7,492,{"$f":"IF(CH80>=Saisies!$E$4,(IF(CI79<=Saisies!$E$4,CD80,CI79)),0)","v":42622},{"$f":"IF(CD80=Saisies!$C$7,MIN((ABS(Saisies!$E$4-CH79)),CK80),CK80)","v":""},{"$f":"IF(ISERROR((IF(CD80>Saisies!$C$7,\"\",IF(ISERROR(IF(CD80<Saisies!$B$7,\"\",CF80)*CL80),IF(CD80<Saisies!$B$7,\"\",CF80),\"\")))*(IF(ISERROR(CM80+1),0,CM80))*CN80*CO80*CP80),\"\",(IF(CD80>Saisies!$C$7,\"\",IF(ISERROR(IF(CD80<Saisies!$B$7,\"\",CF80)*CL80),IF(CD80<Saisies!$B$7,\"\",CF80),\"\")))*(IF(ISERROR(CM80+1),0,CM80))*CN80*CO80*CP80)","v":""},"",1,{"$f":"IF(CD80>Saisies!$C$25,1,(IF(CD80<Saisies!$B$25,1,IF(Saisies!$B$25=0,1,0))))","v":1},{"$f":"IF(CD80>Saisies!$E$25,1,(IF(CD80<Saisies!$D$25,1,IF(Saisies!$D$25=0,1,0))))","v":1},{"$f":"IF(CD80>Saisies!$G$25,1,(IF(CD80<Saisies!$F$25,1,IF(Saisies!$F$25<10,1,0))))","v":1},{"$f":"IF(CD80>Saisies!$C$10,\"\",(IF(CD80<Saisies!$B$10,\"\",CG80)))","v":""},{"$f":"IF(CD80>Saisies!$E$10,\"\",(IF(CD80<Saisies!$D$10,\"\",CG80)))","v":""},{"$f":"IF(CD80>Saisies!$G$10,\"\",(IF(CD80<Saisies!$F$10,\"\",CG80)))","v":""},"2017-07-29","S",0,0,492,{"$f":"IF(CX80>=Saisies!$E$4,(IF(CY79<=Saisies!$E$4,CT80,CY79)),0)","v":42622},{"$f":"IF(CT80=Saisies!$C$7,MIN((ABS(Saisies!$E$4-CX79)),DA80),DA80)","v":""},{"$f":"IF(ISERROR((IF(CT80>Saisies!$C$7,\"\",IF(ISERROR(IF(CT80<Saisies!$B$7,\"\",CV80)*DB80),IF(CT80<Saisies!$B$7,\"\",CV80),\"\")))*(IF(ISERROR(DC80+1),0,DC80))*DD80*DE80*DF80),\"\",(IF(CT80>Saisies!$C$7,\"\",IF(ISERROR(IF(CT80<Saisies!$B$7,\"\",CV80)*DB80),IF(CT80<Saisies!$B$7,\"\",CV80),\"\")))*(IF(ISERROR(DC80+1),0,DC80))*DD80*DE80*DF80)","v":""},"",1,{"$f":"IF(CT80>Saisies!$C$25,1,(IF(CT80<Saisies!$B$25,1,IF(Saisies!$B$25=0,1,0))))","v":1},{"$f":"IF(CT80>Saisies!$E$25,1,(IF(CT80<Saisies!$D$25,1,IF(Saisies!$D$25=0,1,0))))","v":1},{"$f":"IF(CT80>Saisies!$G$25,1,(IF(CT80<Saisies!$F$25,1,IF(Saisies!$F$25<10,1,0))))","v":1},{"$f":"IF(CT80>Saisies!$C$10,\"\",(IF(CT80<Saisies!$B$10,\"\",CW80)))","v":""},{"$f":"IF(CT80>Saisies!$E$10,\"\",(IF(CT80<Saisies!$D$10,\"\",CW80)))","v":""},{"$f":"IF(CT80>Saisies!$G$10,\"\",(IF(CT80<Saisies!$F$10,\"\",CW80)))","v":""},"2017-08-29","M",8,7,492,{"$f":"IF(DN80>=Saisies!$E$4,(IF(DO79<=Saisies!$E$4,DJ80,DO79)),0)","v":42622},{"$f":"IF(DJ80=Saisies!$C$7,MIN((ABS(Saisies!$E$4-DN79)),DQ80),DQ80)","v":""},{"$f":"IF(ISERROR((IF(DJ80>Saisies!$C$7,\"\",IF(ISERROR(IF(DJ80<Saisies!$B$7,\"\",DL80)*DR80),IF(DJ80<Saisies!$B$7,\"\",DL80),\"\")))*(IF(ISERROR(DS80+1),0,DS80))*DT80*DU80*DV80),\"\",(IF(DJ80>Saisies!$C$7,\"\",IF(ISERROR(IF(DJ80<Saisies!$B$7,\"\",DL80)*DR80),IF(DJ80<Saisies!$B$7,\"\",DL80),\"\")))*(IF(ISERROR(DS80+1),0,DS80))*DT80*DU80*DV80)","v":""},"",1,{"$f":"IF(DJ80>Saisies!$C$25,1,(IF(DJ80<Saisies!$B$25,1,IF(Saisies!$B$25=0,1,0))))","v":1},{"$f":"IF(DJ80>Saisies!$E$25,1,(IF(DJ80<Saisies!$D$25,1,IF(Saisies!$D$25=0,1,0))))","v":1},{"$f":"IF(DJ80>Saisies!$G$25,1,(IF(DJ80<Saisies!$F$25,1,IF(Saisies!$F$25<10,1,0))))","v":1},{"$f":"IF(DJ80>Saisies!$C$10,\"\",(IF(DJ80<Saisies!$B$10,\"\",DM80)))","v":""},{"$f":"IF(DJ80>Saisies!$E$10,\"\",(IF(DJ80<Saisies!$D$10,\"\",DM80)))","v":""},{"$f":"IF(DJ80>Saisies!$G$10,\"\",(IF(DJ80<Saisies!$F$10,\"\",DM80)))","v":""},"2017-09-29","V",4,7,492,{"$f":"IF(ED80>=Saisies!$E$4,(IF(EE79<=Saisies!$E$4,DZ80,EE79)),0)","v":42622},{"$f":"IF(DZ80=Saisies!$C$7,MIN((ABS(Saisies!$E$4-ED79)),EG80),EG80)","v":""},{"$f":"IF(ISERROR((IF(DZ80>Saisies!$C$7,\"\",IF(ISERROR(IF(DZ80<Saisies!$B$7,\"\",EB80)*EH80),IF(DZ80<Saisies!$B$7,\"\",EB80),\"\")))*(IF(ISERROR(EI80+1),0,EI80))*EJ80*EK80*EL80),\"\",(IF(DZ80>Saisies!$C$7,\"\",IF(ISERROR(IF(DZ80<Saisies!$B$7,\"\",EB80)*EH80),IF(DZ80<Saisies!$B$7,\"\",EB80),\"\")))*(IF(ISERROR(EI80+1),0,EI80))*EJ80*EK80*EL80)","v":""},"",1,{"$f":"IF(DZ80>Saisies!$C$25,1,(IF(DZ80<Saisies!$B$25,1,IF(Saisies!$B$25=0,1,0))))","v":1},{"$f":"IF(DZ80>Saisies!$E$25,1,(IF(DZ80<Saisies!$D$25,1,IF(Saisies!$D$25=0,1,0))))","v":1},{"$f":"IF(DZ80>Saisies!$G$25,1,(IF(DZ80<Saisies!$F$25,1,IF(Saisies!$F$25<10,1,0))))","v":1},{"$f":"IF(DZ80>Saisies!$C$10,\"\",(IF(DZ80<Saisies!$B$10,\"\",EC80)))","v":""},{"$f":"IF(DZ80>Saisies!$E$10,\"\",(IF(DZ80<Saisies!$D$10,\"\",EC80)))","v":""},{"$f":"IF(DZ80>Saisies!$G$10,\"\",(IF(DZ80<Saisies!$F$10,\"\",EC80)))","v":""},"2017-10-29","D",0,0,492,{"$f":"IF(ET80>=Saisies!$E$4,(IF(EU79<=Saisies!$E$4,EP80,EU79)),0)","v":42622},{"$f":"IF(EP80=Saisies!$C$7,MIN((ABS(Saisies!$E$4-ET79)),EW80),EW80)","v":""},{"$f":"IF(ISERROR((IF(EP80>Saisies!$C$7,\"\",IF(ISERROR(IF(EP80<Saisies!$B$7,\"\",ER80)*EX80),IF(EP80<Saisies!$B$7,\"\",ER80),\"\")))*(IF(ISERROR(EY80+1),0,EY80))*EZ80*FA80*FB80),\"\",(IF(EP80>Saisies!$C$7,\"\",IF(ISERROR(IF(EP80<Saisies!$B$7,\"\",ER80)*EX80),IF(EP80<Saisies!$B$7,\"\",ER80),\"\")))*(IF(ISERROR(EY80+1),0,EY80))*EZ80*FA80*FB80)","v":""},"",1,{"$f":"IF(EP80>Saisies!$C$25,1,(IF(EP80<Saisies!$B$25,1,IF(Saisies!$B$25=0,1,0))))","v":1},{"$f":"IF(EP80>Saisies!$E$25,1,(IF(EP80<Saisies!$D$25,1,IF(Saisies!$D$25=0,1,0))))","v":1},{"$f":"IF(EP80>Saisies!$G$25,1,(IF(EP80<Saisies!$F$25,1,IF(Saisies!$F$25<10,1,0))))","v":1},{"$f":"IF(EP80>Saisies!$C$10,\"\",(IF(EP80<Saisies!$B$10,\"\",ES80)))","v":""},{"$f":"IF(EP80>Saisies!$E$10,\"\",(IF(EP80<Saisies!$D$10,\"\",ES80)))","v":""},{"$f":"IF(EP80>Saisies!$G$10,\"\",(IF(EP80<Saisies!$F$10,\"\",ES80)))","v":""},"2017-11-29","M",8,7,492,{"$f":"IF(FJ80>=Saisies!$E$4,(IF(FK79<=Saisies!$E$4,FF80,FK79)),0)","v":42622},{"$f":"IF(FF80=Saisies!$C$7,MIN((ABS(Saisies!$E$4-FJ79)),FM80),FM80)","v":""},{"$f":"IF(ISERROR((IF(FF80>Saisies!$C$7,\"\",IF(ISERROR(IF(FF80<Saisies!$B$7,\"\",FH80)*FN80),IF(FF80<Saisies!$B$7,\"\",FH80),\"\")))*(IF(ISERROR(FO80+1),0,FO80))*FP80*FQ80*FR80),\"\",(IF(FF80>Saisies!$C$7,\"\",IF(ISERROR(IF(FF80<Saisies!$B$7,\"\",FH80)*FN80),IF(FF80<Saisies!$B$7,\"\",FH80),\"\")))*(IF(ISERROR(FO80+1),0,FO80))*FP80*FQ80*FR80)","v":""},"",1,{"$f":"IF(FF80>Saisies!$C$25,1,(IF(FF80<Saisies!$B$25,1,IF(Saisies!$B$25=0,1,0))))","v":1},{"$f":"IF(FF80>Saisies!$E$25,1,(IF(FF80<Saisies!$D$25,1,IF(Saisies!$D$25=0,1,0))))","v":1},{"$f":"IF(FF80>Saisies!$G$25,1,(IF(FF80<Saisies!$F$25,1,IF(Saisies!$F$25<10,1,0))))","v":1},{"$f":"IF(FF80>Saisies!$C$10,\"\",(IF(FF80<Saisies!$B$10,\"\",FI80)))","v":""},{"$f":"IF(FF80>Saisies!$E$10,\"\",(IF(FF80<Saisies!$D$10,\"\",FI80)))","v":""},{"$f":"IF(FF80>Saisies!$G$10,\"\",(IF(FF80<Saisies!$F$10,\"\",FI80)))","v":""},"2017-12-29","V",4,7,492,{"$f":"IF(FZ80>=Saisies!$E$4,(IF(GA79<=Saisies!$E$4,FV80,GA79)),0)","v":42622},{"$f":"IF(FV80=Saisies!$C$7,MIN((ABS(Saisies!$E$4-FZ79)),GC80),GC80)","v":""},{"$f":"IF(ISERROR((IF(FV80>Saisies!$C$7,\"\",IF(ISERROR(IF(FV80<Saisies!$B$7,\"\",FX80)*GD80),IF(FV80<Saisies!$B$7,\"\",FX80),\"\")))*(IF(ISERROR(GE80+1),0,GE80))*GF80*GG80*GH80),\"\",(IF(FV80>Saisies!$C$7,\"\",IF(ISERROR(IF(FV80<Saisies!$B$7,\"\",FX80)*GD80),IF(FV80<Saisies!$B$7,\"\",FX80),\"\")))*(IF(ISERROR(GE80+1),0,GE80))*GF80*GG80*GH80)","v":""},"","R",{"$f":"IF(FV80>Saisies!$C$25,1,(IF(FV80<Saisies!$B$25,1,IF(Saisies!$B$25=0,1,0))))","v":1},{"$f":"IF(FV80>Saisies!$E$25,1,(IF(FV80<Saisies!$D$25,1,IF(Saisies!$D$25=0,1,0))))","v":1},{"$f":"IF(FV80>Saisies!$G$25,1,(IF(FV80<Saisies!$F$25,1,IF(Saisies!$F$25<10,1,0))))","v":1},{"$f":"IF(FV80>Saisies!$C$10,\"\",(IF(FV80<Saisies!$B$10,\"\",FY80)))","v":""},{"$f":"IF(FV80>Saisies!$E$10,\"\",(IF(FV80<Saisies!$D$10,\"\",FY80)))","v":""},{"$f":"IF(FV80>Saisies!$G$10,\"\",(IF(FV80<Saisies!$F$10,\"\",FY80)))","v":""}]
[null,"2017-01-30","L",7,7,492,{"$f":"IF(F81>=Saisies!$E$4,(IF(G80<=Saisies!$E$4,B81,G80)),0)","v":42622},{"$f":"IF(B81=Saisies!$C$7,MIN((ABS(Saisies!$E$4-F80)),I81),I81)","v":""},{"$f":"IF(ISERROR((IF(B81>Saisies!$C$7,\"\",IF(ISERROR(IF(B81<Saisies!$B$7,\"\",D81)*J81),IF(B81<Saisies!$B$7,\"\",D81),\"\")))*(IF(ISERROR(K81+1),0,K81))*L81*M81*N81),\"\",(IF(B81>Saisies!$C$7,\"\",IF(ISERROR(IF(B81<Saisies!$B$7,\"\",D81)*J81),IF(B81<Saisies!$B$7,\"\",D81),\"\")))*(IF(ISERROR(K81+1),0,K81))*L81*M81*N81)","v":""},"",1,{"$f":"IF(B81>Saisies!$C$25,1,(IF(B81<Saisies!$B$25,1,IF(Saisies!$B$25=0,1,0))))","v":1},{"$f":"IF(B81>Saisies!$E$25,1,(IF(B81<Saisies!$D$25,1,IF(Saisies!$D$25=0,1,0))))","v":1},{"$f":"IF(B81>Saisies!$G$25,1,(IF(B81<Saisies!$F$25,1,IF(Saisies!$F$25<10,1,0))))","v":1},{"$f":"IF(B81>Saisies!$C$10,\"\",(IF(B81<Saisies!$B$10,\"\",E81)))","v":""},{"$f":"IF(B81>Saisies!$E$10,\"\",(IF(B81<Saisies!$D$10,\"\",E81)))","v":""},{"$f":"IF(B81>Saisies!$G$10,\"\",(IF(B81<Saisies!$F$10,\"\",E81)))","v":""},null,null,{"$f":"LOOKUP(UPPER(LEFT(TEXT(R81,\"jjjj\"),2)),$GW$5:$GX$11)","v":0},{"$f":"LOOKUP(UPPER(LEFT(TEXT(R81,\"jjjj\"),2)),$GW$14:$GX$20)","v":0},492,{"$f":"IF(V81>=Saisies!$E$4,(IF(W80<=Saisies!$E$4,R81,W80)),0)","v":42622},{"$f":"IF(R81=Saisies!$C$7,MIN((ABS(Saisies!$E$4-V80)),Y81),Y81)","v":""},{"$f":"IF(ISERROR((IF(R81>Saisies!$C$7,\"\",IF(ISERROR(IF(R81<Saisies!$B$7,\"\",T81)*Z81),IF(R81<Saisies!$B$7,\"\",T81),\"\")))*(IF(ISERROR(AA81+1),0,AA81))*AB81*AC81*AD81),\"\",(IF(R81>Saisies!$C$7,\"\",IF(ISERROR(IF(R81<Saisies!$B$7,\"\",T81)*Z81),IF(R81<Saisies!$B$7,\"\",T81),\"\")))*(IF(ISERROR(AA81+1),0,AA81))*AB81*AC81*AD81)","v":""},"",0,{"$f":"IF(R81>Saisies!$C$25,1,(IF(R81<Saisies!$B$25,1,IF(Saisies!$B$25=0,1,0))))","v":1},{"$f":"IF(R81>Saisies!$E$25,1,(IF(R81<Saisies!$D$25,1,IF(Saisies!$D$25=0,1,0))))","v":1},{"$f":"IF(R81>Saisies!$G$25,1,(IF(R81<Saisies!$F$25,1,IF(Saisies!$F$25<10,1,0))))","v":1},{"$f":"IF(R81>Saisies!$C$10,\"\",(IF(R81<Saisies!$B$10,\"\",U81)))","v":""},{"$f":"IF(R81>Saisies!$E$10,\"\",(IF(R81<Saisies!$D$10,\"\",U81)))","v":""},{"$f":"IF(R81>Saisies!$G$10,\"\",(IF(R81<Saisies!$F$10,\"\",U81)))","v":0},"2017-03-30","J",8,7,492,{"$f":"IF(AL81>=Saisies!$E$4,(IF(AM80<=Saisies!$E$4,AH81,AM80)),0)","v":42622},{"$f":"IF(AH81=Saisies!$C$7,MIN((ABS(Saisies!$E$4-AL80)),AO81),AO81)","v":""},{"$f":"IF(ISERROR((IF(AH81>Saisies!$C$7,\"\",IF(ISERROR(IF(AH81<Saisies!$B$7,\"\",AJ81)*AP81),IF(AH81<Saisies!$B$7,\"\",AJ81),\"\")))*(IF(ISERROR(AQ81+1),0,AQ81))*AR81*AS81*AT81),\"\",(IF(AH81>Saisies!$C$7,\"\",IF(ISERROR(IF(AH81<Saisies!$B$7,\"\",AJ81)*AP81),IF(AH81<Saisies!$B$7,\"\",AJ81),\"\")))*(IF(ISERROR(AQ81+1),0,AQ81))*AR81*AS81*AT81)","v":""},"",1,{"$f":"IF(AH81>Saisies!$C$25,1,(IF(AH81<Saisies!$B$25,1,IF(Saisies!$B$25=0,1,0))))","v":1},{"$f":"IF(AH81>Saisies!$E$25,1,(IF(AH81<Saisies!$D$25,1,IF(Saisies!$D$25=0,1,0))))","v":1},{"$f":"IF(AH81>Saisies!$G$25,1,(IF(AH81<Saisies!$F$25,1,IF(Saisies!$F$25<10,1,0))))","v":1},{"$f":"IF(AH81>Saisies!$C$10,\"\",(IF(AH81<Saisies!$B$10,\"\",AK81)))","v":""},{"$f":"IF(AH81>Saisies!$E$10,\"\",(IF(AH81<Saisies!$D$10,\"\",AK81)))","v":""},{"$f":"IF(AH81>Saisies!$G$10,\"\",(IF(AH81<Saisies!$F$10,\"\",AK81)))","v":""},"2017-04-30","D",0,0,492,{"$f":"IF(BB81>=Saisies!$E$4,(IF(BC80<=Saisies!$E$4,AX81,BC80)),0)","v":42622},{"$f":"IF(AX81=Saisies!$C$7,MIN((ABS(Saisies!$E$4-BB80)),BE81),BE81)","v":""},{"$f":"IF(ISERROR((IF(AX81>Saisies!$C$7,\"\",IF(ISERROR(IF(AX81<Saisies!$B$7,\"\",AZ81)*BF81),IF(AX81<Saisies!$B$7,\"\",AZ81),\"\")))*(IF(ISERROR(BG81+1),0,BG81))*BH81*BI81*BJ81),\"\",(IF(AX81>Saisies!$C$7,\"\",IF(ISERROR(IF(AX81<Saisies!$B$7,\"\",AZ81)*BF81),IF(AX81<Saisies!$B$7,\"\",AZ81),\"\")))*(IF(ISERROR(BG81+1),0,BG81))*BH81*BI81*BJ81)","v":""},"",1,{"$f":"IF(AX81>Saisies!$C$25,1,(IF(AX81<Saisies!$B$25,1,IF(Saisies!$B$25=0,1,0))))","v":1},{"$f":"IF(AX81>Saisies!$E$25,1,(IF(AX81<Saisies!$D$25,1,IF(Saisies!$D$25=0,1,0))))","v":1},{"$f":"IF(AX81>Saisies!$G$25,1,(IF(AX81<Saisies!$F$25,1,IF(Saisies!$F$25<10,1,0))))","v":1},{"$f":"IF(AX81>Saisies!$C$10,\"\",(IF(AX81<Saisies!$B$10,\"\",BA81)))","v":""},{"$f":"IF(AX81>Saisies!$E$10,\"\",(IF(AX81<Saisies!$D$10,\"\",BA81)))","v":""},{"$f":"IF(AX81>Saisies!$G$10,\"\",(IF(AX81<Saisies!$F$10,\"\",BA81)))","v":""},"2017-05-30","M",8,7,492,{"$f":"IF(BR81>=Saisies!$E$4,(IF(BS80<=Saisies!$E$4,BN81,BS80)),0)","v":42622},{"$f":"IF(BN81=Saisies!$C$7,MIN((ABS(Saisies!$E$4-BR80)),BU81),BU81)","v":""},{"$f":"IF(ISERROR((IF(BN81>Saisies!$C$7,\"\",IF(ISERROR(IF(BN81<Saisies!$B$7,\"\",BP81)*BV81),IF(BN81<Saisies!$B$7,\"\",BP81),\"\")))*(IF(ISERROR(BW81+1),0,BW81))*BX81*BY81*BZ81),\"\",(IF(BN81>Saisies!$C$7,\"\",IF(ISERROR(IF(BN81<Saisies!$B$7,\"\",BP81)*BV81),IF(BN81<Saisies!$B$7,\"\",BP81),\"\")))*(IF(ISERROR(BW81+1),0,BW81))*BX81*BY81*BZ81)","v":""},"",1,{"$f":"IF(BN81>Saisies!$C$25,1,(IF(BN81<Saisies!$B$25,1,IF(Saisies!$B$25=0,1,0))))","v":1},{"$f":"IF(BN81>Saisies!$E$25,1,(IF(BN81<Saisies!$D$25,1,IF(Saisies!$D$25=0,1,0))))","v":1},{"$f":"IF(BN81>Saisies!$G$25,1,(IF(BN81<Saisies!$F$25,1,IF(Saisies!$F$25<10,1,0))))","v":1},{"$f":"IF(BN81>Saisies!$C$10,\"\",(IF(BN81<Saisies!$B$10,\"\",BQ81)))","v":""},{"$f":"IF(BN81>Saisies!$E$10,\"\",(IF(BN81<Saisies!$D$10,\"\",BQ81)))","v":""},{"$f":"IF(BN81>Saisies!$G$10,\"\",(IF(BN81<Saisies!$F$10,\"\",BQ81)))","v":""},"2017-06-30","V",4,7,492,{"$f":"IF(CH81>=Saisies!$E$4,(IF(CI80<=Saisies!$E$4,CD81,CI80)),0)","v":42622},{"$f":"IF(CD81=Saisies!$C$7,MIN((ABS(Saisies!$E$4-CH80)),CK81),CK81)","v":""},{"$f":"IF(ISERROR((IF(CD81>Saisies!$C$7,\"\",IF(ISERROR(IF(CD81<Saisies!$B$7,\"\",CF81)*CL81),IF(CD81<Saisies!$B$7,\"\",CF81),\"\")))*(IF(ISERROR(CM81+1),0,CM81))*CN81*CO81*CP81),\"\",(IF(CD81>Saisies!$C$7,\"\",IF(ISERROR(IF(CD81<Saisies!$B$7,\"\",CF81)*CL81),IF(CD81<Saisies!$B$7,\"\",CF81),\"\")))*(IF(ISERROR(CM81+1),0,CM81))*CN81*CO81*CP81)","v":""},"",1,{"$f":"IF(CD81>Saisies!$C$25,1,(IF(CD81<Saisies!$B$25,1,IF(Saisies!$B$25=0,1,0))))","v":1},{"$f":"IF(CD81>Saisies!$E$25,1,(IF(CD81<Saisies!$D$25,1,IF(Saisies!$D$25=0,1,0))))","v":1},{"$f":"IF(CD81>Saisies!$G$25,1,(IF(CD81<Saisies!$F$25,1,IF(Saisies!$F$25<10,1,0))))","v":1},{"$f":"IF(CD81>Saisies!$C$10,\"\",(IF(CD81<Saisies!$B$10,\"\",CG81)))","v":""},{"$f":"IF(CD81>Saisies!$E$10,\"\",(IF(CD81<Saisies!$D$10,\"\",CG81)))","v":""},{"$f":"IF(CD81>Saisies!$G$10,\"\",(IF(CD81<Saisies!$F$10,\"\",CG81)))","v":""},"2017-07-30","D",0,0,492,{"$f":"IF(CX81>=Saisies!$E$4,(IF(CY80<=Saisies!$E$4,CT81,CY80)),0)","v":42622},{"$f":"IF(CT81=Saisies!$C$7,MIN((ABS(Saisies!$E$4-CX80)),DA81),DA81)","v":""},{"$f":"IF(ISERROR((IF(CT81>Saisies!$C$7,\"\",IF(ISERROR(IF(CT81<Saisies!$B$7,\"\",CV81)*DB81),IF(CT81<Saisies!$B$7,\"\",CV81),\"\")))*(IF(ISERROR(DC81+1),0,DC81))*DD81*DE81*DF81),\"\",(IF(CT81>Saisies!$C$7,\"\",IF(ISERROR(IF(CT81<Saisies!$B$7,\"\",CV81)*DB81),IF(CT81<Saisies!$B$7,\"\",CV81),\"\")))*(IF(ISERROR(DC81+1),0,DC81))*DD81*DE81*DF81)","v":""},"",1,{"$f":"IF(CT81>Saisies!$C$25,1,(IF(CT81<Saisies!$B$25,1,IF(Saisies!$B$25=0,1,0))))","v":1},{"$f":"IF(CT81>Saisies!$E$25,1,(IF(CT81<Saisies!$D$25,1,IF(Saisies!$D$25=0,1,0))))","v":1},{"$f":"IF(CT81>Saisies!$G$25,1,(IF(CT81<Saisies!$F$25,1,IF(Saisies!$F$25<10,1,0))))","v":1},{"$f":"IF(CT81>Saisies!$C$10,\"\",(IF(CT81<Saisies!$B$10,\"\",CW81)))","v":""},{"$f":"IF(CT81>Saisies!$E$10,\"\",(IF(CT81<Saisies!$D$10,\"\",CW81)))","v":""},{"$f":"IF(CT81>Saisies!$G$10,\"\",(IF(CT81<Saisies!$F$10,\"\",CW81)))","v":""},"2017-08-30","M",8,7,492,{"$f":"IF(DN81>=Saisies!$E$4,(IF(DO80<=Saisies!$E$4,DJ81,DO80)),0)","v":42622},{"$f":"IF(DJ81=Saisies!$C$7,MIN((ABS(Saisies!$E$4-DN80)),DQ81),DQ81)","v":""},{"$f":"IF(ISERROR((IF(DJ81>Saisies!$C$7,\"\",IF(ISERROR(IF(DJ81<Saisies!$B$7,\"\",DL81)*DR81),IF(DJ81<Saisies!$B$7,\"\",DL81),\"\")))*(IF(ISERROR(DS81+1),0,DS81))*DT81*DU81*DV81),\"\",(IF(DJ81>Saisies!$C$7,\"\",IF(ISERROR(IF(DJ81<Saisies!$B$7,\"\",DL81)*DR81),IF(DJ81<Saisies!$B$7,\"\",DL81),\"\")))*(IF(ISERROR(DS81+1),0,DS81))*DT81*DU81*DV81)","v":""},"",1,{"$f":"IF(DJ81>Saisies!$C$25,1,(IF(DJ81<Saisies!$B$25,1,IF(Saisies!$B$25=0,1,0))))","v":1},{"$f":"IF(DJ81>Saisies!$E$25,1,(IF(DJ81<Saisies!$D$25,1,IF(Saisies!$D$25=0,1,0))))","v":1},{"$f":"IF(DJ81>Saisies!$G$25,1,(IF(DJ81<Saisies!$F$25,1,IF(Saisies!$F$25<10,1,0))))","v":1},{"$f":"IF(DJ81>Saisies!$C$10,\"\",(IF(DJ81<Saisies!$B$10,\"\",DM81)))","v":""},{"$f":"IF(DJ81>Saisies!$E$10,\"\",(IF(DJ81<Saisies!$D$10,\"\",DM81)))","v":""},{"$f":"IF(DJ81>Saisies!$G$10,\"\",(IF(DJ81<Saisies!$F$10,\"\",DM81)))","v":""},"2017-09-30","S",0,0,492,{"$f":"IF(ED81>=Saisies!$E$4,(IF(EE80<=Saisies!$E$4,DZ81,EE80)),0)","v":42622},{"$f":"IF(DZ81=Saisies!$C$7,MIN((ABS(Saisies!$E$4-ED80)),EG81),EG81)","v":""},{"$f":"IF(ISERROR((IF(DZ81>Saisies!$C$7,\"\",IF(ISERROR(IF(DZ81<Saisies!$B$7,\"\",EB81)*EH81),IF(DZ81<Saisies!$B$7,\"\",EB81),\"\")))*(IF(ISERROR(EI81+1),0,EI81))*EJ81*EK81*EL81),\"\",(IF(DZ81>Saisies!$C$7,\"\",IF(ISERROR(IF(DZ81<Saisies!$B$7,\"\",EB81)*EH81),IF(DZ81<Saisies!$B$7,\"\",EB81),\"\")))*(IF(ISERROR(EI81+1),0,EI81))*EJ81*EK81*EL81)","v":""},"",1,{"$f":"IF(DZ81>Saisies!$C$25,1,(IF(DZ81<Saisies!$B$25,1,IF(Saisies!$B$25=0,1,0))))","v":1},{"$f":"IF(DZ81>Saisies!$E$25,1,(IF(DZ81<Saisies!$D$25,1,IF(Saisies!$D$25=0,1,0))))","v":1},{"$f":"IF(DZ81>Saisies!$G$25,1,(IF(DZ81<Saisies!$F$25,1,IF(Saisies!$F$25<10,1,0))))","v":1},{"$f":"IF(DZ81>Saisies!$C$10,\"\",(IF(DZ81<Saisies!$B$10,\"\",EC81)))","v":""},{"$f":"IF(DZ81>Saisies!$E$10,\"\",(IF(DZ81<Saisies!$D$10,\"\",EC81)))","v":""},{"$f":"IF(DZ81>Saisies!$G$10,\"\",(IF(DZ81<Saisies!$F$10,\"\",EC81)))","v":""},"2017-10-30","L",7,7,492,{"$f":"IF(ET81>=Saisies!$E$4,(IF(EU80<=Saisies!$E$4,EP81,EU80)),0)","v":42622},{"$f":"IF(EP81=Saisies!$C$7,MIN((ABS(Saisies!$E$4-ET80)),EW81),EW81)","v":""},{"$f":"IF(ISERROR((IF(EP81>Saisies!$C$7,\"\",IF(ISERROR(IF(EP81<Saisies!$B$7,\"\",ER81)*EX81),IF(EP81<Saisies!$B$7,\"\",ER81),\"\")))*(IF(ISERROR(EY81+1),0,EY81))*EZ81*FA81*FB81),\"\",(IF(EP81>Saisies!$C$7,\"\",IF(ISERROR(IF(EP81<Saisies!$B$7,\"\",ER81)*EX81),IF(EP81<Saisies!$B$7,\"\",ER81),\"\")))*(IF(ISERROR(EY81+1),0,EY81))*EZ81*FA81*FB81)","v":""},"",1,{"$f":"IF(EP81>Saisies!$C$25,1,(IF(EP81<Saisies!$B$25,1,IF(Saisies!$B$25=0,1,0))))","v":1},{"$f":"IF(EP81>Saisies!$E$25,1,(IF(EP81<Saisies!$D$25,1,IF(Saisies!$D$25=0,1,0))))","v":1},{"$f":"IF(EP81>Saisies!$G$25,1,(IF(EP81<Saisies!$F$25,1,IF(Saisies!$F$25<10,1,0))))","v":1},{"$f":"IF(EP81>Saisies!$C$10,\"\",(IF(EP81<Saisies!$B$10,\"\",ES81)))","v":""},{"$f":"IF(EP81>Saisies!$E$10,\"\",(IF(EP81<Saisies!$D$10,\"\",ES81)))","v":""},{"$f":"IF(EP81>Saisies!$G$10,\"\",(IF(EP81<Saisies!$F$10,\"\",ES81)))","v":""},"2017-11-30","J",8,7,492,{"$f":"IF(FJ81>=Saisies!$E$4,(IF(FK80<=Saisies!$E$4,FF81,FK80)),0)","v":42622},{"$f":"IF(FF81=Saisies!$C$7,MIN((ABS(Saisies!$E$4-FJ80)),FM81),FM81)","v":""},{"$f":"IF(ISERROR((IF(FF81>Saisies!$C$7,\"\",IF(ISERROR(IF(FF81<Saisies!$B$7,\"\",FH81)*FN81),IF(FF81<Saisies!$B$7,\"\",FH81),\"\")))*(IF(ISERROR(FO81+1),0,FO81))*FP81*FQ81*FR81),\"\",(IF(FF81>Saisies!$C$7,\"\",IF(ISERROR(IF(FF81<Saisies!$B$7,\"\",FH81)*FN81),IF(FF81<Saisies!$B$7,\"\",FH81),\"\")))*(IF(ISERROR(FO81+1),0,FO81))*FP81*FQ81*FR81)","v":""},"",1,{"$f":"IF(FF81>Saisies!$C$25,1,(IF(FF81<Saisies!$B$25,1,IF(Saisies!$B$25=0,1,0))))","v":1},{"$f":"IF(FF81>Saisies!$E$25,1,(IF(FF81<Saisies!$D$25,1,IF(Saisies!$D$25=0,1,0))))","v":1},{"$f":"IF(FF81>Saisies!$G$25,1,(IF(FF81<Saisies!$F$25,1,IF(Saisies!$F$25<10,1,0))))","v":1},{"$f":"IF(FF81>Saisies!$C$10,\"\",(IF(FF81<Saisies!$B$10,\"\",FI81)))","v":""},{"$f":"IF(FF81>Saisies!$E$10,\"\",(IF(FF81<Saisies!$D$10,\"\",FI81)))","v":""},{"$f":"IF(FF81>Saisies!$G$10,\"\",(IF(FF81<Saisies!$F$10,\"\",FI81)))","v":""},"2017-12-30","S",0,0,492,{"$f":"IF(FZ81>=Saisies!$E$4,(IF(GA80<=Saisies!$E$4,FV81,GA80)),0)","v":42622},{"$f":"IF(FV81=Saisies!$C$7,MIN((ABS(Saisies!$E$4-FZ80)),GC81),GC81)","v":""},{"$f":"IF(ISERROR((IF(FV81>Saisies!$C$7,\"\",IF(ISERROR(IF(FV81<Saisies!$B$7,\"\",FX81)*GD81),IF(FV81<Saisies!$B$7,\"\",FX81),\"\")))*(IF(ISERROR(GE81+1),0,GE81))*GF81*GG81*GH81),\"\",(IF(FV81>Saisies!$C$7,\"\",IF(ISERROR(IF(FV81<Saisies!$B$7,\"\",FX81)*GD81),IF(FV81<Saisies!$B$7,\"\",FX81),\"\")))*(IF(ISERROR(GE81+1),0,GE81))*GF81*GG81*GH81)","v":""},"","B",{"$f":"IF(FV81>Saisies!$C$25,1,(IF(FV81<Saisies!$B$25,1,IF(Saisies!$B$25=0,1,0))))","v":1},{"$f":"IF(FV81>Saisies!$E$25,1,(IF(FV81<Saisies!$D$25,1,IF(Saisies!$D$25=0,1,0))))","v":1},{"$f":"IF(FV81>Saisies!$G$25,1,(IF(FV81<Saisies!$F$25,1,IF(Saisies!$F$25<10,1,0))))","v":1},{"$f":"IF(FV81>Saisies!$C$10,\"\",(IF(FV81<Saisies!$B$10,\"\",FY81)))","v":""},{"$f":"IF(FV81>Saisies!$E$10,\"\",(IF(FV81<Saisies!$D$10,\"\",FY81)))","v":""},{"$f":"IF(FV81>Saisies!$G$10,\"\",(IF(FV81<Saisies!$F$10,\"\",FY81)))","v":""}]
[null,"2017-01-31","M",8,7,492,{"$f":"IF(F82>=Saisies!$E$4,(IF(G81<=Saisies!$E$4,B82,G81)),0)","v":42622},{"$f":"IF(B82=Saisies!$C$7,MIN((ABS(Saisies!$E$4-F81)),I82),I82)","v":""},{"$f":"IF(ISERROR((IF(B82>Saisies!$C$7,\"\",IF(ISERROR(IF(B82<Saisies!$B$7,\"\",D82)*J82),IF(B82<Saisies!$B$7,\"\",D82),\"\")))*(IF(ISERROR(K82+1),0,K82))*L82*M82*N82),\"\",(IF(B82>Saisies!$C$7,\"\",IF(ISERROR(IF(B82<Saisies!$B$7,\"\",D82)*J82),IF(B82<Saisies!$B$7,\"\",D82),\"\")))*(IF(ISERROR(K82+1),0,K82))*L82*M82*N82)","v":""},"",1,{"$f":"IF(B82>Saisies!$C$25,1,(IF(B82<Saisies!$B$25,1,IF(Saisies!$B$25=0,1,0))))","v":1},{"$f":"IF(B82>Saisies!$E$25,1,(IF(B82<Saisies!$D$25,1,IF(Saisies!$D$25=0,1,0))))","v":1},{"$f":"IF(B82>Saisies!$G$25,1,(IF(B82<Saisies!$F$25,1,IF(Saisies!$F$25<10,1,0))))","v":1},{"$f":"IF(B82>Saisies!$C$10,\"\",(IF(B82<Saisies!$B$10,\"\",E82)))","v":""},{"$f":"IF(B82>Saisies!$E$10,\"\",(IF(B82<Saisies!$D$10,\"\",E82)))","v":""},{"$f":"IF(B82>Saisies!$G$10,\"\",(IF(B82<Saisies!$F$10,\"\",E82)))","v":""},null,null,{"$f":"LOOKUP(UPPER(LEFT(TEXT(R82,\"jjjj\"),2)),$GW$5:$GX$11)","v":0},{"$f":"LOOKUP(UPPER(LEFT(TEXT(R82,\"jjjj\"),2)),$GW$14:$GX$20)","v":0},492,{"$f":"IF(V82>=Saisies!$E$4,(IF(W81<=Saisies!$E$4,R82,W81)),0)","v":42622},{"$f":"IF(R82=Saisies!$C$7,MIN((ABS(Saisies!$E$4-V81)),Y82),Y82)","v":""},{"$f":"IF(ISERROR((IF(R82>Saisies!$C$7,\"\",IF(ISERROR(IF(R82<Saisies!$B$7,\"\",T82)*Z82),IF(R82<Saisies!$B$7,\"\",T82),\"\")))*(IF(ISERROR(AA82+1),0,AA82))*AB82*AC82*AD82),\"\",(IF(R82>Saisies!$C$7,\"\",IF(ISERROR(IF(R82<Saisies!$B$7,\"\",T82)*Z82),IF(R82<Saisies!$B$7,\"\",T82),\"\")))*(IF(ISERROR(AA82+1),0,AA82))*AB82*AC82*AD82)","v":""},"",0,null,null,null,{"$f":"IF(R82>Saisies!$C$10,\"\",(IF(R82<Saisies!$B$10,\"\",U82)))","v":""},{"$f":"IF(R82>Saisies!$E$10,\"\",(IF(R82<Saisies!$D$10,\"\",U82)))","v":""},{"$f":"IF(R82>Saisies!$G$10,\"\",(IF(R82<Saisies!$F$10,\"\",U82)))","v":0},"2017-03-31","V",4,7,492,{"$f":"IF(AL82>=Saisies!$E$4,(IF(AM81<=Saisies!$E$4,AH82,AM81)),0)","v":42622},{"$f":"IF(AH82=Saisies!$C$7,MIN((ABS(Saisies!$E$4-AL81)),AO82),AO82)","v":""},{"$f":"IF(ISERROR((IF(AH82>Saisies!$C$7,\"\",IF(ISERROR(IF(AH82<Saisies!$B$7,\"\",AJ82)*AP82),IF(AH82<Saisies!$B$7,\"\",AJ82),\"\")))*(IF(ISERROR(AQ82+1),0,AQ82))*AR82*AS82*AT82),\"\",(IF(AH82>Saisies!$C$7,\"\",IF(ISERROR(IF(AH82<Saisies!$B$7,\"\",AJ82)*AP82),IF(AH82<Saisies!$B$7,\"\",AJ82),\"\")))*(IF(ISERROR(AQ82+1),0,AQ82))*AR82*AS82*AT82)","v":""},"",1,{"$f":"IF(AH82>Saisies!$C$25,1,(IF(AH82<Saisies!$B$25,1,IF(Saisies!$B$25=0,1,0))))","v":1},{"$f":"IF(AH82>Saisies!$E$25,1,(IF(AH82<Saisies!$D$25,1,IF(Saisies!$D$25=0,1,0))))","v":1},{"$f":"IF(AH82>Saisies!$G$25,1,(IF(AH82<Saisies!$F$25,1,IF(Saisies!$F$25<10,1,0))))","v":1},{"$f":"IF(AH82>Saisies!$C$10,\"\",(IF(AH82<Saisies!$B$10,\"\",AK82)))","v":""},{"$f":"IF(AH82>Saisies!$E$10,\"\",(IF(AH82<Saisies!$D$10,\"\",AK82)))","v":""},{"$f":"IF(AH82>Saisies!$G$10,\"\",(IF(AH82<Saisies!$F$10,\"\",AK82)))","v":""},null,null,null,null,492,{"$f":"IF(BB82>=Saisies!$E$4,(IF(BC81<=Saisies!$E$4,AX82,BC81)),0)","v":42622},{"$f":"IF(AX82=Saisies!$C$7,MIN((ABS(Saisies!$E$4-BB81)),BE82),BE82)","v":""},{"$f":"IF(ISERROR((IF(AX82>Saisies!$C$7,\"\",IF(ISERROR(IF(AX82<Saisies!$B$7,\"\",AZ82)*BF82),IF(AX82<Saisies!$B$7,\"\",AZ82),\"\")))*(IF(ISERROR(BG82+1),0,BG82))*BH82*BI82*BJ82),\"\",(IF(AX82>Saisies!$C$7,\"\",IF(ISERROR(IF(AX82<Saisies!$B$7,\"\",AZ82)*BF82),IF(AX82<Saisies!$B$7,\"\",AZ82),\"\")))*(IF(ISERROR(BG82+1),0,BG82))*BH82*BI82*BJ82)","v":""},"",0,null,null,null,{"$f":"IF(AX82>Saisies!$C$10,\"\",(IF(AX82<Saisies!$B$10,\"\",BA82)))","v":""},{"$f":"IF(AX82>Saisies!$E$10,\"\",(IF(AX82<Saisies!$D$10,\"\",BA82)))","v":""},{"$f":"IF(AX82>Saisies!$G$10,\"\",(IF(AX82<Saisies!$F$10,\"\",BA82)))","v":0},"2017-05-31","M",8,7,492,{"$f":"IF(BR82>=Saisies!$E$4,(IF(BS81<=Saisies!$E$4,BN82,BS81)),0)","v":42622},{"$f":"IF(BN82=Saisies!$C$7,MIN((ABS(Saisies!$E$4-BR81)),BU82),BU82)","v":""},{"$f":"IF(ISERROR((IF(BN82>Saisies!$C$7,\"\",IF(ISERROR(IF(BN82<Saisies!$B$7,\"\",BP82)*BV82),IF(BN82<Saisies!$B$7,\"\",BP82),\"\")))*(IF(ISERROR(BW82+1),0,BW82))*BX82*BY82*BZ82),\"\",(IF(BN82>Saisies!$C$7,\"\",IF(ISERROR(IF(BN82<Saisies!$B$7,\"\",BP82)*BV82),IF(BN82<Saisies!$B$7,\"\",BP82),\"\")))*(IF(ISERROR(BW82+1),0,BW82))*BX82*BY82*BZ82)","v":""},"",1,{"$f":"IF(BN82>Saisies!$C$25,1,(IF(BN82<Saisies!$B$25,1,IF(Saisies!$B$25=0,1,0))))","v":1},{"$f":"IF(BN82>Saisies!$E$25,1,(IF(BN82<Saisies!$D$25,1,IF(Saisies!$D$25=0,1,0))))","v":1},{"$f":"IF(BN82>Saisies!$G$25,1,(IF(BN82<Saisies!$F$25,1,IF(Saisies!$F$25<10,1,0))))","v":1},{"$f":"IF(BN82>Saisies!$C$10,\"\",(IF(BN82<Saisies!$B$10,\"\",BQ82)))","v":""},{"$f":"IF(BN82>Saisies!$E$10,\"\",(IF(BN82<Saisies!$D$10,\"\",BQ82)))","v":""},{"$f":"IF(BN82>Saisies!$G$10,\"\",(IF(BN82<Saisies!$F$10,\"\",BQ82)))","v":""},null,null,null,null,492,{"$f":"IF(CH82>=Saisies!$E$4,(IF(CI81<=Saisies!$E$4,CD82,CI81)),0)","v":42622},{"$f":"IF(CD82=Saisies!$C$7,MIN((ABS(Saisies!$E$4-CH81)),CK82),CK82)","v":""},{"$f":"IF(ISERROR((IF(CD82>Saisies!$C$7,\"\",IF(ISERROR(IF(CD82<Saisies!$B$7,\"\",CF82)*CL82),IF(CD82<Saisies!$B$7,\"\",CF82),\"\")))*(IF(ISERROR(CM82+1),0,CM82))*CN82*CO82*CP82),\"\",(IF(CD82>Saisies!$C$7,\"\",IF(ISERROR(IF(CD82<Saisies!$B$7,\"\",CF82)*CL82),IF(CD82<Saisies!$B$7,\"\",CF82),\"\")))*(IF(ISERROR(CM82+1),0,CM82))*CN82*CO82*CP82)","v":""},"",0,null,null,null,{"$f":"IF(CD82>Saisies!$C$10,\"\",(IF(CD82<Saisies!$B$10,\"\",CG82)))","v":""},{"$f":"IF(CD82>Saisies!$E$10,\"\",(IF(CD82<Saisies!$D$10,\"\",CG82)))","v":""},{"$f":"IF(CD82>Saisies!$G$10,\"\",(IF(CD82<Saisies!$F$10,\"\",CG82)))","v":0},"2017-07-31","L",7,7,492,{"$f":"IF(CX82>=Saisies!$E$4,(IF(CY81<=Saisies!$E$4,CT82,CY81)),0)","v":42622},{"$f":"IF(CT82=Saisies!$C$7,MIN((ABS(Saisies!$E$4-CX81)),DA82),DA82)","v":""},{"$f":"IF(ISERROR((IF(CT82>Saisies!$C$7,\"\",IF(ISERROR(IF(CT82<Saisies!$B$7,\"\",CV82)*DB82),IF(CT82<Saisies!$B$7,\"\",CV82),\"\")))*(IF(ISERROR(DC82+1),0,DC82))*DD82*DE82*DF82),\"\",(IF(CT82>Saisies!$C$7,\"\",IF(ISERROR(IF(CT82<Saisies!$B$7,\"\",CV82)*DB82),IF(CT82<Saisies!$B$7,\"\",CV82),\"\")))*(IF(ISERROR(DC82+1),0,DC82))*DD82*DE82*DF82)","v":""},"",1,{"$f":"IF(CT82>Saisies!$C$25,1,(IF(CT82<Saisies!$B$25,1,IF(Saisies!$B$25=0,1,0))))","v":1},{"$f":"IF(CT82>Saisies!$E$25,1,(IF(CT82<Saisies!$D$25,1,IF(Saisies!$D$25=0,1,0))))","v":1},{"$f":"IF(CT82>Saisies!$G$25,1,(IF(CT82<Saisies!$F$25,1,IF(Saisies!$F$25<10,1,0))))","v":1},{"$f":"IF(CT82>Saisies!$C$10,\"\",(IF(CT82<Saisies!$B$10,\"\",CW82)))","v":""},{"$f":"IF(CT82>Saisies!$E$10,\"\",(IF(CT82<Saisies!$D$10,\"\",CW82)))","v":""},{"$f":"IF(CT82>Saisies!$G$10,\"\",(IF(CT82<Saisies!$F$10,\"\",CW82)))","v":""},"2017-08-31","J",8,7,492,{"$f":"IF(DN82>=Saisies!$E$4,(IF(DO81<=Saisies!$E$4,DJ82,DO81)),0)","v":42622},{"$f":"IF(DJ82=Saisies!$C$7,MIN((ABS(Saisies!$E$4-DN81)),DQ82),DQ82)","v":""},{"$f":"IF(ISERROR((IF(DJ82>Saisies!$C$7,\"\",IF(ISERROR(IF(DJ82<Saisies!$B$7,\"\",DL82)*DR82),IF(DJ82<Saisies!$B$7,\"\",DL82),\"\")))*(IF(ISERROR(DS82+1),0,DS82))*DT82*DU82*DV82),\"\",(IF(DJ82>Saisies!$C$7,\"\",IF(ISERROR(IF(DJ82<Saisies!$B$7,\"\",DL82)*DR82),IF(DJ82<Saisies!$B$7,\"\",DL82),\"\")))*(IF(ISERROR(DS82+1),0,DS82))*DT82*DU82*DV82)","v":""},"",1,{"$f":"IF(DJ82>Saisies!$C$25,1,(IF(DJ82<Saisies!$B$25,1,IF(Saisies!$B$25=0,1,0))))","v":1},{"$f":"IF(DJ82>Saisies!$E$25,1,(IF(DJ82<Saisies!$D$25,1,IF(Saisies!$D$25=0,1,0))))","v":1},{"$f":"IF(DJ82>Saisies!$G$25,1,(IF(DJ82<Saisies!$F$25,1,IF(Saisies!$F$25<10,1,0))))","v":1},{"$f":"IF(DJ82>Saisies!$C$10,\"\",(IF(DJ82<Saisies!$B$10,\"\",DM82)))","v":""},{"$f":"IF(DJ82>Saisies!$E$10,\"\",(IF(DJ82<Saisies!$D$10,\"\",DM82)))","v":""},{"$f":"IF(DJ82>Saisies!$G$10,\"\",(IF(DJ82<Saisies!$F$10,\"\",DM82)))","v":""},null,null,0,0,492,{"$f":"IF(ED82>=Saisies!$E$4,(IF(EE81<=Saisies!$E$4,DZ82,EE81)),0)","v":42622},{"$f":"IF(DZ82=Saisies!$C$7,MIN((ABS(Saisies!$E$4-ED81)),EG82),EG82)","v":""},{"$f":"IF(ISERROR((IF(DZ82>Saisies!$C$7,\"\",IF(ISERROR(IF(DZ82<Saisies!$B$7,\"\",EB82)*EH82),IF(DZ82<Saisies!$B$7,\"\",EB82),\"\")))*(IF(ISERROR(EI82+1),0,EI82))*EJ82*EK82*EL82),\"\",(IF(DZ82>Saisies!$C$7,\"\",IF(ISERROR(IF(DZ82<Saisies!$B$7,\"\",EB82)*EH82),IF(DZ82<Saisies!$B$7,\"\",EB82),\"\")))*(IF(ISERROR(EI82+1),0,EI82))*EJ82*EK82*EL82)","v":""},"",0,null,null,null,{"$f":"IF(DZ82>Saisies!$C$10,\"\",(IF(DZ82<Saisies!$B$10,\"\",EC82)))","v":""},{"$f":"IF(DZ82>Saisies!$E$10,\"\",(IF(DZ82<Saisies!$D$10,\"\",EC82)))","v":""},{"$f":"IF(DZ82>Saisies!$G$10,\"\",(IF(DZ82<Saisies!$F$10,\"\",EC82)))","v":0},"2017-10-31","M",8,7,492,{"$f":"IF(ET82>=Saisies!$E$4,(IF(EU81<=Saisies!$E$4,EP82,EU81)),0)","v":42622},{"$f":"IF(EP82=Saisies!$C$7,MIN((ABS(Saisies!$E$4-ET81)),EW82),EW82)","v":""},{"$f":"IF(ISERROR((IF(EP82>Saisies!$C$7,\"\",IF(ISERROR(IF(EP82<Saisies!$B$7,\"\",ER82)*EX82),IF(EP82<Saisies!$B$7,\"\",ER82),\"\")))*(IF(ISERROR(EY82+1),0,EY82))*EZ82*FA82*FB82),\"\",(IF(EP82>Saisies!$C$7,\"\",IF(ISERROR(IF(EP82<Saisies!$B$7,\"\",ER82)*EX82),IF(EP82<Saisies!$B$7,\"\",ER82),\"\")))*(IF(ISERROR(EY82+1),0,EY82))*EZ82*FA82*FB82)","v":""},"",1,{"$f":"IF(EP82>Saisies!$C$25,1,(IF(EP82<Saisies!$B$25,1,IF(Saisies!$B$25=0,1,0))))","v":1},{"$f":"IF(EP82>Saisies!$E$25,1,(IF(EP82<Saisies!$D$25,1,IF(Saisies!$D$25=0,1,0))))","v":1},{"$f":"IF(EP82>Saisies!$G$25,1,(IF(EP82<Saisies!$F$25,1,IF(Saisies!$F$25<10,1,0))))","v":1},{"$f":"IF(EP82>Saisies!$C$10,\"\",(IF(EP82<Saisies!$B$10,\"\",ES82)))","v":""},{"$f":"IF(EP82>Saisies!$E$10,\"\",(IF(EP82<Saisies!$D$10,\"\",ES82)))","v":""},{"$f":"IF(EP82>Saisies!$G$10,\"\",(IF(EP82<Saisies!$F$10,\"\",ES82)))","v":""},null,null,null,null,492,{"$f":"IF(FJ82>=Saisies!$E$4,(IF(FK81<=Saisies!$E$4,FF82,FK81)),0)","v":42622},{"$f":"IF(FF82=Saisies!$C$7,MIN((ABS(Saisies!$E$4-FJ81)),FM82),FM82)","v":""},{"$f":"IF(ISERROR((IF(FF82>Saisies!$C$7,\"\",IF(ISERROR(IF(FF82<Saisies!$B$7,\"\",FH82)*FN82),IF(FF82<Saisies!$B$7,\"\",FH82),\"\")))*(IF(ISERROR(FO82+1),0,FO82))*FP82*FQ82*FR82),\"\",(IF(FF82>Saisies!$C$7,\"\",IF(ISERROR(IF(FF82<Saisies!$B$7,\"\",FH82)*FN82),IF(FF82<Saisies!$B$7,\"\",FH82),\"\")))*(IF(ISERROR(FO82+1),0,FO82))*FP82*FQ82*FR82)","v":""},"",0,null,null,null,{"$f":"IF(FF82>Saisies!$C$10,\"\",(IF(FF82<Saisies!$B$10,\"\",FI82)))","v":""},{"$f":"IF(FF82>Saisies!$E$10,\"\",(IF(FF82<Saisies!$D$10,\"\",FI82)))","v":""},{"$f":"IF(FF82>Saisies!$G$10,\"\",(IF(FF82<Saisies!$F$10,\"\",FI82)))","v":0},"2017-12-31","D",0,0,492,{"$f":"IF(FZ82>=Saisies!$E$4,(IF(GA81<=Saisies!$E$4,FV82,GA81)),0)","v":42622},{"$f":"IF(FV82=Saisies!$C$7,MIN((ABS(Saisies!$E$4-FZ81)),GC82),GC82)","v":""},{"$f":"IF(ISERROR((IF(FV82>Saisies!$C$7,\"\",IF(ISERROR(IF(FV82<Saisies!$B$7,\"\",FX82)*GD82),IF(FV82<Saisies!$B$7,\"\",FX82),\"\")))*(IF(ISERROR(GE82+1),0,GE82))*GF82*GG82*GH82),\"\",(IF(FV82>Saisies!$C$7,\"\",IF(ISERROR(IF(FV82<Saisies!$B$7,\"\",FX82)*GD82),IF(FV82<Saisies!$B$7,\"\",FX82),\"\")))*(IF(ISERROR(GE82+1),0,GE82))*GF82*GG82*GH82)","v":""},"","B",{"$f":"IF(FV82>Saisies!$C$25,1,(IF(FV82<Saisies!$B$25,1,IF(Saisies!$B$25=0,1,0))))","v":1},{"$f":"IF(FV82>Saisies!$E$25,1,(IF(FV82<Saisies!$D$25,1,IF(Saisies!$D$25=0,1,0))))","v":1},{"$f":"IF(FV82>Saisies!$G$25,1,(IF(FV82<Saisies!$F$25,1,IF(Saisies!$F$25<10,1,0))))","v":1},{"$f":"IF(FV82>Saisies!$C$10,\"\",(IF(FV82<Saisies!$B$10,\"\",FY82)))","v":""},{"$f":"IF(FV82>Saisies!$E$10,\"\",(IF(FV82<Saisies!$D$10,\"\",FY82)))","v":""},{"$f":"IF(FV82>Saisies!$G$10,\"\",(IF(FV82<Saisies!$F$10,\"\",FY82)))","v":""}]
[]
[null,{"$f":"\"Total HE/HC \"&B49","v":"Total HE/HC 2017"}]
[null,{"$f":"B52","v":"2017-01-01"},null,null,null,null,null,{"$f":"SUM(H52:H82)","v":0},{"$f":"SUM(I52:I82)","v":0},{"$f":"SUM(J52:J82)","v":0},null,null,null,null,null,null,null,{"$f":"R52","v":"2017-02-01"},null,null,null,null,null,{"$f":"SUM(X52:X82)","v":0},{"$f":"SUM(Y52:Y82)","v":0},{"$f":"SUM(Z52:Z82)","v":0},null,null,null,null,null,null,null,{"$f":"AH52","v":"2017-03-01"},null,null,null,null,null,{"$f":"SUM(AN52:AN82)","v":0},{"$f":"SUM(AO52:AO82)","v":0},{"$f":"SUM(AP52:AP82)","v":0},null,null,null,null,null,null,null,{"$f":"AX52","v":"2017-04-01"},null,null,null,null,null,{"$f":"SUM(BD52:BD82)","v":0},{"$f":"SUM(BE52:BE82)","v":0},{"$f":"SUM(BF52:BF82)","v":0},null,null,null,null,null,null,null,{"$f":"BN52","v":"2017-05-01"},null,null,null,null,null,{"$f":"SUM(BT52:BT82)","v":0},{"$f":"SUM(BU52:BU82)","v":0},{"$f":"SUM(BV52:BV82)","v":0},null,null,null,null,null,null,null,{"$f":"CD52","v":"2017-06-01"},null,null,null,null,null,{"$f":"SUM(CJ52:CJ82)","v":0},{"$f":"SUM(CK52:CK82)","v":0},{"$f":"SUM(CL52:CL82)","v":0},null,null,null,null,null,null,null,{"$f":"CT52","v":"2017-07-01"},null,null,null,null,null,{"$f":"SUM(CZ52:CZ82)","v":0},{"$f":"SUM(DA52:DA82)","v":0},{"$f":"SUM(DB52:DB82)","v":0},null,null,null,null,null,null,null,{"$f":"DJ52","v":"2017-08-01"},null,null,null,null,null,{"$f":"SUM(DP52:DP82)","v":0},{"$f":"SUM(DQ52:DQ82)","v":0},{"$f":"SUM(DR52:DR82)","v":0},null,null,null,null,null,null,null,{"$f":"DZ52","v":"2017-09-01"},null,null,null,null,null,{"$f":"SUM(EF52:EF82)","v":0},{"$f":"SUM(EG52:EG82)","v":0},{"$f":"SUM(EH52:EH82)","v":0},null,null,null,null,null,null,null,{"$f":"EP52","v":"2017-10-01"},null,null,null,null,null,{"$f":"SUM(EV52:EV82)","v":0},{"$f":"SUM(EW52:EW82)","v":0},{"$f":"SUM(EX52:EX82)","v":0},null,null,null,null,null,null,null,{"$f":"FF52","v":"2017-11-01"},null,null,null,null,null,{"$f":"SUM(FL52:FL82)","v":0},{"$f":"SUM(FM52:FM82)","v":0},{"$f":"SUM(FN52:FN82)","v":0},null,null,null,null,null,null,null,{"$f":"FV52","v":"2017-12-01"},null,null,null,null,null,{"$f":"SUM(GB52:GB82)","v":0},{"$f":"SUM(GC52:GC82)","v":0},{"$f":"SUM(GD52:GD82)","v":0}]
[]
[]
[null,{"$f":"CONCATENATE(\"Récapitulatif de l'action \",Saisies!D4,\" organisée au \",S4,\" :\")","v":"Récapitulatif de l'action Bassin Houiller organisée au Centre AFPA de Saint-Avold :"}]
[null,null,null,null,null,null,null,null,null,null,null,null,null,null,null,null,null,null,null,null,null,null,null,null,null,null,null,null,null,null,null,null,null,null,null,null,null,null,null,null,null,null,null,null,null,null,null,null,null,null,null,null,null,null,null,null,null,null,null,null,null,null,null,null,null,null,null,null,null,null,null,null,null,null,null,null,null,null,null,null,null,null,null,null,null,null,null,null,null,null,null,null,null,null,null,null,null,null,null,null,null,null,null,null,null,null,null,null,null,null,null,null,null,null,null,null,null,null,null,"Légende :"]
[null,null,null,null,null,null,null,null,null,null,null,null,null,null,null,null,null,null,null,null,null,null,null,null,null,null,null,null,null,null,null,null,null,null,null,null,null,null,null,"Formation en centre",null,null,null,null,null,null,null,null,null,null,null,null,null,null,null,null,null,null,null,null,null,null,null,null,null,"Formation en entreprise",null,null,null,null,null,null,null,null,null,null,null,null,null,null,null,null,null,null,null,null,null,"Total",null,null,null,null,null,null,null,null,null,null,null,null,null,null,null,null,null,null,null,null,null,null,null,null,null,null,null,null,null,null,null,"HC : ","Légende :","Nombre d'heures en Centre"]
[null,{"$f":"CONCATENATE(\"Offre \",Saisies!D4)","v":"Offre Bassin Houiller"},null,null,null,null,null,null,null,null,null,null,null,null,null,null,null,null,null,null,null,null,null,null,null,null,null,null,null,null,null,null,null,null,null,null,null,null,null,null,null,null,null,null,null,null,null,null,null,null,null,null,null,null,null,null,null,null,null,null,null,null,null,null,null,null,null,null,null,null,null,null,null,null,null,null,null,null,null,null,null,null,null,null,null,null,null,null,null,null,null,null,null,null,null,null,null,null,null,null,null,null,null,null,null,null,null,null,null,null,null,null,null,null,null,null,null,null,null,"HE : ","HC : Nombre d'heures en Centre","Nombre d'heure en Entreprise"]
[null,{"$f":"CONCATENATE(\"Nombre d'heures \",B10)","v":"Nombre d'heures 2016"},null,null,null,null,null,null,null,null,null,null,null,null,null,null,null,null,null,null,null,null,null,null,null,null,null,null,null,null,null,null,null,null,null,null,null,null,null,{"$f":"H46+X46+AN46+BD46+BT46+CJ46+CZ46+DP46+EF46+EV46+FL46+GB46","v":357},null,null,null,null,null,null,null,null,null,null,null,null,null,null,null,null,null,null,null,null,null,null,null,null,null,{"$f":"J46+Z46+AP46+BF46+BV46+CL46+DB46+DR46+EH46+EX46+FN46+GD46","v":133},null,null,null,null,null,null,null,null,null,null,null,null,null,null,null,null,null,null,null,null,null,{"$f":"AN92+BN92","v":490},null,null,null,null,null,null,null,null,null,null,null,null,null,null,null,null,null,null,null,null,null,null,null,null,null,null,null,null,null,null,null,null,null,"volume horaire compatible avec le cadre réponse technique de l'action"]
[null,{"$f":"CONCATENATE(\"Nombre d'heures \",B10+1)","v":"Nombre d'heures 2017"},null,null,null,null,null,null,null,null,null,null,null,null,null,null,null,null,null,null,null,null,null,null,null,null,null,null,null,null,null,null,null,null,null,null,null,null,null,{"$f":"H85+X85+AN85+BD85+BT85+CJ85+CZ85+DP85+EF85+EV85+FL85+GB85","v":0},null,null,null,null,null,null,null,null,null,null,null,null,null,null,null,null,null,null,null,null,null,null,null,null,null,{"$f":"J85+Z85+AP85+BF85+BV85+CL85+DB85+DR85+EH85+EX85+FN85+GD85","v":0},null,null,null,null,null,null,null,null,null,null,null,null,null,null,null,null,null,null,null,null,null,{"$f":"AN93+BN93","v":0}]
[null,"Nombre total d'heures ",null,null,null,null,null,null,null,null,null,null,null,null,null,null,null,null,null,null,null,null,null,null,null,null,null,null,null,null,null,null,null,null,null,null,null,null,null,{"$f":"AN92+AN93","v":357},null,null,null,null,null,null,null,null,null,null,null,null,null,null,null,null,null,null,null,null,null,null,null,null,null,{"$f":"BN92+BN93","v":133},null,null,null,null,null,null,null,null,null,null,null,null,null,null,null,null,null,null,null,null,null,{"$f":"AN94+BN94","v":490}]
[null,"Nombre de jours",null,null,null,null,null,null,null,null,null,null,null,null,null,null,null,null,null,null,null,null,null,null,null,null,null,null,null,null,null,null,null,null,null,null,null,null,null,{"$f":"PE!J3","v":51},null,null,null,null,null,null,null,null,null,null,null,null,null,null,null,null,null,null,null,null,null,null,null,null,null,{"$f":"PE!K3","v":19},null,null,null,null,null,null,null,null,null,null,null,null,null,null,null,null,null,null,null,null,null,{"$f":"AN95+BN95","v":70},null,null,null,null,null,null,null,null,null,null,null,null,null,null,null,null,null,null,null,null,null,null,null,null,null,null,null,null,null,null,null,null,null,"Congés stagiaires"]
["GC","Moyenne nombre d'heures / jour",null,null,null,null,null,null,null,null,null,null,null,null,null,null,null,null,null,null,null,null,null,null,null,null,null,null,null,null,null,null,null,null,null,null,null,null,null,{"$f":"PE!J5","v":7},null,null,null,null,null,null,null,null,null,null,null,null,null,null,null,null,null,null,null,null,null,null,null,null,null,{"$f":"PE!K5","v":7},null,null,null,null,null,null,null,null,null,null,null,null,null,null,null,null,null,null,null,null,null,{"$f":"PE!L5","v":7},null,null,null,null,null,null,null,null,null,null,null,null,null,null,null,null,null,null,null,null,null,null,null,null,null,null,null,null,null,null,null,null,"* : champ obligatoire","Fins de semaines et jours fériés"]
[]
[]
[]
[null,null,null,null,null,null,null,null,null,null,null,null,null,null,null,null,null,null," ",null,null,null,null,null,null,null,null,null,null,null,null,"Légende :"]
[null,null,null,null,null,null,null,null,null,null,null,null,null,null,null,null,null,null,null,null,null,null,null,null,null,null,null,null,null,null,null,"HC : ","Nombre d'heures en Centre"]

{"sheet":"Jours fériés","index":3,"n_rows":53,"n_cols":7,"rows_kept":53,"cut":false,"hidden":true,"merged":[]}
[]
[]
[null,"FERMETURES \njours classés chronologiquement","National","FERMETURES \njours classés chronologiquement\n(droit local)","Droit Local","Jours retenus","general"]
[null,"2015-01-02","R","2015-01-02","R",{"$f":"IF(Saisies!$A$28=2,B4,D4)","v":"2015-01-02"},{"$f":"IF(Saisies!$A$28=2,C4,E4)","v":"R"}]
[null,"2015-04-06","B","2015-04-03","B",{"$f":"IF(Saisies!$A$28=2,B5,D5)","v":"2015-04-03"},{"$f":"IF(Saisies!$A$28=2,C5,E5)","v":"B"}]
[null,"2015-05-14","B","2015-04-06","B",{"$f":"IF(Saisies!$A$28=2,B6,D6)","v":"2015-04-06"},{"$f":"IF(Saisies!$A$28=2,C6,E6)","v":"B"}]
[null,"2015-05-15","R","2015-05-14","B",{"$f":"IF(Saisies!$A$28=2,B7,D7)","v":"2015-05-14"},{"$f":"IF(Saisies!$A$28=2,C7,E7)","v":"B"}]
[null,"2015-05-25","B","2015-05-15","R",{"$f":"IF(Saisies!$A$28=2,B8,D8)","v":"2015-05-15"},{"$f":"IF(Saisies!$A$28=2,C8,E8)","v":"R"}]
[null,"2015-07-13","R","2015-05-25","B",{"$f":"IF(Saisies!$A$28=2,B9,D9)","v":"2015-05-25"},{"$f":"IF(Saisies!$A$28=2,C9,E9)","v":"B"}]
[null,"2015-12-26","B","2015-07-13","R",{"$f":"IF(Saisies!$A$28=2,B10,D10)","v":"2015-07-13"},{"$f":"IF(Saisies!$A$28=2,C10,E10)","v":"R"}]
[null,"2015-12-27","B","2015-12-26","B",{"$f":"IF(Saisies!$A$28=2,B11,D11)","v":"2015-12-26"},{"$f":"IF(Saisies!$A$28=2,C11,E11)","v":"B"}]
[null,"2015-12-28","R","2015-12-27","B",{"$f":"IF(Saisies!$A$28=2,B12,D12)","v":"2015-12-27"},{"$f":"IF(Saisies!$A$28=2,C12,E12)","v":"B"}]
[null,"2015-12-29","R","2015-12-28","R",{"$f":"IF(Saisies!$A$28=2,B13,D13)","v":"2015-12-28"},{"$f":"IF(Saisies!$A$28=2,C13,E13)","v":"R"}]
[null,"2015-12-30","R","2015-12-29","R",{"$f":"IF(Saisies!$A$28=2,B14,D14)","v":"2015-12-29"},{"$f":"IF(Saisies!$A$28=2,C14,E14)","v":"R"}]
[null,"2015-12-31","R","2015-12-30","R",{"$f":"IF(Saisies!$A$28=2,B15,D15)","v":"2015-12-30"},{"$f":"IF(Saisies!$A$28=2,C15,E15)","v":"R"}]
[null,"2016-03-28","B","2015-12-31","R",{"$f":"IF(Saisies!$A$28=2,B16,D16)","v":"2015-12-31"},{"$f":"IF(Saisies!$A$28=2,C16,E16)","v":"R"}]
[null,"2016-05-05","B","2016-03-25","B",{"$f":"IF(Saisies!$A$28=2,B17,D17)","v":"2016-03-25"},{"$f":"IF(Saisies!$A$28=2,C17,E17)","v":"B"}]
[null,"2016-05-06","R","2016-03-28","B",{"$f":"IF(Saisies!$A$28=2,B18,D18)","v":"2016-03-28"},{"$f":"IF(Saisies!$A$28=2,C18,E18)","v":"B"}]
[null,"2016-05-16","B","2016-05-05","B",{"$f":"IF(Saisies!$A$28=2,B19,D19)","v":"2016-05-05"},{"$f":"IF(Saisies!$A$28=2,C19,E19)","v":"B"}]
[null,"2016-07-15","R","2016-05-06","R",{"$f":"IF(Saisies!$A$28=2,B20,D20)","v":"2016-05-06"},{"$f":"IF(Saisies!$A$28=2,C20,E20)","v":"R"}]
[null,"2016-10-31","R","2016-05-16","B",{"$f":"IF(Saisies!$A$28=2,B21,D21)","v":"2016-05-16"},{"$f":"IF(Saisies!$A$28=2,C21,E21)","v":"B"}]
[null,"2016-12-26","R","2016-07-15","R",{"$f":"IF(Saisies!$A$28=2,B22,D22)","v":"2016-07-15"},{"$f":"IF(Saisies!$A$28=2,C22,E22)","v":"R"}]
[null,"2016-12-27","R","2016-10-31","R",{"$f":"IF(Saisies!$A$28=2,B23,D23)","v":"2016-10-31"},{"$f":"IF(Saisies!$A$28=2,C23,E23)","v":"R"}]
[null,"2016-12-28","R","2016-12-26","B",{"$f":"IF(Saisies!$A$28=2,B24,D24)","v":"2016-12-26"},{"$f":"IF(Saisies!$A$28=2,C24,E24)","v":"B"}]
[null,"2016-12-29","R","2016-12-27","R",{"$f":"IF(Saisies!$A$28=2,B25,D25)","v":"2016-12-27"},{"$f":"IF(Saisies!$A$28=2,C25,E25)","v":"R"}]
[null,"2016-12-30","R","2016-12-28","R",{"$f":"IF(Saisies!$A$28=2,B26,D26)","v":"2016-12-28"},{"$f":"IF(Saisies!$A$28=2,C26,E26)","v":"R"}]
[null,"2016-12-31","B","2016-12-29","R",{"$f":"IF(Saisies!$A$28=2,B27,D27)","v":"2016-12-29"},{"$f":"IF(Saisies!$A$28=2,C27,E27)","v":"R"}]
[null,"2017-04-17","B","2016-12-30","R",{"$f":"IF(Saisies!$A$28=2,B28,D28)","v":"2016-12-30"},{"$f":"IF(Saisies!$A$28=2,C28,E28)","v":"R"}]
[null,"2017-05-25","B","2016-12-31","B",{"$f":"IF(Saisies!$A$28=2,B29,D29)","v":"2016-12-31"},{"$f":"IF(Saisies!$A$28=2,C29,E29)","v":"B"}]
[null,"2017-05-26","R","2017-04-14","B",{"$f":"IF(Saisies!$A$28=2,B30,D30)","v":"2017-04-14"},{"$f":"IF(Saisies!$A$28=2,C30,E30)","v":"B"}]
[null,"2017-06-04","B","2017-04-17","B",{"$f":"IF(Saisies!$A$28=2,B31,D31)","v":"2017-04-17"},{"$f":"IF(Saisies!$A$28=2,C31,E31)","v":"B"}]
[null,"2017-12-26","R","2017-05-25","B",{"$f":"IF(Saisies!$A$28=2,B32,D32)","v":"2017-05-25"},{"$f":"IF(Saisies!$A$28=2,C32,E32)","v":"B"}]
[null,"2017-12-27","R","2017-05-26","R",{"$f":"IF(Saisies!$A$28=2,B33,D33)","v":"2017-05-26"},{"$f":"IF(Saisies!$A$28=2,C33,E33)","v":"R"}]
[null,"2017-12-28","R","2017-06-04","B",{"$f":"IF(Saisies!$A$28=2,B34,D34)","v":"2017-06-04"},{"$f":"IF(Saisies!$A$28=2,C34,E34)","v":"B"}]
[null,"2017-12-29","R","2017-12-26","B",{"$f":"IF(Saisies!$A$28=2,B35,D35)","v":"2017-12-26"},{"$f":"IF(Saisies!$A$28=2,C35,E35)","v":"B"}]
[null,"2017-12-30","B","2017-12-27","R",{"$f":"IF(Saisies!$A$28=2,B36,D36)","v":"2017-12-27"},{"$f":"IF(Saisies!$A$28=2,C36,E36)","v":"R"}]
[null,"2017-12-31","B","2017-12-28","R",{"$f":"IF(Saisies!$A$28=2,B37,D37)","v":"2017-12-28"},{"$f":"IF(Saisies!$A$28=2,C37,E37)","v":"R"}]
[null,"2018-04-02","B","2017-12-29","R",{"$f":"IF(Saisies!$A$28=2,B38,D38)","v":"2017-12-29"},{"$f":"IF(Saisies!$A$28=2,C38,E38)","v":"R"}]
[null,"2018-05-10","B","2017-12-30","B",{"$f":"IF(Saisies!$A$28=2,B39,D39)","v":"2017-12-30"},{"$f":"IF(Saisies!$A$28=2,C39,E39)","v":"B"}]
[null,"2018-05-20","B","2017-12-31","B",{"$f":"IF(Saisies!$A$28=2,B40,D40)","v":"2017-12-31"},{"$f":"IF(Saisies!$A$28=2,C40,E40)","v":"B"}]
[null,"2018-12-26","R","2018-03-30","B",{"$f":"IF(Saisies!$A$28=2,B41,D41)","v":"2018-03-30"},{"$f":"IF(Saisies!$A$28=2,C41,E41)","v":"B"}]
[null,"2018-12-27","R","2018-04-02","B",{"$f":"IF(Saisies!$A$28=2,B42,D42)","v":"2018-04-02"},{"$f":"IF(Saisies!$A$28=2,C42,E42)","v":"B"}]
[null,"2018-12-28","R","2018-05-10","B",{"$f":"IF(Saisies!$A$28=2,B43,D43)","v":"2018-05-10"},{"$f":"IF(Saisies!$A$28=2,C43,E43)","v":"B"}]
[null,"2018-12-29","B","2018-05-20","B",{"$f":"IF(Saisies!$A$28=2,B44,D44)","v":"2018-05-20"},{"$f":"IF(Saisies!$A$28=2,C44,E44)","v":"B"}]
[null,"2018-12-30","B","2018-12-26","B",{"$f":"IF(Saisies!$A$28=2,B45,D45)","v":"2018-12-26"},{"$f":"IF(Saisies!$A$28=2,C45,E45)","v":"B"}]
[null,"2018-12-31","R","2018-12-27","R",{"$f":"IF(Saisies!$A$28=2,B46,D46)","v":"2018-12-27"},{"$f":"IF(Saisies!$A$28=2,C46,E46)","v":"R"}]
[null,"2045-12-31","B","2018-12-28","R",{"$f":"IF(Saisies!$A$28=2,B47,D47)","v":"2018-12-28"},{"$f":"IF(Saisies!$A$28=2,C47,E47)","v":"R"}]
[null,"2045-12-31","B","2018-12-29","B",{"$f":"IF(Saisies!$A$28=2,B48,D48)","v":"2018-12-29"},{"$f":"IF(Saisies!$A$28=2,C48,E48)","v":"B"}]
[null,"2045-12-31","B","2018-12-30","B",{"$f":"IF(Saisies!$A$28=2,B49,D49)","v":"2018-12-30"},{"$f":"IF(Saisies!$A$28=2,C49,E49)","v":"B"}]
[null,"2045-12-31","B","2018-12-31","R",{"$f":"IF(Saisies!$A$28=2,B50,D50)","v":"2018-12-31"},{"$f":"IF(Saisies!$A$28=2,C50,E50)","v":"R"}]
[null,"2045-12-31","B","2045-12-31","B",{"$f":"IF(Saisies!$A$28=2,B51,D51)","v":"2045-12-31"},{"$f":"IF(Saisies!$A$28=2,C51,E51)","v":"B"}]
[null,"2045-12-31","B","2045-12-31","B",{"$f":"IF(Saisies!$A$28=2,B52,D52)","v":"2045-12-31"},{"$f":"IF(Saisies!$A$28=2,C52,E52)","v":"B"}]
[null,"2045-12-31","B","2045-12-31","B",{"$f":"IF(Saisies!$A$28=2,B53,D53)","v":"2045-12-31"},{"$f":"IF(Saisies!$A$28=2,C53,E53)","v":"B"}]

{"sheet":"TP","index":4,"n_rows":254,"n_cols":10,"rows_kept":254,"cut":false,"hidden":true,"merged":[]}
[]
[null,"Code Titre","Sigle","Intitulé","Millésime","Niveau","Domaine Evolif","Sous Secteur","Statut","Etat"]
[null,"TP-01249","A2SP","Agent(e) de sûreté et de sécurité privée","03","V","T08","JN","Certifié","Actif"]
[null,"TP-00199","AAT","Agent d'accueil touristique","06","V","T04","JH","Certifié","Actif"]
[null,"TP-01323","AATL","Animateur(trice) d'Activités Touristiques et de Loisirs","01","IV","T04","JH","Certifié","Actif"]
[null,"TP-00281","ACCGO","Assistant(e) chef de chantier gros oeuvre","07","IV","B01","BC","Certifié","Actif"]
[null,"TP-00298","ACCTRUV","Agent(e) commercial(e) et de conduite du transport routier urbain de voyageurs","09","V","T07","JE","Certifié","Actif"]
[null,"TP-00014","ACM","Agent(e) de contrôle et de métrologie","08","V","I03","DC","Certifié","Actif"]
[null,"TP-01285","ACom","Assistant(e) commercial(e)","02","III","T01","HB","Certifié","Actif"]
[null,"TP-01293","AD","Assistant(e) de direction","02","III","T01","HB","Certifié","Actif"]
[null,"TP-01297","ADME","Assistant en développement et méthodes électroniques","01","IV","I05","EB","Certifié","Actif"]
[null,"TP-01304","ADS-RC","Agent de dépollution des sols option risque chimique","01","V","","GE","Certifié","Actif"]
[null,"TP-01300","ADS-RP","Agent de dépollution des sols option risque pyrotechnique","01","V","I00","GE","Certifié","Actif"]
[null,"TP-00391","ADVF","Assistant(e) de vie aux familles","05","V","T08","JN","Certifié","Actif"]
[null,"TP-00361","AEB","Agent d'entretien du bâtiment","06","V","B01","BN","Certifié","Actif"]
[null,"TP-01265","AFEM","Agent(e) de fabrication d'ensembles métalliques","02","V","I01","CC","Certifié","Actif"]
[null,"TP-00355","AFI","Agent(e) de fabrication industrielle","05","V","I04","DF","Certifié","Actif"]
[null,"TP-00259","AH","Agent(e) d'hôtellerie","05","V","T04","JJ","Certifié","Actif"]
[null,"TP-00234","AHME","Agent(e) horloger(ère) en montage et entretien","07","V","I07","DE","Certifié","Actif"]
[null,"TP-00411","AIDA","Agent(e) d'intervention en distribution automatique","04","V","I09","ED","Certifié","Actif"]
[null,"TP-00523","AIE","Assistant(e) import-export ","03","III","T01","HB","Certifié","Actif"]
[null,"TP-01325","AIMEN","Agent(e) d'installation et de maintenance des équipements numériques","01","V","I08","EC","Certifié","Actif"]
[null,"TP-00400","AL","Agent de loisirs","05","V","T04","JH","Certifié","Actif"]
[null,"TP-00472","AM","Agent(e) magasinier(ère) ","08","V","T07","JE","Certifié","Actif"]
[null,"TP-00478","AMC","Agent de maintenance en chauffage","06","V","B02","BD","Certifié","Actif"]
[null,"TP-00437","AMCE","Agent(e) de montage et de câblage en électronique","05","V","I05","EB","Certifié","Actif"]
[null,"TP-00368","AMECA","Agent de maintenance et d'exploitation en conditionnement d'air","04","V","I06","EE","Certifié","Actif"]
[null,"TP-00392","AMIS","Agent(e) de médiation, information, services","05","V","T08","JN","Certifié","Actif"]
[null,"TP-00092","AMMP","Agent(e) de maintenance en marine de plaisance","08","V","I17","AD","Certifié","Actif"]
[null,"TP-00055","APD","Auxiliaire en prothèse dentaire","06","V","T08","JD","Certifié","Actif"]
[null,"TP-00398","APH","Agent(e) de propreté et d'hygiène","04","V","T08","JN","Certifié","Actif"]
[null,"TP-00208","AR","Agent(e) de restauration","07","V","T04","JJ","Certifié","Actif"]
[null,"TP-01284","ARH","Assistant(e) ressources humaines","02","III","T01","HB","Certifié","Actif"]
[null,"TP-01322","AT","Accompagnateur(trice) de tourisme","01","IV","T04","JH","Certifié","Actif"]
[null,"TP-01270","ATD","Agent(e) technique de déchèterie","03","V","I13","GE","Certifié","Actif"]
[null,"TP-01317","ATL","Animateur de tourisme local","01","III","T04","JH","Certifié","Actif"]
[null,"TP-00024","ATPO","Agent(e) technique prothésiste et orthésiste","07","V","I03","DE","Certifié","Actif"]
[null,"TP-00307","ATVSMS","Agent(e) \"technicien(ne)-vendeur(se)\"spécialisé(e) en matériels de sports","04","V","T06","JM","Certifié","Actif"]
[null,"TP-00296","CA","Chaudronnier(ère) aéronautique","06","V","I01","CC","Certifié","Actif"]
[null,"TP-00382","CA","Comptable assistant(e)","07","IV","T01","HB","Certifié","Actif"]
[null,"TP-01225","CA","Couturier(ère) d'ameublement","03","V","B06","BH","Certifié","Actif"]
[null,"TP-01299","CAB","Chargé d'affaires bâtiment","01","III","B01","BC","Certifié","Actif"]
[null,"TP-00039","CAIC","Conducteur(trice) d'appareils de l'industrie chimique","07","V","I11","GB","Certifié","Actif"]
[null,"TP-00459","CANA","Canalisateur","03","V","B04","BK","Certifié","Actif"]
[null,"TP-01311","CAREB","Chargé d'affaires en rénovation énergétique du bâtiment","01","III","","BN","Certifié","Actif"]
[null,"TP-00044","CARR","Carreleur","07","V","B03","BE","Certifié","Actif"]
[null,"TP-00064","CASS","Comptable assistant(e) sanitaire et social(e)","08","IV","T01","HB","Certifié","Actif"]
[null,"TP-00487","CATIC","Conseiller(ère) et assistant(e) en technologies de l'information et de la communication","04","IV","T05","JG","Certifié","Actif"]
[null,"TP-01259","CB-B","Coffreur bancheur, option bâtiment","02","V","B01","BC","Certifié","Actif"]
[null,"TP-00268","CBC","Conducteur  de bouteur et de chargeuse","12","V","B04","BL","Certifié","Actif"]
[null,"TP-01260","CB-GC","Coffreur bancheur, option génie civil","02","V","B04","BK","Certifié","Actif"]
[null,"TP-00513","CCGO","Chef de chantier gros oeuvre","03","III","B01","BC","Certifié","Actif"]
[null,"TP-00132","CCRC","Chef de chantier travaux publics routes et canalisations","07","IV","B04","BK","Certifié","Actif"]
[null,"TP-01281","CDI","Concepteur(trice) développeur(se) informatique","02","II","T03","HC","Certifié","Actif"]
[null,"TP-00515","CDTBA","Conducteur de travaux du bâtiment","03","III","B07","BN","Certifié","Actif"]
[null,"TP-00514","CDTGC","Conducteur de travaux publics génie civil","03","III","B07","BN","Certifié","Actif"]
[null,"TP-00516","CDTRO","Conducteur de travaux publics route, canalisation, terrassement","03","III","B04","BN","Certifié","Actif"]
[null,"TP-00470","CE","Cariste d'entrepôt","05","V","T07","JE","Certifié","Actif"]
[null,"TP-00506","CEAF","Chef d'équipe aménagement-finitions","03","IV","B03","BE","Certifié","Actif"]
[null,"TP-01235","CEGO","Chef d'équipe gros oeuvre","03","IV","B01","BC","Certifié","Actif"]
[null,"TP-00140","CG","Comptable gestionnaire","07","III","T01","HB","Certifié","Actif"]
[null,"TP-00002","CGT","Conducteur de grue à tour","06","V","B04","BL","Certifié","Actif"]
[null,"TP-01295","CHAUD","Chaudronnier(ère)","02","IV","I01","CC","Certifié","Actif"]
[null,"TP-01301","CHB","Charpentier bois","01","V","B06","BH","Certifié","Actif"]
[null,"TP-00212","CIMA","Conducteur(trice) d'installations et de machines automatisées","07","V","I04","DF","Certifié","Actif"]
[null,"TP-00403","CIP","Conseiller(ère) en insertion professionnelle","06","III","T09","JO","Certifié","Actif"]
[null,"TP-00299","CLVUL","Conducteur(trice) livreur(se) sur véhicule utilitaire léger ","06","V","T07","JE","Certifié","Actif"]
[null,"TP-00069","CM","Cordonnier(ère) multiservices","08","V","I10","FE","Certifié","Actif"]
[null,"TP-01291","CMMCID","Conducteur(trice) de matériels de manutention et de conditionnement des industries des déchets","02","V","I13","GE","Certifié","Actif"]
[null,"TP-01286","CMP","Conducteur(trice) de machines de plasturgie","02","V","I14","GD","Certifié","Actif"]
[null,"TP-00115","COM","Commercial(e)","07","IV","T02","HE","Certifié","Actif"]
[null,"TP-00248","CPHCP","Conducteur de pelle hydraulique et de chargeuse pelleteuse","10","V","B04","BL","Certifié","Actif"]
[null,"TP-00104","CPVR","Constructeur professionnel en voirie et réseaux","06","V","B04","BK","Certifié","Actif"]
[null,"TP-00082","CR","Carrossier réparateur","06","V","T06","JL","Certifié","Actif"]
[null,"TP-00483","CRCD","Conseiller(ère) relation client à distance","04","IV","T02","HE","Certifié","Actif"]
[null,"TP-01227","CSV","Conseiller(ère) en séjours et voyages","03","IV","T04","JH","Certifié","Actif"]
[null,"TP-01221","CTA","Contrôleur technique automobile","03","V","T06","JL","Certifié","Actif"]
[null,"TP-00276","CTAF","Conducteur de travaux aménagement finitions","07","III","B03","BE","Certifié","Actif"]
[null,"TP-00283","CTII","Calorifugeur tôlier en isolation industrielle","07","V","I01","CC","Certifié","Actif"]
[null,"TP-00071","CTRIV","Conducteur(trice) du transport routier interurbain de voyageurs","10","V","T07","JE","Certifié","Actif"]
[null,"TP-00070","CTRMP","Conducteur(trice) du transport routier de marchandises sur porteur","08","V","T07","JE","Certifié","Actif"]
[null,"TP-00048","CTRMTV","Conducteur(trice) du transport routier de marchandises sur tous véhicules","08","V","T07","JE","Certifié","Actif"]
[null,"TP-00358","CUI","Cuisinier(ère)","06","V","T04","JJ","Certifié","Actif"]
[null,"TP-00111","CZ","Couvreur-zingueur","07","V","B02","BD","Certifié","Actif"]
[null,"TP-01280","DL","Développeur(se) logiciel","02","III","T03","HC","Certifié","Actif"]
[null,"TP-00038","DOM","Dessinateur d'ouvrages de métallerie","07","IV","B05","BG","Certifié","Actif"]
[null,"TP-00314","DPBA","Dessinateur projeteur en béton armé","09","III","B01","BC","Certifié","Actif"]
[null,"TP-01318","EAA","Employé(e) administratif(ve) et d'accueil","01","V","T01","HB","Certifié","Actif"]
[null,"TP-00019","ECM","Electronicien de contrôle et de maintenance","08","IV","I05","EB","Certifié","Actif"]
[null,"TP-00219","ECM","Employé(e) commercial(e) en magasin","07","V","T02","JK","Certifié","Actif"]
[null,"TP-00467","EE","Electricien d'équipement","04","V","B08","BJ","Certifié","Actif"]
[null,"TP-00242","EMI","Electromécanicien(ne) de maintenance industrielle","06","V","I07","DD","Certifié","Actif"]
[null,"TP-00244","EMSA","Electricien(ne) de maintenance des systèmes automatisés","07","V","I07","EC","Certifié","Actif"]
[null,"TP-01298","ETD","Electronicien de test et de développement","01","III","I05","EB","Certifié","Actif"]
[null,"TP-00448","ETI","Encadrant(e) technique d'insertion","04","IV","T09","JO","Certifié","Actif"]
[null,"TP-00334","FERON","Ferronnier","05","V","B05","BG","Certifié","Actif"]
[null,"TP-01274","FMCCN","Fraiseur(se) sur machines conventionnelles et à commande numérique","02","V","I03","DC","Certifié","Actif"]
[null,"TP-01321","FOCN","Fraiseur(se) d'outillages en commande numérique","01","IV","I03","DE","Certifié","Actif"]
[null,"TP-00380","FP","Façadier-peintre","04","V","B03","BE","Certifié","Actif"]
[null,"TP-00350","FPA","Formateur(trice) professionnel(le) d'adultes","05","III","T09","JO","Certifié","Actif"]
[null,"TP-01264","FVM","Fabricant(e) de vêtements sur mesure","03","IV","I10","FC","Certifié","Actif"]
[null,"TP-00316","GH","Gouvernant(e) en hôtellerie","05","IV","T04","JJ","Certifié","Actif"]
[null,"TP-01254","GP","Gestionnaire de paie","03","III","T01","HB","Certifié","Actif"]
[null,"TP-00169","GPMS","Gestionnaire de petite ou moyenne structure","06","III","T01","HB","Certifié","Actif"]
[null,"TP-00479","GRC","Gérant(e) en restauration collective","05","III","T04","JJ","Certifié","Actif"]
[null,"TP-00410","HORLO","Horloger(ère)","05","IV","I07","DE","Certifié","Actif"]
[null,"TP-00477","IA","Installateur antenniste","04","V","B04","BM","Certifié","Actif"]
[null,"TP-00505","ICCSER","Installateur en chauffage, climatisation, sanitaire et énergies renouvelables","03","V","B02","BD","Certifié","Actif"]
[null,"TP-00304","IDI","Installateur(trice) dépanneur(e) en informatique","06","V","I09","HC","Certifié","Actif"]
[null,"TP-01255","IES","Infographiste en enseigne et signalétique","02","IV","T05","JF","Certifié","Actif"]
[null,"TP-00301","IMEP","Infographiste metteur en page","05","IV","T05","JF","Certifié","Actif"]
[null,"TP-00469","IMM","Infographiste en multimédia","04","III","T05","JF","Certifié","Actif"]
[null,"TP-00444","IRCC","Installateur de réseaux câblés de communications","04","V","B04","BM","Certifié","Actif"]
[null,"TP-00189","ITS","Installateur en thermique et sanitaire","08","V","B02","BD","Certifié","Actif"]
[null,"TP-00221","MACON","Maçon","09","V","B01","BC","Certifié","Actif"]
[null,"TP-00288","MAg","Menuisier d'agencement","04","V","B06","BH","Certifié","Actif"]
[null,"TP-01279","MALU","Menuisier aluminium","02","V","B05","BG","Certifié","Actif"]
[null,"TP-01261","MBA","Maçon du bâti ancien","03","V","B01","BC","Certifié","Actif"]
[null,"TP-01302","MCB","Monteur en construction bois","01","V","B06","BH","Certifié","Actif"]
[null,"TP-00371","MCN","Menuisier(ère) en construction nautique","03","V","I17","AD","Certifié","Actif"]
[null,"TP-01277","MDC","Monteur-dépanneur en climatisation","03","V","I06","EE","Certifié","Actif"]
[null,"TP-00049","MDF","Monteur dépanneur frigoriste","06","V","I06","EE","Certifié","Actif"]
[null,"TP-00034","MEA","Mécanicien(ne) électricien(ne) automobile","07","V","T06","JL","Certifié","Actif"]
[null,"TP-01278","METAL","Métallier","02","V","B05","BG","Certifié","Actif"]
[null,"TP-00145","METRE","Métreur","11","V","B01","BN","Certifié","Actif"]
[null,"TP-00462","MFBA","Menuisier  de fabrication bâtiment ameublement","04","V","B06","BH","Certifié","Actif"]
[null,"TP-01236","MGV","Monteur(se) graphiste vidéo","03","III","T05","JG","Certifié","Actif"]
[null,"TP-01296","MIPE","Monteur intégrateur en production électronique","01","V","I05","EB","Certifié","Actif"]
[null,"TP-00062","ML","Monteur levageur","06","V","B05","BG","Certifié","Actif"]
[null,"TP-01290","MOP","Mécanicien(ne) en outillages de précision","02","V","I03","DC","Certifié","Actif"]
[null,"TP-00205","MQEI","Monteur(se) qualifié(e) d'équipements industriels","07","V","I03","DC","Certifié","Actif"]
[null,"TP-00232","MRA","Mécanicien(ne) réparateur(trice) automobile","06","V","T06","JL","Certifié","Actif"]
[null,"TP-00065","MRCM","Mécanicien(ne) réparateur(trice) de cycles et motocycles","10","V","T06","JL","Certifié","Actif"]
[null,"TP-00343","MREAS","Monteur de réseaux électriques aéro-souterrains","05","V","B04","BM","Certifié","Actif"]
[null,"TP-00498","MRMAEV-MA","Mécanicien(ne) réparateur(trice) de matériels agricoles et d'espaces verts, option machinisme agricole","04","V","T06","JM","Certifié","Actif"]
[null,"TP-00497","MRMAEV-PJ","Mécanicien(ne) réparateur(trice) de matériels agricoles et d'espaces verts, option parcs et jardins","04","V","T06","JM","Certifié","Actif"]
[null,"TP-00001","MRMCM","Mécanicien(ne) Réparateur(trice) de Matériels de Chantier et de Manutention","08","V","T06","JM","Certifié","Actif"]
[null,"TP-00206","MRMP","Mécanicien(ne) réparateur(rice) en marine de plaisance","07","V","I17","AD","Certifié","Actif"]
[null,"TP-00103","MRVI","Mécanicien réparateur de véhicules industriels","06","V","T06","JL","Certifié","Actif"]
[null,"TP-00466","MSAMC","Monteur(se) de structures aéronautiques métalliques et composites","05","V","I01","CC","Certifié","Actif"]
[null,"TP-00136","MUM","Manager d'univers marchand","07","III","T02","JK","Certifié","Actif"]
[null,"TP-00338","NTC","Négociateur (trice) technico-commercial(e)","05","III","T02","HE","Certifié","Actif"]
[null,"TP-01283","OCHP","Opérateur(trice) composites hautes performances","02","V","I14","GD","Certifié","Actif"]
[null,"TP-01306","ODP","Opérateur en dépollution pyrotechnique","01","IV","","GE","Certifié","Actif"]
[null,"TP-00463","OP","Ouvrier du paysage","04","V","A01","AB","Certifié","Actif"]
[null,"TP-01292","OPHO","Ouvrier de production horticole, ornementale","02","V","A01","AB","Certifié","Actif"]
[null,"TP-01246","ORUCN","Opérateur(trice) régleur(se) d'usinage en commande numérique","03","V","I03","DC","Certifié","Actif"]
[null,"TP-01315","OSD","Opérateur(trice) en surveillance à distance","01","IV","B08","BM","Certifié","Actif"]
[null,"TP-00073","PBAT","Peintre en bâtiment","06","V","B03","BE","Certifié","Actif"]
[null,"TP-00091","PC","Peintre en carrosserie","06","V","T06","JL","Certifié","Actif"]
[null,"TP-00468","PCE","Préparateur(préparatrice) de commandes en entrepôt","05","V","T07","JE","Certifié","Actif"]
[null,"TP-00331","PDEC","Peintre en décors","04","V","B03","BE","Certifié","Actif"]
[null,"TP-00362","PIMFE","Poseur installateur de menuiseries,  fermetures et équipements","04","V","B06","BH","Certifié","Actif"]
[null,"TP-00325","PLAQU","Plaquiste","04","V","B03","BE","Certifié","Actif"]
[null,"TP-00043","PLATR","Plâtrier","06","V","B03","BE","Certifié","Actif"]
[null,"TP-01308","PM","Piqueur(se) en maroquinerie","02","V","","FE","Certifié","Actif"]
[null,"TP-00456","PMAI","Poseur de menuiseries et d'aménagements intérieurs","06","V","B06","BH","Certifié","Actif"]
[null,"TP-01309","PMM","Préparateur(trice) monteur(se) en maroquinerie","02","V","","FE","Certifié","Actif"]
[null,"TP-01310","RCDP","Responsable de chantier de dépollution pyrotechnique","01","III","","GE","Certifié","Actif"]
[null,"TP-00158","RCRC","Responsable de cuisine en restauration collective","07","IV","T04","JJ","Certifié","Actif"]
[null,"TP-01320","RD","Régleur(se) décolleteur(se)","01","IV","","DE","Certifié","Actif"]
[null,"TP-00200","RET","Responsable d'établissement touristique","07","III","T04","JH","Certifié","Actif"]
[null,"TP-00379","RH","Réceptionniste en hôtellerie","06","IV","T04","JJ","Certifié","Actif"]
[null,"TP-00264","RMA","Restaurateur de mobilier d'art","04","IV","B06","BH","Certifié","Actif"]
[null,"TP-00075","RR","Responsable de rayon","07","IV","T02","JK","Certifié","Actif"]
[null,"TP-00374","SA","Secrétaire assistant(e)","09","IV","T01","HB","Certifié","Actif"]
[null,"TP-00393","SAI","Secrétaire assistant(e) immobilier","04","IV","T01","HB","Certifié","Actif"]
[null,"TP-00057","SAMS","Secrétaire assistant(e) médico-social(e)","07","IV","T01","HB","Certifié","Actif"]
[null,"TP-00402","SC","Secrétaire comptable","07","IV","T01","HB","Certifié","Actif"]
[null,"TP-00310","SER","Serveur(se) en restauration","09","V","T04","JJ","Certifié","Actif"]
[null,"TP-00156","SG","Sellier(ère) garnisseur(se)","04","V","I10","FE","Certifié","Actif"]
[null,"TP-00157","SH","Sellier harnacheur","04","V","I10","FE","Certifié","Actif"]
[null,"TP-00273","SMMC","Stratifieur(se) multiprocédés en matériaux composites","06","V","I14","GD","Certifié","Actif"]
[null,"TP-00061","SOLMO","Solier moquettiste","06","V","B03","BE","Certifié","Actif"]
[null,"TP-01294","SOUD","Soudeur(se)","02","V","I01","CD","Certifié","Actif"]
[null,"TP-01276","SRCD","Superviseur(se) relation client à distance","02","III","T02","HE","Certifié","Actif"]
[null,"TP-01314","STP","Scaphandrier travaux publics","01","V","","BK","Certifié","Actif"]
[null,"TP-00485","T2SI","Technicien(ne) supérieur(e) de support en informatique","08","III","T03","HC","Certifié","Actif"]
[null,"TP-01262","TA","Technicien aérostructure","02","IV","I01","DC","Certifié","Actif"]
[null,"TP-00476","TAI","Technicien(ne) d'assistance en informatique","06","IV","T03","HC","Certifié","Actif"]
[null,"TP-01226","TAPGS","Tapissier garnisseur","03","V","B06","BH","Certifié","Actif"]
[null,"TP-00211","TAU","Technicien(ne) d'atelier en usinage","06","IV","I03","DC","Certifié","Actif"]
[null,"TP-00445","TAVA","Technicien(ne) après-vente automobile","09","IV","T06","JL","Certifié","Actif"]
[null,"TP-00079","TBEEt","Technicien de bureau d'études en électricité","07","IV","B08","BJ","Certifié","Actif"]
[null,"TP-00438","TCAF","Technicien de chantier aménagement finitions","04","IV","B03","BE","Certifié","Actif"]
[null,"TP-00434","TCND","Technicien(ne) de contrôle non destructif","04","IV","I01","CD","Certifié","Actif"]
[null,"TP-00004","TDP","Tailleur de pierre","06","V","B01","BC","Certifié","Actif"]
[null,"TP-00481","TEAB","Technicien en électricité et automatismes du bâtiment","05","IV","B08","BJ","Certifié","Actif"]
[null,"TP-01313","TEBDP","Technicien d'études du bâtiment en dessin de projet","01","IV","B03","BN","Certifié","Actif"]
[null,"TP-01316","TEBEC","Technicien d'études du bâtiment en économie de la construction","01","IV","B02","BN","Certifié","Actif"]
[null,"TP-01312","TEBEP","Technicien d'études du bâtiment en études de prix","01","IV","B01","BN","Certifié","Actif"]
[null,"TP-00117","TECB","Technicien études en construction bois","07","IV","B06","BH","Certifié","Actif"]
[null,"TP-00121","TECTI","Technicien(ne) d'études en chaudronnerie et tuyauterie industrielle","07","IV","I01","CC","Certifié","Actif"]
[null,"TP-00266","TEE","Technicien d'équipement en électricité","06","IV","B08","BJ","Certifié","Actif"]
[null,"TP-01266","TEM","Technicien(ne) d'études en mécanique","03","IV","I03","DB","Certifié","Actif"]
[null,"TP-00447","TEMP","Technicien d'équipement et de maintenance de piscines","05","IV","B02","BD","Certifié","Actif"]
[null,"TP-00346","TEMRM","Technicien(ne) d'exploitation et de maintenance de remontées mécaniques","06","IV","I07","DD","Certifié","Actif"]
[null,"TP-00375","TETTM","Technicien(ne) d'exploitation en transports terrestres de marchandises","06","IV","T07","JE","Certifié","Actif"]
[null,"TP-00160","TFIC","Technicien(ne) de fabrication de l'industrie chimique","08","IV","I11","GB","Certifié","Actif"]
[null,"TP-00202","TI","Tuyauteur industriel","07","V","I01","CC","Certifié","Actif"]
[null,"TP-01326","TICCSER","Technicien installateur en chauffage, climatisation, sanitaire et énergies renouvelables","01","IV","","BD","Certifié","Actif"]
[null,"TP-00186","TIFCC","Technicien(ne) d'intervention en froid commercial et climatisation","06","IV","I06","EE","Certifié","Actif"]
[null,"TP-00399","TIFECP","Technicien d'intervention en froid et équipements de cuisines professionnelles","03","IV","I06","EE","Certifié","Actif"]
[null,"TP-00119","TIFI","Technicien(ne) d'intervention en froid industriel","06","IV","I06","EE","Certifié","Actif"]
[null,"TP-01268","TIGD","Technicien(ne) en solutions d'impression et de gestion de documents","02","IV","I09","ED","Certifié","Actif"]
[null,"TP-00312","TIMECA","Technicien d'intervention et de maintenance énergétique en conditionnement d'air","05","IV","I06","EE","Certifié","Actif"]
[null,"TP-01282","TISAM","Technicien(ne) image, son et appareils multimédia","02","IV","I09","ED","Certifié","Actif"]
[null,"TP-00518","TL","Technicien(ne) de laboratoire ","03","IV","I11","GB","Certifié","Actif"]
[null,"TP-00461","TLE","Technicien(ne) en logistique d'entreposage","04","IV","T07","JE","Certifié","Actif"]
[null,"TP-01324","TMA","Technicien(ne) de maintenance d’ascenseurs","01","IV","","EC","Certifié","Actif"]
[null,"TP-01231","TMAI","Technicien en menuiserie et agencement intérieurs ","03","IV","B06","BH","Certifié","Actif"]
[null,"TP-00253","TMC","Technicien(ne) des matériaux composites","07","IV","I14","GD","Certifié","Actif"]
[null,"TP-00489","TMCC","Technicien de maintenance en chauffage et climatisation","04","IV","B02","BD","Certifié","Actif"]
[null,"TP-01273","TMCCN","Tourneur(se) sur machines conventionnelles et à commande numérique","02","V","I03","DC","Certifié","Actif"]
[null,"TP-00216","TMEMCM","Technicien(ne) de maintenance d'engins et de matériels de chantier et de manutention","09","IV","T06","JM","Certifié","Actif"]
[null,"TP-00436","TMEM-MA","Technicien(ne) de maintenance d'engins et de matériels \"machinisme agricole\"","04","IV","T06","JM","Certifié","Actif"]
[null,"TP-00113","TMET","Technicien de maintenance des équipements thermiques","08","IV","B02","BD","Certifié","Actif"]
[null,"TP-00442","TMI","Technicien(ne) de maintenance industrielle","08","IV","I07","EC","Certifié","Actif"]
[null,"TP-00161","TMME","Technicien(ne) de maintenance en multimédia et électrodomestique","08","IV","I09","ED","Certifié","Actif"]
[null,"TP-00318","TMRH","Technicien(ne) métreur en réhabilitation de l'habitat","07","IV","B01","BN","Certifié","Actif"]
[null,"TP-00486","TMS","Technicien(ne) médiation services","03","IV","T08","JN","Certifié","Actif"]
[null,"TP-01319","TMVOL","Technicien(ne) en montage et vente d'optique-lunetterie","01","IV","","DE","Certifié","Actif"]
[null,"TP-00295","TPI","Technicien(ne) de production industrielle","06","IV","I04","DF","Certifié","Actif"]
[null,"TP-00213","TPP","Technicien(ne) de production en plasturgie","06","IV","I14","GD","Certifié","Actif"]
[null,"TP-00471","TRCC","Technicien de réseaux câblés de communications","04","IV","B04","BM","Certifié","Actif"]
[null,"TP-00275","TRMTO","Technicien(ne) reconstructeur(trice) de moteurs thermiques et d'organes","04","IV","T06","JL","Certifié","Actif"]
[null,"TP-00496","TRTE","Technicien(ne) réseaux et télécommunications d'entreprise","03","IV","T03","HC","Certifié","Actif"]
[null,"TP-00251","TSAII","Technicien(ne) supérieur(e) en automatique et informatique industrielle","07","III","I05","EB","Certifié","Actif"]
[null,"TP-00262","TSBEC","Technicien supérieur du bâtiment en économie de la construction","06","III","B01","BN","Certifié","Actif"]
[null,"TP-00319","TSCISM","Technicien(ne) supérieur(e) en conception industrielle de systèmes mécaniques","09","III","I03","DB","Certifié","Actif"]
[null,"TP-00009","TSECM","Technicien supérieur d'études en construction métallique","08","III","B05","BG","Certifié","Actif"]
[null,"TP-00133","TSEGC","Technicien supérieur d'études en génie climatique","06","III","B02","BD","Certifié","Actif"]
[null,"TP-00287","TSFIC","Technicien(ne) supérieur(e) de fabrication de l'industrie chimique","04","III","I11","GB","Certifié","Actif"]
[null,"TP-00495","TSGERI","Technicien(ne) supérieur(e) gestionnaire exploitant(e) de ressources informatiques","06","III","T03","HC","Certifié","Actif"]
[null,"TP-01269","TSGP","Technicien(ne) supérieur(e) en gestion de production","02","III","I04","DG","Certifié","Actif"]
[null,"TP-00271","TSGT-C","Technicien supérieur géomètre topographe option cabinet de géomètre","07","III","B04","BN","Certifié","Actif"]
[null,"TP-01229","TSGT-P","Technicien supérieur géomètre topographe option entreprise de travaux publics","03","III","B04","BN","Certifié","Actif"]
[null,"TP-00511","TSMEC","Technicien supérieur de maintenance et d'exploitation en climatique","03","III","I06","EE","Certifié","Actif"]
[null,"TP-00150","TSMEL","Technicien(ne) supérieur(e) en méthodes et exploitation logistique","08","III","T07","JE","Certifié","Actif"]
[null,"TP-00240","TSMIe","Technicien(ne) supérieur(e) de maintenance industrielle","06","III","I07","EC","Certifié","Actif"]
[null,"TP-01287","TSMPP","Technicien(ne) supérieur(e) méthodes produit process","02","III","I03","DB","Certifié","Actif"]
[null,"TP-00022","TSPC","Technicien(ne) supérieur(e) physicien(ne) chimiste","07","III","I11","GB","Certifié","Actif"]
[null,"TP-01305","TSPI","Technicien(ne) supérieur(e) en production industrielle","01","III","","DF","Certifié","Actif"]
[null,"TP-00500","TSRIT","Technicien(ne) supérieur(e) en réseaux informatiques et télécommunications ","06","III","T03","HC","Certifié","Actif"]
[null,"TP-00324","TSSI","Technicien en systèmes de sécurité incendie","04","IV","B08","BM","Certifié","Actif"]
[null,"TP-01267","TSSIG","Technicien supérieur en système d'information géographique","02","III","B04","BN","Certifié","Actif"]
[null,"TP-00120","TSSIV","Technicien(ne) en systèmes de surveillance-intrusion et de vidéoprotection","06","IV","B08","BM","Certifié","Actif"]
[null,"TP-01330","TSTAMM","Technicien(ne) supérieur(e) du transport aérien et maritime de marchandises","01","III","T07","JE","Certifié","Actif"]
[null,"TP-01253","TSTL-TAM","Technicien supérieur en transport logistique, option transitaire aérien et maritime","02","III","T07","JE","Certifié","Actif"]
[null,"TP-01252","TSTL-TT","Technicien supérieur en transport logistique, option transport terrestre","02","III","T07","JE","Certifié","Actif"]
[null,"TP-00356","TSTP","Technicien(ne) supérieur(e) des transports de personnes ","06","III","T07","JE","Certifié","Actif"]
[null,"TP-01329","TSTTM","Technicien(ne) supérieur(e) du transport terrestre de marchandises","01","III","T07","JE","Certifié","Actif"]
[null,"TP-00340","TTE","Technicien(ne) de traitement des eaux","05","IV","I13","GE","Certifié","Actif"]
[null,"TP-00520","VCM","Vendeur(se) conseil en magasin","03","IV","T02","JK","Certifié","Actif"]

{"sheet":"PE","index":5,"n_rows":757,"n_cols":14,"rows_kept":757,"cut":false,"hidden":true,"merged":[[4,3,4,6],[1,1,1,6]]}
[]
[null,"Gestion dates PE et nombre moyen heures / jour",null,null,null,null,null,null,null,"Formation en centre","Formation en entreprise","Total"]
[null,null,null,null,null,null,null,null,"Nombre de jours",{"$f":"COUNTIF(M28:M757,\">0\")","v":51},{"$f":"COUNTIF(N28:N757,\">0\")","v":19},{"$f":"J3+K3","v":70}]
[null,"date de début","date de fin",null,null,null,null,null,"Nombre d'heures ",{"$f":"'Ne pas modifier (calculs)'!AN94","v":357},{"$f":"'Ne pas modifier (calculs)'!BN94","v":133},{"$f":"J4+K4","v":490}]
[null,{"$f":"Saisies!B7","v":"2016-06-01"},{"$f":"Saisies!C7","v":"2016-09-09"},null,null,null,null,null,"Nombre d'heures / jour",{"$f":"IF(J3=0,\"\",J4/J3)","v":7},{"$f":"IF(K3=0,\"\",K4/K3)","v":7},{"$f":"IF(L3=0,\"\",L4/L3)","v":7}]
[]
["Périodes en centre","date de départ du centre pour PE1","date de retour au centre après PE1","date de départ du centre pour PE2","date de retour au centre après PE2","date de départ du centre pour PE3","date de retour au centre après PE3"]
[null,{"$f":"IF(WEEKDAY(B25)=2,B25-3,MAX(0,B25-1))","v":"2016-07-01"},{"$f":"IF(WEEKDAY(C25)=6,C25+3,C25+1)","v":"2016-07-19"},{"$f":"IF(WEEKDAY(D25)=2,D25-3,MAX(0,D25-1))","v":"2016-08-04"},{"$f":"IF(WEEKDAY(E25)=6,E25+3,E25+1)","v":"2016-08-21"},{"$f":"IF(WEEKDAY(F25)=2,F25-3,MAX(0,F25-1))","v":"00:00:00"},{"$f":"IF(WEEKDAY(G25)=6,G25+3,G25+1)","v":"1900-01-01"}]
[null,{"$f":"IF(LOOKUP(B8,feries)=1,B8,B8-1)","v":"2016-07-01"},{"$f":"IF(LOOKUP(C8,feries)=1,C8,C8+1)","v":"2016-07-19"},{"$f":"IF(D8>0,IF(LOOKUP(D8,feries)=1,D8,D8-1),0)","v":"2016-08-04"},{"$f":"IF(E8>1,IF(LOOKUP(E8,feries)=1,E8,E8+1),0)","v":"2016-08-22"},{"$f":"IF(F8>0,IF(LOOKUP(F8,feries)=1,F8,F8-1),0)","v":"00:00:00"},{"$f":"IF(G8>1,(IF(LOOKUP(G8,feries)=1,G8,G8+1)),0)","v":"00:00:00"}]
[null,"2016-07-01","2016-07-19","2016-08-04","2016-08-22","00:00:00",{"$f":"IF(G9>1,IF(LOOKUP(G9,feries)=1,G9,G9+1),0)","v":"00:00:00"}]
[null,"2016-07-01","2016-07-19","2016-08-04","2016-08-22","00:00:00","00:00:00"]
[null,"2016-07-01","2016-07-19","2016-08-04","2016-08-22","00:00:00","00:00:00"]
[null,"2016-07-01","2016-07-19","2016-08-04","2016-08-22","00:00:00","00:00:00"]
[null,"2016-07-01","2016-07-19","2016-08-04","2016-08-22","00:00:00","00:00:00"]
[null,"2016-07-01","2016-07-19","2016-08-04","2016-08-22","00:00:00","00:00:00"]
[null,"2016-07-01","2016-07-19","2016-08-04","2016-08-22","00:00:00","00:00:00"]
[null,"2016-07-01","2016-07-19","2016-08-04","2016-08-22","00:00:00","00:00:00"]
[null,"2016-07-01","2016-07-19","2016-08-04","2016-08-22","00:00:00","00:00:00"]
[null,"2016-07-01","2016-07-19","2016-08-04","2016-08-22","00:00:00","00:00:00"]
[null,"2016-07-01","2016-07-19","2016-08-04","2016-08-22","00:00:00","00:00:00"]
[null,{"$f":"IF(B20>2,(CONCATENATE(\"Du \",TEXT(B5,\"jj mmmm aaaa\"),\" au \",TEXT(B20,\"jj mmmm aaaa\"))),((CONCATENATE(\"Du \",TEXT(B5,\"jj mmmm aaaa\"),\" au \",TEXT(C5,\"jj mmmm aaaa\")))))","v":"Du 01 juin 2016 au 01 juillet 2016"},null,{"$f":"IF(D20>2,(CONCATENATE(\", puis du \",TEXT(C20,\"jj mmmm aaaa\"),\" au \",TEXT(D20,\"jj mmmm aaaa\"))),\"\")","v":", puis du 19 juillet 2016 au 04 août 2016"},null,{"$f":"IF(F20>2,(CONCATENATE(\", puis du \",TEXT(E20,\"jj mmmm aaaa\"),\" au \",TEXT(F20,\"jj mmmm aaaa\"))),\"\")","v":""},{"$f":"IF(B20>2,H21,\"\")","v":", et du 22 août 2016 au 09 septembre 2016"},{"$f":"IF(G20>2,(CONCATENATE(\", et du \",TEXT(G20,\"jj mmmm aaaa\"),\" au \",TEXT(C5,\"jj mmmm aaaa\"))),((CONCATENATE(\", et du \",TEXT(MAX(G20,F20,E20,D20,C20),\"jj mmmm aaaa\"),\" au \",TEXT(C5,\"jj mmmm aaaa\")))))","v":", et du 22 août 2016 au 09 septembre 2016"}]
[]
[]
["Périodes en entreprise","date de début PE 1","date de fin PE 1","date de début PE 2","date de fin PE 2","date de début PE 3","date de fin PE 3"]
[null,{"$f":"Saisies!B10","v":"2016-07-04"},{"$f":"Saisies!C10","v":"2016-07-18"},{"$f":"Saisies!D10","v":"2016-08-05"},{"$f":"Saisies!E10","v":"2016-08-20"},{"$f":"Saisies!F10","v":"00:00:00"},{"$f":"Saisies!G10","v":"00:00:00"}]
[null,{"$f":"IF(B25>2,(CONCATENATE(\"Du \",TEXT(B25,\"jj mmmm aaaa\"),\" au \",TEXT(C25,\"jj mmmm aaaa\"))),\"\")","v":"Du 04 juillet 2016 au 18 juillet 2016"},null,{"$f":"IF(D25>2,(CONCATENATE(\", puis du \",TEXT(D25,\"jj mmmm aaaa\"),\" au \",TEXT(E25,\"jj mmmm aaaa\"))),\"\")","v":", puis du 05 août 2016 au 20 août 2016"},null,{"$f":"IF(F25>2,(CONCATENATE(\", puis du \",TEXT(F25,\"jj mmmm aaaa\"),\" au \",TEXT(G25,\"jj mmmm aaaa\"))),\"\")","v":""},{"$f":"IF(G25>2,(CONCATENATE(\", et du \",TEXT(F25,\"jj mmmm aaaa\"),\" au \",TEXT(G25,\"jj mmmm aaaa\"))),\"\")","v":""}]
[null,null,null,null,null,null,null,null,null,null,null,null,"HC","HE"]
[null,null,null,null,null,null,null,null,{"$f":"'Ne pas modifier (calculs)'!B13","v":"2016-01-01"},{"$f":"IF(WEEKDAY(I28)=1,0,(IF(WEEKDAY(I28)=7,0,K28)))","v":0},{"$f":"'Ne pas modifier (calculs)'!K13","v":0},null,{"$f":"'Ne pas modifier (calculs)'!$H13","v":""},{"$f":"'Ne pas modifier (calculs)'!$J13","v":""}]
[null,null,null,null,null,null,null,null,{"$f":"'Ne pas modifier (calculs)'!B14","v":"2016-01-02"},{"$f":"IF(WEEKDAY(I29)=1,0,(IF(WEEKDAY(I29)=7,0,K29)))","v":0},{"$f":"'Ne pas modifier (calculs)'!K14","v":1},null,{"$f":"'Ne pas modifier (calculs)'!$H14","v":""},{"$f":"'Ne pas modifier (calculs)'!$J14","v":""}]
[null,null,null,null,null,null,null,null,{"$f":"'Ne pas modifier (calculs)'!B15","v":"2016-01-03"},0,{"$f":"'Ne pas modifier (calculs)'!K15","v":1},null,{"$f":"'Ne pas modifier (calculs)'!$H15","v":""},{"$f":"'Ne pas modifier (calculs)'!$J15","v":""}]
[null,null,null,null,null,null,null,null,{"$f":"'Ne pas modifier (calculs)'!B16","v":"2016-01-04"},1,{"$f":"'Ne pas modifier (calculs)'!K16","v":1},null,{"$f":"'Ne pas modifier (calculs)'!$H16","v":""},{"$f":"'Ne pas modifier (calculs)'!$J16","v":""}]
[null,null,null,null,null,null,null,null,{"$f":"'Ne pas modifier (calculs)'!B17","v":"2016-01-05"},1,{"$f":"'Ne pas modifier (calculs)'!K17","v":1},null,{"$f":"'Ne pas modifier (calculs)'!$H17","v":""},{"$f":"'Ne pas modifier (calculs)'!$J17","v":""}]
[null,null,null,null,null,null,null,null,{"$f":"'Ne pas modifier (calculs)'!B18","v":"2016-01-06"},1,{"$f":"'Ne pas modifier (calculs)'!K18","v":1},null,{"$f":"'Ne pas modifier (calculs)'!$H18","v":""},{"$f":"'Ne pas modifier (calculs)'!$J18","v":""}]
[null,null,null,null,null,null,null,null,{"$f":"'Ne pas modifier (calculs)'!B19","v":"2016-01-07"},1,{"$f":"'Ne pas modifier (calculs)'!K19","v":1},null,{"$f":"'Ne pas modifier (calculs)'!$H19","v":""},{"$f":"'Ne pas modifier (calculs)'!$J19","v":""}]
[null,null,null,null,null,null,null,null,{"$f":"'Ne pas modifier (calculs)'!B20","v":"2016-01-08"},1,{"$f":"'Ne pas modifier (calculs)'!K20","v":1},null,{"$f":"'Ne pas modifier (calculs)'!$H20","v":""},{"$f":"'Ne pas modifier (calculs)'!$J20","v":""}]
[null,null,null,null,null,null,null,null,{"$f":"'Ne pas modifier (calculs)'!B21","v":"2016-01-09"},0,{"$f":"'Ne pas modifier (calculs)'!K21","v":1},null,{"$f":"'Ne pas modifier (calculs)'!$H21","v":""},{"$f":"'Ne pas modifier (calculs)'!$J21","v":""}]
[null,null,null,null,null,null,null,null,{"$f":"'Ne pas modifier (calculs)'!B22","v":"2016-01-10"},0,{"$f":"'Ne pas modifier (calculs)'!K22","v":1},null,{"$f":"'Ne pas modifier (calculs)'!$H22","v":""},{"$f":"'Ne pas modifier (calculs)'!$J22","v":""}]
[null,null,null,null,null,null,null,null,{"$f":"'Ne pas modifier (calculs)'!B23","v":"2016-01-11"},1,{"$f":"'Ne pas modifier (calculs)'!K23","v":1},null,{"$f":"'Ne pas modifier (calculs)'!$H23","v":""},{"$f":"'Ne pas modifier (calculs)'!$J23","v":""}]
[null,null,null,null,null,null,null,null,{"$f":"'Ne pas modifier (calculs)'!B24","v":"2016-01-12"},1,{"$f":"'Ne pas modifier (calculs)'!K24","v":1},null,{"$f":"'Ne pas modifier (calculs)'!$H24","v":""},{"$f":"'Ne pas modifier (calculs)'!$J24","v":""}]
[null,null,null,null,null,null,null,null,{"$f":"'Ne pas modifier (calculs)'!B25","v":"2016-01-13"},1,{"$f":"'Ne pas modifier (calculs)'!K25","v":1},null,{"$f":"'Ne pas modifier (calculs)'!$H25","v":""},{"$f":"'Ne pas modifier (calculs)'!$J25","v":""}]
[null,null,null,null,null,null,null,null,{"$f":"'Ne pas modifier (calculs)'!B26","v":"2016-01-14"},1,{"$f":"'Ne pas modifier (calculs)'!K26","v":1},null,{"$f":"'Ne pas modifier (calculs)'!$H26","v":""},{"$f":"'Ne pas modifier (calculs)'!$J26","v":""}]
[null,null,null,null,null,null,null,null,{"$f":"'Ne pas modifier (calculs)'!B27","v":"2016-01-15"},1,{"$f":"'Ne pas modifier (calculs)'!K27","v":1},null,{"$f":"'Ne pas modifier (calculs)'!$H27","v":""},{"$f":"'Ne pas modifier (calculs)'!$J27","v":""}]
[null,null,null,null,null,null,null,null,{"$f":"'Ne pas modifier (calculs)'!B28","v":"2016-01-16"},0,{"$f":"'Ne pas modifier (calculs)'!K28","v":1},null,{"$f":"'Ne pas modifier (calculs)'!$H28","v":""},{"$f":"'Ne pas modifier (calculs)'!$J28","v":""}]
[null,null,null,null,null,null,null,null,{"$f":"'Ne pas modifier (calculs)'!B29","v":"2016-01-17"},0,{"$f":"'Ne pas modifier (calculs)'!K29","v":1},null,{"$f":"'Ne pas modifier (calculs)'!$H29","v":""},{"$f":"'Ne pas modifier (calculs)'!$J29","v":""}]
[null,null,null,null,null,null,null,null,{"$f":"'Ne pas modifier (calculs)'!B30","v":"2016-01-18"},1,{"$f":"'Ne pas modifier (calculs)'!K30","v":1},null,{"$f":"'Ne pas modifier (calculs)'!$H30","v":""},{"$f":"'Ne pas modifier (calculs)'!$J30","v":""}]
[null,null,null,null,null,null,null,null,{"$f":"'Ne pas modifier (calculs)'!B31","v":"2016-01-19"},1,{"$f":"'Ne pas modifier (calculs)'!K31","v":1},null,{"$f":"'Ne pas modifier (calculs)'!$H31","v":""},{"$f":"'Ne pas modifier (calculs)'!$J31","v":""}]
[null,null,null,null,null,null,null,null,{"$f":"'Ne pas modifier (calculs)'!B32","v":"2016-01-20"},1,{"$f":"'Ne pas modifier (calculs)'!K32","v":1},null,{"$f":"'Ne pas modifier (calculs)'!$H32","v":""},{"$f":"'Ne pas modifier (calculs)'!$J32","v":""}]
[null,null,null,null,null,null,null,null,{"$f":"'Ne pas modifier (calculs)'!B33","v":"2016-01-21"},1,{"$f":"'Ne pas modifier (calculs)'!K33","v":1},null,{"$f":"'Ne pas modifier (calculs)'!$H33","v":""},{"$f":"'Ne pas modifier (calculs)'!$J33","v":""}]
[null,null,null,null,null,null,null,null,{"$f":"'Ne pas modifier (calculs)'!B34","v":"2016-01-22"},1,{"$f":"'Ne pas modifier (calculs)'!K34","v":1},null,{"$f":"'Ne pas modifier (calculs)'!$H34","v":""},{"$f":"'Ne pas modifier (calculs)'!$J34","v":""}]
[null,null,null,null,null,null,null,null,{"$f":"'Ne pas modifier (calculs)'!B35","v":"2016-01-23"},0,{"$f":"'Ne pas modifier (calculs)'!K35","v":1},null,{"$f":"'Ne pas modifier (calculs)'!$H35","v":""},{"$f":"'Ne pas modifier (calculs)'!$J35","v":""}]
[null,null,null,null,null,null,null,null,{"$f":"'Ne pas modifier (calculs)'!B36","v":"2016-01-24"},0,{"$f":"'Ne pas modifier (calculs)'!K36","v":1},null,{"$f":"'Ne pas modifier (calculs)'!$H36","v":""},{"$f":"'Ne pas modifier (calculs)'!$J36","v":""}]
[null,null,null,null,null,null,null,null,{"$f":"'Ne pas modifier (calculs)'!B37","v":"2016-01-25"},1,{"$f":"'Ne pas modifier (calculs)'!K37","v":1},null,{"$f":"'Ne pas modifier (calculs)'!$H37","v":""},{"$f":"'Ne pas modifier (calculs)'!$J37","v":""}]
[null,null,null,null,null,null,null,null,{"$f":"'Ne pas modifier (calculs)'!B38","v":"2016-01-26"},1,{"$f":"'Ne pas modifier (calculs)'!K38","v":1},null,{"$f":"'Ne pas modifier (calculs)'!$H38","v":""},{"$f":"'Ne pas modifier (calculs)'!$J38","v":""}]
[null,null,null,null,null,null,null,null,{"$f":"'Ne pas modifier (calculs)'!B39","v":"2016-01-27"},1,{"$f":"'Ne pas modifier (calculs)'!K39","v":1},null,{"$f":"'Ne pas modifier (calculs)'!$H39","v":""},{"$f":"'Ne pas modifier (calculs)'!$J39","v":""}]
[null,null,null,null,null,null,null,null,{"$f":"'Ne pas modifier (calculs)'!B40","v":"2016-01-28"},1,{"$f":"'Ne pas modifier (calculs)'!K40","v":1},null,{"$f":"'Ne pas modifier (calculs)'!$H40","v":""},{"$f":"'Ne pas modifier (calculs)'!$J40","v":""}]
[null,null,null,null,null,null,null,null,{"$f":"'Ne pas modifier (calculs)'!B41","v":"2016-01-29"},1,{"$f":"'Ne pas modifier (calculs)'!K41","v":1},null,{"$f":"'Ne pas modifier (calculs)'!$H41","v":""},{"$f":"'Ne pas modifier (calculs)'!$J41","v":""}]
[null,null,null,null,null,null,null,null,{"$f":"'Ne pas modifier (calculs)'!B42","v":"2016-01-30"},0,{"$f":"'Ne pas modifier (calculs)'!K42","v":1},null,{"$f":"'Ne pas modifier (calculs)'!$H42","v":""},{"$f":"'Ne pas modifier (calculs)'!$J42","v":""}]
[null,null,null,null,null,null,null,null,{"$f":"'Ne pas modifier (calculs)'!B43","v":"2016-01-31"},0,{"$f":"'Ne pas modifier (calculs)'!K43","v":1},null,{"$f":"'Ne pas modifier (calculs)'!$H43","v":""},{"$f":"'Ne pas modifier (calculs)'!$J43","v":""}]
[null,null,null,null,null,null,null,null,{"$f":"'Ne pas modifier (calculs)'!R13","v":"2016-02-01"},1,{"$f":"'Ne pas modifier (calculs)'!AA13","v":1},null,{"$f":"'Ne pas modifier (calculs)'!$X13","v":""},{"$f":"'Ne pas modifier (calculs)'!$Z13","v":""}]
[null,null,null,null,null,null,null,null,{"$f":"'Ne pas modifier (calculs)'!R14","v":"2016-02-02"},1,{"$f":"'Ne pas modifier (calculs)'!AA14","v":1},null,{"$f":"'Ne pas modifier (calculs)'!$X14","v":""},{"$f":"'Ne pas modifier (calculs)'!$Z14","v":""}]
[null,null,null,null,null,null,null,null,{"$f":"'Ne pas modifier (calculs)'!R15","v":"2016-02-03"},1,{"$f":"'Ne pas modifier (calculs)'!AA15","v":1},null,{"$f":"'Ne pas modifier (calculs)'!$X15","v":""},{"$f":"'Ne pas modifier (calculs)'!$Z15","v":""}]
[null,null,null,null,null,null,null,null,{"$f":"'Ne pas modifier (calculs)'!R16","v":"2016-02-04"},1,{"$f":"'Ne pas modifier (calculs)'!AA16","v":1},null,{"$f":"'Ne pas modifier (calculs)'!$X16","v":""},{"$f":"'Ne pas modifier (calculs)'!$Z16","v":""}]
[null,null,null,null,null,null,null,null,{"$f":"'Ne pas modifier (calculs)'!R17","v":"2016-02-05"},1,{"$f":"'Ne pas modifier (calculs)'!AA17","v":1},null,{"$f":"'Ne pas modifier (calculs)'!$X17","v":""},{"$f":"'Ne pas modifier (calculs)'!$Z17","v":""}]
[null,null,null,null,null,null,null,null,{"$f":"'Ne pas modifier (calculs)'!R18","v":"2016-02-06"},0,{"$f":"'Ne pas modifier (calculs)'!AA18","v":1},null,{"$f":"'Ne pas modifier (calculs)'!$X18","v":""},{"$f":"'Ne pas modifier (calculs)'!$Z18","v":""}]
[null,null,null,null,null,null,null,null,{"$f":"'Ne pas modifier (calculs)'!R19","v":"2016-02-07"},0,{"$f":"'Ne pas modifier (calculs)'!AA19","v":1},null,{"$f":"'Ne pas modifier (calculs)'!$X19","v":""},{"$f":"'Ne pas modifier (calculs)'!$Z19","v":""}]
[null,null,null,null,null,null,null,null,{"$f":"'Ne pas modifier (calculs)'!R20","v":"2016-02-08"},1,{"$f":"'Ne pas modifier (calculs)'!AA20","v":1},null,{"$f":"'Ne pas modifier (calculs)'!$X20","v":""},{"$f":"'Ne pas modifier (calculs)'!$Z20","v":""}]
[null,null,null,null,null,null,null,null,{"$f":"'Ne pas modifier (calculs)'!R21","v":"2016-02-09"},1,{"$f":"'Ne pas modifier (calculs)'!AA21","v":1},null,{"$f":"'Ne pas modifier (calculs)'!$X21","v":""},{"$f":"'Ne pas modifier (calculs)'!$Z21","v":""}]
[null,null,null,null,null,null,null,null,{"$f":"'Ne pas modifier (calculs)'!R22","v":"2016-02-10"},1,{"$f":"'Ne pas modifier (calculs)'!AA22","v":1},null,{"$f":"'Ne pas modifier (calculs)'!$X22","v":""},{"$f":"'Ne pas modifier (calculs)'!$Z22","v":""}]
[null,null,null,null,null,null,null,null,{"$f":"'Ne pas modifier (calculs)'!R23","v":"2016-02-11"},1,{"$f":"'Ne pas modifier (calculs)'!AA23","v":1},null,{"$f":"'Ne pas modifier (calculs)'!$X23","v":""},{"$f":"'Ne pas modifier (calculs)'!$Z23","v":""}]
[null,null,null,null,null,null,null,null,{"$f":"'Ne pas modifier (calculs)'!R24","v":"2016-02-12"},1,{"$f":"'Ne pas modifier (calculs)'!AA24","v":1},null,{"$f":"'Ne pas modifier (calculs)'!$X24","v":""},{"$f":"'Ne pas modifier (calculs)'!$Z24","v":""}]
[null,null,null,null,null,null,null,null,{"$f":"'Ne pas modifier (calculs)'!R25","v":"2016-02-13"},0,{"$f":"'Ne pas modifier (calculs)'!AA25","v":1},null,{"$f":"'Ne pas modifier (calculs)'!$X25","v":""},{"$f":"'Ne pas modifier (calculs)'!$Z25","v":""}]
[null,null,null,null,null,null,null,null,{"$f":"'Ne pas modifier (calculs)'!R26","v":"2016-02-14"},0,{"$f":"'Ne pas modifier (calculs)'!AA26","v":1},null,{"$f":"'Ne pas modifier (calculs)'!$X26","v":""},{"$f":"'Ne pas modifier (calculs)'!$Z26","v":""}]
[null,null,null,null,null,null,null,null,{"$f":"'Ne pas modifier (calculs)'!R27","v":"2016-02-15"},1,{"$f":"'Ne pas modifier (calculs)'!AA27","v":1},null,{"$f":"'Ne pas modifier (calculs)'!$X27","v":""},{"$f":"'Ne pas modifier (calculs)'!$Z27","v":""}]
[null,null,null,null,null,null,null,null,{"$f":"'Ne pas modifier (calculs)'!R28","v":"2016-02-16"},1,{"$f":"'Ne pas modifier (calculs)'!AA28","v":1},null,{"$f":"'Ne pas modifier (calculs)'!$X28","v":""},{"$f":"'Ne pas modifier (calculs)'!$Z28","v":""}]
[null,null,null,null,null,null,null,null,{"$f":"'Ne pas modifier (calculs)'!R29","v":"2016-02-17"},1,{"$f":"'Ne pas modifier (calculs)'!AA29","v":1},null,{"$f":"'Ne pas modifier (calculs)'!$X29","v":""},{"$f":"'Ne pas modifier (calculs)'!$Z29","v":""}]
[null,null,null,null,null,null,null,null,{"$f":"'Ne pas modifier (calculs)'!R30","v":"2016-02-18"},1,{"$f":"'Ne pas modifier (calculs)'!AA30","v":1},null,{"$f":"'Ne pas modifier (calculs)'!$X30","v":""},{"$f":"'Ne pas modifier (calculs)'!$Z30","v":""}]
[null,null,null,null,null,null,null,null,{"$f":"'Ne pas modifier (calculs)'!R31","v":"2016-02-19"},1,{"$f":"'Ne pas modifier (calculs)'!AA31","v":1},null,{"$f":"'Ne pas modifier (calculs)'!$X31","v":""},{"$f":"'Ne pas modifier (calculs)'!$Z31","v":""}]
[null,null,null,null,null,null,null,null,{"$f":"'Ne pas modifier (calculs)'!R32","v":"2016-02-20"},0,{"$f":"'Ne pas modifier (calculs)'!AA32","v":1},null,{"$f":"'Ne pas modifier (calculs)'!$X32","v":""},{"$f":"'Ne pas modifier (calculs)'!$Z32","v":""}]
[null,null,null,null,null,null,null,null,{"$f":"'Ne pas modifier (calculs)'!R33","v":"2016-02-21"},0,{"$f":"'Ne pas modifier (calculs)'!AA33","v":1},null,{"$f":"'Ne pas modifier (calculs)'!$X33","v":""},{"$f":"'Ne pas modifier (calculs)'!$Z33","v":""}]
[null,null,null,null,null,null,null,null,{"$f":"'Ne pas modifier (calculs)'!R34","v":"2016-02-22"},1,{"$f":"'Ne pas modifier (calculs)'!AA34","v":1},null,{"$f":"'Ne pas modifier (calculs)'!$X34","v":""},{"$f":"'Ne pas modifier (calculs)'!$Z34","v":""}]
[null,null,null,null,null,null,null,null,{"$f":"'Ne pas modifier (calculs)'!R35","v":"2016-02-23"},1,{"$f":"'Ne pas modifier (calculs)'!AA35","v":1},null,{"$f":"'Ne pas modifier (calculs)'!$X35","v":""},{"$f":"'Ne pas modifier (calculs)'!$Z35","v":""}]
[null,null,null,null,null,null,null,null,{"$f":"'Ne pas modifier (calculs)'!R36","v":"2016-02-24"},1,{"$f":"'Ne pas modifier (calculs)'!AA36","v":1},null,{"$f":"'Ne pas modifier (calculs)'!$X36","v":""},{"$f":"'Ne pas modifier (calculs)'!$Z36","v":""}]
[null,null,null,null,null,null,null,null,{"$f":"'Ne pas modifier (calculs)'!R37","v":"2016-02-25"},1,{"$f":"'Ne pas modifier (calculs)'!AA37","v":1},null,{"$f":"'Ne pas modifier (calculs)'!$X37","v":""},{"$f":"'Ne pas modifier (calculs)'!$Z37","v":""}]
[null,null,null,null,null,null,null,null,{"$f":"'Ne pas modifier (calculs)'!R38","v":"2016-02-26"},1,{"$f":"'Ne pas modifier (calculs)'!AA38","v":1},null,{"$f":"'Ne pas modifier (calculs)'!$X38","v":""},{"$f":"'Ne pas modifier (calculs)'!$Z38","v":""}]
[null,null,null,null,null,null,null,null,{"$f":"'Ne pas modifier (calculs)'!R39","v":"2016-02-27"},0,{"$f":"'Ne pas modifier (calculs)'!AA39","v":1},null,{"$f":"'Ne pas modifier (calculs)'!$X39","v":""},{"$f":"'Ne pas modifier (calculs)'!$Z39","v":""}]
[null,null,null,null,null,null,null,null,{"$f":"'Ne pas modifier (calculs)'!R40","v":"2016-02-28"},0,{"$f":"'Ne pas modifier (calculs)'!AA40","v":1},null,{"$f":"'Ne pas modifier (calculs)'!$X40","v":""},{"$f":"'Ne pas modifier (calculs)'!$Z40","v":""}]
[null,null,null,null,null,null,null,null,{"$f":"'Ne pas modifier (calculs)'!AH13","v":"2016-03-01"},1,{"$f":"'Ne pas modifier (calculs)'!AQ13","v":1},null,{"$f":"'Ne pas modifier (calculs)'!$AN13","v":""},{"$f":"'Ne pas modifier (calculs)'!$AP13","v":""}]
[null,null,null,null,null,null,null,null,{"$f":"'Ne pas modifier (calculs)'!AH14","v":"2016-03-02"},1,{"$f":"'Ne pas modifier (calculs)'!AQ14","v":1},null,{"$f":"'Ne pas modifier (calculs)'!$AN14","v":""},{"$f":"'Ne pas modifier (calculs)'!$AP14","v":""}]
[null,null,null,null,null,null,null,null,{"$f":"'Ne pas modifier (calculs)'!AH15","v":"2016-03-03"},1,{"$f":"'Ne pas modifier (calculs)'!AQ15","v":1},null,{"$f":"'Ne pas modifier (calculs)'!$AN15","v":""},{"$f":"'Ne pas modifier (calculs)'!$AP15","v":""}]
[null,null,null,null,null,null,null,null,{"$f":"'Ne pas modifier (calculs)'!AH16","v":"2016-03-04"},1,{"$f":"'Ne pas modifier (calculs)'!AQ16","v":1},null,{"$f":"'Ne pas modifier (calculs)'!$AN16","v":""},{"$f":"'Ne pas modifier (calculs)'!$AP16","v":""}]
[null,null,null,null,null,null,null,null,{"$f":"'Ne pas modifier (calculs)'!AH17","v":"2016-03-05"},0,{"$f":"'Ne pas modifier (calculs)'!AQ17","v":1},null,{"$f":"'Ne pas modifier (calculs)'!$AN17","v":""},{"$f":"'Ne pas modifier (calculs)'!$AP17","v":""}]
[null,null,null,null,null,null,null,null,{"$f":"'Ne pas modifier (calculs)'!AH18","v":"2016-03-06"},0,{"$f":"'Ne pas modifier (calculs)'!AQ18","v":1},null,{"$f":"'Ne pas modifier (calculs)'!$AN18","v":""},{"$f":"'Ne pas modifier (calculs)'!$AP18","v":""}]
[null,null,null,null,null,null,null,null,{"$f":"'Ne pas modifier (calculs)'!AH19","v":"2016-03-07"},{"$f":"IF(WEEKDAY(I93)=1,0,(IF(WEEKDAY(I93)=7,0,K93)))","v":1},{"$f":"'Ne pas modifier (calculs)'!AQ19","v":1},null,{"$f":"'Ne pas modifier (calculs)'!$AN19","v":""},{"$f":"'Ne pas modifier (calculs)'!$AP19","v":""}]
[null,null,null,null,null,null,null,null,{"$f":"'Ne pas modifier (calculs)'!AH20","v":"2016-03-08"},1,{"$f":"'Ne pas modifier (calculs)'!AQ20","v":1},null,{"$f":"'Ne pas modifier (calculs)'!$AN20","v":""},{"$f":"'Ne pas modifier (calculs)'!$AP20","v":""}]
[null,null,null,null,null,null,null,null,{"$f":"'Ne pas modifier (calculs)'!AH21","v":"2016-03-09"},1,{"$f":"'Ne pas modifier (calculs)'!AQ21","v":1},null,{"$f":"'Ne pas modifier (calculs)'!$AN21","v":""},{"$f":"'Ne pas modifier (calculs)'!$AP21","v":""}]
[null,null,null,null,null,null,null,null,{"$f":"'Ne pas modifier (calculs)'!AH22","v":"2016-03-10"},1,{"$f":"'Ne pas modifier (calculs)'!AQ22","v":1},null,{"$f":"'Ne pas modifier (calculs)'!$AN22","v":""},{"$f":"'Ne pas modifier (calculs)'!$AP22","v":""}]
[null,null,null,null,null,null,null,null,{"$f":"'Ne pas modifier (calculs)'!AH23","v":"2016-03-11"},1,{"$f":"'Ne pas modifier (calculs)'!AQ23","v":1},null,{"$f":"'Ne pas modifier (calculs)'!$AN23","v":""},{"$f":"'Ne pas modifier (calculs)'!$AP23","v":""}]
[null,null,null,null,null,null,null,null,{"$f":"'Ne pas modifier (calculs)'!AH24","v":"2016-03-12"},0,{"$f":"'Ne pas modifier (calculs)'!AQ24","v":1},null,{"$f":"'Ne pas modifier (calculs)'!$AN24","v":""},{"$f":"'Ne pas modifier (calculs)'!$AP24","v":""}]
[null,null,null,null,null,null,null,null,{"$f":"'Ne pas modifier (calculs)'!AH25","v":"2016-03-13"},0,{"$f":"'Ne pas modifier (calculs)'!AQ25","v":1},null,{"$f":"'Ne pas modifier (calculs)'!$AN25","v":""},{"$f":"'Ne pas modifier (calculs)'!$AP25","v":""}]
[null,null,null,null,null,null,null,null,{"$f":"'Ne pas modifier (calculs)'!AH26","v":"2016-03-14"},1,{"$f":"'Ne pas modifier (calculs)'!AQ26","v":1},null,{"$f":"'Ne pas modifier (calculs)'!$AN26","v":""},{"$f":"'Ne pas modifier (calculs)'!$AP26","v":""}]
[null,null,null,null,null,null,null,null,{"$f":"'Ne pas modifier (calculs)'!AH27","v":"2016-03-15"},1,{"$f":"'Ne pas modifier (calculs)'!AQ27","v":1},null,{"$f":"'Ne pas modifier (calculs)'!$AN27","v":""},{"$f":"'Ne pas modifier (calculs)'!$AP27","v":""}]
[null,null,null,null,null,null,null,null,{"$f":"'Ne pas modifier (calculs)'!AH28","v":"2016-03-16"},1,{"$f":"'Ne pas modifier (calculs)'!AQ28","v":1},null,{"$f":"'Ne pas modifier (calculs)'!$AN28","v":""},{"$f":"'Ne pas modifier (calculs)'!$AP28","v":""}]
[null,null,null,null,null,null,null,null,{"$f":"'Ne pas modifier (calculs)'!AH29","v":"2016-03-17"},1,{"$f":"'Ne pas modifier (calculs)'!AQ29","v":1},null,{"$f":"'Ne pas modifier (calculs)'!$AN29","v":""},{"$f":"'Ne pas modifier (calculs)'!$AP29","v":""}]
[null,null,null,null,null,null,null,null,{"$f":"'Ne pas modifier (calculs)'!AH30","v":"2016-03-18"},1,{"$f":"'Ne pas modifier (calculs)'!AQ30","v":1},null,{"$f":"'Ne pas modifier (calculs)'!$AN30","v":""},{"$f":"'Ne pas modifier (calculs)'!$AP30","v":""}]
[null,null,null,null,null,null,null,null,{"$f":"'Ne pas modifier (calculs)'!AH31","v":"2016-03-19"},0,{"$f":"'Ne pas modifier (calculs)'!AQ31","v":1},null,{"$f":"'Ne pas modifier (calculs)'!$AN31","v":""},{"$f":"'Ne pas modifier (calculs)'!$AP31","v":""}]
[null,null,null,null,null,null,null,null,{"$f":"'Ne pas modifier (calculs)'!AH32","v":"2016-03-20"},0,{"$f":"'Ne pas modifier (calculs)'!AQ32","v":1},null,{"$f":"'Ne pas modifier (calculs)'!$AN32","v":""},{"$f":"'Ne pas modifier (calculs)'!$AP32","v":""}]
[null,null,null,null,null,null,null,null,{"$f":"'Ne pas modifier (calculs)'!AH33","v":"2016-03-21"},1,{"$f":"'Ne pas modifier (calculs)'!AQ33","v":1},null,{"$f":"'Ne pas modifier (calculs)'!$AN33","v":""},{"$f":"'Ne pas modifier (calculs)'!$AP33","v":""}]
[null,null,null,null,null,null,null,null,{"$f":"'Ne pas modifier (calculs)'!AH34","v":"2016-03-22"},1,{"$f":"'Ne pas modifier (calculs)'!AQ34","v":1},null,{"$f":"'Ne pas modifier (calculs)'!$AN34","v":""},{"$f":"'Ne pas modifier (calculs)'!$AP34","v":""}]
[null,null,null,null,null,null,null,null,{"$f":"'Ne pas modifier (calculs)'!AH35","v":"2016-03-23"},1,{"$f":"'Ne pas modifier (calculs)'!AQ35","v":1},null,{"$f":"'Ne pas modifier (calculs)'!$AN35","v":""},{"$f":"'Ne pas modifier (calculs)'!$AP35","v":""}]
[null,null,null,null,null,null,null,null,{"$f":"'Ne pas modifier (calculs)'!AH36","v":"2016-03-24"},1,{"$f":"'Ne pas modifier (calculs)'!AQ36","v":1},null,{"$f":"'Ne pas modifier (calculs)'!$AN36","v":""},{"$f":"'Ne pas modifier (calculs)'!$AP36","v":""}]
[null,null,null,null,null,null,null,null,{"$f":"'Ne pas modifier (calculs)'!AH37","v":"2016-03-25"},"B",{"$f":"'Ne pas modifier (calculs)'!AQ37","v":"B"},null,{"$f":"'Ne pas modifier (calculs)'!$AN37","v":""},{"$f":"'Ne pas modifier (calculs)'!$AP37","v":""}]
[null,null,null,null,null,null,null,null,{"$f":"'Ne pas modifier (calculs)'!AH38","v":"2016-03-26"},0,{"$f":"'Ne pas modifier (calculs)'!AQ38","v":1},null,{"$f":"'Ne pas modifier (calculs)'!$AN38","v":""},{"$f":"'Ne pas modifier (calculs)'!$AP38","v":""}]
[null,null,null,null,null,null,null,null,{"$f":"'Ne pas modifier (calculs)'!AH39","v":"2016-03-27"},0,{"$f":"'Ne pas modifier (calculs)'!AQ39","v":1},null,{"$f":"'Ne pas modifier (calculs)'!$AN39","v":""},{"$f":"'Ne pas modifier (calculs)'!$AP39","v":""}]
[null,null,null,null,null,null,null,null,{"$f":"'Ne pas modifier (calculs)'!AH40","v":"2016-03-28"},"B",{"$f":"'Ne pas modifier (calculs)'!AQ40","v":"B"},null,{"$f":"'Ne pas modifier (calculs)'!$AN40","v":""},{"$f":"'Ne pas modifier (calculs)'!$AP40","v":""}]
[null,null,null,null,null,null,null,null,{"$f":"'Ne pas modifier (calculs)'!AH41","v":"2016-03-29"},1,{"$f":"'Ne pas modifier (calculs)'!AQ41","v":1},null,{"$f":"'Ne pas modifier (calculs)'!$AN41","v":""},{"$f":"'Ne pas modifier (calculs)'!$AP41","v":""}]
[null,null,null,null,null,null,null,null,{"$f":"'Ne pas modifier (calculs)'!AH42","v":"2016-03-30"},1,{"$f":"'Ne pas modifier (calculs)'!AQ42","v":1},null,{"$f":"'Ne pas modifier (calculs)'!$AN42","v":""},{"$f":"'Ne pas modifier (calculs)'!$AP42","v":""}]
[null,null,null,null,null,null,null,null,{"$f":"'Ne pas modifier (calculs)'!AH43","v":"2016-03-31"},1,{"$f":"'Ne pas modifier (calculs)'!AQ43","v":1},null,{"$f":"'Ne pas modifier (calculs)'!$AN43","v":""},{"$f":"'Ne pas modifier (calculs)'!$AP43","v":""}]
[null,null,null,null,null,null,null,null,{"$f":"'Ne pas modifier (calculs)'!AX13","v":"2016-04-01"},1,{"$f":"'Ne pas modifier (calculs)'!BG13","v":1},null,{"$f":"'Ne pas modifier (calculs)'!$BD13","v":""},{"$f":"'Ne pas modifier (calculs)'!$BF13","v":""}]
[null,null,null,null,null,null,null,null,{"$f":"'Ne pas modifier (calculs)'!AX14","v":"2016-04-02"},0,{"$f":"'Ne pas modifier (calculs)'!BG14","v":1},null,{"$f":"'Ne pas modifier (calculs)'!$BD14","v":""},{"$f":"'Ne pas modifier (calculs)'!$BF14","v":""}]
[null,null,null,null,null,null,null,null,{"$f":"'Ne pas modifier (calculs)'!AX15","v":"2016-04-03"},0,{"$f":"'Ne pas modifier (calculs)'!BG15","v":1},null,{"$f":"'Ne pas modifier (calculs)'!$BD15","v":""},{"$f":"'Ne pas modifier (calculs)'!$BF15","v":""}]
[null,null,null,null,null,null,null,null,{"$f":"'Ne pas modifier (calculs)'!AX16","v":"2016-04-04"},1,{"$f":"'Ne pas modifier (calculs)'!BG16","v":1},null,{"$f":"'Ne pas modifier (calculs)'!$BD16","v":""},{"$f":"'Ne pas modifier (calculs)'!$BF16","v":""}]
[null,null,null,null,null,null,null,null,{"$f":"'Ne pas modifier (calculs)'!AX17","v":"2016-04-05"},1,{"$f":"'Ne pas modifier (calculs)'!BG17","v":1},null,{"$f":"'Ne pas modifier (calculs)'!$BD17","v":""},{"$f":"'Ne pas modifier (calculs)'!$BF17","v":""}]
[null,null,null,null,null,null,null,null,{"$f":"'Ne pas modifier (calculs)'!AX18","v":"2016-04-06"},1,{"$f":"'Ne pas modifier (calculs)'!BG18","v":1},null,{"$f":"'Ne pas modifier (calculs)'!$BD18","v":""},{"$f":"'Ne pas modifier (calculs)'!$BF18","v":""}]
[null,null,null,null,null,null,null,null,{"$f":"'Ne pas modifier (calculs)'!AX19","v":"2016-04-07"},1,{"$f":"'Ne pas modifier (calculs)'!BG19","v":1},null,{"$f":"'Ne pas modifier (calculs)'!$BD19","v":""},{"$f":"'Ne pas modifier (calculs)'!$BF19","v":""}]
[null,null,null,null,null,null,null,null,{"$f":"'Ne pas modifier (calculs)'!AX20","v":"2016-04-08"},1,{"$f":"'Ne pas modifier (calculs)'!BG20","v":1},null,{"$f":"'Ne pas modifier (calculs)'!$BD20","v":""},{"$f":"'Ne pas modifier (calculs)'!$BF20","v":""}]
[null,null,null,null,null,null,null,null,{"$f":"'Ne pas modifier (calculs)'!AX21","v":"2016-04-09"},0,{"$f":"'Ne pas modifier (calculs)'!BG21","v":1},null,{"$f":"'Ne pas modifier (calculs)'!$BD21","v":""},{"$f":"'Ne pas modifier (calculs)'!$BF21","v":""}]
[null,null,null,null,null,null,null,null,{"$f":"'Ne pas modifier (calculs)'!AX22","v":"2016-04-10"},0,{"$f":"'Ne pas modifier (calculs)'!BG22","v":1},null,{"$f":"'Ne pas modifier (calculs)'!$BD22","v":""},{"$f":"'Ne pas modifier (calculs)'!$BF22","v":""}]
[null,null,null,null,null,null,null,null,{"$f":"'Ne pas modifier (calculs)'!AX23","v":"2016-04-11"},1,{"$f":"'Ne pas modifier (calculs)'!BG23","v":1},null,{"$f":"'Ne pas modifier (calculs)'!$BD23","v":""},{"$f":"'Ne pas modifier (calculs)'!$BF23","v":""}]
[null,null,null,null,null,null,null,null,{"$f":"'Ne pas modifier (calculs)'!AX24","v":"2016-04-12"},1,{"$f":"'Ne pas modifier (calculs)'!BG24","v":1},null,{"$f":"'Ne pas modifier (calculs)'!$BD24","v":""},{"$f":"'Ne pas modifier (calculs)'!$BF24","v":""}]
[null,null,null,null,null,null,null,null,{"$f":"'Ne pas modifier (calculs)'!AX25","v":"2016-04-13"},1,{"$f":"'Ne pas modifier (calculs)'!BG25","v":1},null,{"$f":"'Ne pas modifier (calculs)'!$BD25","v":""},{"$f":"'Ne pas modifier (calculs)'!$BF25","v":""}]
[null,null,null,null,null,null,null,null,{"$f":"'Ne pas modifier (calculs)'!AX26","v":"2016-04-14"},1,{"$f":"'Ne pas modifier (calculs)'!BG26","v":1},null,{"$f":"'Ne pas modifier (calculs)'!$BD26","v":""},{"$f":"'Ne pas modifier (calculs)'!$BF26","v":""}]
[null,null,null,null,null,null,null,null,{"$f":"'Ne pas modifier (calculs)'!AX27","v":"2016-04-15"},1,{"$f":"'Ne pas modifier (calculs)'!BG27","v":1},null,{"$f":"'Ne pas modifier (calculs)'!$BD27","v":""},{"$f":"'Ne pas modifier (calculs)'!$BF27","v":""}]
[null,null,null,null,null,null,null,null,{"$f":"'Ne pas modifier (calculs)'!AX28","v":"2016-04-16"},0,{"$f":"'Ne pas modifier (calculs)'!BG28","v":1},null,{"$f":"'Ne pas modifier (calculs)'!$BD28","v":""},{"$f":"'Ne pas modifier (calculs)'!$BF28","v":""}]
[null,null,null,null,null,null,null,null,{"$f":"'Ne pas modifier (calculs)'!AX29","v":"2016-04-17"},0,{"$f":"'Ne pas modifier (calculs)'!BG29","v":1},null,{"$f":"'Ne pas modifier (calculs)'!$BD29","v":""},{"$f":"'Ne pas modifier (calculs)'!$BF29","v":""}]
[null,null,null,null,null,null,null,null,{"$f":"'Ne pas modifier (calculs)'!AX30","v":"2016-04-18"},1,{"$f":"'Ne pas modifier (calculs)'!BG30","v":1},null,{"$f":"'Ne pas modifier (calculs)'!$BD30","v":""},{"$f":"'Ne pas modifier (calculs)'!$BF30","v":""}]
[null,null,null,null,null,null,null,null,{"$f":"'Ne pas modifier (calculs)'!AX31","v":"2016-04-19"},1,{"$f":"'Ne pas modifier (calculs)'!BG31","v":1},null,{"$f":"'Ne pas modifier (calculs)'!$BD31","v":""},{"$f":"'Ne pas modifier (calculs)'!$BF31","v":""}]
[null,null,null,null,null,null,null,null,{"$f":"'Ne pas modifier (calculs)'!AX32","v":"2016-04-20"},1,{"$f":"'Ne pas modifier (calculs)'!BG32","v":1},null,{"$f":"'Ne pas modifier (calculs)'!$BD32","v":""},{"$f":"'Ne pas modifier (calculs)'!$BF32","v":""}]
[null,null,null,null,null,null,null,null,{"$f":"'Ne pas modifier (calculs)'!AX33","v":"2016-04-21"},1,{"$f":"'Ne pas modifier (calculs)'!BG33","v":1},null,{"$f":"'Ne pas modifier (calculs)'!$BD33","v":""},{"$f":"'Ne pas modifier (calculs)'!$BF33","v":""}]
[null,null,null,null,null,null,null,null,{"$f":"'Ne pas modifier (calculs)'!AX34","v":"2016-04-22"},1,{"$f":"'Ne pas modifier (calculs)'!BG34","v":1},null,{"$f":"'Ne pas modifier (calculs)'!$BD34","v":""},{"$f":"'Ne pas modifier (calculs)'!$BF34","v":""}]
[null,null,null,null,null,null,null,null,{"$f":"'Ne pas modifier (calculs)'!AX35","v":"2016-04-23"},0,{"$f":"'Ne pas modifier (calculs)'!BG35","v":1},null,{"$f":"'Ne pas modifier (calculs)'!$BD35","v":""},{"$f":"'Ne pas modifier (calculs)'!$BF35","v":""}]
[null,null,null,null,null,null,null,null,{"$f":"'Ne pas modifier (calculs)'!AX36","v":"2016-04-24"},0,{"$f":"'Ne pas modifier (calculs)'!BG36","v":1},null,{"$f":"'Ne pas modifier (calculs)'!$BD36","v":""},{"$f":"'Ne pas modifier (calculs)'!$BF36","v":""}]
[null,null,null,null,null,null,null,null,{"$f":"'Ne pas modifier (calculs)'!AX37","v":"2016-04-25"},1,{"$f":"'Ne pas modifier (calculs)'!BG37","v":1},null,{"$f":"'Ne pas modifier (calculs)'!$BD37","v":""},{"$f":"'Ne pas modifier (calculs)'!$BF37","v":""}]
[null,null,null,null,null,null,null,null,{"$f":"'Ne pas modifier (calculs)'!AX38","v":"2016-04-26"},1,{"$f":"'Ne pas modifier (calculs)'!BG38","v":1},null,{"$f":"'Ne pas modifier (calculs)'!$BD38","v":""},{"$f":"'Ne pas modifier (calculs)'!$BF38","v":""}]
[null,null,null,null,null,null,null,null,{"$f":"'Ne pas modifier (calculs)'!AX39","v":"2016-04-27"},1,{"$f":"'Ne pas modifier (calculs)'!BG39","v":1},null,{"$f":"'Ne pas modifier (calculs)'!$BD39","v":""},{"$f":"'Ne pas modifier (calculs)'!$BF39","v":""}]
[null,null,null,null,null,null,null,null,{"$f":"'Ne pas modifier (calculs)'!AX40","v":"2016-04-28"},1,{"$f":"'Ne pas modifier (calculs)'!BG40","v":1},null,{"$f":"'Ne pas modifier (calculs)'!$BD40","v":""},{"$f":"'Ne pas modifier (calculs)'!$BF40","v":""}]
[null,null,null,null,null,null,null,null,{"$f":"'Ne pas modifier (calculs)'!AX41","v":"2016-04-29"},1,{"$f":"'Ne pas modifier (calculs)'!BG41","v":1},null,{"$f":"'Ne pas modifier (calculs)'!$BD41","v":""},{"$f":"'Ne pas modifier (calculs)'!$BF41","v":""}]
[null,null,null,null,null,null,null,null,{"$f":"'Ne pas modifier (calculs)'!AX42","v":"2016-04-30"},0,{"$f":"'Ne pas modifier (calculs)'!BG42","v":1},null,{"$f":"'Ne pas modifier (calculs)'!$BD42","v":""},{"$f":"'Ne pas modifier (calculs)'!$BF42","v":""}]
[null,null,null,null,null,null,null,null,{"$f":"'Ne pas modifier (calculs)'!BN13","v":"2016-05-01"},0,{"$f":"'Ne pas modifier (calculs)'!BW13","v":0},null,{"$f":"'Ne pas modifier (calculs)'!$BT13","v":""},{"$f":"'Ne pas modifier (calculs)'!$BV13","v":""}]
[null,null,null,null,null,null,null,null,{"$f":"'Ne pas modifier (calculs)'!BN14","v":"2016-05-02"},1,{"$f":"'Ne pas modifier (calculs)'!BW14","v":1},null,{"$f":"'Ne pas modifier (calculs)'!$BT14","v":""},{"$f":"'Ne pas modifier (calculs)'!$BV14","v":""}]
[null,null,null,null,null,null,null,null,{"$f":"'Ne pas modifier (calculs)'!BN15","v":"2016-05-03"},1,{"$f":"'Ne pas modifier (calculs)'!BW15","v":1},null,{"$f":"'Ne pas modifier (calculs)'!$BT15","v":""},{"$f":"'Ne pas modifier (calculs)'!$BV15","v":""}]
[null,null,null,null,null,null,null,null,{"$f":"'Ne pas modifier (calculs)'!BN16","v":"2016-05-04"},1,{"$f":"'Ne pas modifier (calculs)'!BW16","v":1},null,{"$f":"'Ne pas modifier (calculs)'!$BT16","v":""},{"$f":"'Ne pas modifier (calculs)'!$BV16","v":""}]
[null,null,null,null,null,null,null,null,{"$f":"'Ne pas modifier (calculs)'!BN17","v":"2016-05-05"},"B",{"$f":"'Ne pas modifier (calculs)'!BW17","v":"B"},null,{"$f":"'Ne pas modifier (calculs)'!$BT17","v":""},{"$f":"'Ne pas modifier (calculs)'!$BV17","v":""}]
[null,null,null,null,null,null,null,null,{"$f":"'Ne pas modifier (calculs)'!BN18","v":"2016-05-06"},"R",{"$f":"'Ne pas modifier (calculs)'!BW18","v":"R"},null,{"$f":"'Ne pas modifier (calculs)'!$BT18","v":""},{"$f":"'Ne pas modifier (calculs)'!$BV18","v":""}]
[null,null,null,null,null,null,null,null,{"$f":"'Ne pas modifier (calculs)'!BN19","v":"2016-05-07"},0,{"$f":"'Ne pas modifier (calculs)'!BW19","v":1},null,{"$f":"'Ne pas modifier (calculs)'!$BT19","v":""},{"$f":"'Ne pas modifier (calculs)'!$BV19","v":""}]
[null,null,null,null,null,null,null,null,{"$f":"'Ne pas modifier (calculs)'!BN20","v":"2016-05-08"},0,{"$f":"'Ne pas modifier (calculs)'!BW20","v":0},null,{"$f":"'Ne pas modifier (calculs)'!$BT20","v":""},{"$f":"'Ne pas modifier (calculs)'!$BV20","v":""}]
[null,null,null,null,null,null,null,null,{"$f":"'Ne pas modifier (calculs)'!BN21","v":"2016-05-09"},1,{"$f":"'Ne pas modifier (calculs)'!BW21","v":1},null,{"$f":"'Ne pas modifier (calculs)'!$BT21","v":""},{"$f":"'Ne pas modifier (calculs)'!$BV21","v":""}]
[null,null,null,null,null,null,null,null,{"$f":"'Ne pas modifier (calculs)'!BN22","v":"2016-05-10"},{"$f":"IF(WEEKDAY(I157)=1,0,(IF(WEEKDAY(I157)=7,0,K157)))","v":1},{"$f":"'Ne pas modifier (calculs)'!BW22","v":1},null,{"$f":"'Ne pas modifier (calculs)'!$BT22","v":""},{"$f":"'Ne pas modifier (calculs)'!$BV22","v":""}]
[null,null,null,null,null,null,null,null,{"$f":"'Ne pas modifier (calculs)'!BN23","v":"2016-05-11"},1,{"$f":"'Ne pas modifier (calculs)'!BW23","v":1},null,{"$f":"'Ne pas modifier (calculs)'!$BT23","v":""},{"$f":"'Ne pas modifier (calculs)'!$BV23","v":""}]
[null,null,null,null,null,null,null,null,{"$f":"'Ne pas modifier (calculs)'!BN24","v":"2016-05-12"},1,{"$f":"'Ne pas modifier (calculs)'!BW24","v":1},null,{"$f":"'Ne pas modifier (calculs)'!$BT24","v":""},{"$f":"'Ne pas modifier (calculs)'!$BV24","v":""}]
[null,null,null,null,null,null,null,null,{"$f":"'Ne pas modifier (calculs)'!BN25","v":"2016-05-13"},1,{"$f":"'Ne pas modifier (calculs)'!BW25","v":1},null,{"$f":"'Ne pas modifier (calculs)'!$BT25","v":""},{"$f":"'Ne pas modifier (calculs)'!$BV25","v":""}]
[null,null,null,null,null,null,null,null,{"$f":"'Ne pas modifier (calculs)'!BN26","v":"2016-05-14"},0,{"$f":"'Ne pas modifier (calculs)'!BW26","v":1},null,{"$f":"'Ne pas modifier (calculs)'!$BT26","v":""},{"$f":"'Ne pas modifier (calculs)'!$BV26","v":""}]
[null,null,null,null,null,null,null,null,{"$f":"'Ne pas modifier (calculs)'!BN27","v":"2016-05-15"},0,{"$f":"'Ne pas modifier (calculs)'!BW27","v":1},null,{"$f":"'Ne pas modifier (calculs)'!$BT27","v":""},{"$f":"'Ne pas modifier (calculs)'!$BV27","v":""}]
[null,null,null,null,null,null,null,null,{"$f":"'Ne pas modifier (calculs)'!BN28","v":"2016-05-16"},"B",{"$f":"'Ne pas modifier (calculs)'!BW28","v":"B"},null,{"$f":"'Ne pas modifier (calculs)'!$BT28","v":""},{"$f":"'Ne pas modifier (calculs)'!$BV28","v":""}]
[null,null,null,null,null,null,null,null,{"$f":"'Ne pas modifier (calculs)'!BN29","v":"2016-05-17"},1,{"$f":"'Ne pas modifier (calculs)'!BW29","v":1},null,{"$f":"'Ne pas modifier (calculs)'!$BT29","v":""},{"$f":"'Ne pas modifier (calculs)'!$BV29","v":""}]
[null,null,null,null,null,null,null,null,{"$f":"'Ne pas modifier (calculs)'!BN30","v":"2016-05-18"},1,{"$f":"'Ne pas modifier (calculs)'!BW30","v":1},null,{"$f":"'Ne pas modifier (calculs)'!$BT30","v":""},{"$f":"'Ne pas modifier (calculs)'!$BV30","v":""}]
[null,null,null,null,null,null,null,null,{"$f":"'Ne pas modifier (calculs)'!BN31","v":"2016-05-19"},1,{"$f":"'Ne pas modifier (calculs)'!BW31","v":1},null,{"$f":"'Ne pas modifier (calculs)'!$BT31","v":""},{"$f":"'Ne pas modifier (calculs)'!$BV31","v":""}]
[null,null,null,null,null,null,null,null,{"$f":"'Ne pas modifier (calculs)'!BN32","v":"2016-05-20"},1,{"$f":"'Ne pas modifier (calculs)'!BW32","v":1},null,{"$f":"'Ne pas modifier (calculs)'!$BT32","v":""},{"$f":"'Ne pas modifier (calculs)'!$BV32","v":""}]
[null,null,null,null,null,null,null,null,{"$f":"'Ne pas modifier (calculs)'!BN33","v":"2016-05-21"},0,{"$f":"'Ne pas modifier (calculs)'!BW33","v":1},null,{"$f":"'Ne pas modifier (calculs)'!$BT33","v":""},{"$f":"'Ne pas modifier (calculs)'!$BV33","v":""}]
[null,null,null,null,null,null,null,null,{"$f":"'Ne pas modifier (calculs)'!BN34","v":"2016-05-22"},0,{"$f":"'Ne pas modifier (calculs)'!BW34","v":1},null,{"$f":"'Ne pas modifier (calculs)'!$BT34","v":""},{"$f":"'Ne pas modifier (calculs)'!$BV34","v":""}]
[null,null,null,null,null,null,null,null,{"$f":"'Ne pas modifier (calculs)'!BN35","v":"2016-05-23"},1,{"$f":"'Ne pas modifier (calculs)'!BW35","v":1},null,{"$f":"'Ne pas modifier (calculs)'!$BT35","v":""},{"$f":"'Ne pas modifier (calculs)'!$BV35","v":""}]
[null,null,null,null,null,null,null,null,{"$f":"'Ne pas modifier (calculs)'!BN36","v":"2016-05-24"},1,{"$f":"'Ne pas modifier (calculs)'!BW36","v":1},null,{"$f":"'Ne pas modifier (calculs)'!$BT36","v":""},{"$f":"'Ne pas modifier (calculs)'!$BV36","v":""}]
[null,null,null,null,null,null,null,null,{"$f":"'Ne pas modifier (calculs)'!BN37","v":"2016-05-25"},1,{"$f":"'Ne pas modifier (calculs)'!BW37","v":1},null,{"$f":"'Ne pas modifier (calculs)'!$BT37","v":""},{"$f":"'Ne pas modifier (calculs)'!$BV37","v":""}]
[null,null,null,null,null,null,null,null,{"$f":"'Ne pas modifier (calculs)'!BN38","v":"2016-05-26"},1,{"$f":"'Ne pas modifier (calculs)'!BW38","v":1},null,{"$f":"'Ne pas modifier (calculs)'!$BT38","v":""},{"$f":"'Ne pas modifier (calculs)'!$BV38","v":""}]
[null,null,null,null,null,null,null,null,{"$f":"'Ne pas modifier (calculs)'!BN39","v":"2016-05-27"},1,{"$f":"'Ne pas modifier (calculs)'!BW39","v":1},null,{"$f":"'Ne pas modifier (calculs)'!$BT39","v":""},{"$f":"'Ne pas modifier (calculs)'!$BV39","v":""}]
[null,null,null,null,null,null,null,null,{"$f":"'Ne pas modifier (calculs)'!BN40","v":"2016-05-28"},0,{"$f":"'Ne pas modifier (calculs)'!BW40","v":1},null,{"$f":"'Ne pas modifier (calculs)'!$BT40","v":""},{"$f":"'Ne pas modifier (calculs)'!$BV40","v":""}]
[null,null,null,null,null,null,null,null,{"$f":"'Ne pas modifier (calculs)'!BN41","v":"2016-05-29"},0,{"$f":"'Ne pas modifier (calculs)'!BW41","v":1},null,{"$f":"'Ne pas modifier (calculs)'!$BT41","v":""},{"$f":"'Ne pas modifier (calculs)'!$BV41","v":""}]
[null,null,null,null,null,null,null,null,{"$f":"'Ne pas modifier (calculs)'!BN42","v":"2016-05-30"},1,{"$f":"'Ne pas modifier (calculs)'!BW42","v":1},null,{"$f":"'Ne pas modifier (calculs)'!$BT42","v":""},{"$f":"'Ne pas modifier (calculs)'!$BV42","v":""}]
[null,null,null,null,null,null,null,null,{"$f":"'Ne pas modifier (calculs)'!BN43","v":"2016-05-31"},1,{"$f":"'Ne pas modifier (calculs)'!BW43","v":1},null,{"$f":"'Ne pas modifier (calculs)'!$BT43","v":""},{"$f":"'Ne pas modifier (calculs)'!$BV43","v":""}]
[null,null,null,null,null,null,null,null,{"$f":"'Ne pas modifier (calculs)'!CD13","v":"2016-06-01"},1,{"$f":"'Ne pas modifier (calculs)'!CM13","v":1},null,{"$f":"'Ne pas modifier (calculs)'!$CJ13","v":8},{"$f":"'Ne pas modifier (calculs)'!$CL13","v":""}]
[null,null,null,null,null,null,null,null,{"$f":"'Ne pas modifier (calculs)'!CD14","v":"2016-06-02"},1,{"$f":"'Ne pas modifier (calculs)'!CM14","v":1},null,{"$f":"'Ne pas modifier (calculs)'!$CJ14","v":8},{"$f":"'Ne pas modifier (calculs)'!$CL14","v":""}]
[null,null,null,null,null,null,null,null,{"$f":"'Ne pas modifier (calculs)'!CD15","v":"2016-06-03"},1,{"$f":"'Ne pas modifier (calculs)'!CM15","v":1},null,{"$f":"'Ne pas modifier (calculs)'!$CJ15","v":4},{"$f":"'Ne pas modifier (calculs)'!$CL15","v":""}]
[null,null,null,null,null,null,null,null,{"$f":"'Ne pas modifier (calculs)'!CD16","v":"2016-06-04"},0,{"$f":"'Ne pas modifier (calculs)'!CM16","v":1},null,{"$f":"'Ne pas modifier (calculs)'!$CJ16","v":0},{"$f":"'Ne pas modifier (calculs)'!$CL16","v":""}]
[null,null,null,null,null,null,null,null,{"$f":"'Ne pas modifier (calculs)'!CD17","v":"2016-06-05"},0,{"$f":"'Ne pas modifier (calculs)'!CM17","v":1},null,{"$f":"'Ne pas modifier (calculs)'!$CJ17","v":0},{"$f":"'Ne pas modifier (calculs)'!$CL17","v":""}]
[null,null,null,null,null,null,null,null,{"$f":"'Ne pas modifier (calculs)'!CD18","v":"2016-06-06"},1,{"$f":"'Ne pas modifier (calculs)'!CM18","v":1},null,{"$f":"'Ne pas modifier (calculs)'!$CJ18","v":7},{"$f":"'Ne pas modifier (calculs)'!$CL18","v":""}]
[null,null,null,null,null,null,null,null,{"$f":"'Ne pas modifier (calculs)'!CD19","v":"2016-06-07"},1,{"$f":"'Ne pas modifier (calculs)'!CM19","v":1},null,{"$f":"'Ne pas modifier (calculs)'!$CJ19","v":8},{"$f":"'Ne pas modifier (calculs)'!$CL19","v":""}]
[null,null,null,null,null,null,null,null,{"$f":"'Ne pas modifier (calculs)'!CD20","v":"2016-06-08"},1,{"$f":"'Ne pas modifier (calculs)'!CM20","v":1},null,{"$f":"'Ne pas modifier (calculs)'!$CJ20","v":8},{"$f":"'Ne pas modifier (calculs)'!$CL20","v":""}]
[null,null,null,null,null,null,null,null,{"$f":"'Ne pas modifier (calculs)'!CD21","v":"2016-06-09"},1,{"$f":"'Ne pas modifier (calculs)'!CM21","v":1},null,{"$f":"'Ne pas modifier (calculs)'!$CJ21","v":8},{"$f":"'Ne pas modifier (calculs)'!$CL21","v":""}]
[null,null,null,null,null,null,null,null,{"$f":"'Ne pas modifier (calculs)'!CD22","v":"2016-06-10"},1,{"$f":"'Ne pas modifier (calculs)'!CM22","v":1},null,{"$f":"'Ne pas modifier (calculs)'!$CJ22","v":4},{"$f":"'Ne pas modifier (calculs)'!$CL22","v":""}]
[null,null,null,null,null,null,null,null,{"$f":"'Ne pas modifier (calculs)'!CD23","v":"2016-06-11"},0,{"$f":"'Ne pas modifier (calculs)'!CM23","v":1},null,{"$f":"'Ne pas modifier (calculs)'!$CJ23","v":0},{"$f":"'Ne pas modifier (calculs)'!$CL23","v":""}]
[null,null,null,null,null,null,null,null,{"$f":"'Ne pas modifier (calculs)'!CD24","v":"2016-06-12"},0,{"$f":"'Ne pas modifier (calculs)'!CM24","v":1},null,{"$f":"'Ne pas modifier (calculs)'!$CJ24","v":0},{"$f":"'Ne pas modifier (calculs)'!$CL24","v":""}]
[null,null,null,null,null,null,null,null,{"$f":"'Ne pas modifier (calculs)'!CD25","v":"2016-06-13"},1,{"$f":"'Ne pas modifier (calculs)'!CM25","v":1},null,{"$f":"'Ne pas modifier (calculs)'!$CJ25","v":7},{"$f":"'Ne pas modifier (calculs)'!$CL25","v":""}]
[null,null,null,null,null,null,null,null,{"$f":"'Ne pas modifier (calculs)'!CD26","v":"2016-06-14"},1,{"$f":"'Ne pas modifier (calculs)'!CM26","v":1},null,{"$f":"'Ne pas modifier (calculs)'!$CJ26","v":8},{"$f":"'Ne pas modifier (calculs)'!$CL26","v":""}]
[null,null,null,null,null,null,null,null,{"$f":"'Ne pas modifier (calculs)'!CD27","v":"2016-06-15"},1,{"$f":"'Ne pas modifier (calculs)'!CM27","v":1},null,{"$f":"'Ne pas modifier (calculs)'!$CJ27","v":8},{"$f":"'Ne pas modifier (calculs)'!$CL27","v":""}]
[null,null,null,null,null,null,null,null,{"$f":"'Ne pas modifier (calculs)'!CD28","v":"2016-06-16"},1,{"$f":"'Ne pas modifier (calculs)'!CM28","v":1},null,{"$f":"'Ne pas modifier (calculs)'!$CJ28","v":8},{"$f":"'Ne pas modifier (calculs)'!$CL28","v":""}]
[null,null,null,null,null,null,null,null,{"$f":"'Ne pas modifier (calculs)'!CD29","v":"2016-06-17"},1,{"$f":"'Ne pas modifier (calculs)'!CM29","v":1},null,{"$f":"'Ne pas modifier (calculs)'!$CJ29","v":4},{"$f":"'Ne pas modifier (calculs)'!$CL29","v":""}]
[null,null,null,null,null,null,null,null,{"$f":"'Ne pas modifier (calculs)'!CD30","v":"2016-06-18"},0,{"$f":"'Ne pas modifier (calculs)'!CM30","v":1},null,{"$f":"'Ne pas modifier (calculs)'!$CJ30","v":0},{"$f":"'Ne pas modifier (calculs)'!$CL30","v":""}]
[null,null,null,null,null,null,null,null,{"$f":"'Ne pas modifier (calculs)'!CD31","v":"2016-06-19"},0,{"$f":"'Ne pas modifier (calculs)'!CM31","v":1},null,{"$f":"'Ne pas modifier (calculs)'!$CJ31","v":0},{"$f":"'Ne pas modifier (calculs)'!$CL31","v":""}]
[null,null,null,null,null,null,null,null,{"$f":"'Ne pas modifier (calculs)'!CD32","v":"2016-06-20"},1,{"$f":"'Ne pas modifier (calculs)'!CM32","v":1},null,{"$f":"'Ne pas modifier (calculs)'!$CJ32","v":7},{"$f":"'Ne pas modifier (calculs)'!$CL32","v":""}]
[null,null,null,null,null,null,null,null,{"$f":"'Ne pas modifier (calculs)'!CD33","v":"2016-06-21"},1,{"$f":"'Ne pas modifier (calculs)'!CM33","v":1},null,{"$f":"'Ne pas modifier (calculs)'!$CJ33","v":8},{"$f":"'Ne pas modifier (calculs)'!$CL33","v":""}]
[null,null,null,null,null,null,null,null,{"$f":"'Ne pas modifier (calculs)'!CD34","v":"2016-06-22"},1,{"$f":"'Ne pas modifier (calculs)'!CM34","v":1},null,{"$f":"'Ne pas modifier (calculs)'!$CJ34","v":8},{"$f":"'Ne pas modifier (calculs)'!$CL34","v":""}]
[null,null,null,null,null,null,null,null,{"$f":"'Ne pas modifier (calculs)'!CD35","v":"2016-06-23"},1,{"$f":"'Ne pas modifier (calculs)'!CM35","v":1},null,{"$f":"'Ne pas modifier (calculs)'!$CJ35","v":8},{"$f":"'Ne pas modifier (calculs)'!$CL35","v":""}]
[null,null,null,null,null,null,null,null,{"$f":"'Ne pas modifier (calculs)'!CD36","v":"2016-06-24"},1,{"$f":"'Ne pas modifier (calculs)'!CM36","v":1},null,{"$f":"'Ne pas modifier (calculs)'!$CJ36","v":4},{"$f":"'Ne pas modifier (calculs)'!$CL36","v":""}]
[null,null,null,null,null,null,null,null,{"$f":"'Ne pas modifier (calculs)'!CD37","v":"2016-06-25"},0,{"$f":"'Ne pas modifier (calculs)'!CM37","v":1},null,{"$f":"'Ne pas modifier (calculs)'!$CJ37","v":0},{"$f":"'Ne pas modifier (calculs)'!$CL37","v":""}]
[null,null,null,null,null,null,null,null,{"$f":"'Ne pas modifier (calculs)'!CD38","v":"2016-06-26"},0,{"$f":"'Ne pas modifier (calculs)'!CM38","v":1},null,{"$f":"'Ne pas modifier (calculs)'!$CJ38","v":0},{"$f":"'Ne pas modifier (calculs)'!$CL38","v":""}]
[null,null,null,null,null,null,null,null,{"$f":"'Ne pas modifier (calculs)'!CD39","v":"2016-06-27"},1,{"$f":"'Ne pas modifier (calculs)'!CM39","v":1},null,{"$f":"'Ne pas modifier (calculs)'!$CJ39","v":7},{"$f":"'Ne pas modifier (calculs)'!$CL39","v":""}]
[null,null,null,null,null,null,null,null,{"$f":"'Ne pas modifier (calculs)'!CD40","v":"2016-06-28"},1,{"$f":"'Ne pas modifier (calculs)'!CM40","v":1},null,{"$f":"'Ne pas modifier (calculs)'!$CJ40","v":8},{"$f":"'Ne pas modifier (calculs)'!$CL40","v":""}]
[null,null,null,null,null,null,null,null,{"$f":"'Ne pas modifier (calculs)'!CD41","v":"2016-06-29"},1,{"$f":"'Ne pas modifier (calculs)'!CM41","v":1},null,{"$f":"'Ne pas modifier (calculs)'!$CJ41","v":8},{"$f":"'Ne pas modifier (calculs)'!$CL41","v":""}]
[null,null,null,null,null,null,null,null,{"$f":"'Ne pas modifier (calculs)'!CD42","v":"2016-06-30"},1,{"$f":"'Ne pas modifier (calculs)'!CM42","v":1},null,{"$f":"'Ne pas modifier (calculs)'!$CJ42","v":8},{"$f":"'Ne pas modifier (calculs)'!$CL42","v":""}]
[null,null,null,null,null,null,null,null,{"$f":"'Ne pas modifier (calculs)'!CT13","v":"2016-07-01"},1,{"$f":"'Ne pas modifier (calculs)'!DC13","v":1},null,{"$f":"'Ne pas modifier (calculs)'!$CZ13","v":4},{"$f":"'Ne pas modifier (calculs)'!$DB13","v":""}]
[null,null,null,null,null,null,null,null,{"$f":"'Ne pas modifier (calculs)'!CT14","v":"2016-07-02"},0,{"$f":"'Ne pas modifier (calculs)'!DC14","v":1},null,{"$f":"'Ne pas modifier (calculs)'!$CZ14","v":0},{"$f":"'Ne pas modifier (calculs)'!$DB14","v":""}]
[null,null,null,null,null,null,null,null,{"$f":"'Ne pas modifier (calculs)'!CT15","v":"2016-07-03"},0,{"$f":"'Ne pas modifier (calculs)'!DC15","v":1},null,{"$f":"'Ne pas modifier (calculs)'!$CZ15","v":0},{"$f":"'Ne pas modifier (calculs)'!$DB15","v":""}]
[null,null,null,null,null,null,null,null,{"$f":"'Ne pas modifier (calculs)'!CT16","v":"2016-07-04"},1,{"$f":"'Ne pas modifier (calculs)'!DC16","v":1},null,{"$f":"'Ne pas modifier (calculs)'!$CZ16","v":""},{"$f":"'Ne pas modifier (calculs)'!$DB16","v":7}]
[null,null,null,null,null,null,null,null,{"$f":"'Ne pas modifier (calculs)'!CT17","v":"2016-07-05"},1,{"$f":"'Ne pas modifier (calculs)'!DC17","v":1},null,{"$f":"'Ne pas modifier (calculs)'!$CZ17","v":""},{"$f":"'Ne pas modifier (calculs)'!$DB17","v":7}]
[null,null,null,null,null,null,null,null,{"$f":"'Ne pas modifier (calculs)'!CT18","v":"2016-07-06"},1,{"$f":"'Ne pas modifier (calculs)'!DC18","v":1},null,{"$f":"'Ne pas modifier (calculs)'!$CZ18","v":""},{"$f":"'Ne pas modifier (calculs)'!$DB18","v":7}]
[null,null,null,null,null,null,null,null,{"$f":"'Ne pas modifier (calculs)'!CT19","v":"2016-07-07"},1,{"$f":"'Ne pas modifier (calculs)'!DC19","v":1},null,{"$f":"'Ne pas modifier (calculs)'!$CZ19","v":""},{"$f":"'Ne pas modifier (calculs)'!$DB19","v":7}]
[null,null,null,null,null,null,null,null,{"$f":"'Ne pas modifier (calculs)'!CT20","v":"2016-07-08"},1,{"$f":"'Ne pas modifier (calculs)'!DC20","v":1},null,{"$f":"'Ne pas modifier (calculs)'!$CZ20","v":""},{"$f":"'Ne pas modifier (calculs)'!$DB20","v":7}]
[null,null,null,null,null,null,null,null,{"$f":"'Ne pas modifier (calculs)'!CT21","v":"2016-07-09"},0,{"$f":"'Ne pas modifier (calculs)'!DC21","v":1},null,{"$f":"'Ne pas modifier (calculs)'!$CZ21","v":0},{"$f":"'Ne pas modifier (calculs)'!$DB21","v":""}]
[null,null,null,null,null,null,null,null,{"$f":"'Ne pas modifier (calculs)'!CT22","v":"2016-07-10"},0,{"$f":"'Ne pas modifier (calculs)'!DC22","v":1},null,{"$f":"'Ne pas modifier (calculs)'!$CZ22","v":0},{"$f":"'Ne pas modifier (calculs)'!$DB22","v":""}]
[null,null,null,null,null,null,null,null,{"$f":"'Ne pas modifier (calculs)'!CT23","v":"2016-07-11"},1,{"$f":"'Ne pas modifier (calculs)'!DC23","v":1},null,{"$f":"'Ne pas modifier (calculs)'!$CZ23","v":""},{"$f":"'Ne pas modifier (calculs)'!$DB23","v":7}]
[null,null,null,null,null,null,null,null,{"$f":"'Ne pas modifier (calculs)'!CT24","v":"2016-07-12"},1,{"$f":"'Ne pas modifier (calculs)'!DC24","v":1},null,{"$f":"'Ne pas modifier (calculs)'!$CZ24","v":""},{"$f":"'Ne pas modifier (calculs)'!$DB24","v":7}]
[null,null,null,null,null,null,null,null,{"$f":"'Ne pas modifier (calculs)'!CT25","v":"2016-07-13"},{"$f":"IF(WEEKDAY(I221)=1,0,(IF(WEEKDAY(I221)=7,0,K221)))","v":1},{"$f":"'Ne pas modifier (calculs)'!DC25","v":1},null,{"$f":"'Ne pas modifier (calculs)'!$CZ25","v":""},{"$f":"'Ne pas modifier (calculs)'!$DB25","v":7}]
[null,null,null,null,null,null,null,null,{"$f":"'Ne pas modifier (calculs)'!CT26","v":"2016-07-14"},0,{"$f":"'Ne pas modifier (calculs)'!DC26","v":0},null,{"$f":"'Ne pas modifier (calculs)'!$CZ26","v":0},{"$f":"'Ne pas modifier (calculs)'!$DB26","v":""}]
[null,null,null,null,null,null,null,null,{"$f":"'Ne pas modifier (calculs)'!CT27","v":"2016-07-15"},"R",{"$f":"'Ne pas modifier (calculs)'!DC27","v":"R"},null,{"$f":"'Ne pas modifier (calculs)'!$CZ27","v":0},{"$f":"'Ne pas modifier (calculs)'!$DB27","v":""}]
[null,null,null,null,null,null,null,null,{"$f":"'Ne pas modifier (calculs)'!CT28","v":"2016-07-16"},0,{"$f":"'Ne pas modifier (calculs)'!DC28","v":1},null,{"$f":"'Ne pas modifier (calculs)'!$CZ28","v":0},{"$f":"'Ne pas modifier (calculs)'!$DB28","v":""}]
[null,null,null,null,null,null,null,null,{"$f":"'Ne pas modifier (calculs)'!CT29","v":"2016-07-17"},0,{"$f":"'Ne pas modifier (calculs)'!DC29","v":1},null,{"$f":"'Ne pas modifier (calculs)'!$CZ29","v":0},{"$f":"'Ne pas modifier (calculs)'!$DB29","v":""}]
[null,null,null,null,null,null,null,null,{"$f":"'Ne pas modifier (calculs)'!CT30","v":"2016-07-18"},1,{"$f":"'Ne pas modifier (calculs)'!DC30","v":1},null,{"$f":"'Ne pas modifier (calculs)'!$CZ30","v":""},{"$f":"'Ne pas modifier (calculs)'!$DB30","v":7}]
[null,null,null,null,null,null,null,null,{"$f":"'Ne pas modifier (calculs)'!CT31","v":"2016-07-19"},1,{"$f":"'Ne pas modifier (calculs)'!DC31","v":1},null,{"$f":"'Ne pas modifier (calculs)'!$CZ31","v":8},{"$f":"'Ne pas modifier (calculs)'!$DB31","v":""}]
[null,null,null,null,null,null,null,null,{"$f":"'Ne pas modifier (calculs)'!CT32","v":"2016-07-20"},1,{"$f":"'Ne pas modifier (calculs)'!DC32","v":1},null,{"$f":"'Ne pas modifier (calculs)'!$CZ32","v":8},{"$f":"'Ne pas modifier (calculs)'!$DB32","v":""}]
[null,null,null,null,null,null,null,null,{"$f":"'Ne pas modifier (calculs)'!CT33","v":"2016-07-21"},1,{"$f":"'Ne pas modifier (calculs)'!DC33","v":1},null,{"$f":"'Ne pas modifier (calculs)'!$CZ33","v":8},{"$f":"'Ne pas modifier (calculs)'!$DB33","v":""}]
[null,null,null,null,null,null,null,null,{"$f":"'Ne pas modifier (calculs)'!CT34","v":"2016-07-22"},1,{"$f":"'Ne pas modifier (calculs)'!DC34","v":1},null,{"$f":"'Ne pas modifier (calculs)'!$CZ34","v":4},{"$f":"'Ne pas modifier (calculs)'!$DB34","v":""}]
[null,null,null,null,null,null,null,null,{"$f":"'Ne pas modifier (calculs)'!CT35","v":"2016-07-23"},0,{"$f":"'Ne pas modifier (calculs)'!DC35","v":1},null,{"$f":"'Ne pas modifier (calculs)'!$CZ35","v":0},{"$f":"'Ne pas modifier (calculs)'!$DB35","v":""}]
[null,null,null,null,null,null,null,null,{"$f":"'Ne pas modifier (calculs)'!CT36","v":"2016-07-24"},0,{"$f":"'Ne pas modifier (calculs)'!DC36","v":1},null,{"$f":"'Ne pas modifier (calculs)'!$CZ36","v":0},{"$f":"'Ne pas modifier (calculs)'!$DB36","v":""}]
[null,null,null,null,null,null,null,null,{"$f":"'Ne pas modifier (calculs)'!CT37","v":"2016-07-25"},1,{"$f":"'Ne pas modifier (calculs)'!DC37","v":1},null,{"$f":"'Ne pas modifier (calculs)'!$CZ37","v":7},{"$f":"'Ne pas modifier (calculs)'!$DB37","v":""}]
[null,null,null,null,null,null,null,null,{"$f":"'Ne pas modifier (calculs)'!CT38","v":"2016-07-26"},1,{"$f":"'Ne pas modifier (calculs)'!DC38","v":1},null,{"$f":"'Ne pas modifier (calculs)'!$CZ38","v":8},{"$f":"'Ne pas modifier (calculs)'!$DB38","v":""}]
[null,null,null,null,null,null,null,null,{"$f":"'Ne pas modifier (calculs)'!CT39","v":"2016-07-27"},1,{"$f":"'Ne pas modifier (calculs)'!DC39","v":1},null,{"$f":"'Ne pas modifier (calculs)'!$CZ39","v":8},{"$f":"'Ne pas modifier (calculs)'!$DB39","v":""}]
[null,null,null,null,null,null,null,null,{"$f":"'Ne pas modifier (calculs)'!CT40","v":"2016-07-28"},1,{"$f":"'Ne pas modifier (calculs)'!DC40","v":1},null,{"$f":"'Ne pas modifier (calculs)'!$CZ40","v":8},{"$f":"'Ne pas modifier (calculs)'!$DB40","v":""}]
[null,null,null,null,null,null,null,null,{"$f":"'Ne pas modifier (calculs)'!CT41","v":"2016-07-29"},1,{"$f":"'Ne pas modifier (calculs)'!DC41","v":1},null,{"$f":"'Ne pas modifier (calculs)'!$CZ41","v":4},{"$f":"'Ne pas modifier (calculs)'!$DB41","v":""}]
[null,null,null,null,null,null,null,null,{"$f":"'Ne pas modifier (calculs)'!CT42","v":"2016-07-30"},0,{"$f":"'Ne pas modifier (calculs)'!DC42","v":1},null,{"$f":"'Ne pas modifier (calculs)'!$CZ42","v":0},{"$f":"'Ne pas modifier (calculs)'!$DB42","v":""}]
[null,null,null,null,null,null,null,null,{"$f":"'Ne pas modifier (calculs)'!CT43","v":"2016-07-31"},0,{"$f":"'Ne pas modifier (calculs)'!DC43","v":1},null,{"$f":"'Ne pas modifier (calculs)'!$CZ43","v":0},{"$f":"'Ne pas modifier (calculs)'!$DB43","v":""}]
[null,null,null,null,null,null,null,null,{"$f":"'Ne pas modifier (calculs)'!DJ13","v":"2016-08-01"},1,{"$f":"'Ne pas modifier (calculs)'!DS13","v":1},null,{"$f":"'Ne pas modifier (calculs)'!$DP13","v":7},{"$f":"'Ne pas modifier (calculs)'!$DR13","v":""}]
[null,null,null,null,null,null,null,null,{"$f":"'Ne pas modifier (calculs)'!DJ14","v":"2016-08-02"},1,{"$f":"'Ne pas modifier (calculs)'!DS14","v":1},null,{"$f":"'Ne pas modifier (calculs)'!$DP14","v":8},{"$f":"'Ne pas modifier (calculs)'!$DR14","v":""}]
[null,null,null,null,null,null,null,null,{"$f":"'Ne pas modifier (calculs)'!DJ15","v":"2016-08-03"},1,{"$f":"'Ne pas modifier (calculs)'!DS15","v":1},null,{"$f":"'Ne pas modifier (calculs)'!$DP15","v":8},{"$f":"'Ne pas modifier (calculs)'!$DR15","v":""}]
[null,null,null,null,null,null,null,null,{"$f":"'Ne pas modifier (calculs)'!DJ16","v":"2016-08-04"},1,{"$f":"'Ne pas modifier (calculs)'!DS16","v":1},null,{"$f":"'Ne pas modifier (calculs)'!$DP16","v":8},{"$f":"'Ne pas modifier (calculs)'!$DR16","v":""}]
[null,null,null,null,null,null,null,null,{"$f":"'Ne pas modifier (calculs)'!DJ17","v":"2016-08-05"},1,{"$f":"'Ne pas modifier (calculs)'!DS17","v":1},null,{"$f":"'Ne pas modifier (calculs)'!$DP17","v":""},{"$f":"'Ne pas modifier (calculs)'!$DR17","v":7}]
[null,null,null,null,null,null,null,null,{"$f":"'Ne pas modifier (calculs)'!DJ18","v":"2016-08-06"},0,{"$f":"'Ne pas modifier (calculs)'!DS18","v":1},null,{"$f":"'Ne pas modifier (calculs)'!$DP18","v":0},{"$f":"'Ne pas modifier (calculs)'!$DR18","v":""}]
[null,null,null,null,null,null,null,null,{"$f":"'Ne pas modifier (calculs)'!DJ19","v":"2016-08-07"},0,{"$f":"'Ne pas modifier (calculs)'!DS19","v":1},null,{"$f":"'Ne pas modifier (calculs)'!$DP19","v":0},{"$f":"'Ne pas modifier (calculs)'!$DR19","v":""}]
[null,null,null,null,null,null,null,null,{"$f":"'Ne pas modifier (calculs)'!DJ20","v":"2016-08-08"},1,{"$f":"'Ne pas modifier (calculs)'!DS20","v":1},null,{"$f":"'Ne pas modifier (calculs)'!$DP20","v":""},{"$f":"'Ne pas modifier (calculs)'!$DR20","v":7}]
[null,null,null,null,null,null,null,null,{"$f":"'Ne pas modifier (calculs)'!DJ21","v":"2016-08-09"},1,{"$f":"'Ne pas modifier (calculs)'!DS21","v":1},null,{"$f":"'Ne pas modifier (calculs)'!$DP21","v":""},{"$f":"'Ne pas modifier (calculs)'!$DR21","v":7}]
[null,null,null,null,null,null,null,null,{"$f":"'Ne pas modifier (calculs)'!DJ22","v":"2016-08-10"},1,{"$f":"'Ne pas modifier (calculs)'!DS22","v":1},null,{"$f":"'Ne pas modifier (calculs)'!$DP22","v":""},{"$f":"'Ne pas modifier (calculs)'!$DR22","v":7}]
[null,null,null,null,null,null,null,null,{"$f":"'Ne pas modifier (calculs)'!DJ23","v":"2016-08-11"},1,{"$f":"'Ne pas modifier (calculs)'!DS23","v":1},null,{"$f":"'Ne pas modifier (calculs)'!$DP23","v":""},{"$f":"'Ne pas modifier (calculs)'!$DR23","v":7}]
[null,null,null,null,null,null,null,null,{"$f":"'Ne pas modifier (calculs)'!DJ24","v":"2016-08-12"},1,{"$f":"'Ne pas modifier (calculs)'!DS24","v":1},null,{"$f":"'Ne pas modifier (calculs)'!$DP24","v":""},{"$f":"'Ne pas modifier (calculs)'!$DR24","v":7}]
[null,null,null,null,null,null,null,null,{"$f":"'Ne pas modifier (calculs)'!DJ25","v":"2016-08-13"},0,{"$f":"'Ne pas modifier (calculs)'!DS25","v":1},null,{"$f":"'Ne pas modifier (calculs)'!$DP25","v":0},{"$f":"'Ne pas modifier (calculs)'!$DR25","v":""}]
[null,null,null,null,null,null,null,null,{"$f":"'Ne pas modifier (calculs)'!DJ26","v":"2016-08-14"},0,{"$f":"'Ne pas modifier (calculs)'!DS26","v":1},null,{"$f":"'Ne pas modifier (calculs)'!$DP26","v":0},{"$f":"'Ne pas modifier (calculs)'!$DR26","v":""}]
[null,null,null,null,null,null,null,null,{"$f":"'Ne pas modifier (calculs)'!DJ27","v":"2016-08-15"},0,{"$f":"'Ne pas modifier (calculs)'!DS27","v":0},null,{"$f":"'Ne pas modifier (calculs)'!$DP27","v":0},{"$f":"'Ne pas modifier (calculs)'!$DR27","v":""}]
[null,null,null,null,null,null,null,null,{"$f":"'Ne pas modifier (calculs)'!DJ28","v":"2016-08-16"},1,{"$f":"'Ne pas modifier (calculs)'!DS28","v":1},null,{"$f":"'Ne pas modifier (calculs)'!$DP28","v":""},{"$f":"'Ne pas modifier (calculs)'!$DR28","v":7}]
[null,null,null,null,null,null,null,null,{"$f":"'Ne pas modifier (calculs)'!DJ29","v":"2016-08-17"},1,{"$f":"'Ne pas modifier (calculs)'!DS29","v":1},null,{"$f":"'Ne pas modifier (calculs)'!$DP29","v":""},{"$f":"'Ne pas modifier (calculs)'!$DR29","v":7}]
[null,null,null,null,null,null,null,null,{"$f":"'Ne pas modifier (calculs)'!DJ30","v":"2016-08-18"},1,{"$f":"'Ne pas modifier (calculs)'!DS30","v":1},null,{"$f":"'Ne pas modifier (calculs)'!$DP30","v":""},{"$f":"'Ne pas modifier (calculs)'!$DR30","v":7}]
[null,null,null,null,null,null,null,null,{"$f":"'Ne pas modifier (calculs)'!DJ31","v":"2016-08-19"},1,{"$f":"'Ne pas modifier (calculs)'!DS31","v":1},null,{"$f":"'Ne pas modifier (calculs)'!$DP31","v":""},{"$f":"'Ne pas modifier (calculs)'!$DR31","v":7}]
[null,null,null,null,null,null,null,null,{"$f":"'Ne pas modifier (calculs)'!DJ32","v":"2016-08-20"},0,{"$f":"'Ne pas modifier (calculs)'!DS32","v":1},null,{"$f":"'Ne pas modifier (calculs)'!$DP32","v":0},{"$f":"'Ne pas modifier (calculs)'!$DR32","v":""}]
[null,null,null,null,null,null,null,null,{"$f":"'Ne pas modifier (calculs)'!DJ33","v":"2016-08-21"},0,{"$f":"'Ne pas modifier (calculs)'!DS33","v":1},null,{"$f":"'Ne pas modifier (calculs)'!$DP33","v":0},{"$f":"'Ne pas modifier (calculs)'!$DR33","v":""}]
[null,null,null,null,null,null,null,null,{"$f":"'Ne pas modifier (calculs)'!DJ34","v":"2016-08-22"},1,{"$f":"'Ne pas modifier (calculs)'!DS34","v":1},null,{"$f":"'Ne pas modifier (calculs)'!$DP34","v":7},{"$f":"'Ne pas modifier (calculs)'!$DR34","v":""}]
[null,null,null,null,null,null,null,null,{"$f":"'Ne pas modifier (calculs)'!DJ35","v":"2016-08-23"},1,{"$f":"'Ne pas modifier (calculs)'!DS35","v":1},null,{"$f":"'Ne pas modifier (calculs)'!$DP35","v":8},{"$f":"'Ne pas modifier (calculs)'!$DR35","v":""}]
[null,null,null,null,null,null,null,null,{"$f":"'Ne pas modifier (calculs)'!DJ36","v":"2016-08-24"},1,{"$f":"'Ne pas modifier (calculs)'!DS36","v":1},null,{"$f":"'Ne pas modifier (calculs)'!$DP36","v":8},{"$f":"'Ne pas modifier (calculs)'!$DR36","v":""}]
[null,null,null,null,null,null,null,null,{"$f":"'Ne pas modifier (calculs)'!DJ37","v":"2016-08-25"},1,{"$f":"'Ne pas modifier (calculs)'!DS37","v":1},null,{"$f":"'Ne pas modifier (calculs)'!$DP37","v":8},{"$f":"'Ne pas modifier (calculs)'!$DR37","v":""}]
[null,null,null,null,null,null,null,null,{"$f":"'Ne pas modifier (calculs)'!DJ38","v":"2016-08-26"},1,{"$f":"'Ne pas modifier (calculs)'!DS38","v":1},null,{"$f":"'Ne pas modifier (calculs)'!$DP38","v":4},{"$f":"'Ne pas modifier (calculs)'!$DR38","v":""}]
[null,null,null,null,null,null,null,null,{"$f":"'Ne pas modifier (calculs)'!DJ39","v":"2016-08-27"},0,{"$f":"'Ne pas modifier (calculs)'!DS39","v":1},null,{"$f":"'Ne pas modifier (calculs)'!$DP39","v":0},{"$f":"'Ne pas modifier (calculs)'!$DR39","v":""}]
[null,null,null,null,null,null,null,null,{"$f":"'Ne pas modifier (calculs)'!DJ40","v":"2016-08-28"},0,{"$f":"'Ne pas modifier (calculs)'!DS40","v":1},null,{"$f":"'Ne pas modifier (calculs)'!$DP40","v":0},{"$f":"'Ne pas modifier (calculs)'!$DR40","v":""}]
[null,null,null,null,null,null,null,null,{"$f":"'Ne pas modifier (calculs)'!DJ41","v":"2016-08-29"},1,{"$f":"'Ne pas modifier (calculs)'!DS41","v":1},null,{"$f":"'Ne pas modifier (calculs)'!$DP41","v":7},{"$f":"'Ne pas modifier (calculs)'!$DR41","v":""}]
[null,null,null,null,null,null,null,null,{"$f":"'Ne pas modifier (calculs)'!DJ42","v":"2016-08-30"},1,{"$f":"'Ne pas modifier (calculs)'!DS42","v":1},null,{"$f":"'Ne pas modifier (calculs)'!$DP42","v":8},{"$f":"'Ne pas modifier (calculs)'!$DR42","v":""}]
[null,null,null,null,null,null,null,null,{"$f":"'Ne pas modifier (calculs)'!DJ43","v":"2016-08-31"},1,{"$f":"'Ne pas modifier (calculs)'!DS43","v":1},null,{"$f":"'Ne pas modifier (calculs)'!$DP43","v":8},{"$f":"'Ne pas modifier (calculs)'!$DR43","v":""}]
[null,null,null,null,null,null,null,null,{"$f":"'Ne pas modifier (calculs)'!DZ13","v":"2016-09-01"},1,{"$f":"'Ne pas modifier (calculs)'!EI13","v":1},null,{"$f":"'Ne pas modifier (calculs)'!$EF13","v":8},{"$f":"'Ne pas modifier (calculs)'!$EH13","v":""}]
[null,null,null,null,null,null,null,null,{"$f":"'Ne pas modifier (calculs)'!DZ14","v":"2016-09-02"},1,{"$f":"'Ne pas modifier (calculs)'!EI14","v":1},null,{"$f":"'Ne pas modifier (calculs)'!$EF14","v":4},{"$f":"'Ne pas modifier (calculs)'!$EH14","v":""}]
[null,null,null,null,null,null,null,null,{"$f":"'Ne pas modifier (calculs)'!DZ15","v":"2016-09-03"},0,{"$f":"'Ne pas modifier (calculs)'!EI15","v":1},null,{"$f":"'Ne pas modifier (calculs)'!$EF15","v":0},{"$f":"'Ne pas modifier (calculs)'!$EH15","v":""}]
[null,null,null,null,null,null,null,null,{"$f":"'Ne pas modifier (calculs)'!DZ16","v":"2016-09-04"},0,{"$f":"'Ne pas modifier (calculs)'!EI16","v":1},null,{"$f":"'Ne pas modifier (calculs)'!$EF16","v":0},{"$f":"'Ne pas modifier (calculs)'!$EH16","v":""}]
[null,null,null,null,null,null,null,null,{"$f":"'Ne pas modifier (calculs)'!DZ17","v":"2016-09-05"},1,{"$f":"'Ne pas modifier (calculs)'!EI17","v":1},null,{"$f":"'Ne pas modifier (calculs)'!$EF17","v":7},{"$f":"'Ne pas modifier (calculs)'!$EH17","v":""}]
[null,null,null,null,null,null,null,null,{"$f":"'Ne pas modifier (calculs)'!DZ18","v":"2016-09-06"},1,{"$f":"'Ne pas modifier (calculs)'!EI18","v":1},null,{"$f":"'Ne pas modifier (calculs)'!$EF18","v":8},{"$f":"'Ne pas modifier (calculs)'!$EH18","v":""}]
[null,null,null,null,null,null,null,null,{"$f":"'Ne pas modifier (calculs)'!DZ19","v":"2016-09-07"},1,{"$f":"'Ne pas modifier (calculs)'!EI19","v":1},null,{"$f":"'Ne pas modifier (calculs)'!$EF19","v":8},{"$f":"'Ne pas modifier (calculs)'!$EH19","v":""}]
[null,null,null,null,null,null,null,null,{"$f":"'Ne pas modifier (calculs)'!DZ20","v":"2016-09-08"},1,{"$f":"'Ne pas modifier (calculs)'!EI20","v":1},null,{"$f":"'Ne pas modifier (calculs)'!$EF20","v":8},{"$f":"'Ne pas modifier (calculs)'!$EH20","v":""}]
[null,null,null,null,null,null,null,null,{"$f":"'Ne pas modifier (calculs)'!DZ21","v":"2016-09-09"},1,{"$f":"'Ne pas modifier (calculs)'!EI21","v":1},null,{"$f":"'Ne pas modifier (calculs)'!$EF21","v":2},{"$f":"'Ne pas modifier (calculs)'!$EH21","v":""}]
[null,null,null,null,null,null,null,null,{"$f":"'Ne pas modifier (calculs)'!DZ22","v":"2016-09-10"},0,{"$f":"'Ne pas modifier (calculs)'!EI22","v":1},null,{"$f":"'Ne pas modifier (calculs)'!$EF22","v":""},{"$f":"'Ne pas modifier (calculs)'!$EH22","v":""}]
[null,null,null,null,null,null,null,null,{"$f":"'Ne pas modifier (calculs)'!DZ23","v":"2016-09-11"},0,{"$f":"'Ne pas modifier (calculs)'!EI23","v":1},null,{"$f":"'Ne pas modifier (calculs)'!$EF23","v":""},{"$f":"'Ne pas modifier (calculs)'!$EH23","v":""}]
[null,null,null,null,null,null,null,null,{"$f":"'Ne pas modifier (calculs)'!DZ24","v":"2016-09-12"},1,{"$f":"'Ne pas modifier (calculs)'!EI24","v":1},null,{"$f":"'Ne pas modifier (calculs)'!$EF24","v":""},{"$f":"'Ne pas modifier (calculs)'!$EH24","v":""}]
[null,null,null,null,null,null,null,null,{"$f":"'Ne pas modifier (calculs)'!DZ25","v":"2016-09-13"},1,{"$f":"'Ne pas modifier (calculs)'!EI25","v":1},null,{"$f":"'Ne pas modifier (calculs)'!$EF25","v":""},{"$f":"'Ne pas modifier (calculs)'!$EH25","v":""}]
[null,null,null,null,null,null,null,null,{"$f":"'Ne pas modifier (calculs)'!DZ26","v":"2016-09-14"},1,{"$f":"'Ne pas modifier (calculs)'!EI26","v":1},null,{"$f":"'Ne pas modifier (calculs)'!$EF26","v":""},{"$f":"'Ne pas modifier (calculs)'!$EH26","v":""}]
[null,null,null,null,null,null,null,null,{"$f":"'Ne pas modifier (calculs)'!DZ27","v":"2016-09-15"},{"$f":"IF(WEEKDAY(I285)=1,0,(IF(WEEKDAY(I285)=7,0,K285)))","v":1},{"$f":"'Ne pas modifier (calculs)'!EI27","v":1},null,{"$f":"'Ne pas modifier (calculs)'!$EF27","v":""},{"$f":"'Ne pas modifier (calculs)'!$EH27","v":""}]
[null,null,null,null,null,null,null,null,{"$f":"'Ne pas modifier (calculs)'!DZ28","v":"2016-09-16"},1,{"$f":"'Ne pas modifier (calculs)'!EI28","v":1},null,{"$f":"'Ne pas modifier (calculs)'!$EF28","v":""},{"$f":"'Ne pas modifier (calculs)'!$EH28","v":""}]
[null,null,null,null,null,null,null,null,{"$f":"'Ne pas modifier (calculs)'!DZ29","v":"2016-09-17"},0,{"$f":"'Ne pas modifier (calculs)'!EI29","v":1},null,{"$f":"'Ne pas modifier (calculs)'!$EF29","v":""},{"$f":"'Ne pas modifier (calculs)'!$EH29","v":""}]
[null,null,null,null,null,null,null,null,{"$f":"'Ne pas modifier (calculs)'!DZ30","v":"2016-09-18"},0,{"$f":"'Ne pas modifier (calculs)'!EI30","v":1},null,{"$f":"'Ne pas modifier (calculs)'!$EF30","v":""},{"$f":"'Ne pas modifier (calculs)'!$EH30","v":""}]
[null,null,null,null,null,null,null,null,{"$f":"'Ne pas modifier (calculs)'!DZ31","v":"2016-09-19"},1,{"$f":"'Ne pas modifier (calculs)'!EI31","v":1},null,{"$f":"'Ne pas modifier (calculs)'!$EF31","v":""},{"$f":"'Ne pas modifier (calculs)'!$EH31","v":""}]
[null,null,null,null,null,null,null,null,{"$f":"'Ne pas modifier (calculs)'!DZ32","v":"2016-09-20"},1,{"$f":"'Ne pas modifier (calculs)'!EI32","v":1},null,{"$f":"'Ne pas modifier (calculs)'!$EF32","v":""},{"$f":"'Ne pas modifier (calculs)'!$EH32","v":""}]
[null,null,null,null,null,null,null,null,{"$f":"'Ne pas modifier (calculs)'!DZ33","v":"2016-09-21"},1,{"$f":"'Ne pas modifier (calculs)'!EI33","v":1},null,{"$f":"'Ne pas modifier (calculs)'!$EF33","v":""},{"$f":"'Ne pas modifier (calculs)'!$EH33","v":""}]
[null,null,null,null,null,null,null,null,{"$f":"'Ne pas modifier (calculs)'!DZ34","v":"2016-09-22"},1,{"$f":"'Ne pas modifier (calculs)'!EI34","v":1},null,{"$f":"'Ne pas modifier (calculs)'!$EF34","v":""},{"$f":"'Ne pas modifier (calculs)'!$EH34","v":""}]
[null,null,null,null,null,null,null,null,{"$f":"'Ne pas modifier (calculs)'!DZ35","v":"2016-09-23"},1,{"$f":"'Ne pas modifier (calculs)'!EI35","v":1},null,{"$f":"'Ne pas modifier (calculs)'!$EF35","v":""},{"$f":"'Ne pas modifier (calculs)'!$EH35","v":""}]
[null,null,null,null,null,null,null,null,{"$f":"'Ne pas modifier (calculs)'!DZ36","v":"2016-09-24"},0,{"$f":"'Ne pas modifier (calculs)'!EI36","v":1},null,{"$f":"'Ne pas modifier (calculs)'!$EF36","v":""},{"$f":"'Ne pas modifier (calculs)'!$EH36","v":""}]
[null,null,null,null,null,null,null,null,{"$f":"'Ne pas modifier (calculs)'!DZ37","v":"2016-09-25"},0,{"$f":"'Ne pas modifier (calculs)'!EI37","v":1},null,{"$f":"'Ne pas modifier (calculs)'!$EF37","v":""},{"$f":"'Ne pas modifier (calculs)'!$EH37","v":""}]
[null,null,null,null,null,null,null,null,{"$f":"'Ne pas modifier (calculs)'!DZ38","v":"2016-09-26"},1,{"$f":"'Ne pas modifier (calculs)'!EI38","v":1},null,{"$f":"'Ne pas modifier (calculs)'!$EF38","v":""},{"$f":"'Ne pas modifier (calculs)'!$EH38","v":""}]
[null,null,null,null,null,null,null,null,{"$f":"'Ne pas modifier (calculs)'!DZ39","v":"2016-09-27"},1,{"$f":"'Ne pas modifier (calculs)'!EI39","v":1},null,{"$f":"'Ne pas modifier (calculs)'!$EF39","v":""},{"$f":"'Ne pas modifier (calculs)'!$EH39","v":""}]
[null,null,null,null,null,null,null,null,{"$f":"'Ne pas modifier (calculs)'!DZ40","v":"2016-09-28"},1,{"$f":"'Ne pas modifier (calculs)'!EI40","v":1},null,{"$f":"'Ne pas modifier (calculs)'!$EF40","v":""},{"$f":"'Ne pas modifier (calculs)'!$EH40","v":""}]
[null,null,null,null,null,null,null,null,{"$f":"'Ne pas modifier (calculs)'!DZ41","v":"2016-09-29"},1,{"$f":"'Ne pas modifier (calculs)'!EI41","v":1},null,{"$f":"'Ne pas modifier (calculs)'!$EF41","v":""},{"$f":"'Ne pas modifier (calculs)'!$EH41","v":""}]
[null,null,null,null,null,null,null,null,{"$f":"'Ne pas modifier (calculs)'!DZ42","v":"2016-09-30"},1,{"$f":"'Ne pas modifier (calculs)'!EI42","v":1},null,{"$f":"'Ne pas modifier (calculs)'!$EF42","v":""},{"$f":"'Ne pas modifier (calculs)'!$EH42","v":""}]
[null,null,null,null,null,null,null,null,{"$f":"'Ne pas modifier (calculs)'!EP13","v":"2016-10-01"},0,{"$f":"'Ne pas modifier (calculs)'!EY13","v":1},null,{"$f":"'Ne pas modifier (calculs)'!$EV13","v":""},{"$f":"'Ne pas modifier (calculs)'!$EX13","v":""}]
[null,null,null,null,null,null,null,null,{"$f":"'Ne pas modifier (calculs)'!EP14","v":"2016-10-02"},0,{"$f":"'Ne pas modifier (calculs)'!EY14","v":1},null,{"$f":"'Ne pas modifier (calculs)'!$EV14","v":""},{"$f":"'Ne pas modifier (calculs)'!$EX14","v":""}]
[null,null,null,null,null,null,null,null,{"$f":"'Ne pas modifier (calculs)'!EP15","v":"2016-10-03"},1,{"$f":"'Ne pas modifier (calculs)'!EY15","v":1},null,{"$f":"'Ne pas modifier (calculs)'!$EV15","v":""},{"$f":"'Ne pas modifier (calculs)'!$EX15","v":""}]
[null,null,null,null,null,null,null,null,{"$f":"'Ne pas modifier (calculs)'!EP16","v":"2016-10-04"},1,{"$f":"'Ne pas modifier (calculs)'!EY16","v":1},null,{"$f":"'Ne pas modifier (calculs)'!$EV16","v":""},{"$f":"'Ne pas modifier (calculs)'!$EX16","v":""}]
[null,null,null,null,null,null,null,null,{"$f":"'Ne pas modifier (calculs)'!EP17","v":"2016-10-05"},1,{"$f":"'Ne pas modifier (calculs)'!EY17","v":1},null,{"$f":"'Ne pas modifier (calculs)'!$EV17","v":""},{"$f":"'Ne pas modifier (calculs)'!$EX17","v":""}]
[null,null,null,null,null,null,null,null,{"$f":"'Ne pas modifier (calculs)'!EP18","v":"2016-10-06"},1,{"$f":"'Ne pas modifier (calculs)'!EY18","v":1},null,{"$f":"'Ne pas modifier (calculs)'!$EV18","v":""},{"$f":"'Ne pas modifier (calculs)'!$EX18","v":""}]
[null,null,null,null,null,null,null,null,{"$f":"'Ne pas modifier (calculs)'!EP19","v":"2016-10-07"},1,{"$f":"'Ne pas modifier (calculs)'!EY19","v":1},null,{"$f":"'Ne pas modifier (calculs)'!$EV19","v":""},{"$f":"'Ne pas modifier (calculs)'!$EX19","v":""}]
[null,null,null,null,null,null,null,null,{"$f":"'Ne pas modifier (calculs)'!EP20","v":"2016-10-08"},0,{"$f":"'Ne pas modifier (calculs)'!EY20","v":1},null,{"$f":"'Ne pas modifier (calculs)'!$EV20","v":""},{"$f":"'Ne pas modifier (calculs)'!$EX20","v":""}]
[null,null,null,null,null,null,null,null,{"$f":"'Ne pas modifier (calculs)'!EP21","v":"2016-10-09"},0,{"$f":"'Ne pas modifier (calculs)'!EY21","v":1},null,{"$f":"'Ne pas modifier (calculs)'!$EV21","v":""},{"$f":"'Ne pas modifier (calculs)'!$EX21","v":""}]
[null,null,null,null,null,null,null,null,{"$f":"'Ne pas modifier (calculs)'!EP22","v":"2016-10-10"},1,{"$f":"'Ne pas modifier (calculs)'!EY22","v":1},null,{"$f":"'Ne pas modifier (calculs)'!$EV22","v":""},{"$f":"'Ne pas modifier (calculs)'!$EX22","v":""}]
[null,null,null,null,null,null,null,null,{"$f":"'Ne pas modifier (calculs)'!EP23","v":"2016-10-11"},1,{"$f":"'Ne pas modifier (calculs)'!EY23","v":1},null,{"$f":"'Ne pas modifier (calculs)'!$EV23","v":""},{"$f":"'Ne pas modifier (calculs)'!$EX23","v":""}]
[null,null,null,null,null,null,null,null,{"$f":"'Ne pas modifier (calculs)'!EP24","v":"2016-10-12"},1,{"$f":"'Ne pas modifier (calculs)'!EY24","v":1},null,{"$f":"'Ne pas modifier (calculs)'!$EV24","v":""},{"$f":"'Ne pas modifier (calculs)'!$EX24","v":""}]
[null,null,null,null,null,null,null,null,{"$f":"'Ne pas modifier (calculs)'!EP25","v":"2016-10-13"},1,{"$f":"'Ne pas modifier (calculs)'!EY25","v":1},null,{"$f":"'Ne pas modifier (calculs)'!$EV25","v":""},{"$f":"'Ne pas modifier (calculs)'!$EX25","v":""}]
[null,null,null,null,null,null,null,null,{"$f":"'Ne pas modifier (calculs)'!EP26","v":"2016-10-14"},1,{"$f":"'Ne pas modifier (calculs)'!EY26","v":1},null,{"$f":"'Ne pas modifier (calculs)'!$EV26","v":""},{"$f":"'Ne pas modifier (calculs)'!$EX26","v":""}]
[null,null,null,null,null,null,null,null,{"$f":"'Ne pas modifier (calculs)'!EP27","v":"2016-10-15"},0,{"$f":"'Ne pas modifier (calculs)'!EY27","v":1},null,{"$f":"'Ne pas modifier (calculs)'!$EV27","v":""},{"$f":"'Ne pas modifier (calculs)'!$EX27","v":""}]
[null,null,null,null,null,null,null,null,{"$f":"'Ne pas modifier (calculs)'!EP28","v":"2016-10-16"},0,{"$f":"'Ne pas modifier (calculs)'!EY28","v":1},null,{"$f":"'Ne pas modifier (calculs)'!$EV28","v":""},{"$f":"'Ne pas modifier (calculs)'!$EX28","v":""}]
[null,null,null,null,null,null,null,null,{"$f":"'Ne pas modifier (calculs)'!EP29","v":"2016-10-17"},1,{"$f":"'Ne pas modifier (calculs)'!EY29","v":1},null,{"$f":"'Ne pas modifier (calculs)'!$EV29","v":""},{"$f":"'Ne pas modifier (calculs)'!$EX29","v":""}]
[null,null,null,null,null,null,null,null,{"$f":"'Ne pas modifier (calculs)'!EP30","v":"2016-10-18"},1,{"$f":"'Ne pas modifier (calculs)'!EY30","v":1},null,{"$f":"'Ne pas modifier (calculs)'!$EV30","v":""},{"$f":"'Ne pas modifier (calculs)'!$EX30","v":""}]
[null,null,null,null,null,null,null,null,{"$f":"'Ne pas modifier (calculs)'!EP31","v":"2016-10-19"},1,{"$f":"'Ne pas modifier (calculs)'!EY31","v":1},null,{"$f":"'Ne pas modifier (calculs)'!$EV31","v":""},{"$f":"'Ne pas modifier (calculs)'!$EX31","v":""}]
[null,null,null,null,null,null,null,null,{"$f":"'Ne pas modifier (calculs)'!EP32","v":"2016-10-20"},1,{"$f":"'Ne pas modifier (calculs)'!EY32","v":1},null,{"$f":"'Ne pas modifier (calculs)'!$EV32","v":""},{"$f":"'Ne pas modifier (calculs)'!$EX32","v":""}]
[null,null,null,null,null,null,null,null,{"$f":"'Ne pas modifier (calculs)'!EP33","v":"2016-10-21"},1,{"$f":"'Ne pas modifier (calculs)'!EY33","v":1},null,{"$f":"'Ne pas modifier (calculs)'!$EV33","v":""},{"$f":"'Ne pas modifier (calculs)'!$EX33","v":""}]
[null,null,null,null,null,null,null,null,{"$f":"'Ne pas modifier (calculs)'!EP34","v":"2016-10-22"},0,{"$f":"'Ne pas modifier (calculs)'!EY34","v":1},null,{"$f":"'Ne pas modifier (calculs)'!$EV34","v":""},{"$f":"'Ne pas modifier (calculs)'!$EX34","v":""}]
[null,null,null,null,null,null,null,null,{"$f":"'Ne pas modifier (calculs)'!EP35","v":"2016-10-23"},0,{"$f":"'Ne pas modifier (calculs)'!EY35","v":1},null,{"$f":"'Ne pas modifier (calculs)'!$EV35","v":""},{"$f":"'Ne pas modifier (calculs)'!$EX35","v":""}]
[null,null,null,null,null,null,null,null,{"$f":"'Ne pas modifier (calculs)'!EP36","v":"2016-10-24"},1,{"$f":"'Ne pas modifier (calculs)'!EY36","v":1},null,{"$f":"'Ne pas modifier (calculs)'!$EV36","v":""},{"$f":"'Ne pas modifier (calculs)'!$EX36","v":""}]
[null,null,null,null,null,null,null,null,{"$f":"'Ne pas modifier (calculs)'!EP37","v":"2016-10-25"},1,{"$f":"'Ne pas modifier (calculs)'!EY37","v":1},null,{"$f":"'Ne pas modifier (calculs)'!$EV37","v":""},{"$f":"'Ne pas modifier (calculs)'!$EX37","v":""}]
[null,null,null,null,null,null,null,null,{"$f":"'Ne pas modifier (calculs)'!EP38","v":"2016-10-26"},1,{"$f":"'Ne pas modifier (calculs)'!EY38","v":1},null,{"$f":"'Ne pas modifier (calculs)'!$EV38","v":""},{"$f":"'Ne pas modifier (calculs)'!$EX38","v":""}]
[null,null,null,null,null,null,null,null,{"$f":"'Ne pas modifier (calculs)'!EP39","v":"2016-10-27"},1,{"$f":"'Ne pas modifier (calculs)'!EY39","v":1},null,{"$f":"'Ne pas modifier (calculs)'!$EV39","v":""},{"$f":"'Ne pas modifier (calculs)'!$EX39","v":""}]
[null,null,null,null,null,null,null,null,{"$f":"'Ne pas modifier (calculs)'!EP40","v":"2016-10-28"},1,{"$f":"'Ne pas modifier (calculs)'!EY40","v":1},null,{"$f":"'Ne pas modifier (calculs)'!$EV40","v":""},{"$f":"'Ne pas modifier (calculs)'!$EX40","v":""}]
[null,null,null,null,null,null,null,null,{"$f":"'Ne pas modifier (calculs)'!EP41","v":"2016-10-29"},0,{"$f":"'Ne pas modifier (calculs)'!EY41","v":1},null,{"$f":"'Ne pas modifier (calculs)'!$EV41","v":""},{"$f":"'Ne pas modifier (calculs)'!$EX41","v":""}]
[null,null,null,null,null,null,null,null,{"$f":"'Ne pas modifier (calculs)'!EP42","v":"2016-10-30"},0,{"$f":"'Ne pas modifier (calculs)'!EY42","v":1},null,{"$f":"'Ne pas modifier (calculs)'!$EV42","v":""},{"$f":"'Ne pas modifier (calculs)'!$EX42","v":""}]
[null,null,null,null,null,null,null,null,{"$f":"'Ne pas modifier (calculs)'!EP43","v":"2016-10-31"},"R",{"$f":"'Ne pas modifier (calculs)'!EY43","v":"R"},null,{"$f":"'Ne pas modifier (calculs)'!$EV43","v":""},{"$f":"'Ne pas modifier (calculs)'!$EX43","v":""}]
[null,null,null,null,null,null,null,null,{"$f":"'Ne pas modifier (calculs)'!FF13","v":"2016-11-01"},0,{"$f":"'Ne pas modifier (calculs)'!FO13","v":0},null,{"$f":"'Ne pas modifier (calculs)'!$FL13","v":""},{"$f":"'Ne pas modifier (calculs)'!$FN13","v":""}]
[null,null,null,null,null,null,null,null,{"$f":"'Ne pas modifier (calculs)'!FF14","v":"2016-11-02"},1,{"$f":"'Ne pas modifier (calculs)'!FO14","v":1},null,{"$f":"'Ne pas modifier (calculs)'!$FL14","v":""},{"$f":"'Ne pas modifier (calculs)'!$FN14","v":""}]
[null,null,null,null,null,null,null,null,{"$f":"'Ne pas modifier (calculs)'!FF15","v":"2016-11-03"},1,{"$f":"'Ne pas modifier (calculs)'!FO15","v":1},null,{"$f":"'Ne pas modifier (calculs)'!$FL15","v":""},{"$f":"'Ne pas modifier (calculs)'!$FN15","v":""}]
[null,null,null,null,null,null,null,null,{"$f":"'Ne pas modifier (calculs)'!FF16","v":"2016-11-04"},1,{"$f":"'Ne pas modifier (calculs)'!FO16","v":1},null,{"$f":"'Ne pas modifier (calculs)'!$FL16","v":""},{"$f":"'Ne pas modifier (calculs)'!$FN16","v":""}]
[null,null,null,null,null,null,null,null,{"$f":"'Ne pas modifier (calculs)'!FF17","v":"2016-11-05"},0,{"$f":"'Ne pas modifier (calculs)'!FO17","v":1},null,{"$f":"'Ne pas modifier (calculs)'!$FL17","v":""},{"$f":"'Ne pas modifier (calculs)'!$FN17","v":""}]
[null,null,null,null,null,null,null,null,{"$f":"'Ne pas modifier (calculs)'!FF18","v":"2016-11-06"},0,{"$f":"'Ne pas modifier (calculs)'!FO18","v":1},null,{"$f":"'Ne pas modifier (calculs)'!$FL18","v":""},{"$f":"'Ne pas modifier (calculs)'!$FN18","v":""}]
[null,null,null,null,null,null,null,null,{"$f":"'Ne pas modifier (calculs)'!FF19","v":"2016-11-07"},1,{"$f":"'Ne pas modifier (calculs)'!FO19","v":1},null,{"$f":"'Ne pas modifier (calculs)'!$FL19","v":""},{"$f":"'Ne pas modifier (calculs)'!$FN19","v":""}]
[null,null,null,null,null,null,null,null,{"$f":"'Ne pas modifier (calculs)'!FF20","v":"2016-11-08"},1,{"$f":"'Ne pas modifier (calculs)'!FO20","v":1},null,{"$f":"'Ne pas modifier (calculs)'!$FL20","v":""},{"$f":"'Ne pas modifier (calculs)'!$FN20","v":""}]
[null,null,null,null,null,null,null,null,{"$f":"'Ne pas modifier (calculs)'!FF21","v":"2016-11-09"},1,{"$f":"'Ne pas modifier (calculs)'!FO21","v":1},null,{"$f":"'Ne pas modifier (calculs)'!$FL21","v":""},{"$f":"'Ne pas modifier (calculs)'!$FN21","v":""}]
[null,null,null,null,null,null,null,null,{"$f":"'Ne pas modifier (calculs)'!FF22","v":"2016-11-10"},1,{"$f":"'Ne pas modifier (calculs)'!FO22","v":1},null,{"$f":"'Ne pas modifier (calculs)'!$FL22","v":""},{"$f":"'Ne pas modifier (calculs)'!$FN22","v":""}]
[null,null,null,null,null,null,null,null,{"$f":"'Ne pas modifier (calculs)'!FF23","v":"2016-11-11"},0,{"$f":"'Ne pas modifier (calculs)'!FO23","v":0},null,{"$f":"'Ne pas modifier (calculs)'!$FL23","v":""},{"$f":"'Ne pas modifier (calculs)'!$FN23","v":""}]
[null,null,null,null,null,null,null,null,{"$f":"'Ne pas modifier (calculs)'!FF24","v":"2016-11-12"},0,{"$f":"'Ne pas modifier (calculs)'!FO24","v":1},null,{"$f":"'Ne pas modifier (calculs)'!$FL24","v":""},{"$f":"'Ne pas modifier (calculs)'!$FN24","v":""}]
[null,null,null,null,null,null,null,null,{"$f":"'Ne pas modifier (calculs)'!FF25","v":"2016-11-13"},0,{"$f":"'Ne pas modifier (calculs)'!FO25","v":1},null,{"$f":"'Ne pas modifier (calculs)'!$FL25","v":""},{"$f":"'Ne pas modifier (calculs)'!$FN25","v":""}]
[null,null,null,null,null,null,null,null,{"$f":"'Ne pas modifier (calculs)'!FF26","v":"2016-11-14"},1,{"$f":"'Ne pas modifier (calculs)'!FO26","v":1},null,{"$f":"'Ne pas modifier (calculs)'!$FL26","v":""},{"$f":"'Ne pas modifier (calculs)'!$FN26","v":""}]
[null,null,null,null,null,null,null,null,{"$f":"'Ne pas modifier (calculs)'!FF27","v":"2016-11-15"},1,{"$f":"'Ne pas modifier (calculs)'!FO27","v":1},null,{"$f":"'Ne pas modifier (calculs)'!$FL27","v":""},{"$f":"'Ne pas modifier (calculs)'!$FN27","v":""}]
[null,null,null,null,null,null,null,null,{"$f":"'Ne pas modifier (calculs)'!FF28","v":"2016-11-16"},1,{"$f":"'Ne pas modifier (calculs)'!FO28","v":1},null,{"$f":"'Ne pas modifier (calculs)'!$FL28","v":""},{"$f":"'Ne pas modifier (calculs)'!$FN28","v":""}]
[null,null,null,null,null,null,null,null,{"$f":"'Ne pas modifier (calculs)'!FF29","v":"2016-11-17"},1,{"$f":"'Ne pas modifier (calculs)'!FO29","v":1},null,{"$f":"'Ne pas modifier (calculs)'!$FL29","v":""},{"$f":"'Ne pas modifier (calculs)'!$FN29","v":""}]
[null,null,null,null,null,null,null,null,{"$f":"'Ne pas modifier (calculs)'!FF30","v":"2016-11-18"},{"$f":"IF(WEEKDAY(I349)=1,0,(IF(WEEKDAY(I349)=7,0,K349)))","v":1},{"$f":"'Ne pas modifier (calculs)'!FO30","v":1},null,{"$f":"'Ne pas modifier (calculs)'!$FL30","v":""},{"$f":"'Ne pas modifier (calculs)'!$FN30","v":""}]
[null,null,null,null,null,null,null,null,{"$f":"'Ne pas modifier (calculs)'!FF31","v":"2016-11-19"},0,{"$f":"'Ne pas modifier (calculs)'!FO31","v":1},null,{"$f":"'Ne pas modifier (calculs)'!$FL31","v":""},{"$f":"'Ne pas modifier (calculs)'!$FN31","v":""}]
[null,null,null,null,null,null,null,null,{"$f":"'Ne pas modifier (calculs)'!FF32","v":"2016-11-20"},0,{"$f":"'Ne pas modifier (calculs)'!FO32","v":1},null,{"$f":"'Ne pas modifier (calculs)'!$FL32","v":""},{"$f":"'Ne pas modifier (calculs)'!$FN32","v":""}]
[null,null,null,null,null,null,null,null,{"$f":"'Ne pas modifier (calculs)'!FF33","v":"2016-11-21"},1,{"$f":"'Ne pas modifier (calculs)'!FO33","v":1},null,{"$f":"'Ne pas modifier (calculs)'!$FL33","v":""},{"$f":"'Ne pas modifier (calculs)'!$FN33","v":""}]
[null,null,null,null,null,null,null,null,{"$f":"'Ne pas modifier (calculs)'!FF34","v":"2016-11-22"},1,{"$f":"'Ne pas modifier (calculs)'!FO34","v":1},null,{"$f":"'Ne pas modifier (calculs)'!$FL34","v":""},{"$f":"'Ne pas modifier (calculs)'!$FN34","v":""}]
[null,null,null,null,null,null,null,null,{"$f":"'Ne pas modifier (calculs)'!FF35","v":"2016-11-23"},1,{"$f":"'Ne pas modifier (calculs)'!FO35","v":1},null,{"$f":"'Ne pas modifier (calculs)'!$FL35","v":""},{"$f":"'Ne pas modifier (calculs)'!$FN35","v":""}]
[null,null,null,null,null,null,null,null,{"$f":"'Ne pas modifier (calculs)'!FF36","v":"2016-11-24"},1,{"$f":"'Ne pas modifier (calculs)'!FO36","v":1},null,{"$f":"'Ne pas modifier (calculs)'!$FL36","v":""},{"$f":"'Ne pas modifier (calculs)'!$FN36","v":""}]
[null,null,null,null,null,null,null,null,{"$f":"'Ne pas modifier (calculs)'!FF37","v":"2016-11-25"},1,{"$f":"'Ne pas modifier (calculs)'!FO37","v":1},null,{"$f":"'Ne pas modifier (calculs)'!$FL37","v":""},{"$f":"'Ne pas modifier (calculs)'!$FN37","v":""}]
[null,null,null,null,null,null,null,null,{"$f":"'Ne pas modifier (calculs)'!FF38","v":"2016-11-26"},0,{"$f":"'Ne pas modifier (calculs)'!FO38","v":1},null,{"$f":"'Ne pas modifier (calculs)'!$FL38","v":""},{"$f":"'Ne pas modifier (calculs)'!$FN38","v":""}]
[null,null,null,null,null,null,null,null,{"$f":"'Ne pas modifier (calculs)'!FF39","v":"2016-11-27"},0,{"$f":"'Ne pas modifier (calculs)'!FO39","v":1},null,{"$f":"'Ne pas modifier (calculs)'!$FL39","v":""},{"$f":"'Ne pas modifier (calculs)'!$FN39","v":""}]
[null,null,null,null,null,null,null,null,{"$f":"'Ne pas modifier (calculs)'!FF40","v":"2016-11-28"},1,{"$f":"'Ne pas modifier (calculs)'!FO40","v":1},null,{"$f":"'Ne pas modifier (calculs)'!$FL40","v":""},{"$f":"'Ne pas modifier (calculs)'!$FN40","v":""}]
[null,null,null,null,null,null,null,null,{"$f":"'Ne pas modifier (calculs)'!FF41","v":"2016-11-29"},1,{"$f":"'Ne pas modifier (calculs)'!FO41","v":1},null,{"$f":"'Ne pas modifier (calculs)'!$FL41","v":""},{"$f":"'Ne pas modifier (calculs)'!$FN41","v":""}]
[null,null,null,null,null,null,null,null,{"$f":"'Ne pas modifier (calculs)'!FF42","v":"2016-11-30"},1,{"$f":"'Ne pas modifier (calculs)'!FO42","v":1},null,{"$f":"'Ne pas modifier (calculs)'!$FL42","v":""},{"$f":"'Ne pas modifier (calculs)'!$FN42","v":""}]
[null,null,null,null,null,null,null,null,{"$f":"'Ne pas modifier (calculs)'!FV13","v":"2016-12-01"},1,{"$f":"'Ne pas modifier (calculs)'!GE13","v":1},null,{"$f":"'Ne pas modifier (calculs)'!$GB13","v":""},{"$f":"'Ne pas modifier (calculs)'!$GD13","v":""}]
[null,null,null,null,null,null,null,null,{"$f":"'Ne pas modifier (calculs)'!FV14","v":"2016-12-02"},1,{"$f":"'Ne pas modifier (calculs)'!GE14","v":1},null,{"$f":"'Ne pas modifier (calculs)'!$GB14","v":""},{"$f":"'Ne pas modifier (calculs)'!$GD14","v":""}]
[null,null,null,null,null,null,null,null,{"$f":"'Ne pas modifier (calculs)'!FV15","v":"2016-12-03"},0,{"$f":"'Ne pas modifier (calculs)'!GE15","v":1},null,{"$f":"'Ne pas modifier (calculs)'!$GB15","v":""},{"$f":"'Ne pas modifier (calculs)'!$GD15","v":""}]
[null,null,null,null,null,null,null,null,{"$f":"'Ne pas modifier (calculs)'!FV16","v":"2016-12-04"},0,{"$f":"'Ne pas modifier (calculs)'!GE16","v":1},null,{"$f":"'Ne pas modifier (calculs)'!$GB16","v":""},{"$f":"'Ne pas modifier (calculs)'!$GD16","v":""}]
[null,null,null,null,null,null,null,null,{"$f":"'Ne pas modifier (calculs)'!FV17","v":"2016-12-05"},1,{"$f":"'Ne pas modifier (calculs)'!GE17","v":1},null,{"$f":"'Ne pas modifier (calculs)'!$GB17","v":""},{"$f":"'Ne pas modifier (calculs)'!$GD17","v":""}]
[null,null,null,null,null,null,null,null,{"$f":"'Ne pas modifier (calculs)'!FV18","v":"2016-12-06"},1,{"$f":"'Ne pas modifier (calculs)'!GE18","v":1},null,{"$f":"'Ne pas modifier (calculs)'!$GB18","v":""},{"$f":"'Ne pas modifier (calculs)'!$GD18","v":""}]
[null,null,null,null,null,null,null,null,{"$f":"'Ne pas modifier (calculs)'!FV19","v":"2016-12-07"},1,{"$f":"'Ne pas modifier (calculs)'!GE19","v":1},null,{"$f":"'Ne pas modifier (calculs)'!$GB19","v":""},{"$f":"'Ne pas modifier (calculs)'!$GD19","v":""}]
[null,null,null,null,null,null,null,null,{"$f":"'Ne pas modifier (calculs)'!FV20","v":"2016-12-08"},1,{"$f":"'Ne pas modifier (calculs)'!GE20","v":1},null,{"$f":"'Ne pas modifier (calculs)'!$GB20","v":""},{"$f":"'Ne pas modifier (calculs)'!$GD20","v":""}]
[null,null,null,null,null,null,null,null,{"$f":"'Ne pas modifier (calculs)'!FV21","v":"2016-12-09"},1,{"$f":"'Ne pas modifier (calculs)'!GE21","v":1},null,{"$f":"'Ne pas modifier (calculs)'!$GB21","v":""},{"$f":"'Ne pas modifier (calculs)'!$GD21","v":""}]
[null,null,null,null,null,null,null,null,{"$f":"'Ne pas modifier (calculs)'!FV22","v":"2016-12-10"},0,{"$f":"'Ne pas modifier (calculs)'!GE22","v":1},null,{"$f":"'Ne pas modifier (calculs)'!$GB22","v":""},{"$f":"'Ne pas modifier (calculs)'!$GD22","v":""}]
[null,null,null,null,null,null,null,null,{"$f":"'Ne pas modifier (calculs)'!FV23","v":"2016-12-11"},0,{"$f":"'Ne pas modifier (calculs)'!GE23","v":1},null,{"$f":"'Ne pas modifier (calculs)'!$GB23","v":""},{"$f":"'Ne pas modifier (calculs)'!$GD23","v":""}]
[null,null,null,null,null,null,null,null,{"$f":"'Ne pas modifier (calculs)'!FV24","v":"2016-12-12"},1,{"$f":"'Ne pas modifier (calculs)'!GE24","v":1},null,{"$f":"'Ne pas modifier (calculs)'!$GB24","v":""},{"$f":"'Ne pas modifier (calculs)'!$GD24","v":""}]
[null,null,null,null,null,null,null,null,{"$f":"'Ne pas modifier (calculs)'!FV25","v":"2016-12-13"},1,{"$f":"'Ne pas modifier (calculs)'!GE25","v":1},null,{"$f":"'Ne pas modifier (calculs)'!$GB25","v":""},{"$f":"'Ne pas modifier (calculs)'!$GD25","v":""}]
[null,null,null,null,null,null,null,null,{"$f":"'Ne pas modifier (calculs)'!FV26","v":"2016-12-14"},1,{"$f":"'Ne pas modifier (calculs)'!GE26","v":1},null,{"$f":"'Ne pas modifier (calculs)'!$GB26","v":""},{"$f":"'Ne pas modifier (calculs)'!$GD26","v":""}]
[null,null,null,null,null,null,null,null,{"$f":"'Ne pas modifier (calculs)'!FV27","v":"2016-12-15"},1,{"$f":"'Ne pas modifier (calculs)'!GE27","v":1},null,{"$f":"'Ne pas modifier (calculs)'!$GB27","v":""},{"$f":"'Ne pas modifier (calculs)'!$GD27","v":""}]
[null,null,null,null,null,null,null,null,{"$f":"'Ne pas modifier (calculs)'!FV28","v":"2016-12-16"},1,{"$f":"'Ne pas modifier (calculs)'!GE28","v":1},null,{"$f":"'Ne pas modifier (calculs)'!$GB28","v":""},{"$f":"'Ne pas modifier (calculs)'!$GD28","v":""}]
[null,null,null,null,null,null,null,null,{"$f":"'Ne pas modifier (calculs)'!FV29","v":"2016-12-17"},0,{"$f":"'Ne pas modifier (calculs)'!GE29","v":1},null,{"$f":"'Ne pas modifier (calculs)'!$GB29","v":""},{"$f":"'Ne pas modifier (calculs)'!$GD29","v":""}]
[null,null,null,null,null,null,null,null,{"$f":"'Ne pas modifier (calculs)'!FV30","v":"2016-12-18"},0,{"$f":"'Ne pas modifier (calculs)'!GE30","v":1},null,{"$f":"'Ne pas modifier (calculs)'!$GB30","v":""},{"$f":"'Ne pas modifier (calculs)'!$GD30","v":""}]
[null,null,null,null,null,null,null,null,{"$f":"'Ne pas modifier (calculs)'!FV31","v":"2016-12-19"},1,{"$f":"'Ne pas modifier (calculs)'!GE31","v":1},null,{"$f":"'Ne pas modifier (calculs)'!$GB31","v":""},{"$f":"'Ne pas modifier (calculs)'!$GD31","v":""}]
[null,null,null,null,null,null,null,null,{"$f":"'Ne pas modifier (calculs)'!FV32","v":"2016-12-20"},1,{"$f":"'Ne pas modifier (calculs)'!GE32","v":1},null,{"$f":"'Ne pas modifier (calculs)'!$GB32","v":""},{"$f":"'Ne pas modifier (calculs)'!$GD32","v":""}]
[null,null,null,null,null,null,null,null,{"$f":"'Ne pas modifier (calculs)'!FV33","v":"2016-12-21"},1,{"$f":"'Ne pas modifier (calculs)'!GE33","v":1},null,{"$f":"'Ne pas modifier (calculs)'!$GB33","v":""},{"$f":"'Ne pas modifier (calculs)'!$GD33","v":""}]
[null,null,null,null,null,null,null,null,{"$f":"'Ne pas modifier (calculs)'!FV34","v":"2016-12-22"},1,{"$f":"'Ne pas modifier (calculs)'!GE34","v":1},null,{"$f":"'Ne pas modifier (calculs)'!$GB34","v":""},{"$f":"'Ne pas modifier (calculs)'!$GD34","v":""}]
[null,null,null,null,null,null,null,null,{"$f":"'Ne pas modifier (calculs)'!FV35","v":"2016-12-23"},1,{"$f":"'Ne pas modifier (calculs)'!GE35","v":1},null,{"$f":"'Ne pas modifier (calculs)'!$GB35","v":""},{"$f":"'Ne pas modifier (calculs)'!$GD35","v":""}]
[null,null,null,null,null,null,null,null,{"$f":"'Ne pas modifier (calculs)'!FV36","v":"2016-12-24"},0,{"$f":"'Ne pas modifier (calculs)'!GE36","v":1},null,{"$f":"'Ne pas modifier (calculs)'!$GB36","v":""},{"$f":"'Ne pas modifier (calculs)'!$GD36","v":""}]
[null,null,null,null,null,null,null,null,{"$f":"'Ne pas modifier (calculs)'!FV37","v":"2016-12-25"},0,{"$f":"'Ne pas modifier (calculs)'!GE37","v":0},null,{"$f":"'Ne pas modifier (calculs)'!$GB37","v":""},{"$f":"'Ne pas modifier (calculs)'!$GD37","v":""}]
[null,null,null,null,null,null,null,null,{"$f":"'Ne pas modifier (calculs)'!FV38","v":"2016-12-26"},"B",{"$f":"'Ne pas modifier (calculs)'!GE38","v":"B"},null,{"$f":"'Ne pas modifier (calculs)'!$GB38","v":""},{"$f":"'Ne pas modifier (calculs)'!$GD38","v":""}]
[null,null,null,null,null,null,null,null,{"$f":"'Ne pas modifier (calculs)'!FV39","v":"2016-12-27"},"R",{"$f":"'Ne pas modifier (calculs)'!GE39","v":"R"},null,{"$f":"'Ne pas modifier (calculs)'!$GB39","v":""},{"$f":"'Ne pas modifier (calculs)'!$GD39","v":""}]
[null,null,null,null,null,null,null,null,{"$f":"'Ne pas modifier (calculs)'!FV40","v":"2016-12-28"},"R",{"$f":"'Ne pas modifier (calculs)'!GE40","v":"R"},null,{"$f":"'Ne pas modifier (calculs)'!$GB40","v":""},{"$f":"'Ne pas modifier (calculs)'!$GD40","v":""}]
[null,null,null,null,null,null,null,null,{"$f":"'Ne pas modifier (calculs)'!FV41","v":"2016-12-29"},"R",{"$f":"'Ne pas modifier (calculs)'!GE41","v":"R"},null,{"$f":"'Ne pas modifier (calculs)'!$GB41","v":""},{"$f":"'Ne pas modifier (calculs)'!$GD41","v":""}]
[null,null,null,null,null,null,null,null,{"$f":"'Ne pas modifier (calculs)'!FV42","v":"2016-12-30"},"R",{"$f":"'Ne pas modifier (calculs)'!GE42","v":"R"},null,{"$f":"'Ne pas modifier (calculs)'!$GB42","v":""},{"$f":"'Ne pas modifier (calculs)'!$GD42","v":""}]
[null,null,null,null,null,null,null,null,{"$f":"'Ne pas modifier (calculs)'!FV43","v":"2016-12-31"},0,{"$f":"'Ne pas modifier (calculs)'!GE43","v":"B"},null,{"$f":"'Ne pas modifier (calculs)'!$GB43","v":""},{"$f":"'Ne pas modifier (calculs)'!$GD43","v":""}]
[null,null,null,null,null,null,null,null,{"$f":"'Ne pas modifier (calculs)'!B52","v":"2017-01-01"},0,{"$f":"'Ne pas modifier (calculs)'!K52","v":0},null,{"$f":"'Ne pas modifier (calculs)'!$H52","v":""},{"$f":"'Ne pas modifier (calculs)'!$J52","v":""}]
[null,null,null,null,null,null,null,null,{"$f":"'Ne pas modifier (calculs)'!B53","v":"2017-01-02"},1,{"$f":"'Ne pas modifier (calculs)'!K53","v":1},null,{"$f":"'Ne pas modifier (calculs)'!$H53","v":""},{"$f":"'Ne pas modifier (calculs)'!$J53","v":""}]
[null,null,null,null,null,null,null,null,{"$f":"'Ne pas modifier (calculs)'!B54","v":"2017-01-03"},1,{"$f":"'Ne pas modifier (calculs)'!K54","v":1},null,{"$f":"'Ne pas modifier (calculs)'!$H54","v":""},{"$f":"'Ne pas modifier (calculs)'!$J54","v":""}]
[null,null,null,null,null,null,null,null,{"$f":"'Ne pas modifier (calculs)'!B55","v":"2017-01-04"},1,{"$f":"'Ne pas modifier (calculs)'!K55","v":1},null,{"$f":"'Ne pas modifier (calculs)'!$H55","v":""},{"$f":"'Ne pas modifier (calculs)'!$J55","v":""}]
[null,null,null,null,null,null,null,null,{"$f":"'Ne pas modifier (calculs)'!B56","v":"2017-01-05"},1,{"$f":"'Ne pas modifier (calculs)'!K56","v":1},null,{"$f":"'Ne pas modifier (calculs)'!$H56","v":""},{"$f":"'Ne pas modifier (calculs)'!$J56","v":""}]
[null,null,null,null,null,null,null,null,{"$f":"'Ne pas modifier (calculs)'!B57","v":"2017-01-06"},1,{"$f":"'Ne pas modifier (calculs)'!K57","v":1},null,{"$f":"'Ne pas modifier (calculs)'!$H57","v":""},{"$f":"'Ne pas modifier (calculs)'!$J57","v":""}]
[null,null,null,null,null,null,null,null,{"$f":"'Ne pas modifier (calculs)'!B58","v":"2017-01-07"},0,{"$f":"'Ne pas modifier (calculs)'!K58","v":1},null,{"$f":"'Ne pas modifier (calculs)'!$H58","v":""},{"$f":"'Ne pas modifier (calculs)'!$J58","v":""}]
[null,null,null,null,null,null,null,null,{"$f":"'Ne pas modifier (calculs)'!B59","v":"2017-01-08"},0,{"$f":"'Ne pas modifier (calculs)'!K59","v":1},null,{"$f":"'Ne pas modifier (calculs)'!$H59","v":""},{"$f":"'Ne pas modifier (calculs)'!$J59","v":""}]
[null,null,null,null,null,null,null,null,{"$f":"'Ne pas modifier (calculs)'!B60","v":"2017-01-09"},1,{"$f":"'Ne pas modifier (calculs)'!K60","v":1},null,{"$f":"'Ne pas modifier (calculs)'!$H60","v":""},{"$f":"'Ne pas modifier (calculs)'!$J60","v":""}]
[null,null,null,null,null,null,null,null,{"$f":"'Ne pas modifier (calculs)'!B61","v":"2017-01-10"},1,{"$f":"'Ne pas modifier (calculs)'!K61","v":1},null,{"$f":"'Ne pas modifier (calculs)'!$H61","v":""},{"$f":"'Ne pas modifier (calculs)'!$J61","v":""}]
[null,null,null,null,null,null,null,null,{"$f":"'Ne pas modifier (calculs)'!B62","v":"2017-01-11"},1,{"$f":"'Ne pas modifier (calculs)'!K62","v":1},null,{"$f":"'Ne pas modifier (calculs)'!$H62","v":""},{"$f":"'Ne pas modifier (calculs)'!$J62","v":""}]
[null,null,null,null,null,null,null,null,{"$f":"'Ne pas modifier (calculs)'!B63","v":"2017-01-12"},1,{"$f":"'Ne pas modifier (calculs)'!K63","v":1},null,{"$f":"'Ne pas modifier (calculs)'!$H63","v":""},{"$f":"'Ne pas modifier (calculs)'!$J63","v":""}]
[null,null,null,null,null,null,null,null,{"$f":"'Ne pas modifier (calculs)'!B64","v":"2017-01-13"},1,{"$f":"'Ne pas modifier (calculs)'!K64","v":1},null,{"$f":"'Ne pas modifier (calculs)'!$H64","v":""},{"$f":"'Ne pas modifier (calculs)'!$J64","v":""}]
[null,null,null,null,null,null,null,null,{"$f":"'Ne pas modifier (calculs)'!B65","v":"2017-01-14"},0,{"$f":"'Ne pas modifier (calculs)'!K65","v":1},null,{"$f":"'Ne pas modifier (calculs)'!$H65","v":""},{"$f":"'Ne pas modifier (calculs)'!$J65","v":""}]
[null,null,null,null,null,null,null,null,{"$f":"'Ne pas modifier (calculs)'!B66","v":"2017-01-15"},0,{"$f":"'Ne pas modifier (calculs)'!K66","v":1},null,{"$f":"'Ne pas modifier (calculs)'!$H66","v":""},{"$f":"'Ne pas modifier (calculs)'!$J66","v":""}]
[null,null,null,null,null,null,null,null,{"$f":"'Ne pas modifier (calculs)'!B67","v":"2017-01-16"},1,{"$f":"'Ne pas modifier (calculs)'!K67","v":1},null,{"$f":"'Ne pas modifier (calculs)'!$H67","v":""},{"$f":"'Ne pas modifier (calculs)'!$J67","v":""}]
[null,null,null,null,null,null,null,null,{"$f":"'Ne pas modifier (calculs)'!B68","v":"2017-01-17"},1,{"$f":"'Ne pas modifier (calculs)'!K68","v":1},null,{"$f":"'Ne pas modifier (calculs)'!$H68","v":""},{"$f":"'Ne pas modifier (calculs)'!$J68","v":""}]
[null,null,null,null,null,null,null,null,{"$f":"'Ne pas modifier (calculs)'!B69","v":"2017-01-18"},1,{"$f":"'Ne pas modifier (calculs)'!K69","v":1},null,{"$f":"'Ne pas modifier (calculs)'!$H69","v":""},{"$f":"'Ne pas modifier (calculs)'!$J69","v":""}]
[null,null,null,null,null,null,null,null,{"$f":"'Ne pas modifier (calculs)'!B70","v":"2017-01-19"},1,{"$f":"'Ne pas modifier (calculs)'!K70","v":1},null,{"$f":"'Ne pas modifier (calculs)'!$H70","v":""},{"$f":"'Ne pas modifier (calculs)'!$J70","v":""}]
[null,null,null,null,null,null,null,null,{"$f":"'Ne pas modifier (calculs)'!B71","v":"2017-01-20"},1,{"$f":"'Ne pas modifier (calculs)'!K71","v":1},null,{"$f":"'Ne pas modifier (calculs)'!$H71","v":""},{"$f":"'Ne pas modifier (calculs)'!$J71","v":""}]
[null,null,null,null,null,null,null,null,{"$f":"'Ne pas modifier (calculs)'!B72","v":"2017-01-21"},{"$f":"IF(WEEKDAY(I413)=1,0,(IF(WEEKDAY(I413)=7,0,K413)))","v":0},{"$f":"'Ne pas modifier (calculs)'!K72","v":1},null,{"$f":"'Ne pas modifier (calculs)'!$H72","v":""},{"$f":"'Ne pas modifier (calculs)'!$J72","v":""}]
[null,null,null,null,null,null,null,null,{"$f":"'Ne pas modifier (calculs)'!B73","v":"2017-01-22"},0,{"$f":"'Ne pas modifier (calculs)'!K73","v":1},null,{"$f":"'Ne pas modifier (calculs)'!$H73","v":""},{"$f":"'Ne pas modifier (calculs)'!$J73","v":""}]
[null,null,null,null,null,null,null,null,{"$f":"'Ne pas modifier (calculs)'!B74","v":"2017-01-23"},1,{"$f":"'Ne pas modifier (calculs)'!K74","v":1},null,{"$f":"'Ne pas modifier (calculs)'!$H74","v":""},{"$f":"'Ne pas modifier (calculs)'!$J74","v":""}]
[null,null,null,null,null,null,null,null,{"$f":"'Ne pas modifier (calculs)'!B75","v":"2017-01-24"},1,{"$f":"'Ne pas modifier (calculs)'!K75","v":1},null,{"$f":"'Ne pas modifier (calculs)'!$H75","v":""},{"$f":"'Ne pas modifier (calculs)'!$J75","v":""}]
[null,null,null,null,null,null,null,null,{"$f":"'Ne pas modifier (calculs)'!B76","v":"2017-01-25"},1,{"$f":"'Ne pas modifier (calculs)'!K76","v":1},null,{"$f":"'Ne pas modifier (calculs)'!$H76","v":""},{"$f":"'Ne pas modifier (calculs)'!$J76","v":""}]
[null,null,null,null,null,null,null,null,{"$f":"'Ne pas modifier (calculs)'!B77","v":"2017-01-26"},1,{"$f":"'Ne pas modifier (calculs)'!K77","v":1},null,{"$f":"'Ne pas modifier (calculs)'!$H77","v":""},{"$f":"'Ne pas modifier (calculs)'!$J77","v":""}]
[null,null,null,null,null,null,null,null,{"$f":"'Ne pas modifier (calculs)'!B78","v":"2017-01-27"},1,{"$f":"'Ne pas modifier (calculs)'!K78","v":1},null,{"$f":"'Ne pas modifier (calculs)'!$H78","v":""},{"$f":"'Ne pas modifier (calculs)'!$J78","v":""}]
[null,null,null,null,null,null,null,null,{"$f":"'Ne pas modifier (calculs)'!B79","v":"2017-01-28"},0,{"$f":"'Ne pas modifier (calculs)'!K79","v":1},null,{"$f":"'Ne pas modifier (calculs)'!$H79","v":""},{"$f":"'Ne pas modifier (calculs)'!$J79","v":""}]
[null,null,null,null,null,null,null,null,{"$f":"'Ne pas modifier (calculs)'!B80","v":"2017-01-29"},0,{"$f":"'Ne pas modifier (calculs)'!K80","v":1},null,{"$f":"'Ne pas modifier (calculs)'!$H80","v":""},{"$f":"'Ne pas modifier (calculs)'!$J80","v":""}]
[null,null,null,null,null,null,null,null,{"$f":"'Ne pas modifier (calculs)'!B81","v":"2017-01-30"},1,{"$f":"'Ne pas modifier (calculs)'!K81","v":1},null,{"$f":"'Ne pas modifier (calculs)'!$H81","v":""},{"$f":"'Ne pas modifier (calculs)'!$J81","v":""}]
[null,null,null,null,null,null,null,null,{"$f":"'Ne pas modifier (calculs)'!B82","v":"2017-01-31"},1,{"$f":"'Ne pas modifier (calculs)'!K82","v":1},null,{"$f":"'Ne pas modifier (calculs)'!$H82","v":""},{"$f":"'Ne pas modifier (calculs)'!$J82","v":""}]
[null,null,null,null,null,null,null,null,{"$f":"'Ne pas modifier (calculs)'!R52","v":"2017-02-01"},1,{"$f":"'Ne pas modifier (calculs)'!AA52","v":1},null,{"$f":"'Ne pas modifier (calculs)'!$X52","v":""},{"$f":"'Ne pas modifier (calculs)'!$Z52","v":""}]
[null,null,null,null,null,null,null,null,{"$f":"'Ne pas modifier (calculs)'!R53","v":"2017-02-02"},1,{"$f":"'Ne pas modifier (calculs)'!AA53","v":1},null,{"$f":"'Ne pas modifier (calculs)'!$X53","v":""},{"$f":"'Ne pas modifier (calculs)'!$Z53","v":""}]
[null,null,null,null,null,null,null,null,{"$f":"'Ne pas modifier (calculs)'!R54","v":"2017-02-03"},1,{"$f":"'Ne pas modifier (calculs)'!AA54","v":1},null,{"$f":"'Ne pas modifier (calculs)'!$X54","v":""},{"$f":"'Ne pas modifier (calculs)'!$Z54","v":""}]
[null,null,null,null,null,null,null,null,{"$f":"'Ne pas modifier (calculs)'!R55","v":"2017-02-04"},0,{"$f":"'Ne pas modifier (calculs)'!AA55","v":1},null,{"$f":"'Ne pas modifier (calculs)'!$X55","v":""},{"$f":"'Ne pas modifier (calculs)'!$Z55","v":""}]
[null,null,null,null,null,null,null,null,{"$f":"'Ne pas modifier (calculs)'!R56","v":"2017-02-05"},0,{"$f":"'Ne pas modifier (calculs)'!AA56","v":1},null,{"$f":"'Ne pas modifier (calculs)'!$X56","v":""},{"$f":"'Ne pas modifier (calculs)'!$Z56","v":""}]
[null,null,null,null,null,null,null,null,{"$f":"'Ne pas modifier (calculs)'!R57","v":"2017-02-06"},1,{"$f":"'Ne pas modifier (calculs)'!AA57","v":1},null,{"$f":"'Ne pas modifier (calculs)'!$X57","v":""},{"$f":"'Ne pas modifier (calculs)'!$Z57","v":""}]
[null,null,null,null,null,null,null,null,{"$f":"'Ne pas modifier (calculs)'!R58","v":"2017-02-07"},1,{"$f":"'Ne pas modifier (calculs)'!AA58","v":1},null,{"$f":"'Ne pas modifier (calculs)'!$X58","v":""},{"$f":"'Ne pas modifier (calculs)'!$Z58","v":""}]
[null,null,null,null,null,null,null,null,{"$f":"'Ne pas modifier (calculs)'!R59","v":"2017-02-08"},1,{"$f":"'Ne pas modifier (calculs)'!AA59","v":1},null,{"$f":"'Ne pas modifier (calculs)'!$X59","v":""},{"$f":"'Ne pas modifier (calculs)'!$Z59","v":""}]
[null,null,null,null,null,null,null,null,{"$f":"'Ne pas modifier (calculs)'!R60","v":"2017-02-09"},1,{"$f":"'Ne pas modifier (calculs)'!AA60","v":1},null,{"$f":"'Ne pas modifier (calculs)'!$X60","v":""},{"$f":"'Ne pas modifier (calculs)'!$Z60","v":""}]
[null,null,null,null,null,null,null,null,{"$f":"'Ne pas modifier (calculs)'!R61","v":"2017-02-10"},1,{"$f":"'Ne pas modifier (calculs)'!AA61","v":1},null,{"$f":"'Ne pas modifier (calculs)'!$X61","v":""},{"$f":"'Ne pas modifier (calculs)'!$Z61","v":""}]
[null,null,null,null,null,null,null,null,{"$f":"'Ne pas modifier (calculs)'!R62","v":"2017-02-11"},0,{"$f":"'Ne pas modifier (calculs)'!AA62","v":1},null,{"$f":"'Ne pas modifier (calculs)'!$X62","v":""},{"$f":"'Ne pas modifier (calculs)'!$Z62","v":""}]
[null,null,null,null,null,null,null,null,{"$f":"'Ne pas modifier (calculs)'!R63","v":"2017-02-12"},0,{"$f":"'Ne pas modifier (calculs)'!AA63","v":1},null,{"$f":"'Ne pas modifier (calculs)'!$X63","v":""},{"$f":"'Ne pas modifier (calculs)'!$Z63","v":""}]
[null,null,null,null,null,null,null,null,{"$f":"'Ne pas modifier (calculs)'!R64","v":"2017-02-13"},1,{"$f":"'Ne pas modifier (calculs)'!AA64","v":1},null,{"$f":"'Ne pas modifier (calculs)'!$X64","v":""},{"$f":"'Ne pas modifier (calculs)'!$Z64","v":""}]
[null,null,null,null,null,null,null,null,{"$f":"'Ne pas modifier (calculs)'!R65","v":"2017-02-14"},1,{"$f":"'Ne pas modifier (calculs)'!AA65","v":1},null,{"$f":"'Ne pas modifier (calculs)'!$X65","v":""},{"$f":"'Ne pas modifier (calculs)'!$Z65","v":""}]
[null,null,null,null,null,null,null,null,{"$f":"'Ne pas modifier (calculs)'!R66","v":"2017-02-15"},1,{"$f":"'Ne pas modifier (calculs)'!AA66","v":1},null,{"$f":"'Ne pas modifier (calculs)'!$X66","v":""},{"$f":"'Ne pas modifier (calculs)'!$Z66","v":""}]
[null,null,null,null,null,null,null,null,{"$f":"'Ne pas modifier (calculs)'!R67","v":"2017-02-16"},1,{"$f":"'Ne pas modifier (calculs)'!AA67","v":1},null,{"$f":"'Ne pas modifier (calculs)'!$X67","v":""},{"$f":"'Ne pas modifier (calculs)'!$Z67","v":""}]
[null,null,null,null,null,null,null,null,{"$f":"'Ne pas modifier (calculs)'!R68","v":"2017-02-17"},1,{"$f":"'Ne pas modifier (calculs)'!AA68","v":1},null,{"$f":"'Ne pas modifier (calculs)'!$X68","v":""},{"$f":"'Ne pas modifier (calculs)'!$Z68","v":""}]
[null,null,null,null,null,null,null,null,{"$f":"'Ne pas modifier (calculs)'!R69","v":"2017-02-18"},0,{"$f":"'Ne pas modifier (calculs)'!AA69","v":1},null,{"$f":"'Ne pas modifier (calculs)'!$X69","v":""},{"$f":"'Ne pas modifier (calculs)'!$Z69","v":""}]
[null,null,null,null,null,null,null,null,{"$f":"'Ne pas modifier (calculs)'!R70","v":"2017-02-19"},0,{"$f":"'Ne pas modifier (calculs)'!AA70","v":1},null,{"$f":"'Ne pas modifier (calculs)'!$X70","v":""},{"$f":"'Ne pas modifier (calculs)'!$Z70","v":""}]
[null,null,null,null,null,null,null,null,{"$f":"'Ne pas modifier (calculs)'!R71","v":"2017-02-20"},1,{"$f":"'Ne pas modifier (calculs)'!AA71","v":1},null,{"$f":"'Ne pas modifier (calculs)'!$X71","v":""},{"$f":"'Ne pas modifier (calculs)'!$Z71","v":""}]
[null,null,null,null,null,null,null,null,{"$f":"'Ne pas modifier (calculs)'!R72","v":"2017-02-21"},1,{"$f":"'Ne pas modifier (calculs)'!AA72","v":1},null,{"$f":"'Ne pas modifier (calculs)'!$X72","v":""},{"$f":"'Ne pas modifier (calculs)'!$Z72","v":""}]
[null,null,null,null,null,null,null,null,{"$f":"'Ne pas modifier (calculs)'!R73","v":"2017-02-22"},1,{"$f":"'Ne pas modifier (calculs)'!AA73","v":1},null,{"$f":"'Ne pas modifier (calculs)'!$X73","v":""},{"$f":"'Ne pas modifier (calculs)'!$Z73","v":""}]
[null,null,null,null,null,null,null,null,{"$f":"'Ne pas modifier (calculs)'!R74","v":"2017-02-23"},1,{"$f":"'Ne pas modifier (calculs)'!AA74","v":1},null,{"$f":"'Ne pas modifier (calculs)'!$X74","v":""},{"$f":"'Ne pas modifier (calculs)'!$Z74","v":""}]
[null,null,null,null,null,null,null,null,{"$f":"'Ne pas modifier (calculs)'!R75","v":"2017-02-24"},1,{"$f":"'Ne pas modifier (calculs)'!AA75","v":1},null,{"$f":"'Ne pas modifier (calculs)'!$X75","v":""},{"$f":"'Ne pas modifier (calculs)'!$Z75","v":""}]
[null,null,null,null,null,null,null,null,{"$f":"'Ne pas modifier (calculs)'!R76","v":"2017-02-25"},0,{"$f":"'Ne pas modifier (calculs)'!AA76","v":1},null,{"$f":"'Ne pas modifier (calculs)'!$X76","v":""},{"$f":"'Ne pas modifier (calculs)'!$Z76","v":""}]
[null,null,null,null,null,null,null,null,{"$f":"'Ne pas modifier (calculs)'!R77","v":"2017-02-26"},0,{"$f":"'Ne pas modifier (calculs)'!AA77","v":1},null,{"$f":"'Ne pas modifier (calculs)'!$X77","v":""},{"$f":"'Ne pas modifier (calculs)'!$Z77","v":""}]
[null,null,null,null,null,null,null,null,{"$f":"'Ne pas modifier (calculs)'!R78","v":"2017-02-27"},1,{"$f":"'Ne pas modifier (calculs)'!AA78","v":1},null,{"$f":"'Ne pas modifier (calculs)'!$X78","v":""},{"$f":"'Ne pas modifier (calculs)'!$Z78","v":""}]
[null,null,null,null,null,null,null,null,{"$f":"'Ne pas modifier (calculs)'!R79","v":"2017-02-28"},1,{"$f":"'Ne pas modifier (calculs)'!AA79","v":1},null,{"$f":"'Ne pas modifier (calculs)'!$X79","v":""},{"$f":"'Ne pas modifier (calculs)'!$Z79","v":""}]
[null,null,null,null,null,null,null,null,{"$f":"'Ne pas modifier (calculs)'!AH52","v":"2017-03-01"},1,{"$f":"'Ne pas modifier (calculs)'!AQ52","v":1},null,{"$f":"'Ne pas modifier (calculs)'!$AN52","v":""},{"$f":"'Ne pas modifier (calculs)'!$AP52","v":""}]
[null,null,null,null,null,null,null,null,{"$f":"'Ne pas modifier (calculs)'!AH53","v":"2017-03-02"},1,{"$f":"'Ne pas modifier (calculs)'!AQ53","v":1},null,{"$f":"'Ne pas modifier (calculs)'!$AN53","v":""},{"$f":"'Ne pas modifier (calculs)'!$AP53","v":""}]
[null,null,null,null,null,null,null,null,{"$f":"'Ne pas modifier (calculs)'!AH54","v":"2017-03-03"},1,{"$f":"'Ne pas modifier (calculs)'!AQ54","v":1},null,{"$f":"'Ne pas modifier (calculs)'!$AN54","v":""},{"$f":"'Ne pas modifier (calculs)'!$AP54","v":""}]
[null,null,null,null,null,null,null,null,{"$f":"'Ne pas modifier (calculs)'!AH55","v":"2017-03-04"},0,{"$f":"'Ne pas modifier (calculs)'!AQ55","v":1},null,{"$f":"'Ne pas modifier (calculs)'!$AN55","v":""},{"$f":"'Ne pas modifier (calculs)'!$AP55","v":""}]
[null,null,null,null,null,null,null,null,{"$f":"'Ne pas modifier (calculs)'!AH56","v":"2017-03-05"},0,{"$f":"'Ne pas modifier (calculs)'!AQ56","v":1},null,{"$f":"'Ne pas modifier (calculs)'!$AN56","v":""},{"$f":"'Ne pas modifier (calculs)'!$AP56","v":""}]
[null,null,null,null,null,null,null,null,{"$f":"'Ne pas modifier (calculs)'!AH57","v":"2017-03-06"},1,{"$f":"'Ne pas modifier (calculs)'!AQ57","v":1},null,{"$f":"'Ne pas modifier (calculs)'!$AN57","v":""},{"$f":"'Ne pas modifier (calculs)'!$AP57","v":""}]
[null,null,null,null,null,null,null,null,{"$f":"'Ne pas modifier (calculs)'!AH58","v":"2017-03-07"},1,{"$f":"'Ne pas modifier (calculs)'!AQ58","v":1},null,{"$f":"'Ne pas modifier (calculs)'!$AN58","v":""},{"$f":"'Ne pas modifier (calculs)'!$AP58","v":""}]
[null,null,null,null,null,null,null,null,{"$f":"'Ne pas modifier (calculs)'!AH59","v":"2017-03-08"},1,{"$f":"'Ne pas modifier (calculs)'!AQ59","v":1},null,{"$f":"'Ne pas modifier (calculs)'!$AN59","v":""},{"$f":"'Ne pas modifier (calculs)'!$AP59","v":""}]
[null,null,null,null,null,null,null,null,{"$f":"'Ne pas modifier (calculs)'!AH60","v":"2017-03-09"},1,{"$f":"'Ne pas modifier (calculs)'!AQ60","v":1},null,{"$f":"'Ne pas modifier (calculs)'!$AN60","v":""},{"$f":"'Ne pas modifier (calculs)'!$AP60","v":""}]
[null,null,null,null,null,null,null,null,{"$f":"'Ne pas modifier (calculs)'!AH61","v":"2017-03-10"},1,{"$f":"'Ne pas modifier (calculs)'!AQ61","v":1},null,{"$f":"'Ne pas modifier (calculs)'!$AN61","v":""},{"$f":"'Ne pas modifier (calculs)'!$AP61","v":""}]
[null,null,null,null,null,null,null,null,{"$f":"'Ne pas modifier (calculs)'!AH62","v":"2017-03-11"},0,{"$f":"'Ne pas modifier (calculs)'!AQ62","v":1},null,{"$f":"'Ne pas modifier (calculs)'!$AN62","v":""},{"$f":"'Ne pas modifier (calculs)'!$AP62","v":""}]
[null,null,null,null,null,null,null,null,{"$f":"'Ne pas modifier (calculs)'!AH63","v":"2017-03-12"},0,{"$f":"'Ne pas modifier (calculs)'!AQ63","v":1},null,{"$f":"'Ne pas modifier (calculs)'!$AN63","v":""},{"$f":"'Ne pas modifier (calculs)'!$AP63","v":""}]
[null,null,null,null,null,null,null,null,{"$f":"'Ne pas modifier (calculs)'!AH64","v":"2017-03-13"},1,{"$f":"'Ne pas modifier (calculs)'!AQ64","v":1},null,{"$f":"'Ne pas modifier (calculs)'!$AN64","v":""},{"$f":"'Ne pas modifier (calculs)'!$AP64","v":""}]
[null,null,null,null,null,null,null,null,{"$f":"'Ne pas modifier (calculs)'!AH65","v":"2017-03-14"},1,{"$f":"'Ne pas modifier (calculs)'!AQ65","v":1},null,{"$f":"'Ne pas modifier (calculs)'!$AN65","v":""},{"$f":"'Ne pas modifier (calculs)'!$AP65","v":""}]
[null,null,null,null,null,null,null,null,{"$f":"'Ne pas modifier (calculs)'!AH66","v":"2017-03-15"},1,{"$f":"'Ne pas modifier (calculs)'!AQ66","v":1},null,{"$f":"'Ne pas modifier (calculs)'!$AN66","v":""},{"$f":"'Ne pas modifier (calculs)'!$AP66","v":""}]
[null,null,null,null,null,null,null,null,{"$f":"'Ne pas modifier (calculs)'!AH67","v":"2017-03-16"},1,{"$f":"'Ne pas modifier (calculs)'!AQ67","v":1},null,{"$f":"'Ne pas modifier (calculs)'!$AN67","v":""},{"$f":"'Ne pas modifier (calculs)'!$AP67","v":""}]
[null,null,null,null,null,null,null,null,{"$f":"'Ne pas modifier (calculs)'!AH68","v":"2017-03-17"},1,{"$f":"'Ne pas modifier (calculs)'!AQ68","v":1},null,{"$f":"'Ne pas modifier (calculs)'!$AN68","v":""},{"$f":"'Ne pas modifier (calculs)'!$AP68","v":""}]
[null,null,null,null,null,null,null,null,{"$f":"'Ne pas modifier (calculs)'!AH69","v":"2017-03-18"},0,{"$f":"'Ne pas modifier (calculs)'!AQ69","v":1},null,{"$f":"'Ne pas modifier (calculs)'!$AN69","v":""},{"$f":"'Ne pas modifier (calculs)'!$AP69","v":""}]
[null,null,null,null,null,null,null,null,{"$f":"'Ne pas modifier (calculs)'!AH70","v":"2017-03-19"},0,{"$f":"'Ne pas modifier (calculs)'!AQ70","v":1},null,{"$f":"'Ne pas modifier (calculs)'!$AN70","v":""},{"$f":"'Ne pas modifier (calculs)'!$AP70","v":""}]
[null,null,null,null,null,null,null,null,{"$f":"'Ne pas modifier (calculs)'!AH71","v":"2017-03-20"},1,{"$f":"'Ne pas modifier (calculs)'!AQ71","v":1},null,{"$f":"'Ne pas modifier (calculs)'!$AN71","v":""},{"$f":"'Ne pas modifier (calculs)'!$AP71","v":""}]
[null,null,null,null,null,null,null,null,{"$f":"'Ne pas modifier (calculs)'!AH72","v":"2017-03-21"},1,{"$f":"'Ne pas modifier (calculs)'!AQ72","v":1},null,{"$f":"'Ne pas modifier (calculs)'!$AN72","v":""},{"$f":"'Ne pas modifier (calculs)'!$AP72","v":""}]
[null,null,null,null,null,null,null,null,{"$f":"'Ne pas modifier (calculs)'!AH73","v":"2017-03-22"},1,{"$f":"'Ne pas modifier (calculs)'!AQ73","v":1},null,{"$f":"'Ne pas modifier (calculs)'!$AN73","v":""},{"$f":"'Ne pas modifier (calculs)'!$AP73","v":""}]
[null,null,null,null,null,null,null,null,{"$f":"'Ne pas modifier (calculs)'!AH74","v":"2017-03-23"},1,{"$f":"'Ne pas modifier (calculs)'!AQ74","v":1},null,{"$f":"'Ne pas modifier (calculs)'!$AN74","v":""},{"$f":"'Ne pas modifier (calculs)'!$AP74","v":""}]
[null,null,null,null,null,null,null,null,{"$f":"'Ne pas modifier (calculs)'!AH75","v":"2017-03-24"},1,{"$f":"'Ne pas modifier (calculs)'!AQ75","v":1},null,{"$f":"'Ne pas modifier (calculs)'!$AN75","v":""},{"$f":"'Ne pas modifier (calculs)'!$AP75","v":""}]
[null,null,null,null,null,null,null,null,{"$f":"'Ne pas modifier (calculs)'!AH76","v":"2017-03-25"},0,{"$f":"'Ne pas modifier (calculs)'!AQ76","v":1},null,{"$f":"'Ne pas modifier (calculs)'!$AN76","v":""},{"$f":"'Ne pas modifier (calculs)'!$AP76","v":""}]
[null,null,null,null,null,null,null,null,{"$f":"'Ne pas modifier (calculs)'!AH77","v":"2017-03-26"},{"$f":"IF(WEEKDAY(I477)=1,0,(IF(WEEKDAY(I477)=7,0,K477)))","v":0},{"$f":"'Ne pas modifier (calculs)'!AQ77","v":1},null,{"$f":"'Ne pas modifier (calculs)'!$AN77","v":""},{"$f":"'Ne pas modifier (calculs)'!$AP77","v":""}]
[null,null,null,null,null,null,null,null,{"$f":"'Ne pas modifier (calculs)'!AH78","v":"2017-03-27"},1,{"$f":"'Ne pas modifier (calculs)'!AQ78","v":1},null,{"$f":"'Ne pas modifier (calculs)'!$AN78","v":""},{"$f":"'Ne pas modifier (calculs)'!$AP78","v":""}]
[null,null,null,null,null,null,null,null,{"$f":"'Ne pas modifier (calculs)'!AH79","v":"2017-03-28"},1,{"$f":"'Ne pas modifier (calculs)'!AQ79","v":1},null,{"$f":"'Ne pas modifier (calculs)'!$AN79","v":""},{"$f":"'Ne pas modifier (calculs)'!$AP79","v":""}]
[null,null,null,null,null,null,null,null,{"$f":"'Ne pas modifier (calculs)'!AH80","v":"2017-03-29"},1,{"$f":"'Ne pas modifier (calculs)'!AQ80","v":1},null,{"$f":"'Ne pas modifier (calculs)'!$AN80","v":""},{"$f":"'Ne pas modifier (calculs)'!$AP80","v":""}]
[null,null,null,null,null,null,null,null,{"$f":"'Ne pas modifier (calculs)'!AH81","v":"2017-03-30"},1,{"$f":"'Ne pas modifier (calculs)'!AQ81","v":1},null,{"$f":"'Ne pas modifier (calculs)'!$AN81","v":""},{"$f":"'Ne pas modifier (calculs)'!$AP81","v":""}]
[null,null,null,null,null,null,null,null,{"$f":"'Ne pas modifier (calculs)'!AH82","v":"2017-03-31"},1,{"$f":"'Ne pas modifier (calculs)'!AQ82","v":1},null,{"$f":"'Ne pas modifier (calculs)'!$AN82","v":""},{"$f":"'Ne pas modifier (calculs)'!$AP82","v":""}]
[null,null,null,null,null,null,null,null,{"$f":"'Ne pas modifier (calculs)'!AX52","v":"2017-04-01"},0,{"$f":"'Ne pas modifier (calculs)'!BG52","v":1},null,{"$f":"'Ne pas modifier (calculs)'!$BD52","v":""},{"$f":"'Ne pas modifier (calculs)'!$BF52","v":""}]
[null,null,null,null,null,null,null,null,{"$f":"'Ne pas modifier (calculs)'!AX53","v":"2017-04-02"},0,{"$f":"'Ne pas modifier (calculs)'!BG53","v":1},null,{"$f":"'Ne pas modifier (calculs)'!$BD53","v":""},{"$f":"'Ne pas modifier (calculs)'!$BF53","v":""}]
[null,null,null,null,null,null,null,null,{"$f":"'Ne pas modifier (calculs)'!AX54","v":"2017-04-03"},1,{"$f":"'Ne pas modifier (calculs)'!BG54","v":1},null,{"$f":"'Ne pas modifier (calculs)'!$BD54","v":""},{"$f":"'Ne pas modifier (calculs)'!$BF54","v":""}]
[null,null,null,null,null,null,null,null,{"$f":"'Ne pas modifier (calculs)'!AX55","v":"2017-04-04"},1,{"$f":"'Ne pas modifier (calculs)'!BG55","v":1},null,{"$f":"'Ne pas modifier (calculs)'!$BD55","v":""},{"$f":"'Ne pas modifier (calculs)'!$BF55","v":""}]
[null,null,null,null,null,null,null,null,{"$f":"'Ne pas modifier (calculs)'!AX56","v":"2017-04-05"},1,{"$f":"'Ne pas modifier (calculs)'!BG56","v":1},null,{"$f":"'Ne pas modifier (calculs)'!$BD56","v":""},{"$f":"'Ne pas modifier (calculs)'!$BF56","v":""}]
[null,null,null,null,null,null,null,null,{"$f":"'Ne pas modifier (calculs)'!AX57","v":"2017-04-06"},1,{"$f":"'Ne pas modifier (calculs)'!BG57","v":1},null,{"$f":"'Ne pas modifier (calculs)'!$BD57","v":""},{"$f":"'Ne pas modifier (calculs)'!$BF57","v":""}]
[null,null,null,null,null,null,null,null,{"$f":"'Ne pas modifier (calculs)'!AX58","v":"2017-04-07"},1,{"$f":"'Ne pas modifier (calculs)'!BG58","v":1},null,{"$f":"'Ne pas modifier (calculs)'!$BD58","v":""},{"$f":"'Ne pas modifier (calculs)'!$BF58","v":""}]
[null,null,null,null,null,null,null,null,{"$f":"'Ne pas modifier (calculs)'!AX59","v":"2017-04-08"},0,{"$f":"'Ne pas modifier (calculs)'!BG59","v":1},null,{"$f":"'Ne pas modifier (calculs)'!$BD59","v":""},{"$f":"'Ne pas modifier (calculs)'!$BF59","v":""}]
[null,null,null,null,null,null,null,null,{"$f":"'Ne pas modifier (calculs)'!AX60","v":"2017-04-09"},0,{"$f":"'Ne pas modifier (calculs)'!BG60","v":1},null,{"$f":"'Ne pas modifier (calculs)'!$BD60","v":""},{"$f":"'Ne pas modifier (calculs)'!$BF60","v":""}]
[null,null,null,null,null,null,null,null,{"$f":"'Ne pas modifier (calculs)'!AX61","v":"2017-04-10"},1,{"$f":"'Ne pas modifier (calculs)'!BG61","v":1},null,{"$f":"'Ne pas modifier (calculs)'!$BD61","v":""},{"$f":"'Ne pas modifier (calculs)'!$BF61","v":""}]
[null,null,null,null,null,null,null,null,{"$f":"'Ne pas modifier (calculs)'!AX62","v":"2017-04-11"},1,{"$f":"'Ne pas modifier (calculs)'!BG62","v":1},null,{"$f":"'Ne pas modifier (calculs)'!$BD62","v":""},{"$f":"'Ne pas modifier (calculs)'!$BF62","v":""}]
[null,null,null,null,null,null,null,null,{"$f":"'Ne pas modifier (calculs)'!AX63","v":"2017-04-12"},1,{"$f":"'Ne pas modifier (calculs)'!BG63","v":1},null,{"$f":"'Ne pas modifier (calculs)'!$BD63","v":""},{"$f":"'Ne pas modifier (calculs)'!$BF63","v":""}]
[null,null,null,null,null,null,null,null,{"$f":"'Ne pas modifier (calculs)'!AX64","v":"2017-04-13"},1,{"$f":"'Ne pas modifier (calculs)'!BG64","v":1},null,{"$f":"'Ne pas modifier (calculs)'!$BD64","v":""},{"$f":"'Ne pas modifier (calculs)'!$BF64","v":""}]
[null,null,null,null,null,null,null,null,{"$f":"'Ne pas modifier (calculs)'!AX65","v":"2017-04-14"},"B",{"$f":"'Ne pas modifier (calculs)'!BG65","v":"B"},null,{"$f":"'Ne pas modifier (calculs)'!$BD65","v":""},{"$f":"'Ne pas modifier (calculs)'!$BF65","v":""}]
[null,null,null,null,null,null,null,null,{"$f":"'Ne pas modifier (calculs)'!AX66","v":"2017-04-15"},0,{"$f":"'Ne pas modifier (calculs)'!BG66","v":1},null,{"$f":"'Ne pas modifier (calculs)'!$BD66","v":""},{"$f":"'Ne pas modifier (calculs)'!$BF66","v":""}]
[null,null,null,null,null,null,null,null,{"$f":"'Ne pas modifier (calculs)'!AX67","v":"2017-04-16"},0,{"$f":"'Ne pas modifier (calculs)'!BG67","v":1},null,{"$f":"'Ne pas modifier (calculs)'!$BD67","v":""},{"$f":"'Ne pas modifier (calculs)'!$BF67","v":""}]
[null,null,null,null,null,null,null,null,{"$f":"'Ne pas modifier (calculs)'!AX68","v":"2017-04-17"},"B",{"$f":"'Ne pas modifier (calculs)'!BG68","v":"B"},null,{"$f":"'Ne pas modifier (calculs)'!$BD68","v":""},{"$f":"'Ne pas modifier (calculs)'!$BF68","v":""}]
[null,null,null,null,null,null,null,null,{"$f":"'Ne pas modifier (calculs)'!AX69","v":"2017-04-18"},1,{"$f":"'Ne pas modifier (calculs)'!BG69","v":1},null,{"$f":"'Ne pas modifier (calculs)'!$BD69","v":""},{"$f":"'Ne pas modifier (calculs)'!$BF69","v":""}]
[null,null,null,null,null,null,null,null,{"$f":"'Ne pas modifier (calculs)'!AX70","v":"2017-04-19"},1,{"$f":"'Ne pas modifier (calculs)'!BG70","v":1},null,{"$f":"'Ne pas modifier (calculs)'!$BD70","v":""},{"$f":"'Ne pas modifier (calculs)'!$BF70","v":""}]
[null,null,null,null,null,null,null,null,{"$f":"'Ne pas modifier (calculs)'!AX71","v":"2017-04-20"},1,{"$f":"'Ne pas modifier (calculs)'!BG71","v":1},null,{"$f":"'Ne pas modifier (calculs)'!$BD71","v":""},{"$f":"'Ne pas modifier (calculs)'!$BF71","v":""}]
[null,null,null,null,null,null,null,null,{"$f":"'Ne pas modifier (calculs)'!AX72","v":"2017-04-21"},1,{"$f":"'Ne pas modifier (calculs)'!BG72","v":1},null,{"$f":"'Ne pas modifier (calculs)'!$BD72","v":""},{"$f":"'Ne pas modifier (calculs)'!$BF72","v":""}]
[null,null,null,null,null,null,null,null,{"$f":"'Ne pas modifier (calculs)'!AX73","v":"2017-04-22"},0,{"$f":"'Ne pas modifier (calculs)'!BG73","v":1},null,{"$f":"'Ne pas modifier (calculs)'!$BD73","v":""},{"$f":"'Ne pas modifier (calculs)'!$BF73","v":""}]
[null,null,null,null,null,null,null,null,{"$f":"'Ne pas modifier (calculs)'!AX74","v":"2017-04-23"},0,{"$f":"'Ne pas modifier (calculs)'!BG74","v":1},null,{"$f":"'Ne pas modifier (calculs)'!$BD74","v":""},{"$f":"'Ne pas modifier (calculs)'!$BF74","v":""}]
[null,null,null,null,null,null,null,null,{"$f":"'Ne pas modifier (calculs)'!AX75","v":"2017-04-24"},1,{"$f":"'Ne pas modifier (calculs)'!BG75","v":1},null,{"$f":"'Ne pas modifier (calculs)'!$BD75","v":""},{"$f":"'Ne pas modifier (calculs)'!$BF75","v":""}]
[null,null,null,null,null,null,null,null,{"$f":"'Ne pas modifier (calculs)'!AX76","v":"2017-04-25"},1,{"$f":"'Ne pas modifier (calculs)'!BG76","v":1},null,{"$f":"'Ne pas modifier (calculs)'!$BD76","v":""},{"$f":"'Ne pas modifier (calculs)'!$BF76","v":""}]
[null,null,null,null,null,null,null,null,{"$f":"'Ne pas modifier (calculs)'!AX77","v":"2017-04-26"},1,{"$f":"'Ne pas modifier (calculs)'!BG77","v":1},null,{"$f":"'Ne pas modifier (calculs)'!$BD77","v":""},{"$f":"'Ne pas modifier (calculs)'!$BF77","v":""}]
[null,null,null,null,null,null,null,null,{"$f":"'Ne pas modifier (calculs)'!AX78","v":"2017-04-27"},1,{"$f":"'Ne pas modifier (calculs)'!BG78","v":1},null,{"$f":"'Ne pas modifier (calculs)'!$BD78","v":""},{"$f":"'Ne pas modifier (calculs)'!$BF78","v":""}]
[null,null,null,null,null,null,null,null,{"$f":"'Ne pas modifier (calculs)'!AX79","v":"2017-04-28"},1,{"$f":"'Ne pas modifier (calculs)'!BG79","v":1},null,{"$f":"'Ne pas modifier (calculs)'!$BD79","v":""},{"$f":"'Ne pas modifier (calculs)'!$BF79","v":""}]
[null,null,null,null,null,null,null,null,{"$f":"'Ne pas modifier (calculs)'!AX80","v":"2017-04-29"},0,{"$f":"'Ne pas modifier (calculs)'!BG80","v":1},null,{"$f":"'Ne pas modifier (calculs)'!$BD80","v":""},{"$f":"'Ne pas modifier (calculs)'!$BF80","v":""}]
[null,null,null,null,null,null,null,null,{"$f":"'Ne pas modifier (calculs)'!AX81","v":"2017-04-30"},0,{"$f":"'Ne pas modifier (calculs)'!BG81","v":1},null,{"$f":"'Ne pas modifier (calculs)'!$BD81","v":""},{"$f":"'Ne pas modifier (calculs)'!$BF81","v":""}]
[null,null,null,null,null,null,null,null,{"$f":"'Ne pas modifier (calculs)'!BN52","v":"2017-05-01"},0,{"$f":"'Ne pas modifier (calculs)'!BW52","v":0},null,{"$f":"'Ne pas modifier (calculs)'!$BT52","v":""},{"$f":"'Ne pas modifier (calculs)'!$BV52","v":""}]
[null,null,null,null,null,null,null,null,{"$f":"'Ne pas modifier (calculs)'!BN53","v":"2017-05-02"},1,{"$f":"'Ne pas modifier (calculs)'!BW53","v":1},null,{"$f":"'Ne pas modifier (calculs)'!$BT53","v":""},{"$f":"'Ne pas modifier (calculs)'!$BV53","v":""}]
[null,null,null,null,null,null,null,null,{"$f":"'Ne pas modifier (calculs)'!BN54","v":"2017-05-03"},1,{"$f":"'Ne pas modifier (calculs)'!BW54","v":1},null,{"$f":"'Ne pas modifier (calculs)'!$BT54","v":""},{"$f":"'Ne pas modifier (calculs)'!$BV54","v":""}]
[null,null,null,null,null,null,null,null,{"$f":"'Ne pas modifier (calculs)'!BN55","v":"2017-05-04"},1,{"$f":"'Ne pas modifier (calculs)'!BW55","v":1},null,{"$f":"'Ne pas modifier (calculs)'!$BT55","v":""},{"$f":"'Ne pas modifier (calculs)'!$BV55","v":""}]
[null,null,null,null,null,null,null,null,{"$f":"'Ne pas modifier (calculs)'!BN56","v":"2017-05-05"},1,{"$f":"'Ne pas modifier (calculs)'!BW56","v":1},null,{"$f":"'Ne pas modifier (calculs)'!$BT56","v":""},{"$f":"'Ne pas modifier (calculs)'!$BV56","v":""}]
[null,null,null,null,null,null,null,null,{"$f":"'Ne pas modifier (calculs)'!BN57","v":"2017-05-06"},0,{"$f":"'Ne pas modifier (calculs)'!BW57","v":1},null,{"$f":"'Ne pas modifier (calculs)'!$BT57","v":""},{"$f":"'Ne pas modifier (calculs)'!$BV57","v":""}]
[null,null,null,null,null,null,null,null,{"$f":"'Ne pas modifier (calculs)'!BN58","v":"2017-05-07"},0,{"$f":"'Ne pas modifier (calculs)'!BW58","v":1},null,{"$f":"'Ne pas modifier (calculs)'!$BT58","v":""},{"$f":"'Ne pas modifier (calculs)'!$BV58","v":""}]
[null,null,null,null,null,null,null,null,{"$f":"'Ne pas modifier (calculs)'!BN59","v":"2017-05-08"},0,{"$f":"'Ne pas modifier (calculs)'!BW59","v":0},null,{"$f":"'Ne pas modifier (calculs)'!$BT59","v":""},{"$f":"'Ne pas modifier (calculs)'!$BV59","v":""}]
[null,null,null,null,null,null,null,null,{"$f":"'Ne pas modifier (calculs)'!BN60","v":"2017-05-09"},1,{"$f":"'Ne pas modifier (calculs)'!BW60","v":1},null,{"$f":"'Ne pas modifier (calculs)'!$BT60","v":""},{"$f":"'Ne pas modifier (calculs)'!$BV60","v":""}]
[null,null,null,null,null,null,null,null,{"$f":"'Ne pas modifier (calculs)'!BN61","v":"2017-05-10"},1,{"$f":"'Ne pas modifier (calculs)'!BW61","v":1},null,{"$f":"'Ne pas modifier (calculs)'!$BT61","v":""},{"$f":"'Ne pas modifier (calculs)'!$BV61","v":""}]
[null,null,null,null,null,null,null,null,{"$f":"'Ne pas modifier (calculs)'!BN62","v":"2017-05-11"},1,{"$f":"'Ne pas modifier (calculs)'!BW62","v":1},null,{"$f":"'Ne pas modifier (calculs)'!$BT62","v":""},{"$f":"'Ne pas modifier (calculs)'!$BV62","v":""}]
[null,null,null,null,null,null,null,null,{"$f":"'Ne pas modifier (calculs)'!BN63","v":"2017-05-12"},1,{"$f":"'Ne pas modifier (calculs)'!BW63","v":1},null,{"$f":"'Ne pas modifier (calculs)'!$BT63","v":""},{"$f":"'Ne pas modifier (calculs)'!$BV63","v":""}]
[null,null,null,null,null,null,null,null,{"$f":"'Ne pas modifier (calculs)'!BN64","v":"2017-05-13"},0,{"$f":"'Ne pas modifier (calculs)'!BW64","v":1},null,{"$f":"'Ne pas modifier (calculs)'!$BT64","v":""},{"$f":"'Ne pas modifier (calculs)'!$BV64","v":""}]
[null,null,null,null,null,null,null,null,{"$f":"'Ne pas modifier (calculs)'!BN65","v":"2017-05-14"},0,{"$f":"'Ne pas modifier (calculs)'!BW65","v":1},null,{"$f":"'Ne pas modifier (calculs)'!$BT65","v":""},{"$f":"'Ne pas modifier (calculs)'!$BV65","v":""}]
[null,null,null,null,null,null,null,null,{"$f":"'Ne pas modifier (calculs)'!BN66","v":"2017-05-15"},1,{"$f":"'Ne pas modifier (calculs)'!BW66","v":1},null,{"$f":"'Ne pas modifier (calculs)'!$BT66","v":""},{"$f":"'Ne pas modifier (calculs)'!$BV66","v":""}]
[null,null,null,null,null,null,null,null,{"$f":"'Ne pas modifier (calculs)'!BN67","v":"2017-05-16"},1,{"$f":"'Ne pas modifier (calculs)'!BW67","v":1},null,{"$f":"'Ne pas modifier (calculs)'!$BT67","v":""},{"$f":"'Ne pas modifier (calculs)'!$BV67","v":""}]
[null,null,null,null,null,null,null,null,{"$f":"'Ne pas modifier (calculs)'!BN68","v":"2017-05-17"},1,{"$f":"'Ne pas modifier (calculs)'!BW68","v":1},null,{"$f":"'Ne pas modifier (calculs)'!$BT68","v":""},{"$f":"'Ne pas modifier (calculs)'!$BV68","v":""}]
[null,null,null,null,null,null,null,null,{"$f":"'Ne pas modifier (calculs)'!BN69","v":"2017-05-18"},1,{"$f":"'Ne pas modifier (calculs)'!BW69","v":1},null,{"$f":"'Ne pas modifier (calculs)'!$BT69","v":""},{"$f":"'Ne pas modifier (calculs)'!$BV69","v":""}]
[null,null,null,null,null,null,null,null,{"$f":"'Ne pas modifier (calculs)'!BN70","v":"2017-05-19"},1,{"$f":"'Ne pas modifier (calculs)'!BW70","v":1},null,{"$f":"'Ne pas modifier (calculs)'!$BT70","v":""},{"$f":"'Ne pas modifier (calculs)'!$BV70","v":""}]
[null,null,null,null,null,null,null,null,{"$f":"'Ne pas modifier (calculs)'!BN71","v":"2017-05-20"},0,{"$f":"'Ne pas modifier (calculs)'!BW71","v":1},null,{"$f":"'Ne pas modifier (calculs)'!$BT71","v":""},{"$f":"'Ne pas modifier (calculs)'!$BV71","v":""}]
[null,null,null,null,null,null,null,null,{"$f":"'Ne pas modifier (calculs)'!BN72","v":"2017-05-21"},0,{"$f":"'Ne pas modifier (calculs)'!BW72","v":1},null,{"$f":"'Ne pas modifier (calculs)'!$BT72","v":""},{"$f":"'Ne pas modifier (calculs)'!$BV72","v":""}]
[null,null,null,null,null,null,null,null,{"$f":"'Ne pas modifier (calculs)'!BN73","v":"2017-05-22"},1,{"$f":"'Ne pas modifier (calculs)'!BW73","v":1},null,{"$f":"'Ne pas modifier (calculs)'!$BT73","v":""},{"$f":"'Ne pas modifier (calculs)'!$BV73","v":""}]
[null,null,null,null,null,null,null,null,{"$f":"'Ne pas modifier (calculs)'!BN74","v":"2017-05-23"},1,{"$f":"'Ne pas modifier (calculs)'!BW74","v":1},null,{"$f":"'Ne pas modifier (calculs)'!$BT74","v":""},{"$f":"'Ne pas modifier (calculs)'!$BV74","v":""}]
[null,null,null,null,null,null,null,null,{"$f":"'Ne pas modifier (calculs)'!BN75","v":"2017-05-24"},1,{"$f":"'Ne pas modifier (calculs)'!BW75","v":1},null,{"$f":"'Ne pas modifier (calculs)'!$BT75","v":""},{"$f":"'Ne pas modifier (calculs)'!$BV75","v":""}]
[null,null,null,null,null,null,null,null,{"$f":"'Ne pas modifier (calculs)'!BN76","v":"2017-05-25"},"B",{"$f":"'Ne pas modifier (calculs)'!BW76","v":"B"},null,{"$f":"'Ne pas modifier (calculs)'!$BT76","v":""},{"$f":"'Ne pas modifier (calculs)'!$BV76","v":""}]
[null,null,null,null,null,null,null,null,{"$f":"'Ne pas modifier (calculs)'!BN77","v":"2017-05-26"},"R",{"$f":"'Ne pas modifier (calculs)'!BW77","v":"R"},null,{"$f":"'Ne pas modifier (calculs)'!$BT77","v":""},{"$f":"'Ne pas modifier (calculs)'!$BV77","v":""}]
[null,null,null,null,null,null,null,null,{"$f":"'Ne pas modifier (calculs)'!BN78","v":"2017-05-27"},0,{"$f":"'Ne pas modifier (calculs)'!BW78","v":1},null,{"$f":"'Ne pas modifier (calculs)'!$BT78","v":""},{"$f":"'Ne pas modifier (calculs)'!$BV78","v":""}]
[null,null,null,null,null,null,null,null,{"$f":"'Ne pas modifier (calculs)'!BN79","v":"2017-05-28"},0,{"$f":"'Ne pas modifier (calculs)'!BW79","v":1},null,{"$f":"'Ne pas modifier (calculs)'!$BT79","v":""},{"$f":"'Ne pas modifier (calculs)'!$BV79","v":""}]
[null,null,null,null,null,null,null,null,{"$f":"'Ne pas modifier (calculs)'!BN80","v":"2017-05-29"},{"$f":"IF(WEEKDAY(I541)=1,0,(IF(WEEKDAY(I541)=7,0,K541)))","v":1},{"$f":"'Ne pas modifier (calculs)'!BW80","v":1},null,{"$f":"'Ne pas modifier (calculs)'!$BT80","v":""},{"$f":"'Ne pas modifier (calculs)'!$BV80","v":""}]
[null,null,null,null,null,null,null,null,{"$f":"'Ne pas modifier (calculs)'!BN81","v":"2017-05-30"},1,{"$f":"'Ne pas modifier (calculs)'!BW81","v":1},null,{"$f":"'Ne pas modifier (calculs)'!$BT81","v":""},{"$f":"'Ne pas modifier (calculs)'!$BV81","v":""}]
[null,null,null,null,null,null,null,null,{"$f":"'Ne pas modifier (calculs)'!BN82","v":"2017-05-31"},1,{"$f":"'Ne pas modifier (calculs)'!BW82","v":1},null,{"$f":"'Ne pas modifier (calculs)'!$BT82","v":""},{"$f":"'Ne pas modifier (calculs)'!$BV82","v":""}]
[null,null,null,null,null,null,null,null,{"$f":"'Ne pas modifier (calculs)'!CD52","v":"2017-06-01"},1,{"$f":"'Ne pas modifier (calculs)'!CM52","v":1},null,{"$f":"'Ne pas modifier (calculs)'!$CJ52","v":""},{"$f":"'Ne pas modifier (calculs)'!$CL52","v":""}]
[null,null,null,null,null,null,null,null,{"$f":"'Ne pas modifier (calculs)'!CD53","v":"2017-06-02"},1,{"$f":"'Ne pas modifier (calculs)'!CM53","v":1},null,{"$f":"'Ne pas modifier (calculs)'!$CJ53","v":""},{"$f":"'Ne pas modifier (calculs)'!$CL53","v":""}]
[null,null,null,null,null,null,null,null,{"$f":"'Ne pas modifier (calculs)'!CD54","v":"2017-06-03"},0,{"$f":"'Ne pas modifier (calculs)'!CM54","v":1},null,{"$f":"'Ne pas modifier (calculs)'!$CJ54","v":""},{"$f":"'Ne pas modifier (calculs)'!$CL54","v":""}]
[null,null,null,null,null,null,null,null,{"$f":"'Ne pas modifier (calculs)'!CD55","v":"2017-06-04"},0,{"$f":"'Ne pas modifier (calculs)'!CM55","v":"B"},null,{"$f":"'Ne pas modifier (calculs)'!$CJ55","v":""},{"$f":"'Ne pas modifier (calculs)'!$CL55","v":""}]
[null,null,null,null,null,null,null,null,{"$f":"'Ne pas modifier (calculs)'!CD56","v":"2017-06-05"},1,{"$f":"'Ne pas modifier (calculs)'!CM56","v":1},null,{"$f":"'Ne pas modifier (calculs)'!$CJ56","v":""},{"$f":"'Ne pas modifier (calculs)'!$CL56","v":""}]
[null,null,null,null,null,null,null,null,{"$f":"'Ne pas modifier (calculs)'!CD57","v":"2017-06-06"},1,{"$f":"'Ne pas modifier (calculs)'!CM57","v":1},null,{"$f":"'Ne pas modifier (calculs)'!$CJ57","v":""},{"$f":"'Ne pas modifier (calculs)'!$CL57","v":""}]
[null,null,null,null,null,null,null,null,{"$f":"'Ne pas modifier (calculs)'!CD58","v":"2017-06-07"},1,{"$f":"'Ne pas modifier (calculs)'!CM58","v":1},null,{"$f":"'Ne pas modifier (calculs)'!$CJ58","v":""},{"$f":"'Ne pas modifier (calculs)'!$CL58","v":""}]
[null,null,null,null,null,null,null,null,{"$f":"'Ne pas modifier (calculs)'!CD59","v":"2017-06-08"},1,{"$f":"'Ne pas modifier (calculs)'!CM59","v":1},null,{"$f":"'Ne pas modifier (calculs)'!$CJ59","v":""},{"$f":"'Ne pas modifier (calculs)'!$CL59","v":""}]
[null,null,null,null,null,null,null,null,{"$f":"'Ne pas modifier (calculs)'!CD60","v":"2017-06-09"},1,{"$f":"'Ne pas modifier (calculs)'!CM60","v":1},null,{"$f":"'Ne pas modifier (calculs)'!$CJ60","v":""},{"$f":"'Ne pas modifier (calculs)'!$CL60","v":""}]
[null,null,null,null,null,null,null,null,{"$f":"'Ne pas modifier (calculs)'!CD61","v":"2017-06-10"},0,{"$f":"'Ne pas modifier (calculs)'!CM61","v":1},null,{"$f":"'Ne pas modifier (calculs)'!$CJ61","v":""},{"$f":"'Ne pas modifier (calculs)'!$CL61","v":""}]
[null,null,null,null,null,null,null,null,{"$f":"'Ne pas modifier (calculs)'!CD62","v":"2017-06-11"},0,{"$f":"'Ne pas modifier (calculs)'!CM62","v":1},null,{"$f":"'Ne pas modifier (calculs)'!$CJ62","v":""},{"$f":"'Ne pas modifier (calculs)'!$CL62","v":""}]
[null,null,null,null,null,null,null,null,{"$f":"'Ne pas modifier (calculs)'!CD63","v":"2017-06-12"},1,{"$f":"'Ne pas modifier (calculs)'!CM63","v":1},null,{"$f":"'Ne pas modifier (calculs)'!$CJ63","v":""},{"$f":"'Ne pas modifier (calculs)'!$CL63","v":""}]
[null,null,null,null,null,null,null,null,{"$f":"'Ne pas modifier (calculs)'!CD64","v":"2017-06-13"},1,{"$f":"'Ne pas modifier (calculs)'!CM64","v":1},null,{"$f":"'Ne pas modifier (calculs)'!$CJ64","v":""},{"$f":"'Ne pas modifier (calculs)'!$CL64","v":""}]
[null,null,null,null,null,null,null,null,{"$f":"'Ne pas modifier (calculs)'!CD65","v":"2017-06-14"},1,{"$f":"'Ne pas modifier (calculs)'!CM65","v":1},null,{"$f":"'Ne pas modifier (calculs)'!$CJ65","v":""},{"$f":"'Ne pas modifier (calculs)'!$CL65","v":""}]
[null,null,null,null,null,null,null,null,{"$f":"'Ne pas modifier (calculs)'!CD66","v":"2017-06-15"},1,{"$f":"'Ne pas modifier (calculs)'!CM66","v":1},null,{"$f":"'Ne pas modifier (calculs)'!$CJ66","v":""},{"$f":"'Ne pas modifier (calculs)'!$CL66","v":""}]
[null,null,null,null,null,null,null,null,{"$f":"'Ne pas modifier (calculs)'!CD67","v":"2017-06-16"},1,{"$f":"'Ne pas modifier (calculs)'!CM67","v":1},null,{"$f":"'Ne pas modifier (calculs)'!$CJ67","v":""},{"$f":"'Ne pas modifier (calculs)'!$CL67","v":""}]
[null,null,null,null,null,null,null,null,{"$f":"'Ne pas modifier (calculs)'!CD68","v":"2017-06-17"},0,{"$f":"'Ne pas modifier (calculs)'!CM68","v":1},null,{"$f":"'Ne pas modifier (calculs)'!$CJ68","v":""},{"$f":"'Ne pas modifier (calculs)'!$CL68","v":""}]
[null,null,null,null,null,null,null,null,{"$f":"'Ne pas modifier (calculs)'!CD69","v":"2017-06-18"},0,{"$f":"'Ne pas modifier (calculs)'!CM69","v":1},null,{"$f":"'Ne pas modifier (calculs)'!$CJ69","v":""},{"$f":"'Ne pas modifier (calculs)'!$CL69","v":""}]
[null,null,null,null,null,null,null,null,{"$f":"'Ne pas modifier (calculs)'!CD70","v":"2017-06-19"},1,{"$f":"'Ne pas modifier (calculs)'!CM70","v":1},null,{"$f":"'Ne pas modifier (calculs)'!$CJ70","v":""},{"$f":"'Ne pas modifier (calculs)'!$CL70","v":""}]
[null,null,null,null,null,null,null,null,{"$f":"'Ne pas modifier (calculs)'!CD71","v":"2017-06-20"},1,{"$f":"'Ne pas modifier (calculs)'!CM71","v":1},null,{"$f":"'Ne pas modifier (calculs)'!$CJ71","v":""},{"$f":"'Ne pas modifier (calculs)'!$CL71","v":""}]
[null,null,null,null,null,null,null,null,{"$f":"'Ne pas modifier (calculs)'!CD72","v":"2017-06-21"},1,{"$f":"'Ne pas modifier (calculs)'!CM72","v":1},null,{"$f":"'Ne pas modifier (calculs)'!$CJ72","v":""},{"$f":"'Ne pas modifier (calculs)'!$CL72","v":""}]
[null,null,null,null,null,null,null,null,{"$f":"'Ne pas modifier (calculs)'!CD73","v":"2017-06-22"},1,{"$f":"'Ne pas modifier (calculs)'!CM73","v":1},null,{"$f":"'Ne pas modifier (calculs)'!$CJ73","v":""},{"$f":"'Ne pas modifier (calculs)'!$CL73","v":""}]
[null,null,null,null,null,null,null,null,{"$f":"'Ne pas modifier (calculs)'!CD74","v":"2017-06-23"},1,{"$f":"'Ne pas modifier (calculs)'!CM74","v":1},null,{"$f":"'Ne pas modifier (calculs)'!$CJ74","v":""},{"$f":"'Ne pas modifier (calculs)'!$CL74","v":""}]
[null,null,null,null,null,null,null,null,{"$f":"'Ne pas modifier (calculs)'!CD75","v":"2017-06-24"},0,{"$f":"'Ne pas modifier (calculs)'!CM75","v":1},null,{"$f":"'Ne pas modifier (calculs)'!$CJ75","v":""},{"$f":"'Ne pas modifier (calculs)'!$CL75","v":""}]
[null,null,null,null,null,null,null,null,{"$f":"'Ne pas modifier (calculs)'!CD76","v":"2017-06-25"},0,{"$f":"'Ne pas modifier (calculs)'!CM76","v":1},null,{"$f":"'Ne pas modifier (calculs)'!$CJ76","v":""},{"$f":"'Ne pas modifier (calculs)'!$CL76","v":""}]
[null,null,null,null,null,null,null,null,{"$f":"'Ne pas modifier (calculs)'!CD77","v":"2017-06-26"},1,{"$f":"'Ne pas modifier (calculs)'!CM77","v":1},null,{"$f":"'Ne pas modifier (calculs)'!$CJ77","v":""},{"$f":"'Ne pas modifier (calculs)'!$CL77","v":""}]
[null,null,null,null,null,null,null,null,{"$f":"'Ne pas modifier (calculs)'!CD78","v":"2017-06-27"},1,{"$f":"'Ne pas modifier (calculs)'!CM78","v":1},null,{"$f":"'Ne pas modifier (calculs)'!$CJ78","v":""},{"$f":"'Ne pas modifier (calculs)'!$CL78","v":""}]
[null,null,null,null,null,null,null,null,{"$f":"'Ne pas modifier (calculs)'!CD79","v":"2017-06-28"},1,{"$f":"'Ne pas modifier (calculs)'!CM79","v":1},null,{"$f":"'Ne pas modifier (calculs)'!$CJ79","v":""},{"$f":"'Ne pas modifier (calculs)'!$CL79","v":""}]
[null,null,null,null,null,null,null,null,{"$f":"'Ne pas modifier (calculs)'!CD80","v":"2017-06-29"},1,{"$f":"'Ne pas modifier (calculs)'!CM80","v":1},null,{"$f":"'Ne pas modifier (calculs)'!$CJ80","v":""},{"$f":"'Ne pas modifier (calculs)'!$CL80","v":""}]
[null,null,null,null,null,null,null,null,{"$f":"'Ne pas modifier (calculs)'!CD81","v":"2017-06-30"},1,{"$f":"'Ne pas modifier (calculs)'!CM81","v":1},null,{"$f":"'Ne pas modifier (calculs)'!$CJ81","v":""},{"$f":"'Ne pas modifier (calculs)'!$CL81","v":""}]
[null,null,null,null,null,null,null,null,{"$f":"'Ne pas modifier (calculs)'!CT52","v":"2017-07-01"},0,{"$f":"'Ne pas modifier (calculs)'!DC52","v":1},null,{"$f":"'Ne pas modifier (calculs)'!$CZ52","v":""},{"$f":"'Ne pas modifier (calculs)'!$DB52","v":""}]
[null,null,null,null,null,null,null,null,{"$f":"'Ne pas modifier (calculs)'!CT53","v":"2017-07-02"},0,{"$f":"'Ne pas modifier (calculs)'!DC53","v":1},null,{"$f":"'Ne pas modifier (calculs)'!$CZ53","v":""},{"$f":"'Ne pas modifier (calculs)'!$DB53","v":""}]
[null,null,null,null,null,null,null,null,{"$f":"'Ne pas modifier (calculs)'!CT54","v":"2017-07-03"},1,{"$f":"'Ne pas modifier (calculs)'!DC54","v":1},null,{"$f":"'Ne pas modifier (calculs)'!$CZ54","v":""},{"$f":"'Ne pas modifier (calculs)'!$DB54","v":""}]
[null,null,null,null,null,null,null,null,{"$f":"'Ne pas modifier (calculs)'!CT55","v":"2017-07-04"},1,{"$f":"'Ne pas modifier (calculs)'!DC55","v":1},null,{"$f":"'Ne pas modifier (calculs)'!$CZ55","v":""},{"$f":"'Ne pas modifier (calculs)'!$DB55","v":""}]
[null,null,null,null,null,null,null,null,{"$f":"'Ne pas modifier (calculs)'!CT56","v":"2017-07-05"},1,{"$f":"'Ne pas modifier (calculs)'!DC56","v":1},null,{"$f":"'Ne pas modifier (calculs)'!$CZ56","v":""},{"$f":"'Ne pas modifier (calculs)'!$DB56","v":""}]
[null,null,null,null,null,null,null,null,{"$f":"'Ne pas modifier (calculs)'!CT57","v":"2017-07-06"},1,{"$f":"'Ne pas modifier (calculs)'!DC57","v":1},null,{"$f":"'Ne pas modifier (calculs)'!$CZ57","v":""},{"$f":"'Ne pas modifier (calculs)'!$DB57","v":""}]
[null,null,null,null,null,null,null,null,{"$f":"'Ne pas modifier (calculs)'!CT58","v":"2017-07-07"},1,{"$f":"'Ne pas modifier (calculs)'!DC58","v":1},null,{"$f":"'Ne pas modifier (calculs)'!$CZ58","v":""},{"$f":"'Ne pas modifier (calculs)'!$DB58","v":""}]
[null,null,null,null,null,null,null,null,{"$f":"'Ne pas modifier (calculs)'!CT59","v":"2017-07-08"},0,{"$f":"'Ne pas modifier (calculs)'!DC59","v":1},null,{"$f":"'Ne pas modifier (calculs)'!$CZ59","v":""},{"$f":"'Ne pas modifier (calculs)'!$DB59","v":""}]
[null,null,null,null,null,null,null,null,{"$f":"'Ne pas modifier (calculs)'!CT60","v":"2017-07-09"},0,{"$f":"'Ne pas modifier (calculs)'!DC60","v":1},null,{"$f":"'Ne pas modifier (calculs)'!$CZ60","v":""},{"$f":"'Ne pas modifier (calculs)'!$DB60","v":""}]
[null,null,null,null,null,null,null,null,{"$f":"'Ne pas modifier (calculs)'!CT61","v":"2017-07-10"},1,{"$f":"'Ne pas modifier (calculs)'!DC61","v":1},null,{"$f":"'Ne pas modifier (calculs)'!$CZ61","v":""},{"$f":"'Ne pas modifier (calculs)'!$DB61","v":""}]
[null,null,null,null,null,null,null,null,{"$f":"'Ne pas modifier (calculs)'!CT62","v":"2017-07-11"},1,{"$f":"'Ne pas modifier (calculs)'!DC62","v":1},null,{"$f":"'Ne pas modifier (calculs)'!$CZ62","v":""},{"$f":"'Ne pas modifier (calculs)'!$DB62","v":""}]
[null,null,null,null,null,null,null,null,{"$f":"'Ne pas modifier (calculs)'!CT63","v":"2017-07-12"},1,{"$f":"'Ne pas modifier (calculs)'!DC63","v":1},null,{"$f":"'Ne pas modifier (calculs)'!$CZ63","v":""},{"$f":"'Ne pas modifier (calculs)'!$DB63","v":""}]
[null,null,null,null,null,null,null,null,{"$f":"'Ne pas modifier (calculs)'!CT64","v":"2017-07-13"},1,{"$f":"'Ne pas modifier (calculs)'!DC64","v":1},null,{"$f":"'Ne pas modifier (calculs)'!$CZ64","v":""},{"$f":"'Ne pas modifier (calculs)'!$DB64","v":""}]
[null,null,null,null,null,null,null,null,{"$f":"'Ne pas modifier (calculs)'!CT65","v":"2017-07-14"},0,{"$f":"'Ne pas modifier (calculs)'!DC65","v":0},null,{"$f":"'Ne pas modifier (calculs)'!$CZ65","v":""},{"$f":"'Ne pas modifier (calculs)'!$DB65","v":""}]
[null,null,null,null,null,null,null,null,{"$f":"'Ne pas modifier (calculs)'!CT66","v":"2017-07-15"},0,{"$f":"'Ne pas modifier (calculs)'!DC66","v":1},null,{"$f":"'Ne pas modifier (calculs)'!$CZ66","v":""},{"$f":"'Ne pas modifier (calculs)'!$DB66","v":""}]
[null,null,null,null,null,null,null,null,{"$f":"'Ne pas modifier (calculs)'!CT67","v":"2017-07-16"},0,{"$f":"'Ne pas modifier (calculs)'!DC67","v":1},null,{"$f":"'Ne pas modifier (calculs)'!$CZ67","v":""},{"$f":"'Ne pas modifier (calculs)'!$DB67","v":""}]
[null,null,null,null,null,null,null,null,{"$f":"'Ne pas modifier (calculs)'!CT68","v":"2017-07-17"},1,{"$f":"'Ne pas modifier (calculs)'!DC68","v":1},null,{"$f":"'Ne pas modifier (calculs)'!$CZ68","v":""},{"$f":"'Ne pas modifier (calculs)'!$DB68","v":""}]
[null,null,null,null,null,null,null,null,{"$f":"'Ne pas modifier (calculs)'!CT69","v":"2017-07-18"},1,{"$f":"'Ne pas modifier (calculs)'!DC69","v":1},null,{"$f":"'Ne pas modifier (calculs)'!$CZ69","v":""},{"$f":"'Ne pas modifier (calculs)'!$DB69","v":""}]
[null,null,null,null,null,null,null,null,{"$f":"'Ne pas modifier (calculs)'!CT70","v":"2017-07-19"},1,{"$f":"'Ne pas modifier (calculs)'!DC70","v":1},null,{"$f":"'Ne pas modifier (calculs)'!$CZ70","v":""},{"$f":"'Ne pas modifier (calculs)'!$DB70","v":""}]
[null,null,null,null,null,null,null,null,{"$f":"'Ne pas modifier (calculs)'!CT71","v":"2017-07-20"},1,{"$f":"'Ne pas modifier (calculs)'!DC71","v":1},null,{"$f":"'Ne pas modifier (calculs)'!$CZ71","v":""},{"$f":"'Ne pas modifier (calculs)'!$DB71","v":""}]
[null,null,null,null,null,null,null,null,{"$f":"'Ne pas modifier (calculs)'!CT72","v":"2017-07-21"},1,{"$f":"'Ne pas modifier (calculs)'!DC72","v":1},null,{"$f":"'Ne pas modifier (calculs)'!$CZ72","v":""},{"$f":"'Ne pas modifier (calculs)'!$DB72","v":""}]
[null,null,null,null,null,null,null,null,{"$f":"'Ne pas modifier (calculs)'!CT73","v":"2017-07-22"},0,{"$f":"'Ne pas modifier (calculs)'!DC73","v":1},null,{"$f":"'Ne pas modifier (calculs)'!$CZ73","v":""},{"$f":"'Ne pas modifier (calculs)'!$DB73","v":""}]
[null,null,null,null,null,null,null,null,{"$f":"'Ne pas modifier (calculs)'!CT74","v":"2017-07-23"},0,{"$f":"'Ne pas modifier (calculs)'!DC74","v":1},null,{"$f":"'Ne pas modifier (calculs)'!$CZ74","v":""},{"$f":"'Ne pas modifier (calculs)'!$DB74","v":""}]
[null,null,null,null,null,null,null,null,{"$f":"'Ne pas modifier (calculs)'!CT75","v":"2017-07-24"},1,{"$f":"'Ne pas modifier (calculs)'!DC75","v":1},null,{"$f":"'Ne pas modifier (calculs)'!$CZ75","v":""},{"$f":"'Ne pas modifier (calculs)'!$DB75","v":""}]
[null,null,null,null,null,null,null,null,{"$f":"'Ne pas modifier (calculs)'!CT76","v":"2017-07-25"},1,{"$f":"'Ne pas modifier (calculs)'!DC76","v":1},null,{"$f":"'Ne pas modifier (calculs)'!$CZ76","v":""},{"$f":"'Ne pas modifier (calculs)'!$DB76","v":""}]
[null,null,null,null,null,null,null,null,{"$f":"'Ne pas modifier (calculs)'!CT77","v":"2017-07-26"},1,{"$f":"'Ne pas modifier (calculs)'!DC77","v":1},null,{"$f":"'Ne pas modifier (calculs)'!$CZ77","v":""},{"$f":"'Ne pas modifier (calculs)'!$DB77","v":""}]
[null,null,null,null,null,null,null,null,{"$f":"'Ne pas modifier (calculs)'!CT78","v":"2017-07-27"},1,{"$f":"'Ne pas modifier (calculs)'!DC78","v":1},null,{"$f":"'Ne pas modifier (calculs)'!$CZ78","v":""},{"$f":"'Ne pas modifier (calculs)'!$DB78","v":""}]
[null,null,null,null,null,null,null,null,{"$f":"'Ne pas modifier (calculs)'!CT79","v":"2017-07-28"},1,{"$f":"'Ne pas modifier (calculs)'!DC79","v":1},null,{"$f":"'Ne pas modifier (calculs)'!$CZ79","v":""},{"$f":"'Ne pas modifier (calculs)'!$DB79","v":""}]
[null,null,null,null,null,null,null,null,{"$f":"'Ne pas modifier (calculs)'!CT80","v":"2017-07-29"},0,{"$f":"'Ne pas modifier (calculs)'!DC80","v":1},null,{"$f":"'Ne pas modifier (calculs)'!$CZ80","v":""},{"$f":"'Ne pas modifier (calculs)'!$DB80","v":""}]
[null,null,null,null,null,null,null,null,{"$f":"'Ne pas modifier (calculs)'!CT81","v":"2017-07-30"},0,{"$f":"'Ne pas modifier (calculs)'!DC81","v":1},null,{"$f":"'Ne pas modifier (calculs)'!$CZ81","v":""},{"$f":"'Ne pas modifier (calculs)'!$DB81","v":""}]
[null,null,null,null,null,null,null,null,{"$f":"'Ne pas modifier (calculs)'!CT82","v":"2017-07-31"},1,{"$f":"'Ne pas modifier (calculs)'!DC82","v":1},null,{"$f":"'Ne pas modifier (calculs)'!$CZ82","v":""},{"$f":"'Ne pas modifier (calculs)'!$DB82","v":""}]
[null,null,null,null,null,null,null,null,{"$f":"'Ne pas modifier (calculs)'!DJ52","v":"2017-08-01"},{"$f":"IF(WEEKDAY(I605)=1,0,(IF(WEEKDAY(I605)=7,0,K605)))","v":1},{"$f":"'Ne pas modifier (calculs)'!DS52","v":1},null,{"$f":"'Ne pas modifier (calculs)'!$DP52","v":""},{"$f":"'Ne pas modifier (calculs)'!$DR52","v":""}]
[null,null,null,null,null,null,null,null,{"$f":"'Ne pas modifier (calculs)'!DJ53","v":"2017-08-02"},1,{"$f":"'Ne pas modifier (calculs)'!DS53","v":1},null,{"$f":"'Ne pas modifier (calculs)'!$DP53","v":""},{"$f":"'Ne pas modifier (calculs)'!$DR53","v":""}]
[null,null,null,null,null,null,null,null,{"$f":"'Ne pas modifier (calculs)'!DJ54","v":"2017-08-03"},1,{"$f":"'Ne pas modifier (calculs)'!DS54","v":1},null,{"$f":"'Ne pas modifier (calculs)'!$DP54","v":""},{"$f":"'Ne pas modifier (calculs)'!$DR54","v":""}]
[null,null,null,null,null,null,null,null,{"$f":"'Ne pas modifier (calculs)'!DJ55","v":"2017-08-04"},1,{"$f":"'Ne pas modifier (calculs)'!DS55","v":1},null,{"$f":"'Ne pas modifier (calculs)'!$DP55","v":""},{"$f":"'Ne pas modifier (calculs)'!$DR55","v":""}]
[null,null,null,null,null,null,null,null,{"$f":"'Ne pas modifier (calculs)'!DJ56","v":"2017-08-05"},0,{"$f":"'Ne pas modifier (calculs)'!DS56","v":1},null,{"$f":"'Ne pas modifier (calculs)'!$DP56","v":""},{"$f":"'Ne pas modifier (calculs)'!$DR56","v":""}]
[null,null,null,null,null,null,null,null,{"$f":"'Ne pas modifier (calculs)'!DJ57","v":"2017-08-06"},0,{"$f":"'Ne pas modifier (calculs)'!DS57","v":1},null,{"$f":"'Ne pas modifier (calculs)'!$DP57","v":""},{"$f":"'Ne pas modifier (calculs)'!$DR57","v":""}]
[null,null,null,null,null,null,null,null,{"$f":"'Ne pas modifier (calculs)'!DJ58","v":"2017-08-07"},1,{"$f":"'Ne pas modifier (calculs)'!DS58","v":1},null,{"$f":"'Ne pas modifier (calculs)'!$DP58","v":""},{"$f":"'Ne pas modifier (calculs)'!$DR58","v":""}]
[null,null,null,null,null,null,null,null,{"$f":"'Ne pas modifier (calculs)'!DJ59","v":"2017-08-08"},1,{"$f":"'Ne pas modifier (calculs)'!DS59","v":1},null,{"$f":"'Ne pas modifier (calculs)'!$DP59","v":""},{"$f":"'Ne pas modifier (calculs)'!$DR59","v":""}]
[null,null,null,null,null,null,null,null,{"$f":"'Ne pas modifier (calculs)'!DJ60","v":"2017-08-09"},1,{"$f":"'Ne pas modifier (calculs)'!DS60","v":1},null,{"$f":"'Ne pas modifier (calculs)'!$DP60","v":""},{"$f":"'Ne pas modifier (calculs)'!$DR60","v":""}]
[null,null,null,null,null,null,null,null,{"$f":"'Ne pas modifier (calculs)'!DJ61","v":"2017-08-10"},1,{"$f":"'Ne pas modifier (calculs)'!DS61","v":1},null,{"$f":"'Ne pas modifier (calculs)'!$DP61","v":""},{"$f":"'Ne pas modifier (calculs)'!$DR61","v":""}]
[null,null,null,null,null,null,null,null,{"$f":"'Ne pas modifier (calculs)'!DJ62","v":"2017-08-11"},1,{"$f":"'Ne pas modifier (calculs)'!DS62","v":1},null,{"$f":"'Ne pas modifier (calculs)'!$DP62","v":""},{"$f":"'Ne pas modifier (calculs)'!$DR62","v":""}]
[null,null,null,null,null,null,null,null,{"$f":"'Ne pas modifier (calculs)'!DJ63","v":"2017-08-12"},0,{"$f":"'Ne pas modifier (calculs)'!DS63","v":1},null,{"$f":"'Ne pas modifier (calculs)'!$DP63","v":""},{"$f":"'Ne pas modifier (calculs)'!$DR63","v":""}]
[null,null,null,null,null,null,null,null,{"$f":"'Ne pas modifier (calculs)'!DJ64","v":"2017-08-13"},0,{"$f":"'Ne pas modifier (calculs)'!DS64","v":1},null,{"$f":"'Ne pas modifier (calculs)'!$DP64","v":""},{"$f":"'Ne pas modifier (calculs)'!$DR64","v":""}]
[null,null,null,null,null,null,null,null,{"$f":"'Ne pas modifier (calculs)'!DJ65","v":"2017-08-14"},1,{"$f":"'Ne pas modifier (calculs)'!DS65","v":1},null,{"$f":"'Ne pas modifier (calculs)'!$DP65","v":""},{"$f":"'Ne pas modifier (calculs)'!$DR65","v":""}]
[null,null,null,null,null,null,null,null,{"$f":"'Ne pas modifier (calculs)'!DJ66","v":"2017-08-15"},0,{"$f":"'Ne pas modifier (calculs)'!DS66","v":0},null,{"$f":"'Ne pas modifier (calculs)'!$DP66","v":""},{"$f":"'Ne pas modifier (calculs)'!$DR66","v":""}]
[null,null,null,null,null,null,null,null,{"$f":"'Ne pas modifier (calculs)'!DJ67","v":"2017-08-16"},1,{"$f":"'Ne pas modifier (calculs)'!DS67","v":1},null,{"$f":"'Ne pas modifier (calculs)'!$DP67","v":""},{"$f":"'Ne pas modifier (calculs)'!$DR67","v":""}]
[null,null,null,null,null,null,null,null,{"$f":"'Ne pas modifier (calculs)'!DJ68","v":"2017-08-17"},1,{"$f":"'Ne pas modifier (calculs)'!DS68","v":1},null,{"$f":"'Ne pas modifier (calculs)'!$DP68","v":""},{"$f":"'Ne pas modifier (calculs)'!$DR68","v":""}]
[null,null,null,null,null,null,null,null,{"$f":"'Ne pas modifier (calculs)'!DJ69","v":"2017-08-18"},1,{"$f":"'Ne pas modifier (calculs)'!DS69","v":1},null,{"$f":"'Ne pas modifier (calculs)'!$DP69","v":""},{"$f":"'Ne pas modifier (calculs)'!$DR69","v":""}]
[null,null,null,null,null,null,null,null,{"$f":"'Ne pas modifier (calculs)'!DJ70","v":"2017-08-19"},0,{"$f":"'Ne pas modifier (calculs)'!DS70","v":1},null,{"$f":"'Ne pas modifier (calculs)'!$DP70","v":""},{"$f":"'Ne pas modifier (calculs)'!$DR70","v":""}]
[null,null,null,null,null,null,null,null,{"$f":"'Ne pas modifier (calculs)'!DJ71","v":"2017-08-20"},0,{"$f":"'Ne pas modifier (calculs)'!DS71","v":1},null,{"$f":"'Ne pas modifier (calculs)'!$DP71","v":""},{"$f":"'Ne pas modifier (calculs)'!$DR71","v":""}]
[null,null,null,null,null,null,null,null,{"$f":"'Ne pas modifier (calculs)'!DJ72","v":"2017-08-21"},1,{"$f":"'Ne pas modifier (calculs)'!DS72","v":1},null,{"$f":"'Ne pas modifier (calculs)'!$DP72","v":""},{"$f":"'Ne pas modifier (calculs)'!$DR72","v":""}]
[null,null,null,null,null,null,null,null,{"$f":"'Ne pas modifier (calculs)'!DJ73","v":"2017-08-22"},1,{"$f":"'Ne pas modifier (calculs)'!DS73","v":1},null,{"$f":"'Ne pas modifier (calculs)'!$DP73","v":""},{"$f":"'Ne pas modifier (calculs)'!$DR73","v":""}]
[null,null,null,null,null,null,null,null,{"$f":"'Ne pas modifier (calculs)'!DJ74","v":"2017-08-23"},1,{"$f":"'Ne pas modifier (calculs)'!DS74","v":1},null,{"$f":"'Ne pas modifier (calculs)'!$DP74","v":""},{"$f":"'Ne pas modifier (calculs)'!$DR74","v":""}]
[null,null,null,null,null,null,null,null,{"$f":"'Ne pas modifier (calculs)'!DJ75","v":"2017-08-24"},1,{"$f":"'Ne pas modifier (calculs)'!DS75","v":1},null,{"$f":"'Ne pas modifier (calculs)'!$DP75","v":""},{"$f":"'Ne pas modifier (calculs)'!$DR75","v":""}]
[null,null,null,null,null,null,null,null,{"$f":"'Ne pas modifier (calculs)'!DJ76","v":"2017-08-25"},1,{"$f":"'Ne pas modifier (calculs)'!DS76","v":1},null,{"$f":"'Ne pas modifier (calculs)'!$DP76","v":""},{"$f":"'Ne pas modifier (calculs)'!$DR76","v":""}]
[null,null,null,null,null,null,null,null,{"$f":"'Ne pas modifier (calculs)'!DJ77","v":"2017-08-26"},0,{"$f":"'Ne pas modifier (calculs)'!DS77","v":1},null,{"$f":"'Ne pas modifier (calculs)'!$DP77","v":""},{"$f":"'Ne pas modifier (calculs)'!$DR77","v":""}]
[null,null,null,null,null,null,null,null,{"$f":"'Ne pas modifier (calculs)'!DJ78","v":"2017-08-27"},0,{"$f":"'Ne pas modifier (calculs)'!DS78","v":1},null,{"$f":"'Ne pas modifier (calculs)'!$DP78","v":""},{"$f":"'Ne pas modifier (calculs)'!$DR78","v":""}]
[null,null,null,null,null,null,null,null,{"$f":"'Ne pas modifier (calculs)'!DJ79","v":"2017-08-28"},1,{"$f":"'Ne pas modifier (calculs)'!DS79","v":1},null,{"$f":"'Ne pas modifier (calculs)'!$DP79","v":""},{"$f":"'Ne pas modifier (calculs)'!$DR79","v":""}]
[null,null,null,null,null,null,null,null,{"$f":"'Ne pas modifier (calculs)'!DJ80","v":"2017-08-29"},1,{"$f":"'Ne pas modifier (calculs)'!DS80","v":1},null,{"$f":"'Ne pas modifier (calculs)'!$DP80","v":""},{"$f":"'Ne pas modifier (calculs)'!$DR80","v":""}]
[null,null,null,null,null,null,null,null,{"$f":"'Ne pas modifier (calculs)'!DJ81","v":"2017-08-30"},1,{"$f":"'Ne pas modifier (calculs)'!DS81","v":1},null,{"$f":"'Ne pas modifier (calculs)'!$DP81","v":""},{"$f":"'Ne pas modifier (calculs)'!$DR81","v":""}]
[null,null,null,null,null,null,null,null,{"$f":"'Ne pas modifier (calculs)'!DJ82","v":"2017-08-31"},1,{"$f":"'Ne pas modifier (calculs)'!DS82","v":1},null,{"$f":"'Ne pas modifier (calculs)'!$DP82","v":""},{"$f":"'Ne pas modifier (calculs)'!$DR82","v":""}]
[null,null,null,null,null,null,null,null,{"$f":"'Ne pas modifier (calculs)'!DZ52","v":"2017-09-01"},1,{"$f":"'Ne pas modifier (calculs)'!EI52","v":1},null,{"$f":"'Ne pas modifier (calculs)'!$EF52","v":""},{"$f":"'Ne pas modifier (calculs)'!$EH52","v":""}]
[null,null,null,null,null,null,null,null,{"$f":"'Ne pas modifier (calculs)'!DZ53","v":"2017-09-02"},0,{"$f":"'Ne pas modifier (calculs)'!EI53","v":1},null,{"$f":"'Ne pas modifier (calculs)'!$EF53","v":""},{"$f":"'Ne pas modifier (calculs)'!$EH53","v":""}]
[null,null,null,null,null,null,null,null,{"$f":"'Ne pas modifier (calculs)'!DZ54","v":"2017-09-03"},0,{"$f":"'Ne pas modifier (calculs)'!EI54","v":1},null,{"$f":"'Ne pas modifier (calculs)'!$EF54","v":""},{"$f":"'Ne pas modifier (calculs)'!$EH54","v":""}]
[null,null,null,null,null,null,null,null,{"$f":"'Ne pas modifier (calculs)'!DZ55","v":"2017-09-04"},1,{"$f":"'Ne pas modifier (calculs)'!EI55","v":1},null,{"$f":"'Ne pas modifier (calculs)'!$EF55","v":""},{"$f":"'Ne pas modifier (calculs)'!$EH55","v":""}]
[null,null,null,null,null,null,null,null,{"$f":"'Ne pas modifier (calculs)'!DZ56","v":"2017-09-05"},1,{"$f":"'Ne pas modifier (calculs)'!EI56","v":1},null,{"$f":"'Ne pas modifier (calculs)'!$EF56","v":""},{"$f":"'Ne pas modifier (calculs)'!$EH56","v":""}]
[null,null,null,null,null,null,null,null,{"$f":"'Ne pas modifier (calculs)'!DZ57","v":"2017-09-06"},1,{"$f":"'Ne pas modifier (calculs)'!EI57","v":1},null,{"$f":"'Ne pas modifier (calculs)'!$EF57","v":""},{"$f":"'Ne pas modifier (calculs)'!$EH57","v":""}]
[null,null,null,null,null,null,null,null,{"$f":"'Ne pas modifier (calculs)'!DZ58","v":"2017-09-07"},1,{"$f":"'Ne pas modifier (calculs)'!EI58","v":1},null,{"$f":"'Ne pas modifier (calculs)'!$EF58","v":""},{"$f":"'Ne pas modifier (calculs)'!$EH58","v":""}]
[null,null,null,null,null,null,null,null,{"$f":"'Ne pas modifier (calculs)'!DZ59","v":"2017-09-08"},1,{"$f":"'Ne pas modifier (calculs)'!EI59","v":1},null,{"$f":"'Ne pas modifier (calculs)'!$EF59","v":""},{"$f":"'Ne pas modifier (calculs)'!$EH59","v":""}]
[null,null,null,null,null,null,null,null,{"$f":"'Ne pas modifier (calculs)'!DZ60","v":"2017-09-09"},0,{"$f":"'Ne pas modifier (calculs)'!EI60","v":1},null,{"$f":"'Ne pas modifier (calculs)'!$EF60","v":""},{"$f":"'Ne pas modifier (calculs)'!$EH60","v":""}]
[null,null,null,null,null,null,null,null,{"$f":"'Ne pas modifier (calculs)'!DZ61","v":"2017-09-10"},0,{"$f":"'Ne pas modifier (calculs)'!EI61","v":1},null,{"$f":"'Ne pas modifier (calculs)'!$EF61","v":""},{"$f":"'Ne pas modifier (calculs)'!$EH61","v":""}]
[null,null,null,null,null,null,null,null,{"$f":"'Ne pas modifier (calculs)'!DZ62","v":"2017-09-11"},1,{"$f":"'Ne pas modifier (calculs)'!EI62","v":1},null,{"$f":"'Ne pas modifier (calculs)'!$EF62","v":""},{"$f":"'Ne pas modifier (calculs)'!$EH62","v":""}]
[null,null,null,null,null,null,null,null,{"$f":"'Ne pas modifier (calculs)'!DZ63","v":"2017-09-12"},1,{"$f":"'Ne pas modifier (calculs)'!EI63","v":1},null,{"$f":"'Ne pas modifier (calculs)'!$EF63","v":""},{"$f":"'Ne pas modifier (calculs)'!$EH63","v":""}]
[null,null,null,null,null,null,null,null,{"$f":"'Ne pas modifier (calculs)'!DZ64","v":"2017-09-13"},1,{"$f":"'Ne pas modifier (calculs)'!EI64","v":1},null,{"$f":"'Ne pas modifier (calculs)'!$EF64","v":""},{"$f":"'Ne pas modifier (calculs)'!$EH64","v":""}]
[null,null,null,null,null,null,null,null,{"$f":"'Ne pas modifier (calculs)'!DZ65","v":"2017-09-14"},1,{"$f":"'Ne pas modifier (calculs)'!EI65","v":1},null,{"$f":"'Ne pas modifier (calculs)'!$EF65","v":""},{"$f":"'Ne pas modifier (calculs)'!$EH65","v":""}]
[null,null,null,null,null,null,null,null,{"$f":"'Ne pas modifier (calculs)'!DZ66","v":"2017-09-15"},1,{"$f":"'Ne pas modifier (calculs)'!EI66","v":1},null,{"$f":"'Ne pas modifier (calculs)'!$EF66","v":""},{"$f":"'Ne pas modifier (calculs)'!$EH66","v":""}]
[null,null,null,null,null,null,null,null,{"$f":"'Ne pas modifier (calculs)'!DZ67","v":"2017-09-16"},0,{"$f":"'Ne pas modifier (calculs)'!EI67","v":1},null,{"$f":"'Ne pas modifier (calculs)'!$EF67","v":""},{"$f":"'Ne pas modifier (calculs)'!$EH67","v":""}]
[null,null,null,null,null,null,null,null,{"$f":"'Ne pas modifier (calculs)'!DZ68","v":"2017-09-17"},0,{"$f":"'Ne pas modifier (calculs)'!EI68","v":1},null,{"$f":"'Ne pas modifier (calculs)'!$EF68","v":""},{"$f":"'Ne pas modifier (calculs)'!$EH68","v":""}]
[null,null,null,null,null,null,null,null,{"$f":"'Ne pas modifier (calculs)'!DZ69","v":"2017-09-18"},1,{"$f":"'Ne pas modifier (calculs)'!EI69","v":1},null,{"$f":"'Ne pas modifier (calculs)'!$EF69","v":""},{"$f":"'Ne pas modifier (calculs)'!$EH69","v":""}]
[null,null,null,null,null,null,null,null,{"$f":"'Ne pas modifier (calculs)'!DZ70","v":"2017-09-19"},1,{"$f":"'Ne pas modifier (calculs)'!EI70","v":1},null,{"$f":"'Ne pas modifier (calculs)'!$EF70","v":""},{"$f":"'Ne pas modifier (calculs)'!$EH70","v":""}]
[null,null,null,null,null,null,null,null,{"$f":"'Ne pas modifier (calculs)'!DZ71","v":"2017-09-20"},1,{"$f":"'Ne pas modifier (calculs)'!EI71","v":1},null,{"$f":"'Ne pas modifier (calculs)'!$EF71","v":""},{"$f":"'Ne pas modifier (calculs)'!$EH71","v":""}]
[null,null,null,null,null,null,null,null,{"$f":"'Ne pas modifier (calculs)'!DZ72","v":"2017-09-21"},1,{"$f":"'Ne pas modifier (calculs)'!EI72","v":1},null,{"$f":"'Ne pas modifier (calculs)'!$EF72","v":""},{"$f":"'Ne pas modifier (calculs)'!$EH72","v":""}]
[null,null,null,null,null,null,null,null,{"$f":"'Ne pas modifier (calculs)'!DZ73","v":"2017-09-22"},1,{"$f":"'Ne pas modifier (calculs)'!EI73","v":1},null,{"$f":"'Ne pas modifier (calculs)'!$EF73","v":""},{"$f":"'Ne pas modifier (calculs)'!$EH73","v":""}]
[null,null,null,null,null,null,null,null,{"$f":"'Ne pas modifier (calculs)'!DZ74","v":"2017-09-23"},0,{"$f":"'Ne pas modifier (calculs)'!EI74","v":1},null,{"$f":"'Ne pas modifier (calculs)'!$EF74","v":""},{"$f":"'Ne pas modifier (calculs)'!$EH74","v":""}]
[null,null,null,null,null,null,null,null,{"$f":"'Ne pas modifier (calculs)'!DZ75","v":"2017-09-24"},0,{"$f":"'Ne pas modifier (calculs)'!EI75","v":1},null,{"$f":"'Ne pas modifier (calculs)'!$EF75","v":""},{"$f":"'Ne pas modifier (calculs)'!$EH75","v":""}]
[null,null,null,null,null,null,null,null,{"$f":"'Ne pas modifier (calculs)'!DZ76","v":"2017-09-25"},1,{"$f":"'Ne pas modifier (calculs)'!EI76","v":1},null,{"$f":"'Ne pas modifier (calculs)'!$EF76","v":""},{"$f":"'Ne pas modifier (calculs)'!$EH76","v":""}]
[null,null,null,null,null,null,null,null,{"$f":"'Ne pas modifier (calculs)'!DZ77","v":"2017-09-26"},1,{"$f":"'Ne pas modifier (calculs)'!EI77","v":1},null,{"$f":"'Ne pas modifier (calculs)'!$EF77","v":""},{"$f":"'Ne pas modifier (calculs)'!$EH77","v":""}]
[null,null,null,null,null,null,null,null,{"$f":"'Ne pas modifier (calculs)'!DZ78","v":"2017-09-27"},1,{"$f":"'Ne pas modifier (calculs)'!EI78","v":1},null,{"$f":"'Ne pas modifier (calculs)'!$EF78","v":""},{"$f":"'Ne pas modifier (calculs)'!$EH78","v":""}]
[null,null,null,null,null,null,null,null,{"$f":"'Ne pas modifier (calculs)'!DZ79","v":"2017-09-28"},1,{"$f":"'Ne pas modifier (calculs)'!EI79","v":1},null,{"$f":"'Ne pas modifier (calculs)'!$EF79","v":""},{"$f":"'Ne pas modifier (calculs)'!$EH79","v":""}]
[null,null,null,null,null,null,null,null,{"$f":"'Ne pas modifier (calculs)'!DZ80","v":"2017-09-29"},1,{"$f":"'Ne pas modifier (calculs)'!EI80","v":1},null,{"$f":"'Ne pas modifier (calculs)'!$EF80","v":""},{"$f":"'Ne pas modifier (calculs)'!$EH80","v":""}]
[null,null,null,null,null,null,null,null,{"$f":"'Ne pas modifier (calculs)'!DZ81","v":"2017-09-30"},0,{"$f":"'Ne pas modifier (calculs)'!EI81","v":1},null,{"$f":"'Ne pas modifier (calculs)'!$EF81","v":""},{"$f":"'Ne pas modifier (calculs)'!$EH81","v":""}]
[null,null,null,null,null,null,null,null,{"$f":"'Ne pas modifier (calculs)'!EP52","v":"2017-10-01"},0,{"$f":"'Ne pas modifier (calculs)'!EY52","v":1},null,{"$f":"'Ne pas modifier (calculs)'!$EV52","v":""},{"$f":"'Ne pas modifier (calculs)'!$EX52","v":""}]
[null,null,null,null,null,null,null,null,{"$f":"'Ne pas modifier (calculs)'!EP53","v":"2017-10-02"},1,{"$f":"'Ne pas modifier (calculs)'!EY53","v":1},null,{"$f":"'Ne pas modifier (calculs)'!$EV53","v":""},{"$f":"'Ne pas modifier (calculs)'!$EX53","v":""}]
[null,null,null,null,null,null,null,null,{"$f":"'Ne pas modifier (calculs)'!EP54","v":"2017-10-03"},1,{"$f":"'Ne pas modifier (calculs)'!EY54","v":1},null,{"$f":"'Ne pas modifier (calculs)'!$EV54","v":""},{"$f":"'Ne pas modifier (calculs)'!$EX54","v":""}]
[null,null,null,null,null,null,null,null,{"$f":"'Ne pas modifier (calculs)'!EP55","v":"2017-10-04"},{"$f":"IF(WEEKDAY(I669)=1,0,(IF(WEEKDAY(I669)=7,0,K669)))","v":1},{"$f":"'Ne pas modifier (calculs)'!EY55","v":1},null,{"$f":"'Ne pas modifier (calculs)'!$EV55","v":""},{"$f":"'Ne pas modifier (calculs)'!$EX55","v":""}]
[null,null,null,null,null,null,null,null,{"$f":"'Ne pas modifier (calculs)'!EP56","v":"2017-10-05"},1,{"$f":"'Ne pas modifier (calculs)'!EY56","v":1},null,{"$f":"'Ne pas modifier (calculs)'!$EV56","v":""},{"$f":"'Ne pas modifier (calculs)'!$EX56","v":""}]
[null,null,null,null,null,null,null,null,{"$f":"'Ne pas modifier (calculs)'!EP57","v":"2017-10-06"},1,{"$f":"'Ne pas modifier (calculs)'!EY57","v":1},null,{"$f":"'Ne pas modifier (calculs)'!$EV57","v":""},{"$f":"'Ne pas modifier (calculs)'!$EX57","v":""}]
[null,null,null,null,null,null,null,null,{"$f":"'Ne pas modifier (calculs)'!EP58","v":"2017-10-07"},0,{"$f":"'Ne pas modifier (calculs)'!EY58","v":1},null,{"$f":"'Ne pas modifier (calculs)'!$EV58","v":""},{"$f":"'Ne pas modifier (calculs)'!$EX58","v":""}]
[null,null,null,null,null,null,null,null,{"$f":"'Ne pas modifier (calculs)'!EP59","v":"2017-10-08"},0,{"$f":"'Ne pas modifier (calculs)'!EY59","v":1},null,{"$f":"'Ne pas modifier (calculs)'!$EV59","v":""},{"$f":"'Ne pas modifier (calculs)'!$EX59","v":""}]
[null,null,null,null,null,null,null,null,{"$f":"'Ne pas modifier (calculs)'!EP60","v":"2017-10-09"},1,{"$f":"'Ne pas modifier (calculs)'!EY60","v":1},null,{"$f":"'Ne pas modifier (calculs)'!$EV60","v":""},{"$f":"'Ne pas modifier (calculs)'!$EX60","v":""}]
[null,null,null,null,null,null,null,null,{"$f":"'Ne pas modifier (calculs)'!EP61","v":"2017-10-10"},1,{"$f":"'Ne pas modifier (calculs)'!EY61","v":1},null,{"$f":"'Ne pas modifier (calculs)'!$EV61","v":""},{"$f":"'Ne pas modifier (calculs)'!$EX61","v":""}]
[null,null,null,null,null,null,null,null,{"$f":"'Ne pas modifier (calculs)'!EP62","v":"2017-10-11"},1,{"$f":"'Ne pas modifier (calculs)'!EY62","v":1},null,{"$f":"'Ne pas modifier (calculs)'!$EV62","v":""},{"$f":"'Ne pas modifier (calculs)'!$EX62","v":""}]
[null,null,null,null,null,null,null,null,{"$f":"'Ne pas modifier (calculs)'!EP63","v":"2017-10-12"},1,{"$f":"'Ne pas modifier (calculs)'!EY63","v":1},null,{"$f":"'Ne pas modifier (calculs)'!$EV63","v":""},{"$f":"'Ne pas modifier (calculs)'!$EX63","v":""}]
[null,null,null,null,null,null,null,null,{"$f":"'Ne pas modifier (calculs)'!EP64","v":"2017-10-13"},1,{"$f":"'Ne pas modifier (calculs)'!EY64","v":1},null,{"$f":"'Ne pas modifier (calculs)'!$EV64","v":""},{"$f":"'Ne pas modifier (calculs)'!$EX64","v":""}]
[null,null,null,null,null,null,null,null,{"$f":"'Ne pas modifier (calculs)'!EP65","v":"2017-10-14"},0,{"$f":"'Ne pas modifier (calculs)'!EY65","v":1},null,{"$f":"'Ne pas modifier (calculs)'!$EV65","v":""},{"$f":"'Ne pas modifier (calculs)'!$EX65","v":""}]
[null,null,null,null,null,null,null,null,{"$f":"'Ne pas modifier (calculs)'!EP66","v":"2017-10-15"},0,{"$f":"'Ne pas modifier (calculs)'!EY66","v":1},null,{"$f":"'Ne pas modifier (calculs)'!$EV66","v":""},{"$f":"'Ne pas modifier (calculs)'!$EX66","v":""}]
[null,null,null,null,null,null,null,null,{"$f":"'Ne pas modifier (calculs)'!EP67","v":"2017-10-16"},1,{"$f":"'Ne pas modifier (calculs)'!EY67","v":1},null,{"$f":"'Ne pas modifier (calculs)'!$EV67","v":""},{"$f":"'Ne pas modifier (calculs)'!$EX67","v":""}]
[null,null,null,null,null,null,null,null,{"$f":"'Ne pas modifier (calculs)'!EP68","v":"2017-10-17"},1,{"$f":"'Ne pas modifier (calculs)'!EY68","v":1},null,{"$f":"'Ne pas modifier (calculs)'!$EV68","v":""},{"$f":"'Ne pas modifier (calculs)'!$EX68","v":""}]
[null,null,null,null,null,null,null,null,{"$f":"'Ne pas modifier (calculs)'!EP69","v":"2017-10-18"},1,{"$f":"'Ne pas modifier (calculs)'!EY69","v":1},null,{"$f":"'Ne pas modifier (calculs)'!$EV69","v":""},{"$f":"'Ne pas modifier (calculs)'!$EX69","v":""}]
[null,null,null,null,null,null,null,null,{"$f":"'Ne pas modifier (calculs)'!EP70","v":"2017-10-19"},1,{"$f":"'Ne pas modifier (calculs)'!EY70","v":1},null,{"$f":"'Ne pas modifier (calculs)'!$EV70","v":""},{"$f":"'Ne pas modifier (calculs)'!$EX70","v":""}]
[null,null,null,null,null,null,null,null,{"$f":"'Ne pas modifier (calculs)'!EP71","v":"2017-10-20"},1,{"$f":"'Ne pas modifier (calculs)'!EY71","v":1},null,{"$f":"'Ne pas modifier (calculs)'!$EV71","v":""},{"$f":"'Ne pas modifier (calculs)'!$EX71","v":""}]
[null,null,null,null,null,null,null,null,{"$f":"'Ne pas modifier (calculs)'!EP72","v":"2017-10-21"},0,{"$f":"'Ne pas modifier (calculs)'!EY72","v":1},null,{"$f":"'Ne pas modifier (calculs)'!$EV72","v":""},{"$f":"'Ne pas modifier (calculs)'!$EX72","v":""}]
[null,null,null,null,null,null,null,null,{"$f":"'Ne pas modifier (calculs)'!EP73","v":"2017-10-22"},0,{"$f":"'Ne pas modifier (calculs)'!EY73","v":1},null,{"$f":"'Ne pas modifier (calculs)'!$EV73","v":""},{"$f":"'Ne pas modifier (calculs)'!$EX73","v":""}]
[null,null,null,null,null,null,null,null,{"$f":"'Ne pas modifier (calculs)'!EP74","v":"2017-10-23"},1,{"$f":"'Ne pas modifier (calculs)'!EY74","v":1},null,{"$f":"'Ne pas modifier (calculs)'!$EV74","v":""},{"$f":"'Ne pas modifier (calculs)'!$EX74","v":""}]
[null,null,null,null,null,null,null,null,{"$f":"'Ne pas modifier (calculs)'!EP75","v":"2017-10-24"},1,{"$f":"'Ne pas modifier (calculs)'!EY75","v":1},null,{"$f":"'Ne pas modifier (calculs)'!$EV75","v":""},{"$f":"'Ne pas modifier (calculs)'!$EX75","v":""}]
[null,null,null,null,null,null,null,null,{"$f":"'Ne pas modifier (calculs)'!EP76","v":"2017-10-25"},1,{"$f":"'Ne pas modifier (calculs)'!EY76","v":1},null,{"$f":"'Ne pas modifier (calculs)'!$EV76","v":""},{"$f":"'Ne pas modifier (calculs)'!$EX76","v":""}]
[null,null,null,null,null,null,null,null,{"$f":"'Ne pas modifier (calculs)'!EP77","v":"2017-10-26"},1,{"$f":"'Ne pas modifier (calculs)'!EY77","v":1},null,{"$f":"'Ne pas modifier (calculs)'!$EV77","v":""},{"$f":"'Ne pas modifier (calculs)'!$EX77","v":""}]
[null,null,null,null,null,null,null,null,{"$f":"'Ne pas modifier (calculs)'!EP78","v":"2017-10-27"},1,{"$f":"'Ne pas modifier (calculs)'!EY78","v":1},null,{"$f":"'Ne pas modifier (calculs)'!$EV78","v":""},{"$f":"'Ne pas modifier (calculs)'!$EX78","v":""}]
[null,null,null,null,null,null,null,null,{"$f":"'Ne pas modifier (calculs)'!EP79","v":"2017-10-28"},0,{"$f":"'Ne pas modifier (calculs)'!EY79","v":1},null,{"$f":"'Ne pas modifier (calculs)'!$EV79","v":""},{"$f":"'Ne pas modifier (calculs)'!$EX79","v":""}]
[null,null,null,null,null,null,null,null,{"$f":"'Ne pas modifier (calculs)'!EP80","v":"2017-10-29"},0,{"$f":"'Ne pas modifier (calculs)'!EY80","v":1},null,{"$f":"'Ne pas modifier (calculs)'!$EV80","v":""},{"$f":"'Ne pas modifier (calculs)'!$EX80","v":""}]
[null,null,null,null,null,null,null,null,{"$f":"'Ne pas modifier (calculs)'!EP81","v":"2017-10-30"},1,{"$f":"'Ne pas modifier (calculs)'!EY81","v":1},null,{"$f":"'Ne pas modifier (calculs)'!$EV81","v":""},{"$f":"'Ne pas modifier (calculs)'!$EX81","v":""}]
[null,null,null,null,null,null,null,null,{"$f":"'Ne pas modifier (calculs)'!EP82","v":"2017-10-31"},1,{"$f":"'Ne pas modifier (calculs)'!EY82","v":1},null,{"$f":"'Ne pas modifier (calculs)'!$EV82","v":""},{"$f":"'Ne pas modifier (calculs)'!$EX82","v":""}]
[null,null,null,null,null,null,null,null,{"$f":"'Ne pas modifier (calculs)'!FF52","v":"2017-11-01"},0,{"$f":"'Ne pas modifier (calculs)'!FO52","v":0},null,{"$f":"'Ne pas modifier (calculs)'!$FL52","v":""},{"$f":"'Ne pas modifier (calculs)'!$FN52","v":""}]
[null,null,null,null,null,null,null,null,{"$f":"'Ne pas modifier (calculs)'!FF53","v":"2017-11-02"},1,{"$f":"'Ne pas modifier (calculs)'!FO53","v":1},null,{"$f":"'Ne pas modifier (calculs)'!$FL53","v":""},{"$f":"'Ne pas modifier (calculs)'!$FN53","v":""}]
[null,null,null,null,null,null,null,null,{"$f":"'Ne pas modifier (calculs)'!FF54","v":"2017-11-03"},1,{"$f":"'Ne pas modifier (calculs)'!FO54","v":1},null,{"$f":"'Ne pas modifier (calculs)'!$FL54","v":""},{"$f":"'Ne pas modifier (calculs)'!$FN54","v":""}]
[null,null,null,null,null,null,null,null,{"$f":"'Ne pas modifier (calculs)'!FF55","v":"2017-11-04"},0,{"$f":"'Ne pas modifier (calculs)'!FO55","v":1},null,{"$f":"'Ne pas modifier (calculs)'!$FL55","v":""},{"$f":"'Ne pas modifier (calculs)'!$FN55","v":""}]
[null,null,null,null,null,null,null,null,{"$f":"'Ne pas modifier (calculs)'!FF56","v":"2017-11-05"},0,{"$f":"'Ne pas modifier (calculs)'!FO56","v":1},null,{"$f":"'Ne pas modifier (calculs)'!$FL56","v":""},{"$f":"'Ne pas modifier (calculs)'!$FN56","v":""}]
[null,null,null,null,null,null,null,null,{"$f":"'Ne pas modifier (calculs)'!FF57","v":"2017-11-06"},1,{"$f":"'Ne pas modifier (calculs)'!FO57","v":1},null,{"$f":"'Ne pas modifier (calculs)'!$FL57","v":""},{"$f":"'Ne pas modifier (calculs)'!$FN57","v":""}]
[null,null,null,null,null,null,null,null,{"$f":"'Ne pas modifier (calculs)'!FF58","v":"2017-11-07"},1,{"$f":"'Ne pas modifier (calculs)'!FO58","v":1},null,{"$f":"'Ne pas modifier (calculs)'!$FL58","v":""},{"$f":"'Ne pas modifier (calculs)'!$FN58","v":""}]
[null,null,null,null,null,null,null,null,{"$f":"'Ne pas modifier (calculs)'!FF59","v":"2017-11-08"},1,{"$f":"'Ne pas modifier (calculs)'!FO59","v":1},null,{"$f":"'Ne pas modifier (calculs)'!$FL59","v":""},{"$f":"'Ne pas modifier (calculs)'!$FN59","v":""}]
[null,null,null,null,null,null,null,null,{"$f":"'Ne pas modifier (calculs)'!FF60","v":"2017-11-09"},1,{"$f":"'Ne pas modifier (calculs)'!FO60","v":1},null,{"$f":"'Ne pas modifier (calculs)'!$FL60","v":""},{"$f":"'Ne pas modifier (calculs)'!$FN60","v":""}]
[null,null,null,null,null,null,null,null,{"$f":"'Ne pas modifier (calculs)'!FF61","v":"2017-11-10"},1,{"$f":"'Ne pas modifier (calculs)'!FO61","v":1},null,{"$f":"'Ne pas modifier (calculs)'!$FL61","v":""},{"$f":"'Ne pas modifier (calculs)'!$FN61","v":""}]
[null,null,null,null,null,null,null,null,{"$f":"'Ne pas modifier (calculs)'!FF62","v":"2017-11-11"},0,{"$f":"'Ne pas modifier (calculs)'!FO62","v":0},null,{"$f":"'Ne pas modifier (calculs)'!$FL62","v":""},{"$f":"'Ne pas modifier (calculs)'!$FN62","v":""}]
[null,null,null,null,null,null,null,null,{"$f":"'Ne pas modifier (calculs)'!FF63","v":"2017-11-12"},0,{"$f":"'Ne pas modifier (calculs)'!FO63","v":1},null,{"$f":"'Ne pas modifier (calculs)'!$FL63","v":""},{"$f":"'Ne pas modifier (calculs)'!$FN63","v":""}]
[null,null,null,null,null,null,null,null,{"$f":"'Ne pas modifier (calculs)'!FF64","v":"2017-11-13"},1,{"$f":"'Ne pas modifier (calculs)'!FO64","v":1},null,{"$f":"'Ne pas modifier (calculs)'!$FL64","v":""},{"$f":"'Ne pas modifier (calculs)'!$FN64","v":""}]
[null,null,null,null,null,null,null,null,{"$f":"'Ne pas modifier (calculs)'!FF65","v":"2017-11-14"},1,{"$f":"'Ne pas modifier (calculs)'!FO65","v":1},null,{"$f":"'Ne pas modifier (calculs)'!$FL65","v":""},{"$f":"'Ne pas modifier (calculs)'!$FN65","v":""}]
[null,null,null,null,null,null,null,null,{"$f":"'Ne pas modifier (calculs)'!FF66","v":"2017-11-15"},1,{"$f":"'Ne pas modifier (calculs)'!FO66","v":1},null,{"$f":"'Ne pas modifier (calculs)'!$FL66","v":""},{"$f":"'Ne pas modifier (calculs)'!$FN66","v":""}]
[null,null,null,null,null,null,null,null,{"$f":"'Ne pas modifier (calculs)'!FF67","v":"2017-11-16"},1,{"$f":"'Ne pas modifier (calculs)'!FO67","v":1},null,{"$f":"'Ne pas modifier (calculs)'!$FL67","v":""},{"$f":"'Ne pas modifier (calculs)'!$FN67","v":""}]
[null,null,null,null,null,null,null,null,{"$f":"'Ne pas modifier (calculs)'!FF68","v":"2017-11-17"},1,{"$f":"'Ne pas modifier (calculs)'!FO68","v":1},null,{"$f":"'Ne pas modifier (calculs)'!$FL68","v":""},{"$f":"'Ne pas modifier (calculs)'!$FN68","v":""}]
[null,null,null,null,null,null,null,null,{"$f":"'Ne pas modifier (calculs)'!FF69","v":"2017-11-18"},0,{"$f":"'Ne pas modifier (calculs)'!FO69","v":1},null,{"$f":"'Ne pas modifier (calculs)'!$FL69","v":""},{"$f":"'Ne pas modifier (calculs)'!$FN69","v":""}]
[null,null,null,null,null,null,null,null,{"$f":"'Ne pas modifier (calculs)'!FF70","v":"2017-11-19"},0,{"$f":"'Ne pas modifier (calculs)'!FO70","v":1},null,{"$f":"'Ne pas modifier (calculs)'!$FL70","v":""},{"$f":"'Ne pas modifier (calculs)'!$FN70","v":""}]
[null,null,null,null,null,null,null,null,{"$f":"'Ne pas modifier (calculs)'!FF71","v":"2017-11-20"},1,{"$f":"'Ne pas modifier (calculs)'!FO71","v":1},null,{"$f":"'Ne pas modifier (calculs)'!$FL71","v":""},{"$f":"'Ne pas modifier (calculs)'!$FN71","v":""}]
[null,null,null,null,null,null,null,null,{"$f":"'Ne pas modifier (calculs)'!FF72","v":"2017-11-21"},1,{"$f":"'Ne pas modifier (calculs)'!FO72","v":1},null,{"$f":"'Ne pas modifier (calculs)'!$FL72","v":""},{"$f":"'Ne pas modifier (calculs)'!$FN72","v":""}]
[null,null,null,null,null,null,null,null,{"$f":"'Ne pas modifier (calculs)'!FF73","v":"2017-11-22"},1,{"$f":"'Ne pas modifier (calculs)'!FO73","v":1},null,{"$f":"'Ne pas modifier (calculs)'!$FL73","v":""},{"$f":"'Ne pas modifier (calculs)'!$FN73","v":""}]
[null,null,null,null,null,null,null,null,{"$f":"'Ne pas modifier (calculs)'!FF74","v":"2017-11-23"},1,{"$f":"'Ne pas modifier (calculs)'!FO74","v":1},null,{"$f":"'Ne pas modifier (calculs)'!$FL74","v":""},{"$f":"'Ne pas modifier (calculs)'!$FN74","v":""}]
[null,null,null,null,null,null,null,null,{"$f":"'Ne pas modifier (calculs)'!FF75","v":"2017-11-24"},1,{"$f":"'Ne pas modifier (calculs)'!FO75","v":1},null,{"$f":"'Ne pas modifier (calculs)'!$FL75","v":""},{"$f":"'Ne pas modifier (calculs)'!$FN75","v":""}]
[null,null,null,null,null,null,null,null,{"$f":"'Ne pas modifier (calculs)'!FF76","v":"2017-11-25"},0,{"$f":"'Ne pas modifier (calculs)'!FO76","v":1},null,{"$f":"'Ne pas modifier (calculs)'!$FL76","v":""},{"$f":"'Ne pas modifier (calculs)'!$FN76","v":""}]
[null,null,null,null,null,null,null,null,{"$f":"'Ne pas modifier (calculs)'!FF77","v":"2017-11-26"},0,{"$f":"'Ne pas modifier (calculs)'!FO77","v":1},null,{"$f":"'Ne pas modifier (calculs)'!$FL77","v":""},{"$f":"'Ne pas modifier (calculs)'!$FN77","v":""}]
[null,null,null,null,null,null,null,null,{"$f":"'Ne pas modifier (calculs)'!FF78","v":"2017-11-27"},1,{"$f":"'Ne pas modifier (calculs)'!FO78","v":1},null,{"$f":"'Ne pas modifier (calculs)'!$FL78","v":""},{"$f":"'Ne pas modifier (calculs)'!$FN78","v":""}]
[null,null,null,null,null,null,null,null,{"$f":"'Ne pas modifier (calculs)'!FF79","v":"2017-11-28"},1,{"$f":"'Ne pas modifier (calculs)'!FO79","v":1},null,{"$f":"'Ne pas modifier (calculs)'!$FL79","v":""},{"$f":"'Ne pas modifier (calculs)'!$FN79","v":""}]
[null,null,null,null,null,null,null,null,{"$f":"'Ne pas modifier (calculs)'!FF80","v":"2017-11-29"},1,{"$f":"'Ne pas modifier (calculs)'!FO80","v":1},null,{"$f":"'Ne pas modifier (calculs)'!$FL80","v":""},{"$f":"'Ne pas modifier (calculs)'!$FN80","v":""}]
[null,null,null,null,null,null,null,null,{"$f":"'Ne pas modifier (calculs)'!FF81","v":"2017-11-30"},1,{"$f":"'Ne pas modifier (calculs)'!FO81","v":1},null,{"$f":"'Ne pas modifier (calculs)'!$FL81","v":""},{"$f":"'Ne pas modifier (calculs)'!$FN81","v":""}]
[null,null,null,null,null,null,null,null,{"$f":"'Ne pas modifier (calculs)'!FV52","v":"2017-12-01"},1,{"$f":"'Ne pas modifier (calculs)'!GE52","v":1},null,{"$f":"'Ne pas modifier (calculs)'!$GB52","v":""},{"$f":"'Ne pas modifier (calculs)'!$GD52","v":""}]
[null,null,null,null,null,null,null,null,{"$f":"'Ne pas modifier (calculs)'!FV53","v":"2017-12-02"},0,{"$f":"'Ne pas modifier (calculs)'!GE53","v":1},null,{"$f":"'Ne pas modifier (calculs)'!$GB53","v":""},{"$f":"'Ne pas modifier (calculs)'!$GD53","v":""}]
[null,null,null,null,null,null,null,null,{"$f":"'Ne pas modifier (calculs)'!FV54","v":"2017-12-03"},0,{"$f":"'Ne pas modifier (calculs)'!GE54","v":1},null,{"$f":"'Ne pas modifier (calculs)'!$GB54","v":""},{"$f":"'Ne pas modifier (calculs)'!$GD54","v":""}]
[null,null,null,null,null,null,null,null,{"$f":"'Ne pas modifier (calculs)'!FV55","v":"2017-12-04"},1,{"$f":"'Ne pas modifier (calculs)'!GE55","v":1},null,{"$f":"'Ne pas modifier (calculs)'!$GB55","v":""},{"$f":"'Ne pas modifier (calculs)'!$GD55","v":""}]
[null,null,null,null,null,null,null,null,{"$f":"'Ne pas modifier (calculs)'!FV56","v":"2017-12-05"},1,{"$f":"'Ne pas modifier (calculs)'!GE56","v":1},null,{"$f":"'Ne pas modifier (calculs)'!$GB56","v":""},{"$f":"'Ne pas modifier (calculs)'!$GD56","v":""}]
[null,null,null,null,null,null,null,null,{"$f":"'Ne pas modifier (calculs)'!FV57","v":"2017-12-06"},1,{"$f":"'Ne pas modifier (calculs)'!GE57","v":1},null,{"$f":"'Ne pas modifier (calculs)'!$GB57","v":""},{"$f":"'Ne pas modifier (calculs)'!$GD57","v":""}]
[null,null,null,null,null,null,null,null,{"$f":"'Ne pas modifier (calculs)'!FV58","v":"2017-12-07"},{"$f":"IF(WEEKDAY(I733)=1,0,(IF(WEEKDAY(I733)=7,0,K733)))","v":1},{"$f":"'Ne pas modifier (calculs)'!GE58","v":1},null,{"$f":"'Ne pas modifier (calculs)'!$GB58","v":""},{"$f":"'Ne pas modifier (calculs)'!$GD58","v":""}]
[null,null,null,null,null,null,null,null,{"$f":"'Ne pas modifier (calculs)'!FV59","v":"2017-12-08"},1,{"$f":"'Ne pas modifier (calculs)'!GE59","v":1},null,{"$f":"'Ne pas modifier (calculs)'!$GB59","v":""},{"$f":"'Ne pas modifier (calculs)'!$GD59","v":""}]
[null,null,null,null,null,null,null,null,{"$f":"'Ne pas modifier (calculs)'!FV60","v":"2017-12-09"},0,{"$f":"'Ne pas modifier (calculs)'!GE60","v":1},null,{"$f":"'Ne pas modifier (calculs)'!$GB60","v":""},{"$f":"'Ne pas modifier (calculs)'!$GD60","v":""}]
[null,null,null,null,null,null,null,null,{"$f":"'Ne pas modifier (calculs)'!FV61","v":"2017-12-10"},0,{"$f":"'Ne pas modifier (calculs)'!GE61","v":1},null,{"$f":"'Ne pas modifier (calculs)'!$GB61","v":""},{"$f":"'Ne pas modifier (calculs)'!$GD61","v":""}]
[null,null,null,null,null,null,null,null,{"$f":"'Ne pas modifier (calculs)'!FV62","v":"2017-12-11"},1,{"$f":"'Ne pas modifier (calculs)'!GE62","v":1},null,{"$f":"'Ne pas modifier (calculs)'!$GB62","v":""},{"$f":"'Ne pas modifier (calculs)'!$GD62","v":""}]
[null,null,null,null,null,null,null,null,{"$f":"'Ne pas modifier (calculs)'!FV63","v":"2017-12-12"},1,{"$f":"'Ne pas modifier (calculs)'!GE63","v":1},null,{"$f":"'Ne pas modifier (calculs)'!$GB63","v":""},{"$f":"'Ne pas modifier (calculs)'!$GD63","v":""}]
[null,null,null,null,null,null,null,null,{"$f":"'Ne pas modifier (calculs)'!FV64","v":"2017-12-13"},1,{"$f":"'Ne pas modifier (calculs)'!GE64","v":1},null,{"$f":"'Ne pas modifier (calculs)'!$GB64","v":""},{"$f":"'Ne pas modifier (calculs)'!$GD64","v":""}]
[null,null,null,null,null,null,null,null,{"$f":"'Ne pas modifier (calculs)'!FV65","v":"2017-12-14"},1,{"$f":"'Ne pas modifier (calculs)'!GE65","v":1},null,{"$f":"'Ne pas modifier (calculs)'!$GB65","v":""},{"$f":"'Ne pas modifier (calculs)'!$GD65","v":""}]
[null,null,null,null,null,null,null,null,{"$f":"'Ne pas modifier (calculs)'!FV66","v":"2017-12-15"},1,{"$f":"'Ne pas modifier (calculs)'!GE66","v":1},null,{"$f":"'Ne pas modifier (calculs)'!$GB66","v":""},{"$f":"'Ne pas modifier (calculs)'!$GD66","v":""}]
[null,null,null,null,null,null,null,null,{"$f":"'Ne pas modifier (calculs)'!FV67","v":"2017-12-16"},0,{"$f":"'Ne pas modifier (calculs)'!GE67","v":1},null,{"$f":"'Ne pas modifier (calculs)'!$GB67","v":""},{"$f":"'Ne pas modifier (calculs)'!$GD67","v":""}]
[null,null,null,null,null,null,null,null,{"$f":"'Ne pas modifier (calculs)'!FV68","v":"2017-12-17"},0,{"$f":"'Ne pas modifier (calculs)'!GE68","v":1},null,{"$f":"'Ne pas modifier (calculs)'!$GB68","v":""},{"$f":"'Ne pas modifier (calculs)'!$GD68","v":""}]
[null,null,null,null,null,null,null,null,{"$f":"'Ne pas modifier (calculs)'!FV69","v":"2017-12-18"},1,{"$f":"'Ne pas modifier (calculs)'!GE69","v":1},null,{"$f":"'Ne pas modifier (calculs)'!$GB69","v":""},{"$f":"'Ne pas modifier (calculs)'!$GD69","v":""}]
[null,null,null,null,null,null,null,null,{"$f":"'Ne pas modifier (calculs)'!FV70","v":"2017-12-19"},1,{"$f":"'Ne pas modifier (calculs)'!GE70","v":1},null,{"$f":"'Ne pas modifier (calculs)'!$GB70","v":""},{"$f":"'Ne pas modifier (calculs)'!$GD70","v":""}]
[null,null,null,null,null,null,null,null,{"$f":"'Ne pas modifier (calculs)'!FV71","v":"2017-12-20"},1,{"$f":"'Ne pas modifier (calculs)'!GE71","v":1},null,{"$f":"'Ne pas modifier (calculs)'!$GB71","v":""},{"$f":"'Ne pas modifier (calculs)'!$GD71","v":""}]
[null,null,null,null,null,null,null,null,{"$f":"'Ne pas modifier (calculs)'!FV72","v":"2017-12-21"},1,{"$f":"'Ne pas modifier (calculs)'!GE72","v":1},null,{"$f":"'Ne pas modifier (calculs)'!$GB72","v":""},{"$f":"'Ne pas modifier (calculs)'!$GD72","v":""}]
[null,null,null,null,null,null,null,null,{"$f":"'Ne pas modifier (calculs)'!FV73","v":"2017-12-22"},1,{"$f":"'Ne pas modifier (calculs)'!GE73","v":1},null,{"$f":"'Ne pas modifier (calculs)'!$GB73","v":""},{"$f":"'Ne pas modifier (calculs)'!$GD73","v":""}]
[null,null,null,null,null,null,null,null,{"$f":"'Ne pas modifier (calculs)'!FV74","v":"2017-12-23"},0,{"$f":"'Ne pas modifier (calculs)'!GE74","v":1},null,{"$f":"'Ne pas modifier (calculs)'!$GB74","v":""},{"$f":"'Ne pas modifier (calculs)'!$GD74","v":""}]
[null,null,null,null,null,null,null,null,{"$f":"'Ne pas modifier (calculs)'!FV75","v":"2017-12-24"},0,{"$f":"'Ne pas modifier (calculs)'!GE75","v":1},null,{"$f":"'Ne pas modifier (calculs)'!$GB75","v":""},{"$f":"'Ne pas modifier (calculs)'!$GD75","v":""}]
[null,null,null,null,null,null,null,null,{"$f":"'Ne pas modifier (calculs)'!FV76","v":"2017-12-25"},0,{"$f":"'Ne pas modifier (calculs)'!GE76","v":0},null,{"$f":"'Ne pas modifier (calculs)'!$GB76","v":""},{"$f":"'Ne pas modifier (calculs)'!$GD76","v":""}]
[null,null,null,null,null,null,null,null,{"$f":"'Ne pas modifier (calculs)'!FV77","v":"2017-12-26"},"B",{"$f":"'Ne pas modifier (calculs)'!GE77","v":"B"},null,{"$f":"'Ne pas modifier (calculs)'!$GB77","v":""},{"$f":"'Ne pas modifier (calculs)'!$GD77","v":""}]
[null,null,null,null,null,null,null,null,{"$f":"'Ne pas modifier (calculs)'!FV78","v":"2017-12-27"},"R",{"$f":"'Ne pas modifier (calculs)'!GE78","v":"R"},null,{"$f":"'Ne pas modifier (calculs)'!$GB78","v":""},{"$f":"'Ne pas modifier (calculs)'!$GD78","v":""}]
[null,null,null,null,null,null,null,null,{"$f":"'Ne pas modifier (calculs)'!FV79","v":"2017-12-28"},"R",{"$f":"'Ne pas modifier (calculs)'!GE79","v":"R"},null,{"$f":"'Ne pas modifier (calculs)'!$GB79","v":""},{"$f":"'Ne pas modifier (calculs)'!$GD79","v":""}]
[null,null,null,null,null,null,null,null,{"$f":"'Ne pas modifier (calculs)'!FV80","v":"2017-12-29"},"R",{"$f":"'Ne pas modifier (calculs)'!GE80","v":"R"},null,{"$f":"'Ne pas modifier (calculs)'!$GB80","v":""},{"$f":"'Ne pas modifier (calculs)'!$GD80","v":""}]
[{"$f":"'Ne pas modifier (calculs)'!FN81","v":""},null,null,null,null,null,null,null,{"$f":"'Ne pas modifier (calculs)'!FV81","v":"2017-12-30"},0,{"$f":"'Ne pas modifier (calculs)'!GE81","v":"B"},null,{"$f":"'Ne pas modifier (calculs)'!$GB81","v":""},{"$f":"'Ne pas modifier (calculs)'!$GD81","v":""}]
[{"$f":"'Ne pas modifier (calculs)'!FN82","v":""},null,null,null,null,null,null,null,{"$f":"'Ne pas modifier (calculs)'!FV82","v":"2017-12-31"},0,{"$f":"'Ne pas modifier (calculs)'!GE82","v":"B"},null,{"$f":"'Ne pas modifier (calculs)'!$GB82","v":""},{"$f":"'Ne pas modifier (calculs)'!$GD82","v":""}]

{"sheet":"CCTP","index":6,"n_rows":207,"n_cols":6,"rows_kept":207,"cut":false,"hidden":true,"merged":[]}
["Affaire n° :","Lot n° :","Intitulé du lot :","Lot n° :","Bassin ou territoire","N° marché :"]
["15S0893",1,"Action territoriale de consolidation de parcours",1,"Bassin sidérurgique"]
["15S0893",2,"Action territoriale de consolidation de parcours",2,"Bassin sidérurgique"]
["15S0893",3,"Action territoriale de consolidation de parcours",3,"Bassin sidérurgique"]
["15S0893",4,"Action territoriale de consolidation de parcours",4,"Bassin sidérurgique"]
["15S0893",5,"Action territoriale de consolidation de parcours",5,"Bassin sidérurgique"]
["15S0893",6,"Action territoriale de consolidation de parcours",6,"Briey"]
["15S0893",7,"Action territoriale de consolidation de parcours",7,"Briey"]
["15S0893",8,"Action territoriale de consolidation de parcours",8,"Epinal"]
["15S0893",9,"Action territoriale de consolidation de parcours",9,"Epinal"]
["15S0893",10,"Action territoriale de consolidation de parcours",10,"Epinal"]
["15S0893",11,"Action territoriale de consolidation de parcours",11,"Longwy"]
["15S0893",12,"Action territoriale de consolidation de parcours",12,"Longwy"]
["15S0893",13,"Action territoriale de consolidation de parcours",13,"Longwy"]
["15S0893",14,"Action territoriale de consolidation de parcours",14,"Longwy"]
["15S0893",15,"Action territoriale de consolidation de parcours",15,"Lunéville"]
["15S0893",16,"Action territoriale de consolidation de parcours",16,"Lunéville"]
["15S0893",17,"Action territoriale de consolidation de parcours",17,"Lunéville"]
["15S0893",18,"Action territoriale de consolidation de parcours",18,"Lunéville"]
["15S0893",19,"Action territoriale de consolidation de parcours",19,"Lunéville"]
["15S0893",20,"Action territoriale de consolidation de parcours",20,"Lunéville"]
["15S0893",21,"Action territoriale de consolidation de parcours",21,"Metz"]
["15S0893",22,"Action territoriale de consolidation de parcours",22,"Metz"]
["15S0893",23,"Action territoriale de consolidation de parcours",23,"Metz"]
["15S0893",24,"Action territoriale de consolidation de parcours",24,"Meuse du Nord"]
["15S0893",25,"Action territoriale de consolidation de parcours",25,"Meuse du Nord"]
["15S0893",26,"Action territoriale de consolidation de parcours",26,"Meuse du Nord"]
["15S0893",27,"Action territoriale de consolidation de parcours",27,"Meuse du Sud"]
["15S0893",28,"Action territoriale de consolidation de parcours",28,"Meuse du Sud"]
["15S0893",29,"Action territoriale de consolidation de parcours",29,"Meuse du Sud"]
["15S0893",30,"Action territoriale de consolidation de parcours",30,"Meuse du Sud"]
["15S0893",31,"Action territoriale de consolidation de parcours",31,"Bassin Houiller"]
["15S0893",32,"Action territoriale de consolidation de parcours",32,"Bassin Houiller"]
["15S0893",33,"Action territoriale de consolidation de parcours",33,"Bassin Houiller"]
["15S0893",34,"Action territoriale de consolidation de parcours",34,"Nancy"]
["15S0893",35,"Action territoriale de consolidation de parcours",35,"Nancy"]
["15S0893",36,"Action territoriale de consolidation de parcours",36,"Remiremont"]
["15S0893",37,"Action territoriale de consolidation de parcours",37,"Remiremont"]
["15S0893",38,"Action territoriale de consolidation de parcours",38,"Remiremont"]
["15S0893",39,"Action territoriale de consolidation de parcours",39,"Saint Dié"]
["15S0893",40,"Action territoriale de consolidation de parcours",40,"Saint Dié"]
["15S0893",41,"Action territoriale de consolidation de parcours",41,"Sarrebourg"]
["15S0893",42,"Action territoriale de consolidation de parcours",42,"Sarrebourg"]
["15S0893",43,"Action territoriale de consolidation de parcours",43,"Sarrebourg"]
["15S0893",44,"Action territoriale de consolidation de parcours",44,"Toul"]
["15S0893",45,"Action territoriale de consolidation de parcours",45,"Toul"]
["15S0893",46,"Action territoriale de consolidation de parcours",46,"Toul"]
["15S0893",47,"Action territoriale de consolidation de parcours",47,"Pont-à-Mousson"]
["15S0893",48,"Action territoriale de consolidation de parcours",48,"Pont-à-Mousson"]
["15S0893",49,"Action territoriale de consolidation de parcours",49,"Pont-à-Mousson"]
["15S0893",50,"Action territoriale de consolidation de parcours",50,"Pont-à-Mousson"]
["15S0893",51,"Action territoriale de consolidation de parcours",51,"Vosges de l'Ouest"]
["15S0893",52,"Action territoriale de consolidation de parcours",52,"Vosges de l'Ouest"]
["15S0893",53,"ACTIONS REGIONALES DE VALIDATION DE PARCOURS METIERS",53,"Bassin Houiller"]
["15S0893",54,"ACTIONS REGIONALES DE VALIDATION DE PARCOURS METIERS",54,"Bassin Houiller"]
["15S0893",55,"ACTIONS REGIONALES DE VALIDATION DE PARCOURS METIERS",55,"Meuse du Nord"]
["15S0893",56,"ACTIONS REGIONALES DE VALIDATION DE PARCOURS METIERS",56,"Meuse du Sud"]
["15S0893",57,"ACTIONS REGIONALES DE VALIDATION DE PARCOURS METIERS",57,"Epinal"]
["15S0893",58,"ACTIONS REGIONALES DE VALIDATION DE PARCOURS METIERS",58,"Nancy"]
["15S0893",59,"ACTIONS REGIONALES DE VALIDATION DE PARCOURS METIERS",59,"Metz"]
["15S0893",60,"ACTIONS REGIONALES DE VALIDATION DE PARCOURS METIERS",60,"Nancy"]
["15S0893",61,"ACTIONS REGIONALES DE VALIDATION DE PARCOURS METIERS",61,"Meuse du Nord"]
["15S0893",62,"ACTIONS REGIONALES DE VALIDATION DE PARCOURS METIERS",62,"Metz/Bassin sidérurgique"]
["15S0893",63,"ACTIONS REGIONALES DE VALIDATION DE PARCOURS METIERS",63,"Bassin Houiller"]
["15S0893",64,"ACTIONS REGIONALES DE VALIDATION DE PARCOURS METIERS",64,"Bassin sidérurgique"]
["15S0893",65,"ACTIONS REGIONALES DE VALIDATION DE PARCOURS METIERS",65,"Nancy"]
["15S0893",66,"ACTIONS REGIONALES DE VALIDATION DE PARCOURS METIERS",66,"Nancy"]
["15S0893",67,"ACTIONS REGIONALES DE VALIDATION DE PARCOURS METIERS",67,"Metz"]
["15S0893",68,"ACTIONS REGIONALES DE VALIDATION DE PARCOURS METIERS",68,"Epinal"]
["15S0893",69,"Agent(e) de propreté et d'hygiène",69,"Lorraine"]
["15S0893",70,"Agent(e) de sûreté de sécurité privée",70,"Lorraine"]
["15S0893",71,"Agent(e) de sécurité",71,"Briey"]
["15S0893",72,"Métiers de bouche et artisanat -Qualification / requalif",72,"Meuse du sud"]
["15S0893",73,"Métiers de bouche et artisanat -Qualification / requalif",73,"Metz"]
["15S0893",74,"Métiers de bouche et artisanat -Qualification / requalif",74,"Epinal"]
["15S0893",75,"Cordiste (formation aux travaux d'accès difficiles)",75,"Metz"]
["15S0893",76,"Cordiste (formation aux travaux d'accès difficiles)",76,"Remiremont"]
["15S0893",77,"Formateur (trice) d'adultes",77,"Nancy"]
["15S0893",78,"Métiers de la fonction support aux entreprises",78,"Lorraine"]
["15S0893",79,"Secrétaire médico-sociale",79,"Nancy"]
["15S0893",80,"Modulaire fonction support aux entreprises",80,"Briey"]
["15S0893",81,"Modulaire fonction support aux entreprises",81,"Longwy"]
["15S0893",82,"Modulaire fonction support aux entreprises",82,"Nancy"]
["15S0893",83,"Modulaire fonction support aux entreprises",83,"Metz"]
["15S0893",84,"Modulaire fonction support aux entreprises",84,"Bassin sidérurgique"]
["15S0893",85,"Secrétaire assistant(e)",85,"Nancy"]
["15S0893",86,"Secrétaire assistant(e)",86,"Longwy"]
["15S0893",87,"Assistant(e) comptable",87,"Metz"]
["15S0893",88,"Technicien(ne) supérieur(e) comptable",88,"Meuse du sud"]
["15S0893",89,"Assistant(e) de gestion PME-PMI",89,"Metz"]
["15S0893",90,"Assistant(e) de gestion PME-PMI",90,"Bassin Houiller"]
["15S0893",91,"Assistant(e) de gestion PME-PMI",91,"Meuse du nord"]
["15S0893",92,"Assistant(e) Manager",92,"Nancy"]
["15S0893",93,"Technicien(ne) agricole",93,"Lorraine"]
["15S0893",94,"Technicien(ne) agricole option maraichage biologique",94,"Lorraine"]
["15S0893",95,"Producteur (trice) fermier(ère)",95,"Lorraine"]
["15S0893",96,"Technicien(ne) de laboratoire de contrôle",96,"Nancy"]
["15S0893",97,"Métiers de la transformation alimentaire",97,"Meuse du sud"]
["15S0893",98,"Technicien(ne) paysagiste",98,"Metz"]
["15S0893",99,"Technico-commercial(e) végétaux d'ornements",99,"Metz"]
["15S0893",100,"Technico-commercial(e) produits agroalimentaires et de l'agrofourniture",100,"Nancy"]
["15S0893",101,"Ouvrier(ère) hautement qualifié(e) en travaux paysagers",101,"Epinal"]
["15S0893",102,"Technicien(ne) horticole / technicien(ne) paysagiste",102,"Epinal"]
["15S0893",103,"Aménageur(euse) du paysage",103,"Epinal"]
["15S0893",104,"Métiers de la fôret",104,"Epinal"]
["15S0893",105,"Ouvrier(ère) polyvalent(e) du bois",105,"Remiremont"]
["15S0893",106,"Technicien(ne) polyvalent(e) de scierie",106,"Remiremont"]
["15S0893",107,"Affuteur(euse) - Règleur(euse)",107,"Remiremont"]
["15S0893",108,"Métiers d'art du verre",108,"Lorraine"]
["15S0893",109,"Métiers d'art du verre (développement des savoirs verriers)",109,"Lorraine"]
["15S0893",110,"Concepteur(trice) - Créateur(trice) en métiers d'art",110,"Lorraine"]
["15S0893",111,"Métiers du gros oeuvre",111,"Lorraine"]
["15S0893",112,"Ouvrier(ère) de la maçonnerie",112,"Meuse du sud"]
["15S0893",113,"Dessinateur(trice) d'études du bâtiment",113,"Nancy"]
["15S0893",114,"Métiers du second-oeuvre",114,"Lorraine"]
["15S0893",115,"Maçon(ne) carreleur(euse)",115,"Meuse du sud"]
["15S0893",116,"Enduiseur(euse) facadier(ère)",116,"Lunéville"]
["15S0893",117,"Métiers du second oeuvre équipement",117,"Lorraine"]
["15S0893",118,"Installateur(trice) sanitaire et thermique",118,"Longwy"]
["15S0893",119,"Maintenicien(ne) des systèmes thermiques",119,"Meuse du nord"]
["15S0893",120,"Métiers de l'électricité du bâtiment",120,"Lorraine"]
["15S0893",121,"Métiers des travaux publics",121,"Lorraine"]
["15S0893",122,"Maçon(ne) VRD - constructeur(trice) de routes",122,"Lunéville"]
["15S0893",123,"Conducteur(trice) d'engins de chantier CACES 1,2,4,7",123,"Toul"]
["15S0893",124,"Métiers des réseaux de communication",124,"Lorraine"]
["15S0893",125,"Métiers du bois construction",125,"Lorraine"]
["15S0893",126,"Métiers de la vente, du commerce et de la distribution",126,"Lorraine"]
["15S0893",127,"Modulaire vente",127,"Longwy"]
["15S0893",128,"Modulaire vente",128,"Bassin sidérurgique"]
["15S0893",129,"Vendeur(se)",129,"Nancy"]
["15S0893",130,"Vendeur(se)",130,"Briey"]
["15S0893",131,"Vendeur(se)",131,"Pont-à-Mousson"]
["15S0893",132,"Vendeur(se)",132,"Meuse du nord"]
["15S0893",133,"Vendeur(se)",133,"Bassin sidérurgique"]
["15S0893",134,"Vendeur(se)",134,"Metz"]
["15S0893",135,"Vendeur(se)",135,"Nancy"]
["15S0893",136,"Vendeur(se)",136,"Lunéville"]
["15S0893",137,"Attaché(e) commercial(e)",137,"Meuse du sud"]
["15S0893",138,"Attaché(e) commercial(e)",138,"Metz"]
["15S0893",139,"Attaché(e) commercial(e)",139,"Epinal"]
["15S0893",140,"Vendeur(se) Manager Commercial(e)",140,"St Dié"]
["15S0893",141,"Vendeur(se) Manager Commercial(e)",141,"Nancy"]
["15S0893",142,"Délégué(e) pharmaceutique",142,"Nancy"]
["15S0893",143,"Métiers de l'hôtellerie et de la restauration",143,"Lorraine"]
["15S0893",144,"Cuisinier(ère) ou serveur(se)",144,"Meuse du sud"]
["15S0893",145,"Cuisinier(ère)",145,"Metz"]
["15S0893",146,"Cuisinier(ère) ou serveur(se) ou agent(e) d'hôtellerie",146,"Vosges de l'Ouest"]
["15S0893",147,"Cuisinier(ère) ou serveur(se)",147,"St Dié"]
["15S0893",148,"Cuisinier(ère) ou serveur(se)",148,"Gérardmer"]
["15S0893",149,"Métiers de l'hôtellerie et du tourisme",149,"Lorraine"]
["15S0893",150,"Réceptionniste en établissement hôtelier",150,"Nancy"]
["15S0893",151,"Réceptionniste en établissement hôtelier",151,"Metz"]
["15S0893",152,"Econome gestionnaire de collectivité",152,"Nancy"]
["15S0893",153,"Technicien(ne) d'études en chaudronnerie et tuyauteries industrielles",153,"Bassin Houiller"]
["15S0893",154,"Technicien(ne) en bureau d'études - CAO- métrologie - éco conception",154,"Nancy"]
["15S0893",155,"Dessinateur(trice) projeteur(se) spécialisé(e) en DAO",155,"Nancy"]
["15S0893",156,"Métiers de la fabrication, de l'assemblage, de la chaudronnerie, de la tuyauterie, de la métallerie et du calorifugeage",156,"Bassin Houiller"]
["15S0893",157,"Tuyauteur(se) - chaudronnier(ère) - soudeur(se)",157,"Nancy"]
["15S0893",158,"Tuyauteur(se) industriel(le)",158,"Bassin Houiller"]
["15S0893",159,"Calorifugeur(se)",159,"Bassin Houiller"]
["15S0893",160,"Métiers de la maintenance industrielle",160,"Lorraine"]
["15S0893",161,"Technicien(ne) supérieur(e) de maintenance industrielle",161,"Meuse du Sud"]
["15S0893",162,"Technicien(ne) en installation et maintenance en robinetterie nucléaire",162,"Bassin Houiller"]
["15S0893",163,"Modulaire Métiers de la maintenance et de la Production Industrielle",163,"Bassin Sidérurgique"]
["15S0893",164,"Technicien(ne) en ascenseur",164,"Longwy"]
["15S0893",165,"Polymaintenicien(ne) pilote - maintenicien(ne)",165,"Bassin Sidérurgique"]
["15S0893",166,"Polymaintenicien(ne) pilote - maintenicien(ne)",166,"Vosges de l'Ouest"]
["15S0893",167,"Polymaintenicien(ne) Electricien(ne) de maintenance des équipements industriels",167,"Meuse du Sud"]
["15S0893",168,"Conducteur(trice) d'installation et de machines automatisées",168,"Bassin Houiller"]
["15S0893",169,"Conducteur(trice) de systèmes industriels",169,"Metz - Bassin Sidérurgique"]
["15S0893",170,"Métiers de l'usinage",170,"Metz"]
["15S0893",171,"Assembleur(se) monteur(se) des systèmes mécanisés option tourneur(se) fraiseur(se) soudeur(se)",171,"Meuse du Sud"]
["15S0893",172,"Opérateur(trice) règleur(se) sur machine-outil à commande numérique par enlèvement de matièr",172,"Meuse du Sud"]
["15S0893",173,"Opérateur(trice) sur machine-outil à commande numérique",173,"Vosges de l'Ouest"]
["15S0893",174,"Plateforme productique",174,"Bassin Houiller/ transfrontalier"]
["15S0893",175,"Métiers de la soudure",175,"Lorraine"]
["15S0893",176,"Plateforme soudure",176,"Lorraine"]
["15S0893",177,"Assembleur(se) au plan",177,"Bassin Sidérurgique"]
["15S0893",178,"Métiers des activités liées aux services de l'automobile",178,"Lorraine"]
["15S0893",179,"Métiers de l'informatique et du numérique",179,"Lorraine"]
["15S0893",180,"Assistant(e) de vie dépendance",180,"Nancy"]
["15S0893",181,"Assistant maternel(le) garde d'enfants",181,"Nancy"]
["15S0893",182,"Agent d'accompagnement auprès des personnes âgées dépendantes",182,"Bassin Houiller"]
["15S0893",183,"Assistant(e) de vie aux familles",183,"Briey/Longwy/Nancy"]
["15S0893",184,"Animateur(trice) sportif(ve)",184,"Nancy"]
["15S0893",185,"Animateur(trice) sportif(ve)",185,"Nancy"]
["15S0893",186,"Animateur(trice) sportif(ve)",186,"Nancy"]
["15S0893",187,"Animateur(trice) sportif(ve)",187,"Metz"]
["15S0893",188,"Animateur(trice) sportif(ve)",188,"Epinal"]
["15S0893",189,"Accompagnateur(trice) en montagne",189,"Saint Dié- Gérardmer"]
["15S0893",190,"Moniteur(trice) de ski",190,"Saint Dié- Gérardmer"]
["15S0893",191,"Opérateur(trice) de parcours acrobatiques en hauteur - validation",191,"Remiremont-Gérardmer"]
["15S0893",192,"Pisteur(se) secouriste",192,"Saint Dié- Gérardmer"]
["15S0893",193,"Métiers de la logistique",193,"Lorraine"]
["15S0893",194,"Cariste d'entrepôt",194,"Bassin Houiller"]
["15S0893",195,"Agent(e) de manipulation et de déplacement des charges",195,"Nancy/Toul/Pont à mousson"]
["15S0893",196,"Agent(e) de manipulation et de déplacement des charges",196,"Metz-Bassin sidérurgique"]
["15S0893",197,"Responsable logistique",197,"Nancy"]
["15S0893",198,"Agent(e) de stockage et de répartition des marchandises",198,"Meuse du nord"]
["15S0893",199,"Métiers du transport",199,"Lorraine"]
["15S0893",200,"Chauffeur(se) de taxi",200,"Metz"]
["15S0893",201,"Moniteur(trice) auto-école",201,"Nancy"]
["15S0893",202,"Moniteur(trice) auto-école",202,"Metz"]
["15S0893",203,"Conducteur(trice) du transport routier de marchandises",203,"Nancy/Toul/Pont à mousson"]
["15S0893",204,"Conducteur(trice) du transport routier de marchandises",204,"Briey/Longwy"]
["15S0893",205,"Conducteur(trice) du transport routier de marchandises",205,"Metz/Bassin sidérurgique"]
["15S0893",206,"Métiers du transport",206,"Bassin Houllier"]

{"sheet":"ECM 30.05.16","index":7,"n_rows":100,"n_cols":62,"rows_kept":100,"cut":false,"hidden":true,"merged":[[5,6,5,24],[5,30,5,48],[1,3,1,21],[3,25,3,29],[3,30,3,48],[4,25,4,29],[4,30,4,48],[10,45,10,48],[6,6,6,24],[6,30,6,48],[7,30,7,48],[9,1,9,48],[10,1,10,4],[10,5,10,8],[10,9,10,12],[10,13,10,16],[10,17,10,20],[10,21,10,24],[10,25,10,28],[10,29,10,32],[10,33,10,36],[10,37,10,40],[10,41,10,44],[45,45,45,46],[45,1,45,2],[45,5,45,6],[45,9,45,10],[45,13,45,14],[45,17,45,18],[45,21,45,22],[45,25,45,26],[45,29,45,30],[45,33,45,34],[45,37,45,38],[45,41,45,42],[48,1,48,48],[49,1,49,4],[49,5,49,8],[49,9,49,12],[49,13,49,16],[49,17,49,20],[49,21,49,24],[49,25,49,28],[49,29,49,32],[49,33,49,36],[49,37,49,40],[49,41,49,44],[49,45,49,48],[84,1,84,2],[84,5,84,6],[84,9,84,10],[84,13,84,14],[84,17,84,18],[84,21,84,22],[84,25,84,26],[89,1,89,10],[89,11,90,16],[89,17,90,22],[89,23,90,28],[90,1,90,10],[84,29,84,30],[84,33,84,34],[84,37,84,38],[84,41,84,42],[84,45,84,46],[91,1,91,10],[91,11,91,16],[91,17,91,22],[91,23,91,28],[92,1,92,10],[92,11,92,16],[92,17,92,22],[92,23,92,28],[95,1,95,10],[95,11,95,16],[95,17,95,22],[95,23,95,28],[93,1,93,10],[93,11,93,16],[93,17,93,22],[93,23,93,28],[94,1,94,10],[94,11,94,16],[94,17,94,22],[94,23,94,28]]}
[]
[null,null,null,"Calendrier prévisionnel 2016 / 2017 pour l'action Employé commercial en magasin sur le site de Saint-Avold"]
[null,null,null,null,null,null,null,null,null,null,null,null,null,null,null,null,null,null,null,null,null,null,null,null,null,null,null,null,null,null,null,null,null,null,null,null,null,null,null,null,null,null,null,null,null,null,null,null,null,null,"2016-05-30"]
[null,"Organisme * :",null,null,null,null,"Centre AFPA de Saint-Avold",null,null,null,null,null,null,null,null,null,null,null,null,null,null,null,null,null,null,"Affaire n° :",null,null,null,"*","15S0893",null,null,null,null,null,null,null,null,null,null,null,null,null,null,null,null,null,null,null,null,null,null,null,null,null,null,null,null,null,"HC","Nbre"]
[null,"Dates de l'action :",null,null,null,null,"Du 30 mai 2016 au 07 septembre 2016",null,null,null,null,null,null,null,null,null,null,null,null,null,null,null,null,null,null,"Lot n° :",null,null,null,"*",162,null,null,null,null,null,null,null,null,null,null,null,null,null,null,null,null,null,null,null,2016,null,null,null,null,null,null,null,null,null,"DI",0]
[null,"Périodes en centre :",null,null,null,null,"Du 30 mai 2016 au 24 juin 2016, puis du 11 juillet 2016 au 29 juillet 2016, et du 16 août 2016 au 07 septembre 2016",null,null,null,null,null,null,null,null,null,null,null,null,null,null,null,null,null,null,"N° marché :",null,null,null,null,null,null,null,null,null,null,null,null,null,null,null,null,null,null,null,null,null,null,null,null,2017,null,null,null,null,null,null,null,null,null,"JE",8]
[null,"Périodes en entreprise :",null,null,null,null,"Du 27 juin 2016 au 08 juillet 2016, puis du 01 août 2016 au 12 août 2016",null,null,null,null,null,null,null,null,null,null,null,null,null,null,null,null,null,null,"Intitulé du lot :",null,null,null,null,"Technicien(ne) en installation et maintenance en robinetterie nucléaire",null,null,null,null,null,null,null,null,null,null,null,null,null,null,null,null,null,null,null,null,null,null,null,null,null,null,null,null,null,"LU",7]
[null,null,null,null,null,null,null,null,null,null,null,null,null,null,null,null,null,null,null,null,null,null,null,null,null,"Bassin ou territoire",null,null,null,null,"Bassin Houiller",null,null,null,null,null,null,null,null,null,null,null,null,null,null,null,null,null,null,null,null,null,null,null,null,null,null,null,null,null,"MA",8]
[null,null,null,null,null,null,null,null,null,null,null,null,null,null,null,null,null,null,null,null,null,null,null,null,null,null,null,null,null,null,null,null,null,null,null,null,null,null,null,null,null,null,null,null,null,null,null,null,null,null,null,null,null,null,null,null,null,null,null,null,"ME",8]
[null,2016,null,null,null,null,null,null,null,null,null,null,null,null,null,null,null,null,null,null,null,null,null,null,null,null,null,null,null,null,null,null,null,null,null,null,null,null,null,null,null,null,null,null,null,null,null,null,null,null,null,null,null,null,null,null,null,null,null,null,"SA",0]
[null,"Janvier",null,null,null,"Février",null,null,null,"Mars",null,null,null,"Avril",null,null,null,"Mai",null,null,null,"Juin",null,null,null,"Juillet",null,null,null,"Août",null,null,null,"Septembre",null,null,null,"Octobre",null,null,null,"Novembre",null,null,null,"Décembre",null,null,null,null,null,null,null,null,null,null,null,null,null,null,"VE",4]
[null,null,null,"HC","HE",null,null,"HC","HE",null,null,"HC","HE",null,null,"HC","HE",null,null,"HC","HE",null,null,"HC","HE",null,null,"HC","HE",null,null,"HC","HE",null,null,"HC","HE",null,null,"HC","HE",null,null,"HC","HE",null,null,"HC","HE"]
[null,"2016-01-01","V","","","2016-02-01","L","","","2016-03-01","M","","","2016-04-01","V","","","2016-05-01","D","","","2016-06-01","M",8,"","2016-07-01","V","",7,"2016-08-01","L","",7,"2016-09-01","J",8,"","2016-10-01","S","","","2016-11-01","M","","","2016-12-01","J","","",null,null,null,null,null,null,null,null,null,null,null,"HE"]
[null,"2016-01-02","S","","","2016-02-02","M","","","2016-03-02","M","","","2016-04-02","S","","","2016-05-02","L","","","2016-06-02","J",8,"","2016-07-02","S",0,"","2016-08-02","M","",7,"2016-09-02","V",4,"","2016-10-02","D","","","2016-11-02","M","","","2016-12-02","V","","",null,null,null,null,null,null,null,null,null,null,null,"DI",0]
[null,"2016-01-03","D","","","2016-02-03","M","","","2016-03-03","J","","","2016-04-03","D","","","2016-05-03","M","","","2016-06-03","V",4,"","2016-07-03","D",0,"","2016-08-03","M","",7,"2016-09-03","S",0,"","2016-10-03","L","","","2016-11-03","J","","","2016-12-03","S","","",null,null,null,null,null,null,null,null,null,null,null,"JE",7]
[null,"2016-01-04","L","","","2016-02-04","J","","","2016-03-04","V","","","2016-04-04","L","","","2016-05-04","M","","","2016-06-04","S",0,"","2016-07-04","L","",7,"2016-08-04","J","",7,"2016-09-04","D",0,"","2016-10-04","M","","","2016-11-04","V","","","2016-12-04","D","","",null,null,null,null,null,null,null,null,null,null,null,"LU",7]
[null,"2016-01-05","M","","","2016-02-05","V","","","2016-03-05","S","","","2016-04-05","M","","","2016-05-05","J","","","2016-06-05","D",0,"","2016-07-05","M","",7,"2016-08-05","V","",7,"2016-09-05","L",7,"","2016-10-05","M","","","2016-11-05","S","","","2016-12-05","L","","",null,null,null,null,null,null,null,null,null,null,null,"MA",7]
[null,"2016-01-06","M","","","2016-02-06","S","","","2016-03-06","D","","","2016-04-06","M","","","2016-05-06","V","","","2016-06-06","L",7,"","2016-07-06","M","",7,"2016-08-06","S",0,"","2016-09-06","M",8,"","2016-10-06","J","","","2016-11-06","D","","","2016-12-06","M","","",null,null,null,null,null,null,null,null,null,null,null,"ME",7]
[null,"2016-01-07","J","","","2016-02-07","D","","","2016-03-07","L","","","2016-04-07","J","","","2016-05-07","S","","","2016-06-07","M",8,"","2016-07-07","J","",7,"2016-08-07","D",0,"","2016-09-07","M",4,"","2016-10-07","V","","","2016-11-07","L","","","2016-12-07","M","","",null,null,null,null,null,null,null,null,null,null,null,"SA",0]
[null,"2016-01-08","V","","","2016-02-08","L","","","2016-03-08","M","","","2016-04-08","V","","","2016-05-08","D","","","2016-06-08","M",8,"","2016-07-08","V","",7,"2016-08-08","L","",7,"2016-09-08","J","","","2016-10-08","S","","","2016-11-08","M","","","2016-12-08","J","","",null,null,null,null,null,null,null,null,null,null,null,"VE",7]
[null,"2016-01-09","S","","","2016-02-09","M","","","2016-03-09","M","","","2016-04-09","S","","","2016-05-09","L","","","2016-06-09","J",8,"","2016-07-09","S",0,"","2016-08-09","M","",7,"2016-09-09","V","","","2016-10-09","D","","","2016-11-09","M","","","2016-12-09","V","",""]
[null,"2016-01-10","D","","","2016-02-10","M","","","2016-03-10","J","","","2016-04-10","D","","","2016-05-10","M","","","2016-06-10","V",4,"","2016-07-10","D",0,"","2016-08-10","M","",7,"2016-09-10","S","","","2016-10-10","L","","","2016-11-10","J","","","2016-12-10","S","",""]
[null,"2016-01-11","L","","","2016-02-11","J","","","2016-03-11","V","","","2016-04-11","L","","","2016-05-11","M","","","2016-06-11","S",0,"","2016-07-11","L",7,"","2016-08-11","J","",7,"2016-09-11","D","","","2016-10-11","M","","","2016-11-11","V","","","2016-12-11","D","",""]
[null,"2016-01-12","M","","","2016-02-12","V","","","2016-03-12","S","","","2016-04-12","M","","","2016-05-12","J","","","2016-06-12","D",0,"","2016-07-12","M",8,"","2016-08-12","V","",7,"2016-09-12","L","","","2016-10-12","M","","","2016-11-12","S","","","2016-12-12","L","","",null,null,1]
[null,"2016-01-13","M","","","2016-02-13","S","","","2016-03-13","D","","","2016-04-13","M","","","2016-05-13","V","","","2016-06-13","L",7,"","2016-07-13","M",8,"","2016-08-13","S",0,"","2016-09-13","M","","","2016-10-13","J","","","2016-11-13","D","","","2016-12-13","M","","",null,null,1]
[null,"2016-01-14","J","","","2016-02-14","D","","","2016-03-14","L","","","2016-04-14","J","","","2016-05-14","S","","","2016-06-14","M",8,"","2016-07-14","J",0,"","2016-08-14","D",0,"","2016-09-14","M","","","2016-10-14","V","","","2016-11-14","L","","","2016-12-14","M","","",null,null,1]
[null,"2016-01-15","V","","","2016-02-15","L","","","2016-03-15","M","","","2016-04-15","V","","","2016-05-15","D","","","2016-06-15","M",8,"","2016-07-15","V",0,"","2016-08-15","L",0,"","2016-09-15","J","","","2016-10-15","S","","","2016-11-15","M","","","2016-12-15","J","","",null,null,1]
[null,"2016-01-16","S","","","2016-02-16","M","","","2016-03-16","M","","","2016-04-16","S","","","2016-05-16","L","","","2016-06-16","J",8,"","2016-07-16","S",0,"","2016-08-16","M",8,"","2016-09-16","V","","","2016-10-16","D","","","2016-11-16","M","","","2016-12-16","V","","",null,null,1]
[null,"2016-01-17","D","","","2016-02-17","M","","","2016-03-17","J","","","2016-04-17","D","","","2016-05-17","M","","","2016-06-17","V",4,"","2016-07-17","D",0,"","2016-08-17","M",8,"","2016-09-17","S","","","2016-10-17","L","","","2016-11-17","J","","","2016-12-17","S","","",null,null,1]
[null,"2016-01-18","L","","","2016-02-18","J","","","2016-03-18","V","","","2016-04-18","L","","","2016-05-18","M","","","2016-06-18","S",0,"","2016-07-18","L",7,"","2016-08-18","J",8,"","2016-09-18","D","","","2016-10-18","M","","","2016-11-18","V","","","2016-12-18","D","","",null,null,1]
[null,"2016-01-19","M","","","2016-02-19","V","","","2016-03-19","S","","","2016-04-19","M","","","2016-05-19","J","","","2016-06-19","D",0,"","2016-07-19","M",8,"","2016-08-19","V",4,"","2016-09-19","L","","","2016-10-19","M","","","2016-11-19","S","","","2016-12-19","L","","",null,null,1]
[null,"2016-01-20","M","","","2016-02-20","S","","","2016-03-20","D","","","2016-04-20","M","","","2016-05-20","V","","","2016-06-20","L",7,"","2016-07-20","M",8,"","2016-08-20","S",0,"","2016-09-20","M","","","2016-10-20","J","","","2016-11-20","D","","","2016-12-20","M","","",null,null,1]
[null,"2016-01-21","J","","","2016-02-21","D","","","2016-03-21","L","","","2016-04-21","J","","","2016-05-21","S","","","2016-06-21","M",8,"","2016-07-21","J",8,"","2016-08-21","D",0,"","2016-09-21","M","","","2016-10-21","V","","","2016-11-21","L","","","2016-12-21","M","","",null,null,1]
[null,"2016-01-22","V","","","2016-02-22","L","","","2016-03-22","M","","","2016-04-22","V","","","2016-05-22","D","","","2016-06-22","M",8,"","2016-07-22","V",4,"","2016-08-22","L",7,"","2016-09-22","J","","","2016-10-22","S","","","2016-11-22","M","","","2016-12-22","J","","",null,null,1]
[null,"2016-01-23","S","","","2016-02-23","M","","","2016-03-23","M","","","2016-04-23","S","","","2016-05-23","L","","","2016-06-23","J",8,"","2016-07-23","S",0,"","2016-08-23","M",8,"","2016-09-23","V","","","2016-10-23","D","","","2016-11-23","M","","","2016-12-23","V","","",null,null,1]
[null,"2016-01-24","D","","","2016-02-24","M","","","2016-03-24","J","","","2016-04-24","D","","","2016-05-24","M","","","2016-06-24","V",4,"","2016-07-24","D",0,"","2016-08-24","M",8,"","2016-09-24","S","","","2016-10-24","L","","","2016-11-24","J","","","2016-12-24","S","","",null,"",1]
[null,"2016-01-25","L","","","2016-02-25","J","","","2016-03-25","V","","","2016-04-25","L","","","2016-05-25","M","","","2016-06-25","S",0,"","2016-07-25","L",7,"","2016-08-25","J",8,"","2016-09-25","D","","","2016-10-25","M","","","2016-11-25","V","","","2016-12-25","D","","",null,null,0]
[null,"2016-01-26","M","","","2016-02-26","V","","","2016-03-26","S","","","2016-04-26","M","","","2016-05-26","J","","","2016-06-26","D",0,"","2016-07-26","M",8,"","2016-08-26","V",4,"","2016-09-26","L","","","2016-10-26","M","","","2016-11-26","S","","","2016-12-26","L","","",null,null,0]
[null,"2016-01-27","M","","","2016-02-27","S","","","2016-03-27","D","","","2016-04-27","M","","","2016-05-27","V","","","2016-06-27","L","",7,"2016-07-27","M",8,"","2016-08-27","S",0,"","2016-09-27","M","","","2016-10-27","J","","","2016-11-27","D","","","2016-12-27","M","","",null,null,0]
[null,"2016-01-28","J","","","2016-02-28","D","","","2016-03-28","L","","","2016-04-28","J","","","2016-05-28","S","","","2016-06-28","M","",7,"2016-07-28","J",8,"","2016-08-28","D",0,"","2016-09-28","M","","","2016-10-28","V","","","2016-11-28","L","","","2016-12-28","M","","",null,null,0]
[null,"2016-01-29","V","","","2016-02-29","L","","","2016-03-29","M","","","2016-04-29","V","","","2016-05-29","D","","","2016-06-29","M","",7,"2016-07-29","V",4,"","2016-08-29","L",7,"","2016-09-29","J","","","2016-10-29","S","","","2016-11-29","M","","","2016-12-29","J","","",null,null,0]
[null,"2016-01-30","S","","",null,null,"","","2016-03-30","M","","","2016-04-30","S","","","2016-05-30","L",7,"","2016-06-30","J","",7,"2016-07-30","S",0,"","2016-08-30","M",8,"","2016-09-30","V","","","2016-10-30","D","","","2016-11-30","M","","","2016-12-30","V","","",null,null,0]
[null,"2016-01-31","D","","",null,null,"","","2016-03-31","J","","",null,null,"","","2016-05-31","M",8,"",null,null,"","","2016-07-31","D",0,"","2016-08-31","M",8,"",null,null,"","","2016-10-31","L","","",null,null,"","","2016-12-31","S","","",null,null,0]
[]
[null,"Total HE/HC 2016"]
[null,"2016-01-01",null,{"$f":"SUM(D13:D43)","v":0},{"$f":"SUM(E13:E43)","v":0},"2016-02-01",null,{"$f":"SUM(H13:H43)","v":0},{"$f":"SUM(I13:I43)","v":0},"2016-03-01",null,{"$f":"SUM(L13:L43)","v":0},{"$f":"SUM(M13:M43)","v":0},"2016-04-01",null,{"$f":"SUM(P13:P43)","v":0},{"$f":"SUM(Q13:Q43)","v":0},"2016-05-01",null,{"$f":"SUM(T13:T43)","v":15},{"$f":"SUM(U13:U43)","v":0},"2016-06-01",null,{"$f":"SUM(X13:X43)","v":125},{"$f":"SUM(Y13:Y43)","v":28},"2016-07-01",null,{"$f":"SUM(AB13:AB43)","v":93},{"$f":"SUM(AC13:AC43)","v":42},"2016-08-01",null,{"$f":"SUM(AF13:AF43)","v":86},{"$f":"SUM(AG13:AG43)","v":70},"2016-09-01",null,{"$f":"SUM(AJ13:AJ43)","v":31},{"$f":"SUM(AK13:AK43)","v":0},"2016-10-01",null,{"$f":"SUM(AN13:AN43)","v":0},{"$f":"SUM(AO13:AO43)","v":0},"2016-11-01",null,{"$f":"SUM(AR13:AR43)","v":0},{"$f":"SUM(AS13:AS43)","v":0},"2016-12-01",null,{"$f":"SUM(AV13:AV43)","v":0},{"$f":"SUM(AW13:AW43)","v":0}]
[]
[]
[null,2017]
[null,"Janvier",null,null,null,"Février",null,null,null,"Mars",null,null,null,"Avril",null,null,null,"Mai",null,null,null,"Juin",null,null,null,"Juillet",null,null,null,"Août",null,null,null,"Septembre",null,null,null,"Octobre",null,null,null,"Novembre",null,null,null,"Décembre"]
[null,null,null,"HC","HE",null,null,"HC","HE",null,null,"HC","HE",null,null,"HC","HE",null,null,"HC","HE",null,null,"HC","HE",null,null,"HC","HE",null,null,"HC","HE",null,null,"HC","HE",null,null,"HC","HE",null,null,"HC","HE",null,null,"HC","HE"]
[null,"2017-01-01","D","","","2017-02-01","M","","","2017-03-01","M","","","2017-04-01","S","","","2017-05-01","L","","","2017-06-01","J","","","2017-07-01","S","","","2017-08-01","M","","","2017-09-01","V","","","2017-10-01","D","","","2017-11-01","M","","","2017-12-01","V","",""]
[null,"2017-01-02","L","","","2017-02-02","J","","","2017-03-02","J","","","2017-04-02","D","","","2017-05-02","M","","","2017-06-02","V","","","2017-07-02","D","","","2017-08-02","M","","","2017-09-02","S","","","2017-10-02","L","","","2017-11-02","J","","","2017-12-02","S","",""]
[null,"2017-01-03","M","","","2017-02-03","V","","","2017-03-03","V","","","2017-04-03","L","","","2017-05-03","M","","","2017-06-03","S","","","2017-07-03","L","","","2017-08-03","J","","","2017-09-03","D","","","2017-10-03","M","","","2017-11-03","V","","","2017-12-03","D","",""]
[null,"2017-01-04","M","","","2017-02-04","S","","","2017-03-04","S","","","2017-04-04","M","","","2017-05-04","J","","","2017-06-04","D","","","2017-07-04","M","","","2017-08-04","V","","","2017-09-04","L","","","2017-10-04","M","","","2017-11-04","S","","","2017-12-04","L","",""]
[null,"2017-01-05","J","","","2017-02-05","D","","","2017-03-05","D","","","2017-04-05","M","","","2017-05-05","V","","","2017-06-05","L","","","2017-07-05","M","","","2017-08-05","S","","","2017-09-05","M","","","2017-10-05","J","","","2017-11-05","D","","","2017-12-05","M","",""]
[null,"2017-01-06","V","","","2017-02-06","L","","","2017-03-06","L","","","2017-04-06","J","","","2017-05-06","S","","","2017-06-06","M","","","2017-07-06","J","","","2017-08-06","D","","","2017-09-06","M","","","2017-10-06","V","","","2017-11-06","L","","","2017-12-06","M","",""]
[null,"2017-01-07","S","","","2017-02-07","M","","","2017-03-07","M","","","2017-04-07","V","","","2017-05-07","D","","","2017-06-07","M","","","2017-07-07","V","","","2017-08-07","L","","","2017-09-07","J","","","2017-10-07","S","","","2017-11-07","M","","","2017-12-07","J","",""]
[null,"2017-01-08","D","","","2017-02-08","M","","","2017-03-08","M","","","2017-04-08","S","","","2017-05-08","L","","","2017-06-08","J","","","2017-07-08","S","","","2017-08-08","M","","","2017-09-08","V","","","2017-10-08","D","","","2017-11-08","M","","","2017-12-08","V","",""]
[null,"2017-01-09","L","","","2017-02-09","J","","","2017-03-09","J","","","2017-04-09","D","","","2017-05-09","M","","","2017-06-09","V","","","2017-07-09","D","","","2017-08-09","M","","","2017-09-09","S","","","2017-10-09","L","","","2017-11-09","J","","","2017-12-09","S","",""]
[null,"2017-01-10","M","","","2017-02-10","V","","","2017-03-10","V","","","2017-04-10","L","","","2017-05-10","M","","","2017-06-10","S","","","2017-07-10","L","","","2017-08-10","J","","","2017-09-10","D","","","2017-10-10","M","","","2017-11-10","V","","","2017-12-10","D","",""]
[null,"2017-01-11","M","","","2017-02-11","S","","","2017-03-11","S","","","2017-04-11","M","","","2017-05-11","J","","","2017-06-11","D","","","2017-07-11","M","","","2017-08-11","V","","","2017-09-11","L","","","2017-10-11","M","","","2017-11-11","S","","","2017-12-11","L","",""]
[null,"2017-01-12","J","","","2017-02-12","D","","","2017-03-12","D","","","2017-04-12","M","","","2017-05-12","V","","","2017-06-12","L","","","2017-07-12","M","","","2017-08-12","S","","","2017-09-12","M","","","2017-10-12","J","","","2017-11-12","D","","","2017-12-12","M","",""]
[null,"2017-01-13","V","","","2017-02-13","L","","","2017-03-13","L","","","2017-04-13","J","","","2017-05-13","S","","","2017-06-13","M","","","2017-07-13","J","","","2017-08-13","D","","","2017-09-13","M","","","2017-10-13","V","","","2017-11-13","L","","","2017-12-13","M","",""]
[null,"2017-01-14","S","","","2017-02-14","M","","","2017-03-14","M","","","2017-04-14","V","","","2017-05-14","D","","","2017-06-14","M","","","2017-07-14","V","","","2017-08-14","L","","","2017-09-14","J","","","2017-10-14","S","","","2017-11-14","M","","","2017-12-14","J","",""]
[null,"2017-01-15","D","","","2017-02-15","M","","","2017-03-15","M","","","2017-04-15","S","","","2017-05-15","L","","","2017-06-15","J","","","2017-07-15","S","","","2017-08-15","M","","","2017-09-15","V","","","2017-10-15","D","","","2017-11-15","M","","","2017-12-15","V","",""]
[null,"2017-01-16","L","","","2017-02-16","J","","","2017-03-16","J","","","2017-04-16","D","","","2017-05-16","M","","","2017-06-16","V","","","2017-07-16","D","","","2017-08-16","M","","","2017-09-16","S","","","2017-10-16","L","","","2017-11-16","J","","","2017-12-16","S","",""]
[null,"2017-01-17","M","","","2017-02-17","V","","","2017-03-17","V","","","2017-04-17","L","","","2017-05-17","M","","","2017-06-17","S","","","2017-07-17","L","","","2017-08-17","J","","","2017-09-17","D","","","2017-10-17","M","","","2017-11-17","V","","","2017-12-17","D","",""]
[null,"2017-01-18","M","","","2017-02-18","S","","","2017-03-18","S","","","2017-04-18","M","","","2017-05-18","J","","","2017-06-18","D","","","2017-07-18","M","","","2017-08-18","V","","","2017-09-18","L","","","2017-10-18","M","","","2017-11-18","S","","","2017-12-18","L","",""]
[null,"2017-01-19","J","","","2017-02-19","D","","","2017-03-19","D","","","2017-04-19","M","","","2017-05-19","V","","","2017-06-19","L","","","2017-07-19","M","","","2017-08-19","S","","","2017-09-19","M","","","2017-10-19","J","","","2017-11-19","D","","","2017-12-19","M","",""]
[null,"2017-01-20","V","","","2017-02-20","L","","","2017-03-20","L","","","2017-04-20","J","","","2017-05-20","S","","","2017-06-20","M","","","2017-07-20","J","","","2017-08-20","D","","","2017-09-20","M","","","2017-10-20","V","","","2017-11-20","L","","","2017-12-20","M","",""]
[null,"2017-01-21","S","","","2017-02-21","M","","","2017-03-21","M","","","2017-04-21","V","","","2017-05-21","D","","","2017-06-21","M","","","2017-07-21","V","","","2017-08-21","L","","","2017-09-21","J","","","2017-10-21","S","","","2017-11-21","M","","","2017-12-21","J","",""]
[null,"2017-01-22","D","","","2017-02-22","M","","","2017-03-22","M","","","2017-04-22","S","","","2017-05-22","L","","","2017-06-22","J","","","2017-07-22","S","","","2017-08-22","M","","","2017-09-22","V","","","2017-10-22","D","","","2017-11-22","M","","","2017-12-22","V","",""]
[null,"2017-01-23","L","","","2017-02-23","J","","","2017-03-23","J","","","2017-04-23","D","","","2017-05-23","M","","","2017-06-23","V","","","2017-07-23","D","","","2017-08-23","M","","","2017-09-23","S","","","2017-10-23","L","","","2017-11-23","J","","","2017-12-23","S","",""]
[null,"2017-01-24","M","","","2017-02-24","V","","","2017-03-24","V","","","2017-04-24","L","","","2017-05-24","M","","","2017-06-24","S","","","2017-07-24","L","","","2017-08-24","J","","","2017-09-24","D","","","2017-10-24","M","","","2017-11-24","V","","","2017-12-24","D","","",null,""]
[null,"2017-01-25","M","","","2017-02-25","S","","","2017-03-25","S","","","2017-04-25","M","","","2017-05-25","J","","","2017-06-25","D","","","2017-07-25","M","","","2017-08-25","V","","","2017-09-25","L","","","2017-10-25","M","","","2017-11-25","S","","","2017-12-25","L","",""]
[null,"2017-01-26","J","","","2017-02-26","D","","","2017-03-26","D","","","2017-04-26","M","","","2017-05-26","V","","","2017-06-26","L","","","2017-07-26","M","","","2017-08-26","S","","","2017-09-26","M","","","2017-10-26","J","","","2017-11-26","D","","","2017-12-26","M","",""]
[null,"2017-01-27","V","","","2017-02-27","L","","","2017-03-27","L","","","2017-04-27","J","","","2017-05-27","S","","","2017-06-27","M","","","2017-07-27","J","","","2017-08-27","D","","","2017-09-27","M","","","2017-10-27","V","","","2017-11-27","L","","","2017-12-27","M","",""]
[null,"2017-01-28","S","","","2017-02-28","M","","","2017-03-28","M","","","2017-04-28","V","","","2017-05-28","D","","","2017-06-28","M","","","2017-07-28","V","","","2017-08-28","L","","","2017-09-28","J","","","2017-10-28","S","","","2017-11-28","M","","","2017-12-28","J","",""]
[null,"2017-01-29","D","","","","","","","2017-03-29","M","","","2017-04-29","S","","","2017-05-29","L","","","2017-06-29","J","","","2017-07-29","S","","","2017-08-29","M","","","2017-09-29","V","","","2017-10-29","D","","","2017-11-29","M","","","2017-12-29","V","",""]
[null,"2017-01-30","L","","",null,null,"","","2017-03-30","J","","","2017-04-30","D","","","2017-05-30","M","","","2017-06-30","V","","","2017-07-30","D","","","2017-08-30","M","","","2017-09-30","S","","","2017-10-30","L","","","2017-11-30","J","","","2017-12-30","S","",""]
[null,"2017-01-31","M","","",null,null,"","","2017-03-31","V","","",null,null,"","","2017-05-31","M","","",null,null,"","","2017-07-31","L","","","2017-08-31","J","","",null,null,"","","2017-10-31","M","","",null,null,"","","2017-12-31","D","",""]
[]
[null,"Total HE/HC 2017"]
[null,"2017-01-01",null,{"$f":"SUM(D52:D82)","v":0},{"$f":"SUM(E52:E82)","v":0},"2017-02-01",null,{"$f":"SUM(H52:H82)","v":0},{"$f":"SUM(I52:I82)","v":0},"2017-03-01",null,{"$f":"SUM(L52:L82)","v":0},{"$f":"SUM(M52:M82)","v":0},"2017-04-01",null,{"$f":"SUM(P52:P82)","v":0},{"$f":"SUM(Q52:Q82)","v":0},"2017-05-01",null,{"$f":"SUM(T52:T82)","v":0},{"$f":"SUM(U52:U82)","v":0},"2017-06-01",null,{"$f":"SUM(X52:X82)","v":0},{"$f":"SUM(Y52:Y82)","v":0},"2017-07-01",null,{"$f":"SUM(AB52:AB82)","v":0},{"$f":"SUM(AC52:AC82)","v":0},"2017-08-01",null,{"$f":"SUM(AF52:AF82)","v":0},{"$f":"SUM(AG52:AG82)","v":0},"2017-09-01",null,{"$f":"SUM(AJ52:AJ82)","v":0},{"$f":"SUM(AK52:AK82)","v":0},"2017-10-01",null,{"$f":"SUM(AN52:AN82)","v":0},{"$f":"SUM(AO52:AO82)","v":0},"2017-11-01",null,{"$f":"SUM(AR52:AR82)","v":0},{"$f":"SUM(AS52:AS82)","v":0},"2017-12-01",null,{"$f":"SUM(AV52:AV82)","v":0},{"$f":"SUM(AW52:AW82)","v":0}]
[]
[]
[null,"Récapitulatif de l'action Bassin Houiller organisée au Centre AFPA de Saint-Avold :"]
[null,null,null,null,null,null,null,null,null,null,null,null,null,null,null,null,null,null,null,null,null,null,null,null,null,null,null,null,null,null,null,"Légende :"]
[null,null,null,null,null,null,null,null,null,null,null,"Formation en centre",null,null,null,null,null,"Formation en entreprise",null,null,null,null,null,"Total",null,null,null,null,null,null,null,"HC : ","Nombre d'heures en Centre"]
[null,"Offre Bassin Houiller",null,null,null,null,null,null,null,null,null,null,null,null,null,null,null,null,null,null,null,null,null,null,null,null,null,null,null,null,null,"HE : ","Nombre d'heure en Entreprise"]
[null,"Nombre d'heures 2016",null,null,null,null,null,null,null,null,null,{"$f":"SUM(D46+H46+L46+P46+T46+X46+AB46+AF46+AJ46+AN46+AR46+AV46)","v":350},null,null,null,null,null,{"$f":"E46+I46+M46+Q46+U46+Y46+AC46+AG46+AK46+AO46+AS46+AW46","v":140},null,null,null,null,null,{"$f":"L92+R92","v":490},null,null,null,null,null,null,null,null,"volume horaire compatible avec le cadre réponse technique de l'action"]
[null,"Nombre d'heures 2017",null,null,null,null,null,null,null,null,null,{"$f":"D85+H85+L85+P85+T85+X85+AB85+AF85+AJ85+AN85+AR85+AV85","v":0},null,null,null,null,null,{"$f":"E85+I85+M85+Q85+U85+Y85+AC85+AG85+AK85+AO85+AS85+AW85","v":0},null,null,null,null,null,{"$f":"L93+R93","v":0}]
[null,"Nombre total d'heures ",null,null,null,null,null,null,null,null,null,{"$f":"L92+L93","v":350},null,null,null,null,null,{"$f":"R92+R93","v":140},null,null,null,null,null,{"$f":"X92+X93","v":490}]
[null,"Nombre de jours",null,null,null,null,null,null,null,null,null,50,null,null,null,null,null,20,null,null,null,null,null,70,null,null,null,null,null,null,null,null,"Congés stagiaires"]
["GC","Moyenne nombre d'heures / jour",null,null,null,null,null,null,null,null,null,7,null,null,null,null,null,7,null,null,null,null,null,7,null,null,null,null,null,null,null,null,"Fins de semaines et jours fériés"]
[]
[]
[]
[null,null,null,null,null,null," "]

{"sheet":"ECM 01.06.16","index":8,"n_rows":100,"n_cols":62,"rows_kept":100,"cut":false,"hidden":false,"merged":[[5,6,5,24],[5,30,5,48],[1,3,1,21],[3,25,3,29],[3,30,3,48],[4,25,4,29],[4,30,4,48],[10,45,10,48],[6,6,6,24],[6,30,6,48],[7,30,7,48],[9,1,9,48],[10,1,10,4],[10,5,10,8],[10,9,10,12],[10,13,10,16],[10,17,10,20],[10,21,10,24],[10,25,10,28],[10,29,10,32],[10,33,10,36],[10,37,10,40],[10,41,10,44],[45,45,45,46],[45,1,45,2],[45,5,45,6],[45,9,45,10],[45,13,45,14],[45,17,45,18],[45,21,45,22],[45,25,45,26],[45,29,45,30],[45,33,45,34],[45,37,45,38],[45,41,45,42],[48,1,48,48],[49,1,49,4],[49,5,49,8],[49,9,49,12],[49,13,49,16],[49,17,49,20],[49,21,49,24],[49,25,49,28],[49,29,49,32],[49,33,49,36],[49,37,49,40],[49,41,49,44],[49,45,49,48],[84,1,84,2],[84,5,84,6],[84,9,84,10],[84,13,84,14],[84,17,84,18],[84,21,84,22],[84,25,84,26],[89,1,89,10],[89,11,90,16],[89,17,90,22],[89,23,90,28],[90,1,90,10],[84,29,84,30],[84,33,84,34],[84,37,84,38],[84,41,84,42],[84,45,84,46],[91,1,91,10],[91,11,91,16],[91,17,91,22],[91,23,91,28],[92,1,92,10],[92,11,92,16],[92,17,92,22],[92,23,92,28],[95,1,95,10],[95,11,95,16],[95,17,95,22],[95,23,95,28],[93,1,93,10],[93,11,93,16],[93,17,93,22],[93,23,93,28],[94,1,94,10],[94,11,94,16],[94,17,94,22],[94,23,94,28]]}
[]
[null,null,null,"Calendrier prévisionnel 2016 / 2017 pour l'action Employé commercial en magasin sur le site de Saint-Avold"]
[null,null,null,null,null,null,null,null,null,null,null,null,null,null,null,null,null,null,null,null,null,null,null,null,null,null,null,null,null,null,null,null,null,null,null,null,null,null,null,null,null,null,null,null,null,null,null,null,null,null,"2016-06-01"]
[null,"Organisme * :",null,null,null,null,"Centre AFPA de Saint-Avold",null,null,null,null,null,null,null,null,null,null,null,null,null,null,null,null,null,null,"Affaire n° :",null,null,null,"*",null,null,null,null,null,null,null,null,null,null,null,null,null,null,null,null,null,null,null,null,null,null,null,null,null,null,null,null,null,null,"HC","Nbre"]
[null,"Dates de l'action :",null,null,null,null,"Du 01 juin 2016 au 09 septembre 2016",null,null,null,null,null,null,null,null,null,null,null,null,null,null,null,null,null,null,"Lot n° :",null,null,null,"*",null,null,null,null,null,null,null,null,null,null,null,null,null,null,null,null,null,null,null,null,2016,null,null,null,null,null,null,null,null,null,"DI",0]
[null,"Périodes en centre :",null,null,null,null,"Du 01 juin 2016 au 01 juillet 2016, puis du 19 juillet 2016 au 04 août 2016, et du 22 août 2016 au 09 septembre 2016",null,null,null,null,null,null,null,null,null,null,null,null,null,null,null,null,null,null,"N° marché :",null,null,null,null,null,null,null,null,null,null,null,null,null,null,null,null,null,null,null,null,null,null,null,null,2017,null,null,null,null,null,null,null,null,null,"JE",8]
[null,"Périodes en entreprise :",null,null,null,null,"Du 04 juillet 2016 au 18 juillet 2016, puis du 05 août 2016 au 20 août 2016",null,null,null,null,null,null,null,null,null,null,null,null,null,null,null,null,null,null,"Intitulé du lot :",null,null,null,null,null,null,null,null,null,null,null,null,null,null,null,null,null,null,null,null,null,null,null,null,null,null,null,null,null,null,null,null,null,null,"LU",7]
[null,null,null,null,null,null,null,null,null,null,null,null,null,null,null,null,null,null,null,null,null,null,null,null,null,"Bassin ou territoire",null,null,null,null,"Bassin Houiller",null,null,null,null,null,null,null,null,null,null,null,null,null,null,null,null,null,null,null,null,null,null,null,null,null,null,null,null,null,"MA",8]
[null,null,null,null,null,null,null,null,null,null,null,null,null,null,null,null,null,null,null,null,null,null,null,null,null,null,null,null,null,null,null,null,null,null,null,null,null,null,null,null,null,null,null,null,null,null,null,null,null,null,null,null,null,null,null,null,null,null,null,null,"ME",8]
[null,2016,null,null,null,null,null,null,null,null,null,null,null,null,null,null,null,null,null,null,null,null,null,null,null,null,null,null,null,null,null,null,null,null,null,null,null,null,null,null,null,null,null,null,null,null,null,null,null,null,null,null,null,null,null,null,null,null,null,null,"SA",0]
[null,"Janvier",null,null,null,"Février",null,null,null,"Mars",null,null,null,"Avril",null,null,null,"Mai",null,null,null,"Juin",null,null,null,"Juillet",null,null,null,"Août",null,null,null,"Septembre",null,null,null,"Octobre",null,null,null,"Novembre",null,null,null,"Décembre",null,null,null,null,null,null,null,null,null,null,null,null,null,null,"VE",4]
[null,null,null,"HC","HE",null,null,"HC","HE",null,null,"HC","HE",null,null,"HC","HE",null,null,"HC","HE",null,null,"HC","HE",null,null,"HC","HE",null,null,"HC","HE",null,null,"HC","HE",null,null,"HC","HE",null,null,"HC","HE",null,null,"HC","HE"]
[null,"2016-01-01","V","","","2016-02-01","L","","","2016-03-01","M","","","2016-04-01","V","","","2016-05-01","D","","","2016-06-01","M",8,"","2016-07-01","V",4,"","2016-08-01","L",7,"","2016-09-01","J",8,"","2016-10-01","S","","","2016-11-01","M","","","2016-12-01","J","","",null,null,null,null,null,null,null,null,null,null,null,"HE"]
[null,"2016-01-02","S","","","2016-02-02","M","","","2016-03-02","M","","","2016-04-02","S","","","2016-05-02","L","","","2016-06-02","J",8,"","2016-07-02","S",0,"","2016-08-02","M",8,"","2016-09-02","V",4,"","2016-10-02","D","","","2016-11-02","M","","","2016-12-02","V","","",null,null,null,null,null,null,null,null,null,null,null,"DI",0]
[null,"2016-01-03","D","","","2016-02-03","M","","","2016-03-03","J","","","2016-04-03","D","","","2016-05-03","M","","","2016-06-03","V",4,"","2016-07-03","D",0,"","2016-08-03","M",8,"","2016-09-03","S",0,"","2016-10-03","L","","","2016-11-03","J","","","2016-12-03","S","","",null,null,null,null,null,null,null,null,null,null,null,"JE",7]
[null,"2016-01-04","L","","","2016-02-04","J","","","2016-03-04","V","","","2016-04-04","L","","","2016-05-04","M","","","2016-06-04","S",0,"","2016-07-04","L","",7,"2016-08-04","J",8,"","2016-09-04","D",0,"","2016-10-04","M","","","2016-11-04","V","","","2016-12-04","D","","",null,null,null,null,null,null,null,null,null,null,null,"LU",7]
[null,"2016-01-05","M","","","2016-02-05","V","","","2016-03-05","S","","","2016-04-05","M","","","2016-05-05","J","","","2016-06-05","D",0,"","2016-07-05","M","",7,"2016-08-05","V","",7,"2016-09-05","L",7,"","2016-10-05","M","","","2016-11-05","S","","","2016-12-05","L","","",null,null,null,null,null,null,null,null,null,null,null,"MA",7]
[null,"2016-01-06","M","","","2016-02-06","S","","","2016-03-06","D","","","2016-04-06","M","","","2016-05-06","V","","","2016-06-06","L",7,"","2016-07-06","M","",7,"2016-08-06","S",0,"","2016-09-06","M",8,"","2016-10-06","J","","","2016-11-06","D","","","2016-12-06","M","","",null,null,null,null,null,null,null,null,null,null,null,"ME",7]
[null,"2016-01-07","J","","","2016-02-07","D","","","2016-03-07","L","","","2016-04-07","J","","","2016-05-07","S","","","2016-06-07","M",8,"","2016-07-07","J","",7,"2016-08-07","D",0,"","2016-09-07","M",8,"","2016-10-07","V","","","2016-11-07","L","","","2016-12-07","M","","",null,null,null,null,null,null,null,null,null,null,null,"SA",0]
[null,"2016-01-08","V","","","2016-02-08","L","","","2016-03-08","M","","","2016-04-08","V","","","2016-05-08","D","","","2016-06-08","M",8,"","2016-07-08","V","",7,"2016-08-08","L","",7,"2016-09-08","J",8,"","2016-10-08","S","","","2016-11-08","M","","","2016-12-08","J","","",null,null,null,null,null,null,null,null,null,null,null,"VE",7]
[null,"2016-01-09","S","","","2016-02-09","M","","","2016-03-09","M","","","2016-04-09","S","","","2016-05-09","L","","","2016-06-09","J",8,"","2016-07-09","S",0,"","2016-08-09","M","",7,"2016-09-09","V",2,"","2016-10-09","D","","","2016-11-09","M","","","2016-12-09","V","",""]
[null,"2016-01-10","D","","","2016-02-10","M","","","2016-03-10","J","","","2016-04-10","D","","","2016-05-10","M","","","2016-06-10","V",4,"","2016-07-10","D",0,"","2016-08-10","M","",7,"2016-09-10","S","","","2016-10-10","L","","","2016-11-10","J","","","2016-12-10","S","",""]
[null,"2016-01-11","L","","","2016-02-11","J","","","2016-03-11","V","","","2016-04-11","L","","","2016-05-11","M","","","2016-06-11","S",0,"","2016-07-11","L","",7,"2016-08-11","J","",7,"2016-09-11","D","","","2016-10-11","M","","","2016-11-11","V","","","2016-12-11","D","",""]
[null,"2016-01-12","M","","","2016-02-12","V","","","2016-03-12","S","","","2016-04-12","M","","","2016-05-12","J","","","2016-06-12","D",0,"","2016-07-12","M","",7,"2016-08-12","V","",7,"2016-09-12","L","","","2016-10-12","M","","","2016-11-12","S","","","2016-12-12","L","","",null,null,1]
[null,"2016-01-13","M","","","2016-02-13","S","","","2016-03-13","D","","","2016-04-13","M","","","2016-05-13","V","","","2016-06-13","L",7,"","2016-07-13","M","",7,"2016-08-13","S",0,"","2016-09-13","M","","","2016-10-13","J","","","2016-11-13","D","","","2016-12-13","M","","",null,null,1]
[null,"2016-01-14","J","","","2016-02-14","D","","","2016-03-14","L","","","2016-04-14","J","","","2016-05-14","S","","","2016-06-14","M",8,"","2016-07-14","J",0,"","2016-08-14","D",0,"","2016-09-14","M","","","2016-10-14","V","","","2016-11-14","L","","","2016-12-14","M","","",null,null,1]
[null,"2016-01-15","V","","","2016-02-15","L","","","2016-03-15","M","","","2016-04-15","V","","","2016-05-15","D","","","2016-06-15","M",8,"","2016-07-15","V",0,"","2016-08-15","L",0,"","2016-09-15","J","","","2016-10-15","S","","","2016-11-15","M","","","2016-12-15","J","","",null,null,1]
[null,"2016-01-16","S","","","2016-02-16","M","","","2016-03-16","M","","","2016-04-16","S","","","2016-05-16","L","","","2016-06-16","J",8,"","2016-07-16","S",0,"","2016-08-16","M","",7,"2016-09-16","V","","","2016-10-16","D","","","2016-11-16","M","","","2016-12-16","V","","",null,null,1]
[null,"2016-01-17","D","","","2016-02-17","M","","","2016-03-17","J","","","2016-04-17","D","","","2016-05-17","M","","","2016-06-17","V",4,"","2016-07-17","D",0,"","2016-08-17","M","",7,"2016-09-17","S","","","2016-10-17","L","","","2016-11-17","J","","","2016-12-17","S","","",null,null,1]
[null,"2016-01-18","L","","","2016-02-18","J","","","2016-03-18","V","","","2016-04-18","L","","","2016-05-18","M","","","2016-06-18","S",0,"","2016-07-18","L","",7,"2016-08-18","J","",7,"2016-09-18","D","","","2016-10-18","M","","","2016-11-18","V","","","2016-12-18","D","","",null,null,1]
[null,"2016-01-19","M","","","2016-02-19","V","","","2016-03-19","S","","","2016-04-19","M","","","2016-05-19","J","","","2016-06-19","D",0,"","2016-07-19","M",8,"","2016-08-19","V","",7,"2016-09-19","L","","","2016-10-19","M","","","2016-11-19","S","","","2016-12-19","L","","",null,null,1]
[null,"2016-01-20","M","","","2016-02-20","S","","","2016-03-20","D","","","2016-04-20","M","","","2016-05-20","V","","","2016-06-20","L",7,"","2016-07-20","M",8,"","2016-08-20","S",0,"","2016-09-20","M","","","2016-10-20","J","","","2016-11-20","D","","","2016-12-20","M","","",null,null,1]
[null,"2016-01-21","J","","","2016-02-21","D","","","2016-03-21","L","","","2016-04-21","J","","","2016-05-21","S","","","2016-06-21","M",8,"","2016-07-21","J",8,"","2016-08-21","D",0,"","2016-09-21","M","","","2016-10-21","V","","","2016-11-21","L","","","2016-12-21","M","","",null,null,1]
[null,"2016-01-22","V","","","2016-02-22","L","","","2016-03-22","M","","","2016-04-22","V","","","2016-05-22","D","","","2016-06-22","M",8,"","2016-07-22","V",4,"","2016-08-22","L",7,"","2016-09-22","J","","","2016-10-22","S","","","2016-11-22","M","","","2016-12-22","J","","",null,null,1]
[null,"2016-01-23","S","","","2016-02-23","M","","","2016-03-23","M","","","2016-04-23","S","","","2016-05-23","L","","","2016-06-23","J",8,"","2016-07-23","S",0,"","2016-08-23","M",8,"","2016-09-23","V","","","2016-10-23","D","","","2016-11-23","M","","","2016-12-23","V","","",null,null,1]
[null,"2016-01-24","D","","","2016-02-24","M","","","2016-03-24","J","","","2016-04-24","D","","","2016-05-24","M","","","2016-06-24","V",4,"","2016-07-24","D",0,"","2016-08-24","M",8,"","2016-09-24","S","","","2016-10-24","L","","","2016-11-24","J","","","2016-12-24","S","","",null,"",1]
[null,"2016-01-25","L","","","2016-02-25","J","","","2016-03-25","V","","","2016-04-25","L","","","2016-05-25","M","","","2016-06-25","S",0,"","2016-07-25","L",7,"","2016-08-25","J",8,"","2016-09-25","D","","","2016-10-25","M","","","2016-11-25","V","","","2016-12-25","D","","",null,null,0]
[null,"2016-01-26","M","","","2016-02-26","V","","","2016-03-26","S","","","2016-04-26","M","","","2016-05-26","J","","","2016-06-26","D",0,"","2016-07-26","M",8,"","2016-08-26","V",4,"","2016-09-26","L","","","2016-10-26","M","","","2016-11-26","S","","","2016-12-26","L","","",null,null,0]
[null,"2016-01-27","M","","","2016-02-27","S","","","2016-03-27","D","","","2016-04-27","M","","","2016-05-27","V","","","2016-06-27","L",7,"","2016-07-27","M",8,"","2016-08-27","S",0,"","2016-09-27","M","","","2016-10-27","J","","","2016-11-27","D","","","2016-12-27","M","","",null,null,0]
[null,"2016-01-28","J","","","2016-02-28","D","","","2016-03-28","L","","","2016-04-28","J","","","2016-05-28","S","","","2016-06-28","M",8,"","2016-07-28","J",8,"","2016-08-28","D",0,"","2016-09-28","M","","","2016-10-28","V","","","2016-11-28","L","","","2016-12-28","M","","",null,null,0]
[null,"2016-01-29","V","","","2016-02-29","L","","","2016-03-29","M","","","2016-04-29","V","","","2016-05-29","D","","","2016-06-29","M",8,"","2016-07-29","V",4,"","2016-08-29","L",7,"","2016-09-29","J","","","2016-10-29","S","","","2016-11-29","M","","","2016-12-29","J","","",null,null,0]
[null,"2016-01-30","S","","",null,null,"","","2016-03-30","M","","","2016-04-30","S","","","2016-05-30","L","","","2016-06-30","J",8,"","2016-07-30","S",0,"","2016-08-30","M",8,"","2016-09-30","V","","","2016-10-30","D","","","2016-11-30","M","","","2016-12-30","V","","",null,null,0]
[null,"2016-01-31","D","","",null,null,"","","2016-03-31","J","","",null,null,"","","2016-05-31","M","","",null,null,"","","2016-07-31","D",0,"","2016-08-31","M",8,"",null,null,"","","2016-10-31","L","","",null,null,"","","2016-12-31","S","","",null,null,0]
[]
[null,"Total HE/HC 2016"]
[null,"2016-01-01",null,{"$f":"SUM(D13:D43)","v":0},{"$f":"SUM(E13:E43)","v":0},"2016-02-01",null,{"$f":"SUM(H13:H43)","v":0},{"$f":"SUM(I13:I43)","v":0},"2016-03-01",null,{"$f":"SUM(L13:L43)","v":0},{"$f":"SUM(M13:M43)","v":0},"2016-04-01",null,{"$f":"SUM(P13:P43)","v":0},{"$f":"SUM(Q13:Q43)","v":0},"2016-05-01",null,{"$f":"SUM(T13:T43)","v":0},{"$f":"SUM(U13:U43)","v":0},"2016-06-01",null,{"$f":"SUM(X13:X43)","v":156},{"$f":"SUM(Y13:Y43)","v":0},"2016-07-01",null,{"$f":"SUM(AB13:AB43)","v":67},{"$f":"SUM(AC13:AC43)","v":63},"2016-08-01",null,{"$f":"SUM(AF13:AF43)","v":89},{"$f":"SUM(AG13:AG43)","v":70},"2016-09-01",null,{"$f":"SUM(AJ13:AJ43)","v":45},{"$f":"SUM(AK13:AK43)","v":0},"2016-10-01",null,{"$f":"SUM(AN13:AN43)","v":0},{"$f":"SUM(AO13:AO43)","v":0},"2016-11-01",null,{"$f":"SUM(AR13:AR43)","v":0},{"$f":"SUM(AS13:AS43)","v":0},"2016-12-01",null,{"$f":"SUM(AV13:AV43)","v":0},{"$f":"SUM(AW13:AW43)","v":0}]
[]
[]
[null,2017]
[null,"Janvier",null,null,null,"Février",null,null,null,"Mars",null,null,null,"Avril",null,null,null,"Mai",null,null,null,"Juin",null,null,null,"Juillet",null,null,null,"Août",null,null,null,"Septembre",null,null,null,"Octobre",null,null,null,"Novembre",null,null,null,"Décembre"]
[null,null,null,"HC","HE",null,null,"HC","HE",null,null,"HC","HE",null,null,"HC","HE",null,null,"HC","HE",null,null,"HC","HE",null,null,"HC","HE",null,null,"HC","HE",null,null,"HC","HE",null,null,"HC","HE",null,null,"HC","HE",null,null,"HC","HE"]
[null,"2017-01-01","D","","","2017-02-01","M","","","2017-03-01","M","","","2017-04-01","S","","","2017-05-01","L","","","2017-06-01","J","","","2017-07-01","S","","","2017-08-01","M","","","2017-09-01","V","","","2017-10-01","D","","","2017-11-01","M","","","2017-12-01","V","",""]
[null,"2017-01-02","L","","","2017-02-02","J","","","2017-03-02","J","","","2017-04-02","D","","","2017-05-02","M","","","2017-06-02","V","","","2017-07-02","D","","","2017-08-02","M","","","2017-09-02","S","","","2017-10-02","L","","","2017-11-02","J","","","2017-12-02","S","",""]
[null,"2017-01-03","M","","","2017-02-03","V","","","2017-03-03","V","","","2017-04-03","L","","","2017-05-03","M","","","2017-06-03","S","","","2017-07-03","L","","","2017-08-03","J","","","2017-09-03","D","","","2017-10-03","M","","","2017-11-03","V","","","2017-12-03","D","",""]
[null,"2017-01-04","M","","","2017-02-04","S","","","2017-03-04","S","","","2017-04-04","M","","","2017-05-04","J","","","2017-06-04","D","","","2017-07-04","M","","","2017-08-04","V","","","2017-09-04","L","","","2017-10-04","M","","","2017-11-04","S","","","2017-12-04","L","",""]
[null,"2017-01-05","J","","","2017-02-05","D","","","2017-03-05","D","","","2017-04-05","M","","","2017-05-05","V","","","2017-06-05","L","","","2017-07-05","M","","","2017-08-05","S","","","2017-09-05","M","","","2017-10-05","J","","","2017-11-05","D","","","2017-12-05","M","",""]
[null,"2017-01-06","V","","","2017-02-06","L","","","2017-03-06","L","","","2017-04-06","J","","","2017-05-06","S","","","2017-06-06","M","","","2017-07-06","J","","","2017-08-06","D","","","2017-09-06","M","","","2017-10-06","V","","","2017-11-06","L","","","2017-12-06","M","",""]
[null,"2017-01-07","S","","","2017-02-07","M","","","2017-03-07","M","","","2017-04-07","V","","","2017-05-07","D","","","2017-06-07","M","","","2017-07-07","V","","","2017-08-07","L","","","2017-09-07","J","","","2017-10-07","S","","","2017-11-07","M","","","2017-12-07","J","",""]
[null,"2017-01-08","D","","","2017-02-08","M","","","2017-03-08","M","","","2017-04-08","S","","","2017-05-08","L","","","2017-06-08","J","","","2017-07-08","S","","","2017-08-08","M","","","2017-09-08","V","","","2017-10-08","D","","","2017-11-08","M","","","2017-12-08","V","",""]
[null,"2017-01-09","L","","","2017-02-09","J","","","2017-03-09","J","","","2017-04-09","D","","","2017-05-09","M","","","2017-06-09","V","","","2017-07-09","D","","","2017-08-09","M","","","2017-09-09","S","","","2017-10-09","L","","","2017-11-09","J","","","2017-12-09","S","",""]
[null,"2017-01-10","M","","","2017-02-10","V","","","2017-03-10","V","","","2017-04-10","L","","","2017-05-10","M","","","2017-06-10","S","","","2017-07-10","L","","","2017-08-10","J","","","2017-09-10","D","","","2017-10-10","M","","","2017-11-10","V","","","2017-12-10","D","",""]
[null,"2017-01-11","M","","","2017-02-11","S","","","2017-03-11","S","","","2017-04-11","M","","","2017-05-11","J","","","2017-06-11","D","","","2017-07-11","M","","","2017-08-11","V","","","2017-09-11","L","","","2017-10-11","M","","","2017-11-11","S","","","2017-12-11","L","",""]
[null,"2017-01-12","J","","","2017-02-12","D","","","2017-03-12","D","","","2017-04-12","M","","","2017-05-12","V","","","2017-06-12","L","","","2017-07-12","M","","","2017-08-12","S","","","2017-09-12","M","","","2017-10-12","J","","","2017-11-12","D","","","2017-12-12","M","",""]
[null,"2017-01-13","V","","","2017-02-13","L","","","2017-03-13","L","","","2017-04-13","J","","","2017-05-13","S","","","2017-06-13","M","","","2017-07-13","J","","","2017-08-13","D","","","2017-09-13","M","","","2017-10-13","V","","","2017-11-13","L","","","2017-12-13","M","",""]
[null,"2017-01-14","S","","","2017-02-14","M","","","2017-03-14","M","","","2017-04-14","V","","","2017-05-14","D","","","2017-06-14","M","","","2017-07-14","V","","","2017-08-14","L","","","2017-09-14","J","","","2017-10-14","S","","","2017-11-14","M","","","2017-12-14","J","",""]
[null,"2017-01-15","D","","","2017-02-15","M","","","2017-03-15","M","","","2017-04-15","S","","","2017-05-15","L","","","2017-06-15","J","","","2017-07-15","S","","","2017-08-15","M","","","2017-09-15","V","","","2017-10-15","D","","","2017-11-15","M","","","2017-12-15","V","",""]
[null,"2017-01-16","L","","","2017-02-16","J","","","2017-03-16","J","","","2017-04-16","D","","","2017-05-16","M","","","2017-06-16","V","","","2017-07-16","D","","","2017-08-16","M","","","2017-09-16","S","","","2017-10-16","L","","","2017-11-16","J","","","2017-12-16","S","",""]
[null,"2017-01-17","M","","","2017-02-17","V","","","2017-03-17","V","","","2017-04-17","L","","","2017-05-17","M","","","2017-06-17","S","","","2017-07-17","L","","","2017-08-17","J","","","2017-09-17","D","","","2017-10-17","M","","","2017-11-17","V","","","2017-12-17","D","",""]
[null,"2017-01-18","M","","","2017-02-18","S","","","2017-03-18","S","","","2017-04-18","M","","","2017-05-18","J","","","2017-06-18","D","","","2017-07-18","M","","","2017-08-18","V","","","2017-09-18","L","","","2017-10-18","M","","","2017-11-18","S","","","2017-12-18","L","",""]
[null,"2017-01-19","J","","","2017-02-19","D","","","2017-03-19","D","","","2017-04-19","M","","","2017-05-19","V","","","2017-06-19","L","","","2017-07-19","M","","","2017-08-19","S","","","2017-09-19","M","","","2017-10-19","J","","","2017-11-19","D","","","2017-12-19","M","",""]
[null,"2017-01-20","V","","","2017-02-20","L","","","2017-03-20","L","","","2017-04-20","J","","","2017-05-20","S","","","2017-06-20","M","","","2017-07-20","J","","","2017-08-20","D","","","2017-09-20","M","","","2017-10-20","V","","","2017-11-20","L","","","2017-12-20","M","",""]
[null,"2017-01-21","S","","","2017-02-21","M","","","2017-03-21","M","","","2017-04-21","V","","","2017-05-21","D","","","2017-06-21","M","","","2017-07-21","V","","","2017-08-21","L","","","2017-09-21","J","","","2017-10-21","S","","","2017-11-21","M","","","2017-12-21","J","",""]
[null,"2017-01-22","D","","","2017-02-22","M","","","2017-03-22","M","","","2017-04-22","S","","","2017-05-22","L","","","2017-06-22","J","","","2017-07-22","S","","","2017-08-22","M","","","2017-09-22","V","","","2017-10-22","D","","","2017-11-22","M","","","2017-12-22","V","",""]
[null,"2017-01-23","L","","","2017-02-23","J","","","2017-03-23","J","","","2017-04-23","D","","","2017-05-23","M","","","2017-06-23","V","","","2017-07-23","D","","","2017-08-23","M","","","2017-09-23","S","","","2017-10-23","L","","","2017-11-23","J","","","2017-12-23","S","",""]
[null,"2017-01-24","M","","","2017-02-24","V","","","2017-03-24","V","","","2017-04-24","L","","","2017-05-24","M","","","2017-06-24","S","","","2017-07-24","L","","","2017-08-24","J","","","2017-09-24","D","","","2017-10-24","M","","","2017-11-24","V","","","2017-12-24","D","","",null,""]
[null,"2017-01-25","M","","","2017-02-25","S","","","2017-03-25","S","","","2017-04-25","M","","","2017-05-25","J","","","2017-06-25","D","","","2017-07-25","M","","","2017-08-25","V","","","2017-09-25","L","","","2017-10-25","M","","","2017-11-25","S","","","2017-12-25","L","",""]
[null,"2017-01-26","J","","","2017-02-26","D","","","2017-03-26","D","","","2017-04-26","M","","","2017-05-26","V","","","2017-06-26","L","","","2017-07-26","M","","","2017-08-26","S","","","2017-09-26","M","","","2017-10-26","J","","","2017-11-26","D","","","2017-12-26","M","",""]
[null,"2017-01-27","V","","","2017-02-27","L","","","2017-03-27","L","","","2017-04-27","J","","","2017-05-27","S","","","2017-06-27","M","","","2017-07-27","J","","","2017-08-27","D","","","2017-09-27","M","","","2017-10-27","V","","","2017-11-27","L","","","2017-12-27","M","",""]
[null,"2017-01-28","S","","","2017-02-28","M","","","2017-03-28","M","","","2017-04-28","V","","","2017-05-28","D","","","2017-06-28","M","","","2017-07-28","V","","","2017-08-28","L","","","2017-09-28","J","","","2017-10-28","S","","","2017-11-28","M","","","2017-12-28","J","",""]
[null,"2017-01-29","D","","","","","","","2017-03-29","M","","","2017-04-29","S","","","2017-05-29","L","","","2017-06-29","J","","","2017-07-29","S","","","2017-08-29","M","","","2017-09-29","V","","","2017-10-29","D","","","2017-11-29","M","","","2017-12-29","V","",""]
[null,"2017-01-30","L","","",null,null,"","","2017-03-30","J","","","2017-04-30","D","","","2017-05-30","M","","","2017-06-30","V","","","2017-07-30","D","","","2017-08-30","M","","","2017-09-30","S","","","2017-10-30","L","","","2017-11-30","J","","","2017-12-30","S","",""]
[null,"2017-01-31","M","","",null,null,"","","2017-03-31","V","","",null,null,"","","2017-05-31","M","","",null,null,"","","2017-07-31","L","","","2017-08-31","J","","",null,null,"","","2017-10-31","M","","",null,null,"","","2017-12-31","D","",""]
[]
[null,"Total HE/HC 2017"]
[null,"2017-01-01",null,{"$f":"SUM(D52:D82)","v":0},{"$f":"SUM(E52:E82)","v":0},"2017-02-01",null,{"$f":"SUM(H52:H82)","v":0},{"$f":"SUM(I52:I82)","v":0},"2017-03-01",null,{"$f":"SUM(L52:L82)","v":0},{"$f":"SUM(M52:M82)","v":0},"2017-04-01",null,{"$f":"SUM(P52:P82)","v":0},{"$f":"SUM(Q52:Q82)","v":0},"2017-05-01",null,{"$f":"SUM(T52:T82)","v":0},{"$f":"SUM(U52:U82)","v":0},"2017-06-01",null,{"$f":"SUM(X52:X82)","v":0},{"$f":"SUM(Y52:Y82)","v":0},"2017-07-01",null,{"$f":"SUM(AB52:AB82)","v":0},{"$f":"SUM(AC52:AC82)","v":0},"2017-08-01",null,{"$f":"SUM(AF52:AF82)","v":0},{"$f":"SUM(AG52:AG82)","v":0},"2017-09-01",null,{"$f":"SUM(AJ52:AJ82)","v":0},{"$f":"SUM(AK52:AK82)","v":0},"2017-10-01",null,{"$f":"SUM(AN52:AN82)","v":0},{"$f":"SUM(AO52:AO82)","v":0},"2017-11-01",null,{"$f":"SUM(AR52:AR82)","v":0},{"$f":"SUM(AS52:AS82)","v":0},"2017-12-01",null,{"$f":"SUM(AV52:AV82)","v":0},{"$f":"SUM(AW52:AW82)","v":0}]
[]
[]
[null,"Récapitulatif de l'action "]
[null,null,null,null,null,null,null,null,null,null,null,null,null,null,null,null,null,null,null,null,null,null,null,null,null,null,null,null,null,null,null,"Légende :"]
[null,null,null,null,null,null,null,null,null,null,null,"Formation en centre",null,null,null,null,null,"Formation en entreprise",null,null,null,null,null,"Total",null,null,null,null,null,null,null,"HC : ","Nombre d'heures en Centre"]
[null,"Offre Bassin Houiller",null,null,null,null,null,null,null,null,null,null,null,null,null,null,null,null,null,null,null,null,null,null,null,null,null,null,null,null,null,"HE : ","Nombre d'heure en Entreprise"]
[null,"Nombre d'heures 2016",null,null,null,null,null,null,null,null,null,{"$f":"SUM(D46+H46+L46+P46+T46+X46+AB46+AF46+AJ46+AN46+AR46+AV46)","v":357},null,null,null,null,null,{"$f":"E46+I46+M46+Q46+U46+Y46+AC46+AG46+AK46+AO46+AS46+AW46","v":133},null,null,null,null,null,{"$f":"L92+R92","v":490},null,null,null,null,null,null,null,null,"volume horaire compatible avec le cadre réponse technique de l'action"]
[null,"Nombre d'heures 2017",null,null,null,null,null,null,null,null,null,{"$f":"D85+H85+L85+P85+T85+X85+AB85+AF85+AJ85+AN85+AR85+AV85","v":0},null,null,null,null,null,{"$f":"E85+I85+M85+Q85+U85+Y85+AC85+AG85+AK85+AO85+AS85+AW85","v":0},null,null,null,null,null,{"$f":"L93+R93","v":0}]
[null,"Nombre total d'heures ",null,null,null,null,null,null,null,null,null,{"$f":"L92+L93","v":357},null,null,null,null,null,{"$f":"R92+R93","v":133},null,null,null,null,null,{"$f":"X92+X93","v":490}]
[null,"Nombre de jours",null,null,null,null,null,null,null,null,null,51,null,null,null,null,null,19,null,null,null,null,null,70,null,null,null,null,null,null,null,null,"Congés stagiaires"]
["GC","Moyenne nombre d'heures / jour",null,null,null,null,null,null,null,null,null,7,null,null,null,null,null,7,null,null,null,null,null,7,null,null,null,null,null,null,null,null,"Fins de semaines et jours fériés"]
[]
[]
[]
[null,null,null,null,null,null," "]